{"text_format":"1","workbook":"xlsx","n_sheets":30,"sheets":["Introduction","Summary","Charts","Trend analysis","Data collection","data sources and parameters","manual data input","input selections","lookups","population lookup","risk stratification","admission rate var","Review costs and WTE","drugs saved","Indirect Impacts","Population EU inc Scot","Risk","Drugs","DDDs","Sales value","Staff","Staff costs","Review charge","Admissions","Bed days","XE","country population totals","SPARRA","OECD consumption summary","OECD final table"],"not_rendered":{"charts":9,"images":5,"macros":1,"external_links":3,"defined_names":78,"comments":0,"pivot_tables":0},"unopened":[],"bounds":{"document_bytes":16777216,"sheet_cells":100000,"rows_first":2000,"rows_last":500,"rows_between":2000,"halvings":0,"cell_chars":16384,"cell_head_chars":4096},"cells_cut":0,"cells_raw":0,"read":"whole","date_system":"1900"}

{"sheet":"Introduction","index":0,"n_rows":75,"n_cols":35,"rows_kept":75,"cut":false,"hidden":false,"merged":[[56,0,56,1],[58,0,58,1],[59,0,59,1],[61,0,61,1],[36,0,36,1],[71,0,71,1],[72,0,72,1],[21,0,21,1],[26,0,26,1],[6,0,6,1],[37,0,37,1],[40,0,40,1],[41,0,41,1],[64,0,64,1],[34,0,34,1],[35,0,35,1],[38,0,38,1],[39,0,39,1],[46,0,46,1],[47,0,47,1],[54,0,54,1],[33,0,33,1],[4,0,4,1],[8,0,8,1],[12,0,12,1],[13,0,13,1],[14,0,14,1],[15,0,15,1],[20,0,20,1]]}
[" ",null," ",null," ",null,null,null,null,null,null,null,null,null,null,null,null,null,null,null,null,null,null,null,null,null,null,null,null,null,null,null,null,null," "]
[]
["Introduction to SIMPATHY"]
[null,null,null," "]
["Inappropriate polypharmacy is a major public health issue that needs to be addressed with increasing prevalence of multiple morbidity, particularly in the elderly. The overarching aim of SIMPATHY (Stimulating Innovation Management of Polypharmacy and Adherence in The Elderly) is to stimulate and support innovation across the EU in the management of polypharmacy and adherence in the elderly, with a specific focus on addressing inappropriate polypharmacy by delivering the necessary change management approaches and tools to help manage multi-medication and adherence to prescribed drugs."]
[]
["Introducing such a change is not easy and will require new ways of working together with public and political acceptance that such a change is important (Moore, 1997). Delivery of such a change will need  political and clinical leadership. Kotter’s steps can be used to set out the need for change, a vision of what the change will look like and why  delivering the change will be important, particularly setting out the sense of urgency for the change (Kotter International, 2017). Setting out the scale of the problem in terms of the economic costs of polypharmacy  is an important factor that can help create the sense of urgency in a financially constrained climate. As work is undertaken to address polypharmacy, it is also important to be able to quantify the economic benefits of the work and report these as quick wins and benefits of the change."]
[]
["The Economic Analysis Tool introduced by SIMPATHY is intended to add to the package of change management tools provided by the SIMPATHY project. Other tools in the package include templates for PESTEL (Political, Economic, Social, Technological, Environmental and Legal) and SWOT (Strengths, Weaknesses, Opportunities and Threats)  analysis and a guidance on how to conduct these. As part of PESTEL and SWOT analyses, the economic factors that will influence the ability to implement a polypharmacy review policy are considered. However, these centre around the overall macro-economic conditions of a region (country) which might impact on policy; the Economic Analysis Tool adds to the package by offering a bespoke analysis of the micro-economic impacts, the costs and benefits of introducing and carrying out reviews. It is thought that this will give a broad overview around resource needs and potential benefits to interested users."]
[]
["Introduction to the Economic Analysis Tool"]
[]
["The economic analysis tool (the tool) provides a simple analysis of the economic costs and benefits associated with carrying out polypharmacy reviews (reviews). The analysis follows the logic outlined in Diagram 1: Activity is driven by the selected population for whom reviews are intended to be carried out; the population can be selected from country geographic area, by age group and sex. The selected group can be further stratified according to their risk of admission or re-admission to hospital. The selected activity therefore represents the maximum number of reviews that would need to be carried out to cover the entire group, and the model estimates maximum costs and benefits based on this."]
["The costs of carrying out the reviews are based on the required time needed by different types of clinicians to carry out individual components of a review, and associated staff cost. This gives a unit cost per review which is then applied to the selected population group for a maximum total cost, and which can be netted of any review charge that is going to be taken per review."]
["The direct potential financial benefit of reviews will consist of the net reduction in drugs prescribed (measured in Daily Defined Dose, DDD), and associated expenditure. This is estimated as the net of DDDs started and DDDs stopped per review, and the associated prevented number of repeat prescriptions."]
["Potential indirect benefits are estimated based on assumptions from Pirmohamed et al (2004), and centre around potentially avoided Adverse Drug Reactions (ADRs), preventable hospital admissions associated with these ADRs, and the associated number of hospital bed days avoided."]
[]
["Diagram 1: Model logic"]
[]
[]
["The tool also provides a trend analysis to 2030 in accordance with the SIMPATHY vision, with a simple exponential autoregressive projection of the selected population by age band into the future. The estimated change (increase or decrease) in the selected population group to 2030 is applied to the estimated costs and benefits to give a crude overview of how costs and benefits would change to 2030. Note that this is necessarily driven by the change in population, i.e. a 10% increase in the selected population would imply a 10% increase in associated costs and benefits."]
["Data Capture: This feature gives the user the option to capture the results for the combination of parameters set, before changing the parameters. By clicking the button ‘record data’ on the ‘Summary’ tab, this will automatically record all choice parameters, input parameters and outputs onto the tab ‘Data collection’. Each time the button ‘record data’ is clicked, another column of data will be added to data collection. This will build a table of cross-sectional data to enable further analysis of various combinations of inputs, if required."]
["go to Data collection"]
[]
["Data used in the tool and gaps in data completeness"]
[]
["It was originally intended to offer a full set of choice parameters with underlying data for all of the EU28 countries. However, this proved not to be possible given lack of data and lack of data homogeneity across parameters. The tool therefore offers a choice between applying Scottish parameters and data to the population data for EU28 countries, or to input own, local data where this is available and appropriate."]
["please see tab 'data sources' for detail on data sources used"]
["Data sources"]
[]
[]
["Assumptions and caveats"]
[]
["The model is built on an earlier model which informed the original and revised Scottish Polypharmacy Guidances in (2012) and (2015). Since it is built on the Scottish model of review set-up, there will be some limitations as to the flexibility around review set-up and target population. E.g., the model allows for time allocation of four broad types of clinical staff: Primary Care Doctors, Other Doctors, Pharmacists, and Nurses. If there are other staff types involved in local review set-ups, then concessions would need to be made and their allocated time and cost would need to be merged with an existing category."]
["Likewise, not every region or country will have a risk stratification mechanism such as the Scottish SPARRA  (Scottish Patients at Risk of Readmission or Admission) database, and broad assumptions will need to be made around the risk profile of the selected population group. Within the SPARRA algorithm the risk of admission or readmission increases with the number of (high risk) drugs that patients are prescribed, hence the choice of this mechanism as a selection tool. "]
["The model also works with the highest level aggregates of cost, such as an average cost per prescription, an average cost per staff type, and an average cost per inpatient bed day. There will of course be variation in these costs, depending on the distribution of drug costs associated with reviews, profile of staff carrying out reviews, etc."]
["In calculating the net reduction in drugs prescribed for the Scottish basis, it is currently assumed that a straight translation can be made from individual item prescribed to Daily Defined Dose (DDD). I.e. a net reduction in 1 item prescribed with all its repeats would be equivalent to a reduction of 1 DDD for one year. This is assuming that repeats and doses are following prescription and DDD guidance. "]
["The model focuses only on direct savings from a net reduction in drugs prescribed, and potential indirect benefits of avoided hospital admissions. There will be numerous other clinical benefits to reviews, such as improved overall health and wellbeing of the patient, drugs optimisation, potential Quality Adjusted Life Years (QALYs) gained, and even prevented deaths from prevented ADRs. These are discussed in broader terms in the SIMPATHY project, but do not feature in this economic analysis."]
["In calculating the net reduction in drugs prescribed for the Scottish basis, it is currently assumed that a straight translation can be made from individual item prescribed to Daily Defined Dose (DDD). I.e., a net reduction in 1 item prescribed with all its repeats would be equivalent to a reduction of 1 DDD for one year. This is assuming that repeats and doses are following prescription and DDD guidance. "]
["The model also provides a snapshot view of costs and benefits (plus a population trend analysis), i.e. the maximum costs and benefits are set out against each other at one point in time. In reality, the set of reviews will be carried out over a period of time and some of benefits, such as avoided repeat prescriptions and avoided future hospital admissions will occur over the medium to long term."]
["Also, most of the estimated indirect benefits are based on assumptions from one key paper in the literature (Pirmohamed (2004), see above). There is arguably uncertainty around the applicability of the results from one study onto the entire population of EU28, which is the main reason that a simulation analysis around these parameters is offered. An assumption is made around the ADRs that are avoidable based on the parameters by (Pirmohamed, et al., 2004) and what proportion of these are avoided by polypharmacy reviews. This proportion can be adjusted in the model to give more or less conservative estimates."]
["Importantly, and as discussed above, the estimated costs and benefits are not necessarily cash releasing and are estimating the potential productive opportunity instead. Where polypharmacy reviews are intended to be implemented as part of clinicians’ core activity, the time cost associated with that activity would already be covered by the allocated staff cost. However, there might be a case of one clinician type (e.g. a pharmacist) freeing up the capacity of another clinician (General Practitioner). Similarly, benefits are measured in terms of cost avoidance and preventative potential: A net reduction in drug cost can be cash releasing if future designated payments are reduced or avoided, as well as having the potential for avoided additional costs; a potential future reduction in hospital admission represents the potential future cost that could be avoided (and capacity that could be released)."]
[]
[]
["How to use the tool"]
[]
["The main tab for the tool is the 'Summary' tab. When clicking on the button 'Set parameters', the user will be presented with a set of choices for the parameters outlined in the background note above. "]
["The key element to setting the parameters is choosing the population, by choosing the country region, and selecting the minimum and maximum age bands and sex of the population group that is to be considered for polypharmacy reviews. "]
[]
["The subsequent set of choices follows the same pattern for each parameter:"]
["-  choose the profile pertaining to the selected country region"]
["-  choose the Scottish model profile"]
["-  choose and enter own data"]
[]
["The model has been set up in this way as data for certain variables are not available for each of the EU28 countries. In that case, the user has the option to apply Scottish parameters to his selected population, as an approximation of what the costs and benefits in his/her area might look like; or locally available data can be entered via the data entry forms that can be opened on the main user form."]
["The subsequent sets of parameters to be determined are: "]
["First, an option to choose whether a risk stratification should be applied to the selected population group, i.e. narrowing down the selection to those identified as at risk of admission to hospital. "]
["If risk stratification is applied, choose which risk profile should be used"]
["Choose review setup options, including the minutes spent per review by different staff types, staff cost, the anticipated average number of drugs stopped and started per review and subsequent avoided repeats, and an option to impose a charge per review in order to recoup some or all of the cost"]
["Next, the set of 'health system variables' offers choices on average drug cost, admission rates, average cost per inpatient bed day (and which type of inpatient admission is used)"]
[]
["Upon clicking 'OK' the tool will automatically estimate the costs and benefits for the selected group, and results are displayed on the 'Summary' tab, along with overall figures of what the chosen parameters would imply across all EU28 countries."]
["Some of the key results are displayed in diagrams on the tab 'charts'"]
["go to charts"]
["The tab 'trend analysis' offers the population based trend to 2030 for the overall costs and benefits estimated."]
["go to Trend Analysis"]
[]
[]
["Literature"]
["Moore, M. H., 1997. Creating Public Value - Strategic Management in Government. Cambridge, MA: Harvard University Press."]
["Kotter International, 2017. Kotter’s 8-step process for leading change. [Online] \nAvailable at: https://www.kotterinternational.com/ \n[Accessed 01 April 2017]."]
["Pirmohamed M., Sally James, Shaun Meakin, Chris Green, Andrew K Scott, Thomas J Walley, Keith Farrar, B Kevin Park and Alasdair M Breckenridge (2004) Adverse drug reactions as cause of admission to hospital: prospective analysis of 18 820 patients, BMJ 2004;329;15-19 doi:10.1136/bmj.329.7456.15"]
["http://www.anticoagulation.org.uk/pdfs/resources/BMJ%202004;%20329%2015-19.pdf"]
["Scottish Government, 2012. Polypharmacy Guidance, s.l.: Scottish Government."]
["Scottish Government, 2015. Polypharmacy Guidance, s.l.: Scottish Government."]

{"sheet":"Summary","index":1,"n_rows":79,"n_cols":29,"rows_kept":79,"cut":false,"hidden":false,"merged":[[20,2,21,2],[35,0,36,0],[35,25,35,28],[48,25,48,28],[71,25,71,28],[57,3,57,6],[71,3,71,6],[71,10,71,13],[57,18,57,21],[71,18,71,21],[20,3,20,6],[35,3,35,6],[35,10,35,13],[48,10,48,13],[20,18,20,21],[35,18,35,21]]}
[" ",null," ",null,null,null,null,null," "]
["Country",{"$f":"VLOOKUP('input selections'!F3,lookups!$B$5:$D$34,2,FALSE)","v":"France"}]
[]
["Population sex (M/F/Total)",{"$f":"VLOOKUP('input selections'!F6,sex,3,FALSE)","v":"Total"}]
[]
["Population age group ","Minimum","Maximum"]
[null,{"$f":"'input selections'!G10","v":65},{"$f":"'input selections'!H10","v":80}]
[]
["Risk stratification?",{"$f":"'input selections'!G13","v":"No"}]
[]
["go to Introduction"]
["go to charts"]
["go to Trend Analysis"]
["go to Data collection"]
[]
[{"$f":"'input selections'!H3","v":"France"},null,null,null,null,null,null,null,null,null,null,null,null,null,null,null,"EU28"]
[null,"Population / Activity",null,null,null,null,null,null,"Cost",null,null,null,null,null,null,null,"Population / Activity",null,null,null,null,null,null,"Cost"]
[]
["Population Summary"]
[]
[null,null,"No risk stratification","Risk stratification",null,null,null,null,null,null,null,null,null,null,null,null,null,"No risk stratification","Risk stratification"]
[null,null,null,"BNF10+","BNF10+ & High Risk Med","BNF 5-9","BNF 5-9 & High Risk Med",null,null,null,null,null,null,null,null,null,null,null,"BNF10+","BNF10+ & High Risk Med","BNF 5-9","BNF 5-9 & High Risk Med"]
[null,null,{"$f":"'risk stratification'!B10","v":7968556},{"$f":"'risk stratification'!C10","v":374874.58033291542},{"$f":"'risk stratification'!D10","v":366100.65190922754},{"$f":"'risk stratification'!E10","v":425385.18434741371},{"$f":"'risk stratification'!F10","v":410237.03911915608},null,null,null,null,null,null,null,null,null,null,{"$f":"'risk stratification'!B11","v":66458505},{"$f":"'risk stratification'!C11","v":3186074.3249250641},{"$f":"'risk stratification'!D11","v":3111764.1294038352},{"$f":"'risk stratification'!E11","v":3613499.8814225914},{"$f":"'risk stratification'!F11","v":3485371.1753152437}]
[]
[]
["Review costs"]
[]
["Minutes & Cost per review under current model setup, for individual staff types","Minutes per review","Minutes",null,null,null,null,null,"Cost per review","€",null,null,null,null,null,null,"Minutes per review","Minutes",null,null,null,null,null,"Cost per review","€"]
[null,"GPs (Primary Care Doctors)",{"$f":"'Review costs and WTE'!F23","v":30},null,null,null,null,null,"GPs (Primary Care Doctors)",{"$f":"'Review costs and WTE'!F27","v":30.761736742424244},null,null,null,null,null,null,"GPs (Primary Care Doctors)",{"$f":"C29","v":30},null,null,null,null,null,"GPs (Primary Care Doctors)",{"$f":"J29","v":30.761736742424244}]
[null,"Other doctors",{"$f":"'Review costs and WTE'!G23","v":0},null,null,null,null,null,"Other doctors",{"$f":"'Review costs and WTE'!G27","v":0},null,null,null,null,null,null,"Other doctors",{"$f":"C30","v":0},null,null,null,null,null,"Other doctors",{"$f":"J30","v":0}]
[null,"Pharmacists",{"$f":"'Review costs and WTE'!H23","v":75},null,null,null,null,null,"Pharmacists",{"$f":"'Review costs and WTE'!H27","v":47.306060606060605},null,null,null,null,null,null,"Pharmacists",{"$f":"C31","v":75},null,null,null,null,null,"Pharmacists",{"$f":"J31","v":47.306060606060605}]
[null,"Nurses",{"$f":"'Review costs and WTE'!I23","v":0},null,null,null,null,null,"Nurses",{"$f":"'Review costs and WTE'!I27","v":0},null,null,null,null,null,null,"Nurses",{"$f":"C32","v":0},null,null,null,null,null,"Nurses",{"$f":"J32","v":0}]
[null,null,null,null,null,null,null,null,"Total",{"$f":"'Review costs and WTE'!J27","v":78.067797348484845},null,null,null,null,null,null,null,null,null,null,null,null,null,"Total",{"$f":"J33","v":78.067797348484845}]
[]
[]
["Total WTE and cost of reviews, if carried out for entire selected population","WTE required","No risk stratification","Risk stratification",null,null,null,null,"Total cost of reviews","No risk stratification","Risk stratification",null,null,null,null,null,"WTE required","No risk stratification","Risk stratification",null,null,null,null,"Total cost of reviews","No risk stratification","Risk stratification"]
[null,null,null,"BNF10+","BNF10+ & High Risk Med","BNF 5-9","BNF 5-9 & High Risk Med",null,null,null,"BNF10+","BNF10+ & High Risk Med","BNF 5-9","BNF 5-9 & High Risk Med",null,null,null,null,"BNF10+","BNF10+ & High Risk Med","BNF 5-9","BNF 5-9 & High Risk Med",null,null,null,"BNF10+","BNF10+ & High Risk Med","BNF 5-9","BNF 5-9 & High Risk Med"]
[null,"GPs (Primary Care Doctors)",{"$f":"'Review costs and WTE'!F80","v":2414.7139393939392},{"$f":"'Review costs and WTE'!G80","v":113.59835767664104},{"$f":"'Review costs and WTE'!H80","v":110.93959148764471},{"$f":"'Review costs and WTE'!I80","v":128.90460131739809},{"$f":"'Review costs and WTE'!J80","v":124.31425427853215},null,null,"€m","€m","€m","€m","€m",null,null,"GPs (Primary Care Doctors)",{"$f":"'Review costs and WTE'!F81","v":20138.94090909091},{"$f":"'Review costs and WTE'!G81","v":965.47706815911033},{"$f":"'Review costs and WTE'!H81","v":942.95882709207126},{"$f":"'Review costs and WTE'!I81","v":1094.9999640674519},{"$f":"'Review costs and WTE'!J81","v":1056.1730834288617},null,null,"€m","€m","€m","€m","€m"]
[null,"Other doctors",{"$f":"'Review costs and WTE'!F82","v":0},{"$f":"'Review costs and WTE'!G82","v":0},{"$f":"'Review costs and WTE'!H82","v":0},{"$f":"'Review costs and WTE'!I82","v":0},{"$f":"'Review costs and WTE'!J82","v":0},null,"Total cost of reviews",{"$f":"'Review costs and WTE'!M42","v":622.087614968053},{"$f":"'Review costs and WTE'!N42","v":29.265632768528342},{"$f":"'Review costs and WTE'!O42","v":28.580671502397767},{"$f":"'Review costs and WTE'!P42","v":33.208884366681765},{"$f":"'Review costs and WTE'!Q42","v":32.026302034796728},null,null,"Other doctors",{"$f":"'Review costs and WTE'!F83","v":0},{"$f":"'Review costs and WTE'!G83","v":0},{"$f":"'Review costs and WTE'!H83","v":0},{"$f":"'Review costs and WTE'!I83","v":0},{"$f":"'Review costs and WTE'!J83","v":0},null,"Total cost of reviews",{"$f":"'Review costs and WTE'!M43","v":5188.2691004232665},{"$f":"'Review costs and WTE'!N43","v":248.72980473546056},{"$f":"'Review costs and WTE'!O43","v":242.92857145058298},{"$f":"'Review costs and WTE'!P43","v":282.09797646167289},{"$f":"'Review costs and WTE'!Q43","v":272.09525059876091}]
[null,"Pharmacists",{"$f":"'Review costs and WTE'!F84","v":6036.7848484848482},{"$f":"'Review costs and WTE'!G84","v":283.99589419160259},{"$f":"'Review costs and WTE'!H84","v":277.34897871911176},{"$f":"'Review costs and WTE'!I84","v":322.26150329349525},{"$f":"'Review costs and WTE'!J84","v":310.78563569633036},null,null,null,null,null,null,null,null,null,"Pharmacists",{"$f":"'Review costs and WTE'!F85","v":50347.352272727272},{"$f":"'Review costs and WTE'!G85","v":2413.6926703977761},{"$f":"'Review costs and WTE'!H85","v":2357.3970677301782},{"$f":"'Review costs and WTE'!I85","v":2737.4999101686299},{"$f":"'Review costs and WTE'!J85","v":2640.4327085721543}]
[null,"Nurses",{"$f":"'Review costs and WTE'!F86","v":0},{"$f":"'Review costs and WTE'!G86","v":0},{"$f":"'Review costs and WTE'!H86","v":0},{"$f":"'Review costs and WTE'!I86","v":0},{"$f":"'Review costs and WTE'!J86","v":0},null,"Review charge reclaimed",{"$f":"'Review costs and WTE'!M51","v":0},{"$f":"'Review costs and WTE'!N51","v":0},{"$f":"'Review costs and WTE'!O51","v":0},{"$f":"'Review costs and WTE'!P51","v":0},{"$f":"'Review costs and WTE'!Q51","v":0},null,null,"Nurses",{"$f":"'Review costs and WTE'!F87","v":0},{"$f":"'Review costs and WTE'!G87","v":0},{"$f":"'Review costs and WTE'!H87","v":0},{"$f":"'Review costs and WTE'!I87","v":0},{"$f":"'Review costs and WTE'!J87","v":0},null,"Review charge reclaimed",{"$f":"'Review costs and WTE'!M52","v":0},{"$f":"'Review costs and WTE'!N52","v":0},{"$f":"'Review costs and WTE'!O52","v":0},{"$f":"'Review costs and WTE'!P52","v":0},{"$f":"'Review costs and WTE'!Q52","v":0}]
[]
[null,null,null,null,null,null,null,null,"Net total cost of reviews",{"$f":"'Review costs and WTE'!M57","v":622.087614968053},{"$f":"'Review costs and WTE'!N57","v":29.265632768528342},{"$f":"'Review costs and WTE'!O57","v":28.580671502397767},{"$f":"'Review costs and WTE'!P57","v":33.208884366681765},{"$f":"'Review costs and WTE'!Q57","v":32.026302034796728},null,null,null,null,null,null,null,null,null,"Net total cost of reviews",{"$f":"'Review costs and WTE'!M58","v":5188.2691004232665},{"$f":"'Review costs and WTE'!N58","v":248.72980473546056},{"$f":"'Review costs and WTE'!O58","v":242.92857145058298},{"$f":"'Review costs and WTE'!P58","v":282.09797646167289},{"$f":"'Review costs and WTE'!Q58","v":272.09525059876091}]
[]
[]
[]
["Direct impacts"]
[]
["Drugs cost avoided",null,null,null,null,null,null,null,null,"No risk stratification","Risk stratification",null,null,null,null,null,null,null,null,null,null,null,null,null,"No risk stratification","Risk stratification"]
[null,null,null,null,null,null,null,null,null,null,"BNF10+","BNF10+ & High Risk Med","BNF 5-9","BNF 5-9 & High Risk Med",null," ",null,null,null,null,null,null,null,null,null,"BNF10+","BNF10+ & High Risk Med","BNF 5-9","BNF 5-9 & High Risk Med"]
[null,null,null,null,null,null,null,null,null,"€m","€m","€m","€m","€m",null,null,null,null,null,null,null,null,null,null,"€m","€m","€m","€m","€m"]
[null,null,null,null,null,null,null,null,"Drugs cost avoided (DDDs)",{"$f":"'drugs saved'!L39","v":1711.1970411593882},{"$f":"'drugs saved'!M39","v":80.501946986574751},{"$f":"'drugs saved'!N39","v":78.617801307237258},{"$f":"'drugs saved'!O39","v":91.348779980756262},{"$f":"'drugs saved'!P39","v":88.09581152654107},null,null,null,null,null,null,null,null,null,"Drugs cost avoided (DDDs)",{"$f":"'drugs saved'!L40","v":14271.543942952323},{"$f":"'drugs saved'!M40","v":684.1893258610047},{"$f":"'drugs saved'!N40","v":668.23168099989027},{"$f":"'drugs saved'!O40","v":775.97626286621301},{"$f":"'drugs saved'!P40","v":748.46143298003597}]
[]
[]
[]
["Indirect Impacts"]
[]
["Hospital admissions",null,"No risk stratification","Risk stratification",null,null,null,null,null,null,null,null,null,null,null,null,null,"No risk stratification","Risk stratification"]
[null,null,null,"BNF10+","BNF10+ & High Risk Med","BNF 5-9","BNF 5-9 & High Risk Med",null,null,null,null,null,null,null,null,null,null,null,"BNF10+","BNF10+ & High Risk Med","BNF 5-9","BNF 5-9 & High Risk Med"]
[null,"Hospital admissions associated with ADRs",{"$f":"'Indirect Impacts'!F44","v":151520.96134029847},{"$f":"'Indirect Impacts'!G44","v":24743.507645687747},{"$f":"'Indirect Impacts'!H44","v":21448.024634957652},{"$f":"'Indirect Impacts'!I44","v":25887.439676224632},{"$f":"'Indirect Impacts'!J44","v":22061.499775620094},null,null,null,null,null,null,null,null,null,"Hospital admissions associated with ADRs",{"$f":"'Indirect Impacts'!F50","v":1263699.0399313292},{"$f":"'Indirect Impacts'!G50","v":210359.36406150379},{"$f":"'Indirect Impacts'!H50","v":182434.37565517274},{"$f":"'Indirect Impacts'!I50","v":220012.48013493101},{"$f":"'Indirect Impacts'!J50","v":187626.00405454281}]
[null,"95% confidence interval",{"$f":"'Indirect Impacts'!F46","v":"(144528, 160845)"},{"$f":"'Indirect Impacts'!G46","v":"(23601, 26266)"},{"$f":"'Indirect Impacts'!H46","v":"(20458, 22768)"},{"$f":"'Indirect Impacts'!I46","v":"(24693, 27481)"},{"$f":"'Indirect Impacts'!J46","v":"(21043, 23419)"},null,null,null,null,null,null,null,null,null,"95% confidence interval",{"$f":"'Indirect Impacts'!F52","v":"(1205374, 1341465)"},{"$f":"'Indirect Impacts'!G52","v":"(200650, 223305)"},{"$f":"'Indirect Impacts'!H52","v":"(174014, 193661)"},{"$f":"'Indirect Impacts'!I52","v":"(209858, 233552)"},{"$f":"'Indirect Impacts'!J52","v":"(178966, 199172)"}]
[]
[null,"Proportion of ADRs definitely avoidable through PPH, based on central admission estimate",{"$f":"'Indirect Impacts'!F59","v":8182.1319123761168},{"$f":"'Indirect Impacts'!G59","v":1336.1494128671384},{"$f":"'Indirect Impacts'!H59","v":1158.1933302877133},{"$f":"'Indirect Impacts'!I59","v":1397.9217425161301},{"$f":"'Indirect Impacts'!J59","v":1191.320987883485},null,null,null,null,null,null,null,null,null,"Proportion of ADRs definitely avoidable through PPH, based on central admission estimate",{"$f":"'Indirect Impacts'!F65","v":68239.748156291782},{"$f":"'Indirect Impacts'!G65","v":11359.405659321204},{"$f":"'Indirect Impacts'!H65","v":9851.4562853793286},{"$f":"'Indirect Impacts'!I65","v":11880.673927286274},{"$f":"'Indirect Impacts'!J65","v":10131.804218945312}]
[null,"95% confidence interval (based on central admission estimate)",{"$f":"'Indirect Impacts'!F61","v":"(6364, 9091)"},{"$f":"'Indirect Impacts'!G61","v":"(1039, 1485)"},{"$f":"'Indirect Impacts'!H61","v":"(901, 1287)"},{"$f":"'Indirect Impacts'!I61","v":"(1087, 1553)"},{"$f":"'Indirect Impacts'!J61","v":"(927, 1324)"},null,null,null,null,null,null,null,null,null,"95% confidence interval  (based on central admission estimate)",{"$f":"'Indirect Impacts'!F67","v":"(53075, 75822)"},{"$f":"'Indirect Impacts'!G67","v":"(8835, 12622)"},{"$f":"'Indirect Impacts'!H67","v":"(7662, 10946)"},{"$f":"'Indirect Impacts'!I67","v":"(9241, 13201)"},{"$f":"'Indirect Impacts'!J67","v":"(7880, 11258)"}]
[]
[null,"Proportion of ADRs possibly avoidable through PPH, based on central admission estimate",{"$f":"'Indirect Impacts'!F74","v":57274.923386632821},{"$f":"'Indirect Impacts'!G74","v":9353.0458900699687},{"$f":"'Indirect Impacts'!H74","v":8107.3533120139928},{"$f":"'Indirect Impacts'!I74","v":9785.4521976129108},{"$f":"'Indirect Impacts'!J74","v":8339.2469151843961},null,null,null,null,null,null,null,null,null,"Proportion of ADRs possibly avoidable through PPH, based on central admission estimate",{"$f":"'Indirect Impacts'!F80","v":477678.23709404242},{"$f":"'Indirect Impacts'!G80","v":79515.839615248435},{"$f":"'Indirect Impacts'!H80","v":68960.193997655297},{"$f":"'Indirect Impacts'!I80","v":83164.717491003918},{"$f":"'Indirect Impacts'!J80","v":70922.629532617182}]
[null,"95% confidence interval (based on central admission estimate)",{"$f":"'Indirect Impacts'!F76","v":"(54548, 60002)"},{"$f":"'Indirect Impacts'!G76","v":"(8908, 9798)"},{"$f":"'Indirect Impacts'!H76","v":"(7721, 8493)"},{"$f":"'Indirect Impacts'!I76","v":"(9319, 10251)"},{"$f":"'Indirect Impacts'!J76","v":"(7942, 8736)"},null,null,null,null,null,null,null,null,null,"95% confidence interval  (based on central admission estimate)",{"$f":"'Indirect Impacts'!F82","v":"(454932, 500425)"},{"$f":"'Indirect Impacts'!G82","v":"(75729, 83302)"},{"$f":"'Indirect Impacts'!H82","v":"(65676, 72244)"},{"$f":"'Indirect Impacts'!I82","v":"(79204, 87125)"},{"$f":"'Indirect Impacts'!J82","v":"(67545, 74300)"}]
[]
[]
[]
[]
["Bed days",null,"No risk stratification","Risk stratification",null,null,null,null,null,"No risk stratification","Risk stratification",null,null,null,null,null,null,"No risk stratification","Risk stratification",null,null,null,null,null,"No risk stratification","Risk stratification"]
[null,null,null,"BNF10+","BNF10+ & High Risk Med","BNF 5-9","BNF 5-9 & High Risk Med",null,null,null,"BNF10+","BNF10+ & High Risk Med","BNF 5-9","BNF 5-9 & High Risk Med",null,null,null,null,"BNF10+","BNF10+ & High Risk Med","BNF 5-9","BNF 5-9 & High Risk Med",null,null,null,"BNF10+","BNF10+ & High Risk Med","BNF 5-9","BNF 5-9 & High Risk Med"]
[null,null,null,null,null,null,null,null,null,"€m","€m","€m","€m","€m",null,null,null,null,null,null,null,null,null,null,"€m","€m","€m","€m","€m"]
[null,"Bed days associated with ADR related hospital admissions, based on central admission estimate",{"$f":"'Indirect Impacts'!F93","v":469714.98015492526},{"$f":"'Indirect Impacts'!G93","v":76704.873701632023},{"$f":"'Indirect Impacts'!H93","v":66488.876368368728},{"$f":"'Indirect Impacts'!I93","v":80251.062996296358},{"$f":"'Indirect Impacts'!J93","v":68390.649304422288},null,"Cost of Bed days associated with ADR related hospital admissions, based on central admission estimate",{"$f":"'Indirect Impacts'!AA93","v":175.67819267414987},{"$f":"'Indirect Impacts'!AB93","v":28.688404991378139},{"$f":"'Indirect Impacts'!AC93","v":24.867517807240052},{"$f":"'Indirect Impacts'!AD93","v":30.014715951189491},{"$f":"'Indirect Impacts'!AE93","v":25.578800279373056},null,null,"Bed days associated with ADR related hospital admissions, based on central admission estimate",{"$f":"'Indirect Impacts'!F99","v":3917467.0237871208},{"$f":"'Indirect Impacts'!G99","v":652114.02859066171},{"$f":"'Indirect Impacts'!H99","v":565546.56453103549},{"$f":"'Indirect Impacts'!I99","v":682038.68841828615},{"$f":"'Indirect Impacts'!J99","v":581640.61256908276},null,"Cost of Bed days associated with ADR related hospital admissions, based on central admission estimate",{"$f":"'Indirect Impacts'!AA99","v":1465.1726167483737},{"$f":"'Indirect Impacts'!AB99","v":243.89729687241504},{"$f":"'Indirect Impacts'!AC99","v":211.52018250965077},{"$f":"'Indirect Impacts'!AD99","v":255.08942481598595},{"$f":"'Indirect Impacts'!AE99","v":217.53952060102387}]
[]
[null,"Bed days associated with definitely avoidable ADR related hospital admissions through PPH, based on central admission estimate",{"$f":"'Indirect Impacts'!F108","v":25364.608928365964},{"$f":"'Indirect Impacts'!G108","v":4142.0631798881295},{"$f":"'Indirect Impacts'!H108","v":3590.3993238919111},{"$f":"'Indirect Impacts'!I108","v":4333.5574018000034},{"$f":"'Indirect Impacts'!J108","v":3693.0950624388038},null,"Cost of Bed days associated with definitely avoidable ADR related hospital admissions through PPH, based on central admission estimate",{"$f":"'Indirect Impacts'!AA108","v":9.486622404404093},{"$f":"'Indirect Impacts'!AB108","v":1.5491738695344197},{"$f":"'Indirect Impacts'!AC108","v":1.3428459615909627},{"$f":"'Indirect Impacts'!AD108","v":1.6207946613642326},{"$f":"'Indirect Impacts'!AE108","v":1.381255215086145},null,null,"Bed days associated with definitely avoidable ADR related hospital admissions through PPH, based on central admission estimate",{"$f":"'Indirect Impacts'!F114","v":211543.21928450454},{"$f":"'Indirect Impacts'!G114","v":35214.157543895737},{"$f":"'Indirect Impacts'!H114","v":30539.514484675921},{"$f":"'Indirect Impacts'!I114","v":36830.089174587454},{"$f":"'Indirect Impacts'!J114","v":31408.593078730468},null,"Cost of Bed days associated with definitely avoidable ADR related hospital admissions through PPH, based on central admission estimate",{"$f":"'Indirect Impacts'!AA114","v":79.119321304412182},{"$f":"'Indirect Impacts'!AB114","v":13.170454031110413},{"$f":"'Indirect Impacts'!AC114","v":11.422089855521145},{"$f":"'Indirect Impacts'!AD114","v":13.774828940063243},{"$f":"'Indirect Impacts'!AE114","v":11.747134112455289}]
[]
[null,"Bed days associated with central estimate of potentially avoidable ADR related hospital admissions through PPH",{"$f":"'Indirect Impacts'!F123","v":177552.26249856176},{"$f":"'Indirect Impacts'!G123","v":28994.442259216903},{"$f":"'Indirect Impacts'!H123","v":25132.795267243378},{"$f":"'Indirect Impacts'!I123","v":30334.901812600023},{"$f":"'Indirect Impacts'!J123","v":25851.665437071628},null,"Cost of Bed days associated with central estimate of potentially avoidable ADR related hospital admissions through PPH",{"$f":"'Indirect Impacts'!AA123","v":66.406356830828656},{"$f":"'Indirect Impacts'!AB123","v":10.844217086740937},{"$f":"'Indirect Impacts'!AC123","v":9.3999217311367396},{"$f":"'Indirect Impacts'!AD123","v":11.345562629549628},{"$f":"'Indirect Impacts'!AE123","v":9.668786505603018},null,null,"Bed days associated with central estimate of potentially avoidable ADR related hospital admissions through PPH",{"$f":"'Indirect Impacts'!F129","v":1480802.5349915316},{"$f":"'Indirect Impacts'!G129","v":246499.10280727016},{"$f":"'Indirect Impacts'!H129","v":213776.60139273142},{"$f":"'Indirect Impacts'!I129","v":257810.62422211215},{"$f":"'Indirect Impacts'!J129","v":219860.15155111326},null,"Cost of Bed days associated with central estimate of potentially avoidable ADR related hospital admissions through PPH",{"$f":"'Indirect Impacts'!AA129","v":553.83524913088524},{"$f":"'Indirect Impacts'!AB129","v":92.193178217772896},{"$f":"'Indirect Impacts'!AC129","v":79.954628988647997},{"$f":"'Indirect Impacts'!AD129","v":96.423802580442683},{"$f":"'Indirect Impacts'!AE129","v":82.22993878718701}]

{"sheet":"Charts","index":2,"n_rows":105,"n_cols":22,"rows_kept":105,"cut":false,"hidden":false,"merged":[]}
[null,"Population",null,null,null,"Risk profiles",null,null,null,null,null,null,null,null,null,null,null,null,null,null,null," "]
[null,null,null," - ",null,null,null,null,null,null,null,null,null,null,null,null,null,null,"go to Introduction"]
[null,null,null," to ",null,null,"BNF10+","BNF10+ & High Risk Med","BNF 5-9","BNF 5-9 & High Risk Med","10+ BNF items dispensed","10+ items and high risk meds",null,null,null,null,null,null,"Go to Summary"]
[null,"age",{"$f":"'input selections'!A3","v":"France"},{"$f":"CONCATENATE(C4,D2,'input selections'!A6,Charts!D2,'population lookup'!A14,Charts!D3,'population lookup'!B14)","v":"France - Total - 65 to 80"},null,"age",{"$f":"'risk stratification'!AR5","v":"SCOT"},{"$f":"'risk stratification'!AS5","v":"SCOT"},{"$f":"'risk stratification'!AT5","v":"SCOT"},{"$f":"'risk stratification'!AU5","v":"SCOT"},{"$f":"'risk stratification'!AV5","v":"SCOT"},{"$f":"'risk stratification'!AW5","v":"SCOT"},null,null,null,null,null,null,"go to Trend Analysis"]
[null,0,{"$f":"'population lookup'!F4","v":786136},{"$f":"'population lookup'!I4","v":0},null,0,{"$f":"'risk stratification'!AR6","v":0},{"$f":"'risk stratification'!AS6","v":0},{"$f":"'risk stratification'!AT6","v":0},{"$f":"'risk stratification'!AU6","v":0},{"$f":"'risk stratification'!AV6","v":0},{"$f":"'risk stratification'!AW6","v":0},null,"Costs and benefits - no risk stratification","Costs","Benefits",null,null,"go to Data collection"]
[null,1,{"$f":"'population lookup'!F5","v":788866},{"$f":"'population lookup'!I5","v":0},null,1,{"$f":"'risk stratification'!AR7","v":0},{"$f":"'risk stratification'!AS7","v":0},{"$f":"'risk stratification'!AT7","v":0},{"$f":"'risk stratification'!AU7","v":0},{"$f":"'risk stratification'!AV7","v":0},{"$f":"'risk stratification'!AW7","v":0},null,"Net total cost of reviews",{"$f":"Summary!J43","v":622.087614968053},0]
[null,2,{"$f":"'population lookup'!F6","v":798550},{"$f":"'population lookup'!I6","v":0},null,2,{"$f":"'risk stratification'!AR8","v":0},{"$f":"'risk stratification'!AS8","v":0},{"$f":"'risk stratification'!AT8","v":0},{"$f":"'risk stratification'!AU8","v":0},{"$f":"'risk stratification'!AV8","v":0},{"$f":"'risk stratification'!AW8","v":0},null,"Drugs cost avoided",0,{"$f":"Summary!J52","v":1711.1970411593882}]
[null,3,{"$f":"'population lookup'!F7","v":809128},{"$f":"'population lookup'!I7","v":0},null,3,{"$f":"'risk stratification'!AR9","v":0},{"$f":"'risk stratification'!AS9","v":0},{"$f":"'risk stratification'!AT9","v":0},{"$f":"'risk stratification'!AU9","v":0},{"$f":"'risk stratification'!AV9","v":0},{"$f":"'risk stratification'!AW9","v":0},null,"Definitely avoidable cost of ADR related bed days",0,{"$f":"Summary!J77","v":9.486622404404093}]
[null,4,{"$f":"'population lookup'!F8","v":831956},{"$f":"'population lookup'!I8","v":0},null,4,{"$f":"'risk stratification'!AR10","v":0},{"$f":"'risk stratification'!AS10","v":0},{"$f":"'risk stratification'!AT10","v":0},{"$f":"'risk stratification'!AU10","v":0},{"$f":"'risk stratification'!AV10","v":0},{"$f":"'risk stratification'!AW10","v":0},null,"Additional potentially avoidable cost of ADR related bed days",0,{"$f":"P12-P8","v":56.919734426424561}]
[null,5,{"$f":"'population lookup'!F9","v":829704},{"$f":"'population lookup'!I9","v":0},null,5,{"$f":"'risk stratification'!AR11","v":0},{"$f":"'risk stratification'!AS11","v":0},{"$f":"'risk stratification'!AT11","v":0},{"$f":"'risk stratification'!AU11","v":0},{"$f":"'risk stratification'!AV11","v":0},{"$f":"'risk stratification'!AW11","v":0}]
[null,6,{"$f":"'population lookup'!F10","v":835497},{"$f":"'population lookup'!I10","v":0},null,6,{"$f":"'risk stratification'!AR12","v":0},{"$f":"'risk stratification'!AS12","v":0},{"$f":"'risk stratification'!AT12","v":0},{"$f":"'risk stratification'!AU12","v":0},{"$f":"'risk stratification'!AV12","v":0},{"$f":"'risk stratification'!AW12","v":0}]
[null,7,{"$f":"'population lookup'!F11","v":832147},{"$f":"'population lookup'!I11","v":0},null,7,{"$f":"'risk stratification'!AR13","v":0},{"$f":"'risk stratification'!AS13","v":0},{"$f":"'risk stratification'!AT13","v":0},{"$f":"'risk stratification'!AU13","v":0},{"$f":"'risk stratification'!AV13","v":0},{"$f":"'risk stratification'!AW13","v":0},null,"Potentially avoidable cost of ADR related bed days",null,{"$f":"Summary!J79","v":66.406356830828656}]
[null,8,{"$f":"'population lookup'!F12","v":846392},{"$f":"'population lookup'!I12","v":0},null,8,{"$f":"'risk stratification'!AR14","v":0},{"$f":"'risk stratification'!AS14","v":0},{"$f":"'risk stratification'!AT14","v":0},{"$f":"'risk stratification'!AU14","v":0},{"$f":"'risk stratification'!AV14","v":0},{"$f":"'risk stratification'!AW14","v":0}]
[null,9,{"$f":"'population lookup'!F13","v":829605},{"$f":"'population lookup'!I13","v":0},null,9,{"$f":"'risk stratification'!AR15","v":0},{"$f":"'risk stratification'!AS15","v":0},{"$f":"'risk stratification'!AT15","v":0},{"$f":"'risk stratification'!AU15","v":0},{"$f":"'risk stratification'!AV15","v":0},{"$f":"'risk stratification'!AW15","v":0}]
[null,10,{"$f":"'population lookup'!F14","v":825391},{"$f":"'population lookup'!I14","v":0},null,10,{"$f":"'risk stratification'!AR16","v":0},{"$f":"'risk stratification'!AS16","v":0},{"$f":"'risk stratification'!AT16","v":0},{"$f":"'risk stratification'!AU16","v":0},{"$f":"'risk stratification'!AV16","v":0},{"$f":"'risk stratification'!AW16","v":0}]
[null,11,{"$f":"'population lookup'!F15","v":821249},{"$f":"'population lookup'!I15","v":0},null,11,{"$f":"'risk stratification'!AR17","v":0},{"$f":"'risk stratification'!AS17","v":0},{"$f":"'risk stratification'!AT17","v":0},{"$f":"'risk stratification'!AU17","v":0},{"$f":"'risk stratification'!AV17","v":0},{"$f":"'risk stratification'!AW17","v":0}]
[null,12,{"$f":"'population lookup'!F16","v":826583},{"$f":"'population lookup'!I16","v":0},null,12,{"$f":"'risk stratification'!AR18","v":0},{"$f":"'risk stratification'!AS18","v":0},{"$f":"'risk stratification'!AT18","v":0},{"$f":"'risk stratification'!AU18","v":0},{"$f":"'risk stratification'!AV18","v":0},{"$f":"'risk stratification'!AW18","v":0},null,"Costs and benefits - BNF 10+ items","Costs","Benefits"]
[null,13,{"$f":"'population lookup'!F17","v":838757},{"$f":"'population lookup'!I17","v":0},null,13,{"$f":"'risk stratification'!AR19","v":8.1688223281143636E-4},{"$f":"'risk stratification'!AS19","v":5.786249149081008E-4},{"$f":"'risk stratification'!AT19","v":1.6337644656228727E-3},{"$f":"'risk stratification'!AU19","v":9.8706603131381893E-4},{"$f":"'risk stratification'!AV19","v":8.1688223281143636E-4},{"$f":"'risk stratification'!AW19","v":5.786249149081008E-4},null,"Net total cost of reviews",{"$f":"Summary!K43","v":29.265632768528342},0]
[null,14,{"$f":"'population lookup'!F18","v":856210},{"$f":"'population lookup'!I18","v":0},null,14,{"$f":"'risk stratification'!AR20","v":6.6584545726936775E-4},{"$f":"'risk stratification'!AS20","v":4.8273795652029164E-4},{"$f":"'risk stratification'!AT20","v":1.4648600059926091E-3},{"$f":"'risk stratification'!AU20","v":1.0487065951992542E-3},{"$f":"'risk stratification'!AV20","v":6.6584545726936775E-4},{"$f":"'risk stratification'!AW20","v":4.8273795652029164E-4},null,"Drugs cost avoided",0,{"$f":"Summary!K52","v":80.501946986574751}]
[null,15,{"$f":"'population lookup'!F19","v":818533},{"$f":"'population lookup'!I19","v":0},null,15,{"$f":"'risk stratification'!AR21","v":1.0227563283047815E-3},{"$f":"'risk stratification'!AS21","v":6.7118384045001275E-4},{"$f":"'risk stratification'!AT21","v":1.9496292508309895E-3},{"$f":"'risk stratification'!AU21","v":1.2784454103809768E-3},{"$f":"'risk stratification'!AV21","v":1.0227563283047815E-3},{"$f":"'risk stratification'!AW21","v":6.7118384045001275E-4},null,"Definitely avoidable cost of ADR related bed days",0,{"$f":"Summary!K77","v":1.5491738695344197}]
[null,16,{"$f":"'population lookup'!F20","v":816024},{"$f":"'population lookup'!I20","v":0},null,16,{"$f":"'risk stratification'!AR22","v":1.0457238985799372E-3},{"$f":"'risk stratification'!AS22","v":8.9416971037994638E-4},{"$f":"'risk stratification'!AT22","v":2.318779079459861E-3},{"$f":"'risk stratification'!AU22","v":1.9095827713198855E-3},{"$f":"'risk stratification'!AV22","v":1.0457238985799372E-3},{"$f":"'risk stratification'!AW22","v":8.9416971037994638E-4},null,"Additional potentially avoidable cost of ADR related bed days",0,{"$f":"P24-P20","v":9.2950432172065174}]
[null,17,{"$f":"'population lookup'!F21","v":799000},{"$f":"'population lookup'!I21","v":0},null,17,{"$f":"'risk stratification'!AR23","v":1.1544475457029709E-3},{"$f":"'risk stratification'!AS23","v":1.0229282050532654E-3},{"$f":"'risk stratification'!AT23","v":2.3381216115503207E-3},{"$f":"'risk stratification'!AU23","v":1.8997238093846356E-3},{"$f":"'risk stratification'!AV23","v":1.1544475457029709E-3},{"$f":"'risk stratification'!AW23","v":1.0229282050532654E-3}]
[null,18,{"$f":"'population lookup'!F22","v":797344},{"$f":"'population lookup'!I22","v":0},null,18,{"$f":"'risk stratification'!AR24","v":1.1209662729272634E-3},{"$f":"'risk stratification'!AS24","v":9.8084548881135548E-4},{"$f":"'risk stratification'!AT24","v":2.2279204674429359E-3},{"$f":"'risk stratification'!AU24","v":1.7935460366836212E-3},{"$f":"'risk stratification'!AV24","v":1.1209662729272634E-3},{"$f":"'risk stratification'!AW24","v":9.8084548881135548E-4}]
[null,19,{"$f":"'population lookup'!F23","v":780628},{"$f":"'population lookup'!I23","v":0},null,19,{"$f":"'risk stratification'!AR25","v":1.5996499911130556E-3},{"$f":"'risk stratification'!AS25","v":1.3125333260414814E-3},{"$f":"'risk stratification'!AT25","v":2.8438222064232099E-3},{"$f":"'risk stratification'!AU25","v":2.2832610984263274E-3},{"$f":"'risk stratification'!AV25","v":1.5996499911130556E-3},{"$f":"'risk stratification'!AW25","v":1.3125333260414814E-3},null,"Potentially avoidable cost of ADR related bed days",null,{"$f":"Summary!K79","v":10.844217086740937}]
[null,20,{"$f":"'population lookup'!F24","v":750544},{"$f":"'population lookup'!I24","v":0},null,20,{"$f":"'risk stratification'!AR26","v":1.3551009872878621E-3},{"$f":"'risk stratification'!AS26","v":1.1486094082725688E-3},{"$f":"'risk stratification'!AT26","v":2.5940504613796217E-3},{"$f":"'risk stratification'!AU26","v":2.1294444085952118E-3},{"$f":"'risk stratification'!AV26","v":1.3551009872878621E-3},{"$f":"'risk stratification'!AW26","v":1.1486094082725688E-3}]
[null,21,{"$f":"'population lookup'!F25","v":738055},{"$f":"'population lookup'!I25","v":0},null,21,{"$f":"'risk stratification'!AR27","v":1.2945654143903891E-3},{"$f":"'risk stratification'!AS27","v":1.2298371436708696E-3},{"$f":"'risk stratification'!AT27","v":2.511456903917355E-3},{"$f":"'risk stratification'!AU27","v":2.16192424203195E-3},{"$f":"'risk stratification'!AV27","v":1.2945654143903891E-3},{"$f":"'risk stratification'!AW27","v":1.2298371436708696E-3}]
[null,22,{"$f":"'population lookup'!F26","v":770540},{"$f":"'population lookup'!I26","v":0},null,22,{"$f":"'risk stratification'!AR28","v":1.5914332339811456E-3},{"$f":"'risk stratification'!AS28","v":1.4295925661186562E-3},{"$f":"'risk stratification'!AT28","v":2.8726718545591867E-3},{"$f":"'risk stratification'!AU28","v":2.5085303518685852E-3},{"$f":"'risk stratification'!AV28","v":1.5914332339811456E-3},{"$f":"'risk stratification'!AW28","v":1.4295925661186562E-3}]
[null,23,{"$f":"'population lookup'!F27","v":775707},{"$f":"'population lookup'!I27","v":0},null,23,{"$f":"'risk stratification'!AR29","v":1.8088593305860433E-3},{"$f":"'risk stratification'!AS29","v":1.6592544235450922E-3},{"$f":"'risk stratification'!AT29","v":3.0328994791029144E-3},{"$f":"'risk stratification'!AU29","v":2.679287880642485E-3},{"$f":"'risk stratification'!AV29","v":1.8088593305860433E-3},{"$f":"'risk stratification'!AW29","v":1.6592544235450922E-3}]
[null,24,{"$f":"'population lookup'!F28","v":786821},{"$f":"'population lookup'!I28","v":0},null,24,{"$f":"'risk stratification'!AR30","v":1.7876731808393938E-3},{"$f":"'risk stratification'!AS30","v":1.5980714798412763E-3},{"$f":"'risk stratification'!AT30","v":3.0877991305407713E-3},{"$f":"'risk stratification'!AU30","v":2.6544238139736454E-3},{"$f":"'risk stratification'!AV30","v":1.7876731808393938E-3},{"$f":"'risk stratification'!AW30","v":1.5980714798412763E-3},null,"Costs and benefits - BNF 10+ items and high risk meds","Costs","Benefits"]
[null,25,{"$f":"'population lookup'!F29","v":783798},{"$f":"'population lookup'!I29","v":0},null,25,{"$f":"'risk stratification'!AR31","v":1.9745686757786244E-3},{"$f":"'risk stratification'!AS31","v":1.834528344163119E-3},{"$f":"'risk stratification'!AT31","v":3.4870042572260813E-3},{"$f":"'risk stratification'!AU31","v":3.0108671297333633E-3},{"$f":"'risk stratification'!AV31","v":1.9745686757786244E-3},{"$f":"'risk stratification'!AW31","v":1.834528344163119E-3},null,"Net total cost of reviews",{"$f":"Summary!L43","v":28.580671502397767},0]
[null,26,{"$f":"'population lookup'!F30","v":791253},{"$f":"'population lookup'!I30","v":0},null,26,{"$f":"'risk stratification'!AR32","v":2.1137180300147959E-3},{"$f":"'risk stratification'!AS32","v":1.9305291340801804E-3},{"$f":"'risk stratification'!AT32","v":3.635595011625449E-3},{"$f":"'risk stratification'!AU32","v":3.2974001268230818E-3},{"$f":"'risk stratification'!AV32","v":2.1137180300147959E-3},{"$f":"'risk stratification'!AW32","v":1.9305291340801804E-3},null,"Drugs cost avoided",0,{"$f":"Summary!L52","v":78.617801307237258}]
[null,27,{"$f":"'population lookup'!F31","v":789709},{"$f":"'population lookup'!I31","v":0},null,27,{"$f":"'risk stratification'!AR33","v":2.1833751577275884E-3},{"$f":"'risk stratification'!AS33","v":2.0557753108474048E-3},{"$f":"'risk stratification'!AT33","v":3.8705286886989067E-3},{"$f":"'risk stratification'!AU33","v":3.4735513872938906E-3},{"$f":"'risk stratification'!AV33","v":2.1833751577275884E-3},{"$f":"'risk stratification'!AW33","v":2.0557753108474048E-3},null,"Definitely avoidable cost of ADR related bed days",0,{"$f":"Summary!L77","v":1.3428459615909627}]
[null,28,{"$f":"'population lookup'!F32","v":802251},{"$f":"'population lookup'!I32","v":0},null,28,{"$f":"'risk stratification'!AR34","v":2.299490304059992E-3},{"$f":"'risk stratification'!AS34","v":2.1969652586560431E-3},{"$f":"'risk stratification'!AT34","v":3.866658855234636E-3},{"$f":"'risk stratification'!AU34","v":3.471205108676548E-3},{"$f":"'risk stratification'!AV34","v":2.299490304059992E-3},{"$f":"'risk stratification'!AW34","v":2.1969652586560431E-3},null,"Additional potentially avoidable cost of ADR related bed days",0,{"$f":"P36-P32","v":8.0570757695457775}]
[null,29,{"$f":"'population lookup'!F33","v":801418},{"$f":"'population lookup'!I33","v":0},null,29,{"$f":"'risk stratification'!AR35","v":2.3679574922752604E-3},{"$f":"'risk stratification'!AS35","v":2.1946923099136562E-3},{"$f":"'risk stratification'!AT35","v":3.9562216639233011E-3},{"$f":"'risk stratification'!AU35","v":3.5519362384128909E-3},{"$f":"'risk stratification'!AV35","v":2.3679574922752604E-3},{"$f":"'risk stratification'!AW35","v":2.1946923099136562E-3}]
[null,30,{"$f":"'population lookup'!F34","v":799333},{"$f":"'population lookup'!I34","v":0},null,30,{"$f":"'risk stratification'!AR36","v":2.1673415844407689E-3},{"$f":"'risk stratification'!AS36","v":2.0247533223065077E-3},{"$f":"'risk stratification'!AT36","v":3.8071065989847717E-3},{"$f":"'risk stratification'!AU36","v":3.3650829863685621E-3},{"$f":"'risk stratification'!AV36","v":2.1673415844407689E-3},{"$f":"'risk stratification'!AW36","v":2.0247533223065077E-3}]
[null,31,{"$f":"'population lookup'!F35","v":790122},{"$f":"'population lookup'!I35","v":0},null,31,{"$f":"'risk stratification'!AR37","v":2.5394183727636618E-3},{"$f":"'risk stratification'!AS37","v":2.4389893975696186E-3},{"$f":"'risk stratification'!AT37","v":4.1893229652372275E-3},{"$f":"'risk stratification'!AU37","v":3.8736890431988061E-3},{"$f":"'risk stratification'!AV37","v":2.5394183727636618E-3},{"$f":"'risk stratification'!AW37","v":2.4389893975696186E-3},null,"Potentially avoidable cost of ADR related bed days",null,{"$f":"Summary!L79","v":9.3999217311367396}]
[null,32,{"$f":"'population lookup'!F36","v":842411},{"$f":"'population lookup'!I36","v":0},null,32,{"$f":"'risk stratification'!AR38","v":3.1618701876628508E-3},{"$f":"'risk stratification'!AS38","v":2.8837427174517667E-3},{"$f":"'risk stratification'!AT38","v":4.7574435694001226E-3},{"$f":"'risk stratification'!AU38","v":4.3182949322247274E-3},{"$f":"'risk stratification'!AV38","v":3.1618701876628508E-3},{"$f":"'risk stratification'!AW38","v":2.8837427174517667E-3}]
[null,33,{"$f":"'population lookup'!F37","v":851735},{"$f":"'population lookup'!I37","v":0},null,33,{"$f":"'risk stratification'!AR39","v":2.9812799830505909E-3},{"$f":"'risk stratification'!AS39","v":2.8602127756170645E-3},{"$f":"'risk stratification'!AT39","v":4.7064876889783445E-3},{"$f":"'risk stratification'!AU39","v":4.3281526657485735E-3},{"$f":"'risk stratification'!AV39","v":2.9812799830505909E-3},{"$f":"'risk stratification'!AW39","v":2.8602127756170645E-3}]
[null,34,{"$f":"'population lookup'!F38","v":864814},{"$f":"'population lookup'!I38","v":0},null,34,{"$f":"'risk stratification'!AR40","v":3.3733683164121702E-3},{"$f":"'risk stratification'!AS40","v":3.1941071981487217E-3},{"$f":"'risk stratification'!AT40","v":5.2148688949366882E-3},{"$f":"'risk stratification'!AU40","v":4.8074572625197596E-3},{"$f":"'risk stratification'!AV40","v":3.3733683164121702E-3},{"$f":"'risk stratification'!AW40","v":3.1941071981487217E-3},null,"Costs and benefits - BNF 5-9 items","Costs","Benefits"]
[null,35,{"$f":"'population lookup'!F39","v":818854},{"$f":"'population lookup'!I39","v":0},null,35,{"$f":"'risk stratification'!AR41","v":3.2766267293307737E-3},{"$f":"'risk stratification'!AS41","v":3.1276891507248297E-3},{"$f":"'risk stratification'!AT41","v":5.1466207718276298E-3},{"$f":"'risk stratification'!AU41","v":4.7163566558549013E-3},{"$f":"'risk stratification'!AV41","v":3.2766267293307737E-3},{"$f":"'risk stratification'!AW41","v":3.1276891507248297E-3},null,"Net total cost of reviews",{"$f":"Summary!M43","v":33.208884366681765},0]
[null,36,{"$f":"'population lookup'!F40","v":803844},{"$f":"'population lookup'!I40","v":0},null,36,{"$f":"'risk stratification'!AR42","v":2.7363845323909747E-3},{"$f":"'risk stratification'!AS42","v":2.548746735884165E-3},{"$f":"'risk stratification'!AT42","v":4.3000328366143885E-3},{"$f":"'risk stratification'!AU42","v":3.9403937266430031E-3},{"$f":"'risk stratification'!AV42","v":2.7363845323909747E-3},{"$f":"'risk stratification'!AW42","v":2.548746735884165E-3},null,"Drugs cost avoided",0,{"$f":"Summary!M52","v":91.348779980756262}]
[null,37,{"$f":"'population lookup'!F41","v":814070},{"$f":"'population lookup'!I41","v":0},null,37,{"$f":"'risk stratification'!AR43","v":3.4440497060146758E-3},{"$f":"'risk stratification'!AS43","v":3.3664810189422733E-3},{"$f":"'risk stratification'!AT43","v":5.4142943576537027E-3},{"$f":"'risk stratification'!AU43","v":5.1660745590220141E-3},{"$f":"'risk stratification'!AV43","v":3.4440497060146758E-3},{"$f":"'risk stratification'!AW43","v":3.3664810189422733E-3},null,"Definitely avoidable cost of ADR related bed days",0,{"$f":"Summary!M77","v":1.6207946613642326}]
[null,38,{"$f":"'population lookup'!F42","v":796371},{"$f":"'population lookup'!I42","v":0},null,38,{"$f":"'risk stratification'!AR44","v":4.1011829158186294E-3},{"$f":"'risk stratification'!AS44","v":3.9175478598864524E-3},{"$f":"'risk stratification'!AT44","v":5.8916247111573603E-3},{"$f":"'risk stratification'!AU44","v":5.432537071326916E-3},{"$f":"'risk stratification'!AV44","v":4.1011829158186294E-3},{"$f":"'risk stratification'!AW44","v":3.9175478598864524E-3},null,"Additional potentially avoidable cost of ADR related bed days",0,{"$f":"P46-P42","v":9.7247679681853949}]
[null,39,{"$f":"'population lookup'!F43","v":819701},{"$f":"'population lookup'!I43","v":0},null,39,{"$f":"'risk stratification'!AR45","v":4.1486005675516052E-3},{"$f":"'risk stratification'!AS45","v":4.018956799815618E-3},{"$f":"'risk stratification'!AT45","v":6.2949251667362904E-3},{"$f":"'risk stratification'!AU45","v":5.9780181789372095E-3},{"$f":"'risk stratification'!AV45","v":4.1486005675516052E-3},{"$f":"'risk stratification'!AW45","v":4.018956799815618E-3}]
[null,40,{"$f":"'population lookup'!F44","v":865794},{"$f":"'population lookup'!I44","v":0},null,40,{"$f":"'risk stratification'!AR46","v":3.8991105154136713E-3},{"$f":"'risk stratification'!AS46","v":3.7772633118069942E-3},{"$f":"'risk stratification'!AT46","v":5.8892815076560662E-3},{"$f":"'risk stratification'!AU46","v":5.4966627404789952E-3},{"$f":"'risk stratification'!AV46","v":3.8991105154136713E-3},{"$f":"'risk stratification'!AW46","v":3.7772633118069942E-3}]
[null,41,{"$f":"'population lookup'!F45","v":915434},{"$f":"'population lookup'!I45","v":0},null,41,{"$f":"'risk stratification'!AR47","v":4.639343194109598E-3},{"$f":"'risk stratification'!AS47","v":4.4699289763471687E-3},{"$f":"'risk stratification'!AT47","v":6.4507721378771095E-3},{"$f":"'risk stratification'!AU47","v":6.0989118394474493E-3},{"$f":"'risk stratification'!AV47","v":4.639343194109598E-3},{"$f":"'risk stratification'!AW47","v":4.4699289763471687E-3},null,"Potentially avoidable cost of ADR related bed days",null,{"$f":"Summary!M79","v":11.345562629549628}]
[null,42,{"$f":"'population lookup'!F46","v":938013},{"$f":"'population lookup'!I46","v":0},null,42,{"$f":"'risk stratification'!AR48","v":4.6875825278614057E-3},{"$f":"'risk stratification'!AS48","v":4.5555379496117886E-3},{"$f":"'risk stratification'!AT48","v":6.4041620451064278E-3},{"$f":"'risk stratification'!AU48","v":6.1004595151323083E-3},{"$f":"'risk stratification'!AV48","v":4.6875825278614057E-3},{"$f":"'risk stratification'!AW48","v":4.5555379496117886E-3}]
[null,43,{"$f":"'population lookup'!F47","v":930974},{"$f":"'population lookup'!I47","v":0},null,43,{"$f":"'risk stratification'!AR49","v":5.0685975609756099E-3},{"$f":"'risk stratification'!AS49","v":4.9796747967479679E-3},{"$f":"'risk stratification'!AT49","v":7.1138211382113818E-3},{"$f":"'risk stratification'!AU49","v":6.7962398373983737E-3},{"$f":"'risk stratification'!AV49","v":5.0685975609756099E-3},{"$f":"'risk stratification'!AW49","v":4.9796747967479679E-3}]
[null,44,{"$f":"'population lookup'!F48","v":914030},{"$f":"'population lookup'!I48","v":0},null,44,{"$f":"'risk stratification'!AR50","v":5.3098668793937279E-3},{"$f":"'risk stratification'!AS50","v":5.1353642119958123E-3},{"$f":"'risk stratification'!AT50","v":7.4786857456249686E-3},{"$f":"'risk stratification'!AU50","v":7.0798225058583035E-3},{"$f":"'risk stratification'!AV50","v":5.3098668793937279E-3},{"$f":"'risk stratification'!AW50","v":5.1353642119958123E-3}]
[null,45,{"$f":"'population lookup'!F49","v":899787},{"$f":"'population lookup'!I49","v":0},null,45,{"$f":"'risk stratification'!AR51","v":5.3331023559691155E-3},{"$f":"'risk stratification'!AS51","v":5.1846169075430611E-3},{"$f":"'risk stratification'!AT51","v":7.4118986339338742E-3},{"$f":"'risk stratification'!AU51","v":6.9540685012868739E-3},{"$f":"'risk stratification'!AV51","v":5.3331023559691155E-3},{"$f":"'risk stratification'!AW51","v":5.1846169075430611E-3}]
[null,46,{"$f":"'population lookup'!F50","v":893947},{"$f":"'population lookup'!I50","v":0},null,46,{"$f":"'risk stratification'!AR52","v":6.0132964816613128E-3},{"$f":"'risk stratification'!AS52","v":5.7767485869375766E-3},{"$f":"'risk stratification'!AT52","v":8.428574985682627E-3},{"$f":"'risk stratification'!AU52","v":7.9430293070391674E-3},{"$f":"'risk stratification'!AV52","v":6.0132964816613128E-3},{"$f":"'risk stratification'!AW52","v":5.7767485869375766E-3},null,"Costs and benefits - BNF 5-9 items and high risk meds","Costs","Benefits"]
[null,47,{"$f":"'population lookup'!F51","v":886454},{"$f":"'population lookup'!I51","v":0},null,47,{"$f":"'risk stratification'!AR53","v":6.1418269230769235E-3},{"$f":"'risk stratification'!AS53","v":5.9254807692307688E-3},{"$f":"'risk stratification'!AT53","v":8.1610576923076932E-3},{"$f":"'risk stratification'!AU53","v":7.5721153846153846E-3},{"$f":"'risk stratification'!AV53","v":6.1418269230769235E-3},{"$f":"'risk stratification'!AW53","v":5.9254807692307688E-3},null,"Net total cost of reviews",{"$f":"Summary!N43","v":32.026302034796728},0]
[null,48,{"$f":"'population lookup'!F52","v":909122},{"$f":"'population lookup'!I52","v":0},null,48,{"$f":"'risk stratification'!AR54","v":6.2939787197779451E-3},{"$f":"'risk stratification'!AS54","v":6.1113681186238467E-3},{"$f":"'risk stratification'!AT54","v":8.509654013781013E-3},{"$f":"'risk stratification'!AU54","v":8.1079106912419954E-3},{"$f":"'risk stratification'!AV54","v":6.2939787197779451E-3},{"$f":"'risk stratification'!AW54","v":6.1113681186238467E-3},null,"Drugs cost avoided",0,{"$f":"Summary!N52","v":88.09581152654107}]
[null,49,{"$f":"'population lookup'!F53","v":911768},{"$f":"'population lookup'!I53","v":0},null,49,{"$f":"'risk stratification'!AR55","v":7.1632011930519391E-3},{"$f":"'risk stratification'!AS55","v":6.9920666935592308E-3},{"$f":"'risk stratification'!AT55","v":9.2168151869644402E-3},{"$f":"'risk stratification'!AU55","v":8.703411688486316E-3},{"$f":"'risk stratification'!AV55","v":7.1632011930519391E-3},{"$f":"'risk stratification'!AW55","v":6.9920666935592308E-3},null,"Definitely avoidable cost of ADR related bed days",0,{"$f":"Summary!N77","v":1.381255215086145}]
[null,50,{"$f":"'population lookup'!F54","v":922337},{"$f":"'population lookup'!I54","v":0},null,50,{"$f":"'risk stratification'!AR56","v":7.3914729166927222E-3},{"$f":"'risk stratification'!AS56","v":7.141338469427317E-3},{"$f":"'risk stratification'!AT56","v":9.6927098315344497E-3},{"$f":"'risk stratification'!AU56","v":9.1424140475505587E-3},{"$f":"'risk stratification'!AV56","v":7.3914729166927222E-3},{"$f":"'risk stratification'!AW56","v":7.141338469427317E-3},null,"Additional potentially avoidable cost of ADR related bed days",0,{"$f":"P58-P54","v":8.2875312905168723}]
[null,51,{"$f":"'population lookup'!F55","v":912891},{"$f":"'population lookup'!I55","v":0},null,51,{"$f":"'risk stratification'!AR57","v":7.6611201350608154E-3},{"$f":"'risk stratification'!AS57","v":7.4820622354099782E-3},{"$f":"'risk stratification'!AT57","v":1.0295829229923134E-2},{"$f":"'risk stratification'!AU57","v":9.7586555309706214E-3},{"$f":"'risk stratification'!AV57","v":7.6611201350608154E-3},{"$f":"'risk stratification'!AW57","v":7.4820622354099782E-3}]
[null,52,{"$f":"'population lookup'!F56","v":880988},{"$f":"'population lookup'!I56","v":0},null,52,{"$f":"'risk stratification'!AR58","v":9.0721267184064834E-3},{"$f":"'risk stratification'!AS58","v":8.8337350674118614E-3},{"$f":"'risk stratification'!AT58","v":1.1350091383466215E-2},{"$f":"'risk stratification'!AU58","v":1.0701136333536409E-2},{"$f":"'risk stratification'!AV58","v":9.0721267184064834E-3},{"$f":"'risk stratification'!AW58","v":8.8337350674118614E-3}]
[null,53,{"$f":"'population lookup'!F57","v":879290},{"$f":"'population lookup'!I57","v":0},null,53,{"$f":"'risk stratification'!AR59","v":8.5544226765600813E-3},{"$f":"'risk stratification'!AS59","v":8.2608231463193304E-3},{"$f":"'risk stratification'!AT59","v":1.0809800886136764E-2},{"$f":"'risk stratification'!AU59","v":1.0289328991619068E-2},{"$f":"'risk stratification'!AV59","v":8.5544226765600813E-3},{"$f":"'risk stratification'!AW59","v":8.2608231463193304E-3},null,"Potentially avoidable cost of ADR related bed days",null,{"$f":"Summary!N79","v":9.668786505603018}]
[null,54,{"$f":"'population lookup'!F58","v":875387},{"$f":"'population lookup'!I58","v":0},null,54,{"$f":"'risk stratification'!AR60","v":9.9109116116899345E-3},{"$f":"'risk stratification'!AS60","v":9.6089170750456431E-3},{"$f":"'risk stratification'!AT60","v":1.2120962538950432E-2},{"$f":"'risk stratification'!AU60","v":1.1516973465661849E-2},{"$f":"'risk stratification'!AV60","v":9.9109116116899345E-3},{"$f":"'risk stratification'!AW60","v":9.6089170750456431E-3}]
[null,55,{"$f":"'population lookup'!F59","v":869145},{"$f":"'population lookup'!I59","v":0},null,55,{"$f":"'risk stratification'!AR61","v":9.3964276644374848E-3},{"$f":"'risk stratification'!AS61","v":9.2130139112277434E-3},{"$f":"'risk stratification'!AT61","v":1.1597392702954372E-2},{"$f":"'risk stratification'!AU61","v":1.1061260193572054E-2},{"$f":"'risk stratification'!AV61","v":9.3964276644374848E-3},{"$f":"'risk stratification'!AW61","v":9.2130139112277434E-3}]
[null,56,{"$f":"'population lookup'!F60","v":849484},{"$f":"'population lookup'!I60","v":0},null,56,{"$f":"'risk stratification'!AR62","v":1.1113538708032918E-2},{"$f":"'risk stratification'!AS62","v":1.0720268006700168E-2},{"$f":"'risk stratification'!AT62","v":1.3254679193066783E-2},{"$f":"'risk stratification'!AU62","v":1.2540965698055495E-2},{"$f":"'risk stratification'!AV62","v":1.1113538708032918E-2},{"$f":"'risk stratification'!AW62","v":1.0720268006700168E-2}]
[null,57,{"$f":"'population lookup'!F61","v":846275},{"$f":"'population lookup'!I61","v":0},null,57,{"$f":"'risk stratification'!AR63","v":1.125989044430919E-2},{"$f":"'risk stratification'!AS63","v":1.0849056603773584E-2},{"$f":"'risk stratification'!AT63","v":1.3694461351186854E-2},{"$f":"'risk stratification'!AU63","v":1.2948874010955569E-2},{"$f":"'risk stratification'!AV63","v":1.125989044430919E-2},{"$f":"'risk stratification'!AW63","v":1.0849056603773584E-2}]
[null,58,{"$f":"'population lookup'!F62","v":838343},{"$f":"'population lookup'!I62","v":0},null,58,{"$f":"'risk stratification'!AR64","v":1.1916890494273101E-2},{"$f":"'risk stratification'!AS64","v":1.1654471921212682E-2},{"$f":"'risk stratification'!AT64","v":1.4077984625358897E-2},{"$f":"'risk stratification'!AU64","v":1.3475965545984996E-2},{"$f":"'risk stratification'!AV64","v":1.1916890494273101E-2},{"$f":"'risk stratification'!AW64","v":1.1654471921212682E-2}]
[null,59,{"$f":"'population lookup'!F63","v":827914},{"$f":"'population lookup'!I63","v":0},null,59,{"$f":"'risk stratification'!AR65","v":1.1985466442266857E-2},{"$f":"'risk stratification'!AS65","v":1.1733803104896424E-2},{"$f":"'risk stratification'!AT65","v":1.42347075200151E-2},{"$f":"'risk stratification'!AU65","v":1.3621278135174671E-2},{"$f":"'risk stratification'!AV65","v":1.1985466442266857E-2},{"$f":"'risk stratification'!AW65","v":1.1733803104896424E-2}]
[null,60,{"$f":"'population lookup'!F64","v":827225},{"$f":"'population lookup'!I64","v":0},null,60,{"$f":"'risk stratification'!AR66","v":1.3941781213735842E-2},{"$f":"'risk stratification'!AS66","v":1.3386071294313779E-2},{"$f":"'risk stratification'!AT66","v":1.6066554435055488E-2},{"$f":"'risk stratification'!AU66","v":1.5265678374711929E-2},{"$f":"'risk stratification'!AV66","v":1.3941781213735842E-2},{"$f":"'risk stratification'!AW66","v":1.3386071294313779E-2}]
[null,61,{"$f":"'population lookup'!F65","v":807389},{"$f":"'population lookup'!I65","v":0},null,61,{"$f":"'risk stratification'!AR67","v":1.3719709731761048E-2},{"$f":"'risk stratification'!AS67","v":1.3363353634832188E-2},{"$f":"'risk stratification'!AT67","v":1.6003628352986913E-2},{"$f":"'risk stratification'!AU67","v":1.5307114163535052E-2},{"$f":"'risk stratification'!AV67","v":1.3719709731761048E-2},{"$f":"'risk stratification'!AW67","v":1.3363353634832188E-2}]
[null,62,{"$f":"'population lookup'!F66","v":819043},{"$f":"'population lookup'!I66","v":0},null,62,{"$f":"'risk stratification'!AR68","v":1.4522082631783447E-2},{"$f":"'risk stratification'!AS68","v":1.4052583862194016E-2},{"$f":"'risk stratification'!AT68","v":1.6740059577774899E-2},{"$f":"'risk stratification'!AU68","v":1.5882010102318354E-2},{"$f":"'risk stratification'!AV68","v":1.4522082631783447E-2},{"$f":"'risk stratification'!AW68","v":1.4052583862194016E-2}]
[null,63,{"$f":"'population lookup'!F67","v":796074},{"$f":"'population lookup'!I67","v":0},null,63,{"$f":"'risk stratification'!AR69","v":1.4559265706599146E-2},{"$f":"'risk stratification'!AS69","v":1.4163633486311125E-2},{"$f":"'risk stratification'!AT69","v":1.6758980851400537E-2},{"$f":"'risk stratification'!AU69","v":1.6078493432505142E-2},{"$f":"'risk stratification'!AV69","v":1.4559265706599146E-2},{"$f":"'risk stratification'!AW69","v":1.4163633486311125E-2}]
[null,64,{"$f":"'population lookup'!F68","v":826457},{"$f":"'population lookup'!I68","v":0},null,64,{"$f":"'risk stratification'!AR70","v":1.5598800092300592E-2},{"$f":"'risk stratification'!AS70","v":1.5075763402815167E-2},{"$f":"'risk stratification'!AT70","v":1.8167833243596648E-2},{"$f":"'risk stratification'!AU70","v":1.722944388893162E-2},{"$f":"'risk stratification'!AV70","v":1.5598800092300592E-2},{"$f":"'risk stratification'!AW70","v":1.5075763402815167E-2}]
[null,65,{"$f":"'population lookup'!F69","v":809173},{"$f":"'population lookup'!I69","v":0},null,65,{"$f":"'risk stratification'!AR71","v":1.5331784956042234E-2},{"$f":"'risk stratification'!AS71","v":1.4719083512631624E-2},{"$f":"'risk stratification'!AT71","v":1.7554608797252819E-2},{"$f":"'risk stratification'!AU71","v":1.6485943488978499E-2},{"$f":"'risk stratification'!AV71","v":1.5331784956042234E-2},{"$f":"'risk stratification'!AW71","v":1.4719083512631624E-2}]
[null,66,{"$f":"'population lookup'!F70","v":804448},{"$f":"'population lookup'!I70","v":804448},null,66,{"$f":"'risk stratification'!AR72","v":2.3896536706367991E-2},{"$f":"'risk stratification'!AS72","v":2.3252731438526065E-2},{"$f":"'risk stratification'!AT72","v":2.770256196625703E-2},{"$f":"'risk stratification'!AU72","v":2.6490693226789874E-2},{"$f":"'risk stratification'!AV72","v":2.3896536706367991E-2},{"$f":"'risk stratification'!AW72","v":2.3252731438526065E-2}]
[null,67,{"$f":"'population lookup'!F71","v":785348},{"$f":"'population lookup'!I71","v":785348},null,67,{"$f":"'risk stratification'!AR73","v":2.3087470258499013E-2},{"$f":"'risk stratification'!AS73","v":2.2442230915030045E-2},{"$f":"'risk stratification'!AT73","v":2.6233012057910232E-2},{"$f":"'risk stratification'!AU73","v":2.5023188288905915E-2},{"$f":"'risk stratification'!AV73","v":2.3087470258499013E-2},{"$f":"'risk stratification'!AW73","v":2.2442230915030045E-2}]
[null,68,{"$f":"'population lookup'!F72","v":744071},{"$f":"'population lookup'!I72","v":744071},null,68,{"$f":"'risk stratification'!AR74","v":2.1943573667711599E-2},{"$f":"'risk stratification'!AS74","v":2.1447561604698226E-2},{"$f":"'risk stratification'!AT74","v":2.4741081703107019E-2},{"$f":"'risk stratification'!AU74","v":2.3788738542121345E-2},{"$f":"'risk stratification'!AV74","v":2.1943573667711599E-2},{"$f":"'risk stratification'!AW74","v":2.1447561604698226E-2}]
[null,69,{"$f":"'population lookup'!F73","v":560439},{"$f":"'population lookup'!I73","v":560439},null,69,{"$f":"'risk stratification'!AR75","v":2.4902739925520629E-2},{"$f":"'risk stratification'!AS75","v":2.4278611105332141E-2},{"$f":"'risk stratification'!AT75","v":2.8148209790500759E-2},{"$f":"'risk stratification'!AU75","v":2.7191212266211746E-2},{"$f":"'risk stratification'!AV75","v":2.4902739925520629E-2},{"$f":"'risk stratification'!AW75","v":2.4278611105332141E-2}]
[null,70,{"$f":"'population lookup'!F74","v":545566},{"$f":"'population lookup'!I74","v":545566},null,70,{"$f":"'risk stratification'!AR76","v":2.9545195486150689E-2},{"$f":"'risk stratification'!AS76","v":2.8656103955317452E-2},{"$f":"'risk stratification'!AT76","v":3.3717086515445117E-2},{"$f":"'risk stratification'!AU76","v":3.2326456172346973E-2},{"$f":"'risk stratification'!AV76","v":2.9545195486150689E-2},{"$f":"'risk stratification'!AW76","v":2.8656103955317452E-2}]
[null,71,{"$f":"'population lookup'!F75","v":527839},{"$f":"'population lookup'!I75","v":527839},null,71,{"$f":"'risk stratification'!AR77","v":3.1140155453240261E-2},{"$f":"'risk stratification'!AS77","v":3.0422298133570967E-2},{"$f":"'risk stratification'!AT77","v":3.5249269765829989E-2},{"$f":"'risk stratification'!AU77","v":3.3937323629882665E-2},{"$f":"'risk stratification'!AV77","v":3.1140155453240261E-2},{"$f":"'risk stratification'!AW77","v":3.0422298133570967E-2}]
[null,72,{"$f":"'population lookup'!F76","v":487458},{"$f":"'population lookup'!I76","v":487458},null,72,{"$f":"'risk stratification'!AR78","v":4.3627450980392155E-2},{"$f":"'risk stratification'!AS78","v":4.2622549019607846E-2},{"$f":"'risk stratification'!AT78","v":4.9338235294117648E-2},{"$f":"'risk stratification'!AU78","v":4.7524509803921568E-2},{"$f":"'risk stratification'!AV78","v":4.3627450980392155E-2},{"$f":"'risk stratification'!AW78","v":4.2622549019607846E-2}]
[null,73,{"$f":"'population lookup'!F77","v":432692},{"$f":"'population lookup'!I77","v":432692},null,73,{"$f":"'risk stratification'!AR79","v":4.6621108580106305E-2},{"$f":"'risk stratification'!AS79","v":4.5558086560364468E-2},{"$f":"'risk stratification'!AT79","v":5.1986838774993674E-2},{"$f":"'risk stratification'!AU79","v":5.0164515312579094E-2},{"$f":"'risk stratification'!AV79","v":4.6621108580106305E-2},{"$f":"'risk stratification'!AW79","v":4.5558086560364468E-2}]
[null,74,{"$f":"'population lookup'!F78","v":449333},{"$f":"'population lookup'!I78","v":449333},null,74,{"$f":"'risk stratification'!AR80","v":5.3292278540975839E-2},{"$f":"'risk stratification'!AS80","v":5.2239591557450393E-2},{"$f":"'risk stratification'!AT80","v":5.9713669140481075E-2},{"$f":"'risk stratification'!AU80","v":5.7739881046370858E-2},{"$f":"'risk stratification'!AV80","v":5.3292278540975839E-2},{"$f":"'risk stratification'!AW80","v":5.2239591557450393E-2}]
[null,75,{"$f":"'population lookup'!F79","v":465297},{"$f":"'population lookup'!I79","v":465297},null,75,{"$f":"'risk stratification'!AR81","v":5.5954695292029413E-2},{"$f":"'risk stratification'!AS81","v":5.4743188797791116E-2},{"$f":"'risk stratification'!AT81","v":6.3449130814526813E-2},{"$f":"'risk stratification'!AU81","v":6.1307863522384695E-2},{"$f":"'risk stratification'!AV81","v":5.5954695292029413E-2},{"$f":"'risk stratification'!AW81","v":5.4743188797791116E-2}]
[null,76,{"$f":"'population lookup'!F80","v":454650},{"$f":"'population lookup'!I80","v":454650},null,76,{"$f":"'risk stratification'!AR82","v":5.9849561715233354E-2},{"$f":"'risk stratification'!AS82","v":5.8546552949538026E-2},{"$f":"'risk stratification'!AT82","v":6.7016109926557682E-2},{"$f":"'risk stratification'!AU82","v":6.5002369106846716E-2},{"$f":"'risk stratification'!AV82","v":5.9849561715233354E-2},{"$f":"'risk stratification'!AW82","v":5.8546552949538026E-2}]
[null,77,{"$f":"'population lookup'!F81","v":440531},{"$f":"'population lookup'!I81","v":440531},null,77,{"$f":"'risk stratification'!AR83","v":8.1615147568065566E-2},{"$f":"'risk stratification'!AS83","v":7.9581916955237156E-2},{"$f":"'risk stratification'!AT83","v":9.336976204847984E-2},{"$f":"'risk stratification'!AU83","v":9.0097531530959118E-2},{"$f":"'risk stratification'!AV83","v":8.1615147568065566E-2},{"$f":"'risk stratification'!AW83","v":7.9581916955237156E-2}]
[null,78,{"$f":"'population lookup'!F82","v":435025},{"$f":"'population lookup'!I82","v":435025},null,78,{"$f":"'risk stratification'!AR84","v":9.0515299580690989E-2},{"$f":"'risk stratification'!AS84","v":8.8609349551235408E-2},{"$f":"'risk stratification'!AT84","v":0.10316387704889628},{"$f":"'risk stratification'!AU84","v":9.9455937900682675E-2},{"$f":"'risk stratification'!AV84","v":9.0515299580690989E-2},{"$f":"'risk stratification'!AW84","v":8.8609349551235408E-2}]
[null,79,{"$f":"'population lookup'!F83","v":419873},{"$f":"'population lookup'!I83","v":419873},null,79,{"$f":"'risk stratification'!AR85","v":9.4139485547600113E-2},{"$f":"'risk stratification'!AS85","v":9.1714967609955678E-2},{"$f":"'risk stratification'!AT85","v":0.10637572451414934},{"$f":"'risk stratification'!AU85","v":0.10273894760768269},{"$f":"'risk stratification'!AV85","v":9.4139485547600113E-2},{"$f":"'risk stratification'!AW85","v":9.1714967609955678E-2}]
[null,80,{"$f":"'population lookup'!F84","v":415986},{"$f":"'population lookup'!I84","v":415986},null,80,{"$f":"'risk stratification'!AR86","v":9.9020544672718591E-2},{"$f":"'risk stratification'!AS86","v":9.6989966555183951E-2},{"$f":"'risk stratification'!AT86","v":0.11363274406752667},{"$f":"'risk stratification'!AU86","v":0.1100891861761427},{"$f":"'risk stratification'!AV86","v":9.9020544672718591E-2},{"$f":"'risk stratification'!AW86","v":9.6989966555183951E-2}]
[null,81,{"$f":"'population lookup'!F85","v":387904},{"$f":"'population lookup'!I85","v":0},null,81,{"$f":"'risk stratification'!AR87","v":0.10162710056014937},{"$f":"'risk stratification'!AS87","v":9.9359829287810078E-2},{"$f":"'risk stratification'!AT87","v":0.11847603805459234},{"$f":"'risk stratification'!AU87","v":0.11451942740286299},{"$f":"'risk stratification'!AV87","v":0.10162710056014937},{"$f":"'risk stratification'!AW87","v":9.9359829287810078E-2}]
[null,82,{"$f":"'population lookup'!F86","v":386407},{"$f":"'population lookup'!I86","v":0},null,82,{"$f":"'risk stratification'!AR88","v":0.15670248726098582},{"$f":"'risk stratification'!AS88","v":0.15317087937036478},{"$f":"'risk stratification'!AT88","v":0.18475354422077594},{"$f":"'risk stratification'!AU88","v":0.17779123152212301},{"$f":"'risk stratification'!AV88","v":0.15670248726098582},{"$f":"'risk stratification'!AW88","v":0.15317087937036478}]
[null,83,{"$f":"'population lookup'!F87","v":360203},{"$f":"'population lookup'!I87","v":0},null,83,{"$f":"'risk stratification'!AR89","v":0.16453371592539454},{"$f":"'risk stratification'!AS89","v":0.15982783357245336},{"$f":"'risk stratification'!AT89","v":0.19466284074605453},{"$f":"'risk stratification'!AU89","v":0.18668579626972739},{"$f":"'risk stratification'!AV89","v":0.16453371592539454},{"$f":"'risk stratification'!AW89","v":0.15982783357245336}]
[null,84,{"$f":"'population lookup'!F88","v":341938},{"$f":"'population lookup'!I88","v":0},null,84,{"$f":"'risk stratification'!AR90","v":0.1735959651035987},{"$f":"'risk stratification'!AS90","v":0.16793893129770993},{"$f":"'risk stratification'!AT90","v":0.20624318429661942},{"$f":"'risk stratification'!AU90","v":0.19588331515812432},{"$f":"'risk stratification'!AV90","v":0.1735959651035987},{"$f":"'risk stratification'!AW90","v":0.16793893129770993}]
[null,85,{"$f":"'population lookup'!F89","v":301625},{"$f":"'population lookup'!I89","v":0},null,85,{"$f":"'risk stratification'!AR91","v":0.1720731232983275},{"$f":"'risk stratification'!AS91","v":0.16732788798133022},{"$f":"'risk stratification'!AT91","v":0.21065733177751847},{"$f":"'risk stratification'!AU91","v":0.2},{"$f":"'risk stratification'!AV91","v":0.1720731232983275},{"$f":"'risk stratification'!AW91","v":0.16732788798133022}]
[null,86,{"$f":"'population lookup'!F90","v":275504},{"$f":"'population lookup'!I90","v":0},null,86,{"$f":"'risk stratification'!AR92","v":0.17759587151881839},{"$f":"'risk stratification'!AS92","v":0.17199039060414628},{"$f":"'risk stratification'!AT92","v":0.21336417830767862},{"$f":"'risk stratification'!AU92","v":0.20304297535367916},{"$f":"'risk stratification'!AV92","v":0.17759587151881839},{"$f":"'risk stratification'!AW92","v":0.17199039060414628}]
[null,87,{"$f":"'population lookup'!F91","v":246361},{"$f":"'population lookup'!I91","v":0},null,87,{"$f":"'risk stratification'!AR93","v":0},{"$f":"'risk stratification'!AS93","v":0},{"$f":"'risk stratification'!AT93","v":0},{"$f":"'risk stratification'!AU93","v":0},{"$f":"'risk stratification'!AV93","v":0},{"$f":"'risk stratification'!AW93","v":0}]
[null,88,{"$f":"'population lookup'!F92","v":220724},{"$f":"'population lookup'!I92","v":0},null,88,{"$f":"'risk stratification'!AR94","v":0},{"$f":"'risk stratification'!AS94","v":0},{"$f":"'risk stratification'!AT94","v":0},{"$f":"'risk stratification'!AU94","v":0},{"$f":"'risk stratification'!AV94","v":0},{"$f":"'risk stratification'!AW94","v":0}]
[null,89,{"$f":"'population lookup'!F93","v":195185},{"$f":"'population lookup'!I93","v":0},null,89,{"$f":"'risk stratification'!AR95","v":0},{"$f":"'risk stratification'!AS95","v":0},{"$f":"'risk stratification'!AT95","v":0},{"$f":"'risk stratification'!AU95","v":0},{"$f":"'risk stratification'!AV95","v":0},{"$f":"'risk stratification'!AW95","v":0}]
[null,90,{"$f":"'population lookup'!F94","v":165349},{"$f":"'population lookup'!I94","v":0},null,90,{"$f":"'risk stratification'!AR96","v":0},{"$f":"'risk stratification'!AS96","v":0},{"$f":"'risk stratification'!AT96","v":0},{"$f":"'risk stratification'!AU96","v":0},{"$f":"'risk stratification'!AV96","v":0},{"$f":"'risk stratification'!AW96","v":0}]
[null,91,{"$f":"'population lookup'!F95","v":140554},{"$f":"'population lookup'!I95","v":0},null,91,{"$f":"'risk stratification'!AR97","v":0},{"$f":"'risk stratification'!AS97","v":0},{"$f":"'risk stratification'!AT97","v":0},{"$f":"'risk stratification'!AU97","v":0},{"$f":"'risk stratification'!AV97","v":0},{"$f":"'risk stratification'!AW97","v":0}]
[null,92,{"$f":"'population lookup'!F96","v":118233},{"$f":"'population lookup'!I96","v":0},null,92,{"$f":"'risk stratification'!AR98","v":0},{"$f":"'risk stratification'!AS98","v":0},{"$f":"'risk stratification'!AT98","v":0},{"$f":"'risk stratification'!AU98","v":0},{"$f":"'risk stratification'!AV98","v":0},{"$f":"'risk stratification'!AW98","v":0}]
[null,93,{"$f":"'population lookup'!F97","v":97309},{"$f":"'population lookup'!I97","v":0},null,93,{"$f":"'risk stratification'!AR99","v":0},{"$f":"'risk stratification'!AS99","v":0},{"$f":"'risk stratification'!AT99","v":0},{"$f":"'risk stratification'!AU99","v":0},{"$f":"'risk stratification'!AV99","v":0},{"$f":"'risk stratification'!AW99","v":0}]
[null,94,{"$f":"'population lookup'!F98","v":77661},{"$f":"'population lookup'!I98","v":0},null,94,{"$f":"'risk stratification'!AR100","v":0},{"$f":"'risk stratification'!AS100","v":0},{"$f":"'risk stratification'!AT100","v":0},{"$f":"'risk stratification'!AU100","v":0},{"$f":"'risk stratification'!AV100","v":0},{"$f":"'risk stratification'!AW100","v":0}]
[null,95,{"$f":"'population lookup'!F99","v":36078},{"$f":"'population lookup'!I99","v":0},null,95,{"$f":"'risk stratification'!AR101","v":0},{"$f":"'risk stratification'!AS101","v":0},{"$f":"'risk stratification'!AT101","v":0},{"$f":"'risk stratification'!AU101","v":0},{"$f":"'risk stratification'!AV101","v":0},{"$f":"'risk stratification'!AW101","v":0}]
[null,96,{"$f":"'population lookup'!F100","v":23567},{"$f":"'population lookup'!I100","v":0},null,96,{"$f":"'risk stratification'!AR102","v":0},{"$f":"'risk stratification'!AS102","v":0},{"$f":"'risk stratification'!AT102","v":0},{"$f":"'risk stratification'!AU102","v":0},{"$f":"'risk stratification'!AV102","v":0},{"$f":"'risk stratification'!AW102","v":0}]
[null,97,{"$f":"'population lookup'!F101","v":16062},{"$f":"'population lookup'!I101","v":0},null,97,{"$f":"'risk stratification'!AR103","v":0},{"$f":"'risk stratification'!AS103","v":0},{"$f":"'risk stratification'!AT103","v":0},{"$f":"'risk stratification'!AU103","v":0},{"$f":"'risk stratification'!AV103","v":0},{"$f":"'risk stratification'!AW103","v":0}]
[null,98,{"$f":"'population lookup'!F102","v":10697},{"$f":"'population lookup'!I102","v":0},null,98,{"$f":"'risk stratification'!AR104","v":0},{"$f":"'risk stratification'!AS104","v":0},{"$f":"'risk stratification'!AT104","v":0},{"$f":"'risk stratification'!AU104","v":0},{"$f":"'risk stratification'!AV104","v":0},{"$f":"'risk stratification'!AW104","v":0}]
[null,99,{"$f":"'population lookup'!F103","v":8997},{"$f":"'population lookup'!I103","v":0},null,99,{"$f":"'risk stratification'!AR105","v":0},{"$f":"'risk stratification'!AS105","v":0},{"$f":"'risk stratification'!AT105","v":0},{"$f":"'risk stratification'!AU105","v":0},{"$f":"'risk stratification'!AV105","v":0},{"$f":"'risk stratification'!AW105","v":0}]
[null,100,{"$f":"'population lookup'!F104","v":24458},{"$f":"'population lookup'!I104","v":0},null,100,{"$f":"'risk stratification'!AR106","v":0.22113330820454832},{"$f":"'risk stratification'!AS106","v":0.21186078653097123},{"$f":"'risk stratification'!AT106","v":0.27495916572433721},{"$f":"'risk stratification'!AU106","v":0.25792184947857771},{"$f":"'risk stratification'!AV106","v":0.22113330820454832},{"$f":"'risk stratification'!AW106","v":0.21186078653097123}]

{"sheet":"Trend analysis","index":3,"n_rows":173,"n_cols":93,"rows_kept":173,"cut":false,"hidden":false,"merged":[]}
[null,null,null,null,null,36,{"$f":"F1-1","v":35},{"$f":"G1-1","v":34},33,32,31,30,29,28,27,26,25,24,23,22,21,20,19,18,17,16,15,14,13,12,11,10,9,8,7,6,5,4,3,{"$f":"AM1-1","v":2}]
[]
[]
[null,null,null,null,null,1981,1982,1983,1984,1985,1986,1987,1988,1989,1990,1991,1992,1993,1994,1995,1996,1997,1998,1999,2000,2001,2002,2003,2004,2005,2006,2007,2008,2009,2010,2011,2012,2013,2014,2015,null,null,1981,1982,1983,1984,1985,1986,1987,1988,1989,1990,1991,1992,1993,1994,1995,1996,1997,1998,1999,2000,2001,2002,2003,2004,2005,2006,2007,2008,2009,2010,2011,2012,2013,2014,2015]
[null,null,"Age"]
[null,null,0,"Y_LT1",{"$f":"CONCATENATE($D6,$A$7,$B$9,$A$7,$B$8)","v":"Y_LT1,T,FR"},{"$f":"IF(ISERROR(VLOOKUP($E6,popEU,F$1,FALSE)),\"\",(VLOOKUP($E6,popEU,F$1,FALSE)))","v":": "},": ",": ",": ",": ",": ",": ",": ",": ",": ",{"$f":"IF(ISERROR(VLOOKUP($E6,popEU,P$1,FALSE)),\"\",(VLOOKUP($E6,popEU,P$1,FALSE)))","v":779556},776497,761003,727635,727948,745777,750302,743493,751260,759252,{"$f":"IF(ISERROR(VLOOKUP($E6,popEU,Z$1,FALSE)),\"\",(VLOOKUP($E6,popEU,Z$1,FALSE)))","v":789393},784500,773672,772587,777461,782037,800522,789775,798254,798008,805466,789537,785203,779110,786136,null,null,{"$f":"IF(OR($C6<=$A$14,$C6>$B$14),0,F6)","v":0},{"$f":"IF(OR($C6<=$A$14,$C6>$B$14),0,G6)","v":0},0,0,0,0,0,0,0,0,0,0,0,0,0,0,0,0,0,0,0,0,0,0,0,0,0,0,0,0,0,0,0,0,0]
[",",null,1,"Y1","Y1,T,FR",": ",": ",": ",": ",": ",": ",": ",": ",": ",": ",775307,773293,769460,754010,720980,722448,739212,744561,737296,753487,760861,791899,785927,774643,771654,776948,784451,804342,793214,800823,799672,808857,792716,788006,788866,null,null,{"$f":"IF(OR($C7<=$A$14,$C7>$B$14),0,F7)","v":0},0,0,0,0,0,0,0,0,0,0,0,0,0,0,0,0,0,0,0,0,0,0,0,0,0,0,0,0,0,0,0,0,0,0]
[{"$f":"'input selections'!F3","v":11},{"$f":"'input selections'!G3","v":"FR"},2,"Y2","Y2,T,FR",": ",": ",": ",": ",": ",": ",": ",": ",": ",": ",784888,779585,776661,772407,757025,723924,726015,741960,747558,741209,757673,764660,796466,789433,777830,772882,780597,788026,807529,795717,803614,803643,811397,795871,798550,null,null,0,0,0,0,0,0,0,0,0,0,0,0,0,0,0,0,0,0,0,0,0,0,0,0,0,0,0,0,0,0,0,0,0,0,0]
[{"$f":"'input selections'!F6","v":0},{"$f":"'input selections'!G6","v":"T"},3,"Y3","Y3,T,FR",": ",": ",": ",": ",": ",": ",": ",": ",": ",": ",783499,785016,779694,776610,772130,756624,723251,726237,741164,752432,746144,762691,769642,802208,794309,782242,779620,785840,794072,812194,800971,809817,810141,817420,809128,null,null,0,0,0,0,0,0,0,0,0,0,0,0,0,0,0,0,0,0,0,0,0,0,0,0,0,0,0,0,0,0,0,0,0,0,0]
[null,null,4,"Y4","Y4,T,FR",": ",": ",": ",": ",": ",": ",": ",": ",": ",": ",796776,786579,787530,782491,779151,774254,758547,724991,728852,745997,757559,751194,767914,775042,808510,799550,789746,786315,791221,800164,818228,808910,817806,817479,831956,null,null,0,0,0,0,0,0,0,0,0,0,0,0,0,0,0,0,0,0,0,0,0,0,0,0,0,0,0,0,0,0,0,0,0,0,0]
[null,null,5,"Y5","Y5,T,FR",": ",": ",": ",": ",": ",": ",": ",": ",": ",": ",788779,798912,788507,789285,784548,780975,775613,759964,726262,732527,750345,761966,755533,772360,780133,814270,804905,794725,791484,796377,803230,824503,815226,823047,829704,null,null,0,0,0,0,0,0,0,0,0,0,0,0,0,0,0,0,0,0,0,0,0,0,0,0,0,0,0,0,0,0,0,0,0,0,0]
[null,null,6,"Y6","Y6,T,FR",": ",": ",": ",": ",": ",": ",": ",": ",": ",": ",779439,790074,800290,790152,790765,786390,782669,777093,761600,730490,736287,754703,766396,759938,777029,785261,820565,809440,799925,795086,800757,809663,830504,820857,835497,null,null,0,0,0,0,0,0,0,0,0,0,0,0,0,0,0,0,0,0,0,0,0,0,0,0,0,0,0,0,0,0,0,0,0,0,0]
["min","max",7,"Y7","Y7,T,FR",": ",": ",": ",": ",": ",": ",": ",": ",": ",": ",767411,780912,790477,801069,790900,791327,787258,783478,777678,765938,734762,740143,759057,770794,764476,780981,790459,824623,812629,803482,798363,805752,814249,834823,832147,null,null,0,0,0,0,0,0,0,0,0,0,0,0,0,0,0,0,0,0,{"$f":"IF(OR($C13<=$A$14,$C13>$B$14),0,X13)","v":0},{"$f":"IF(OR($C13<=$A$14,$C13>$B$14),0,Y13)","v":0},{"$f":"IF(OR($C13<=$A$14,$C13>$B$14),0,Z13)","v":0},{"$f":"IF(OR($C13<=$A$14,$C13>$B$14),0,AA13)","v":0},{"$f":"IF(OR($C13<=$A$14,$C13>$B$14),0,AB13)","v":0},{"$f":"IF(OR($C13<=$A$14,$C13>$B$14),0,AC13)","v":0},{"$f":"IF(OR($C13<=$A$14,$C13>$B$14),0,AD13)","v":0},{"$f":"IF(OR($C13<=$A$14,$C13>$B$14),0,AE13)","v":0},{"$f":"IF(OR($C13<=$A$14,$C13>$B$14),0,AF13)","v":0},{"$f":"IF(OR($C13<=$A$14,$C13>$B$14),0,AG13)","v":0},{"$f":"IF(OR($C13<=$A$14,$C13>$B$14),0,AH13)","v":0},{"$f":"IF(OR($C13<=$A$14,$C13>$B$14),0,AI13)","v":0},{"$f":"IF(OR($C13<=$A$14,$C13>$B$14),0,AJ13)","v":0},{"$f":"IF(OR($C13<=$A$14,$C13>$B$14),0,AK13)","v":0},{"$f":"IF(OR($C13<=$A$14,$C13>$B$14),0,AL13)","v":0},{"$f":"IF(OR($C13<=$A$14,$C13>$B$14),0,AM13)","v":0},{"$f":"IF(OR($C13<=$A$14,$C13>$B$14),0,AN13)","v":0}]
[{"$f":"'input selections'!G10","v":65},{"$f":"'input selections'!H10","v":80},8,"Y8","Y8,T,FR",": ",": ",": ",": ",": ",": ",": ",": ",": ",": ",819355,769424,782905,791830,802597,792527,792835,789607,785883,781610,770408,739118,744181,763461,775370,768519,785584,794751,828917,816251,806501,803913,811139,818935,846392,null,null,0,{"$f":"IF(OR($C14<=$A$14,$C14>$B$14),0,G14)","v":0},{"$f":"IF(OR($C14<=$A$14,$C14>$B$14),0,H14)","v":0},{"$f":"IF(OR($C14<=$A$14,$C14>$B$14),0,I14)","v":0},{"$f":"IF(OR($C14<=$A$14,$C14>$B$14),0,J14)","v":0},{"$f":"IF(OR($C14<=$A$14,$C14>$B$14),0,K14)","v":0},{"$f":"IF(OR($C14<=$A$14,$C14>$B$14),0,L14)","v":0},{"$f":"IF(OR($C14<=$A$14,$C14>$B$14),0,M14)","v":0},{"$f":"IF(OR($C14<=$A$14,$C14>$B$14),0,N14)","v":0},{"$f":"IF(OR($C14<=$A$14,$C14>$B$14),0,O14)","v":0},{"$f":"IF(OR($C14<=$A$14,$C14>$B$14),0,P14)","v":0},{"$f":"IF(OR($C14<=$A$14,$C14>$B$14),0,Q14)","v":0},{"$f":"IF(OR($C14<=$A$14,$C14>$B$14),0,R14)","v":0},{"$f":"IF(OR($C14<=$A$14,$C14>$B$14),0,S14)","v":0},{"$f":"IF(OR($C14<=$A$14,$C14>$B$14),0,T14)","v":0},{"$f":"IF(OR($C14<=$A$14,$C14>$B$14),0,U14)","v":0},{"$f":"IF(OR($C14<=$A$14,$C14>$B$14),0,V14)","v":0},{"$f":"IF(OR($C14<=$A$14,$C14>$B$14),0,W14)","v":0},0,0,0,0,0,0,0,0,0,0,0,0,0,0,0,0,0]
[{"$f":"'input selections'!G11","v":"Y65"},{"$f":"'input selections'!H11","v":"Y80"},9,"Y9","Y9,T,FR",": ",": ",": ",": ",": ",": ",": ",": ",": ",": ",827906,820939,771457,785231,793436,804339,794381,794841,792549,791075,785413,774790,743431,748191,768089,779057,773055,788547,797347,832662,819816,810890,808033,815198,829605,null,null,0,0,0,0,0,0,0,0,0,0,0,0,0,0,0,0,0,0,0,0,0,0,0,0,0,0,0,0,0,0,0,0,0,0,0]
[null,null,10,"Y10","Y10,T,FR",{"$f":"IF(ISERROR(VLOOKUP($E16,popEU,F$1,FALSE)),\"\",(VLOOKUP($E16,popEU,F$1,FALSE)))","v":": "},": ",": ",": ",": ",": ",": ",": ",": ",": ",{"$f":"IF(ISERROR(VLOOKUP($E16,popEU,P$1,FALSE)),\"\",(VLOOKUP($E16,popEU,P$1,FALSE)))","v":829926},827943,820014,771293,785202,792689,803943,793846,794854,798882,{"$f":"IF(ISERROR(VLOOKUP($E16,popEU,Z$1,FALSE)),\"\",(VLOOKUP($E16,popEU,Z$1,FALSE)))","v":796419},789516,779421,747970,752598,771784,783386,777233,791244,799838,837063,823106,814241,811759,825391,null,null,0,0,0,0,0,0,0,0,0,0,0,0,0,0,0,0,0,0,0,0,0,0,0,0,0,0,0,0,0,0,0,0,0,0,0]
[null,null,11,"Y11","Y11,T,FR",": ",": ",": ",": ",": ",": ",": ",": ",": ",": ",785272,830473,828483,819974,771771,785808,792658,804468,795355,802269,804828,801515,793611,783989,752680,755979,777275,786374,780320,794372,800791,841826,827658,817693,821249,null,null,0,0,0,0,0,0,0,0,0,0,0,0,0,0,0,0,0,0,0,0,0,0,0,0,0,0,0,0,0,0,0,0,0,0,0]
[null,null,12,"Y12","Y12,T,FR",": ",": ",": ",": ",": ",": ",": ",": ",": ",": ",768249,788163,832599,830664,821225,773295,787334,793559,805849,801671,809256,810612,806555,797772,788782,756428,760258,781172,789267,782585,795666,803452,844728,829988,826583,null,null,0,0,0,0,0,0,0,0,0,0,0,0,0,0,0,0,0,0,0,0,0,0,0,0,0,0,0,0,0,0,0,0,0,0,0]
[null,null,13,"Y13","Y13,T,FR",": ",": ",": ",": ",": ",": ",": ",": ",": ",": ",775573,769964,790042,834136,832104,821884,774485,788716,795057,811416,807339,815768,816060,811328,802030,792441,759563,763242,785005,792194,784780,798942,806845,847730,838757,null,null,0,0,0,0,0,0,0,0,0,0,0,0,0,0,0,0,0,0,0,0,0,0,0,0,0,0,0,0,0,0,0,0,0,0,0]
[null,null,14,"Y14","Y14,T,FR",": ",": ",": ",": ",": ",": ",": ",": ",": ",": ",756467,778064,772101,792461,835893,833751,822736,775851,790615,800126,817157,813117,822325,821734,816949,805639,796433,761188,765996,787723,794443,787543,803419,810029,856210,null,null,0,0,0,0,0,0,0,0,0,0,0,0,0,0,0,0,0,0,0,0,0,0,0,0,0,0,0,0,0,0,0,0,0,0,0]
[null,null,15,"Y15","Y15,T,FR",": ",": ",": ",": ",": ",": ",": ",": ",": ",": ",783964,758669,780255,774256,794708,837547,835346,823993,777966,792714,804814,822599,818798,828318,827407,821353,810015,798840,765196,769587,790523,798157,790864,806755,818533,null,null,0,0,0,0,0,0,0,0,0,0,0,0,0,0,0,0,0,0,0,0,0,0,0,0,0,0,0,0,0,0,0,0,0,0,0]
[null,null,16,"Y16","Y16,T,FR",": ",": ",": ",": ",": ",": ",": ",": ",": ",": ",838653,785097,761077,782916,776866,797338,839838,838216,826740,779387,794817,809695,828379,823712,834936,832783,828052,818263,808888,776525,777258,792976,799971,794913,816024,null,null,0,0,0,0,0,0,0,0,0,0,0,0,0,0,0,0,0,0,0,0,0,0,0,0,0,0,0,0,0,0,0,0,0,0,0]
[null,null,17,"Y17","Y17,T,FR",": ",": ",": ",": ",": ",": ",": ",": ",": ",": ",896440,839026,786053,763078,784338,777303,798076,840227,839230,827279,780977,797532,815359,833447,830051,840947,836095,833663,823027,815554,779804,772053,792391,799205,799000,null,null,0,0,0,0,0,0,0,0,0,0,0,0,0,0,0,0,0,0,0,0,0,0,0,0,0,0,0,0,0,0,0,0,0,0,0]
[null,null,18,"Y18","Y18,T,FR",": ",": ",": ",": ",": ",": ",": ",": ",": ",": ",918420,894133,837151,784350,762144,782789,775608,796741,838711,836787,826979,781984,799726,820031,839374,835981,842035,835895,832794,823198,814752,764966,768596,786079,797344,null,null,0,0,0,0,0,0,0,0,0,0,0,0,0,0,0,0,0,0,0,0,0,0,0,0,0,0,0,0,0,0,0,0,0,0,0]
[null,null,19,"Y19","Y19,T,FR",": ",": ",": ",": ",": ",": ",": ",": ",": ",": ",919388,913036,889449,832794,779465,757870,778554,770881,792587,835037,832829,825092,781202,801180,823718,843612,833291,837935,832338,829570,817766,797396,759693,759362,780628,null,null,0,0,0,0,0,0,0,0,0,0,0,0,0,0,0,0,0,0,0,0,0,0,0,0,0,0,0,0,0,0,0,0,0,0,0]
[null,null,20,"Y20","Y20,T,FR",{"$f":"IF(ISERROR(VLOOKUP($E26,popEU,F$1,FALSE)),\"\",(VLOOKUP($E26,popEU,F$1,FALSE)))","v":": "},": ",": ",": ",": ",": ",": ",": ",": ",": ",{"$f":"IF(ISERROR(VLOOKUP($E26,popEU,P$1,FALSE)),\"\",(VLOOKUP($E26,popEU,P$1,FALSE)))","v":895062},912745,907019,883127,827083,773037,752578,773293,765468,786129,{"$f":"IF(ISERROR(VLOOKUP($E26,popEU,Z$1,FALSE)),\"\",(VLOOKUP($E26,popEU,Z$1,FALSE)))","v":830263},827807,821972,779692,800124,825903,834898,824713,828993,822556,819841,798896,789843,747742,750544,null,null,0,0,0,0,0,0,0,0,0,0,0,0,0,0,0,0,0,0,0,0,0,0,0,0,0,0,0,0,0,0,0,0,0,0,0]
[null,null,21,"Y21","Y21,T,FR",": ",": ",": ",": ",": ",": ",": ",": ",": ",": ",883828,888886,907606,901529,876994,821763,768278,747509,768162,760443,780657,826438,823742,819430,778253,800893,813903,821075,812236,815057,806468,806262,791073,777440,738055,null,null,0,0,0,0,0,0,0,0,0,0,0,0,0,0,0,0,0,0,0,0,0,0,0,0,0,0,0,0,0,0,0,0,0,0,0]
[null,null,22,"Y22","Y22,T,FR",": ",": ",": ",": ",": ",": ",": ",": ",": ",": ",867726,877182,882029,901040,894594,870393,816498,763720,743009,764255,756729,776710,823953,820811,818086,779335,792221,805235,810992,800411,803049,797849,797534,781386,770540,null,null,0,0,0,0,0,0,0,0,0,0,0,0,0,0,0,0,0,0,0,0,0,0,0,0,0,0,0,0,0,0,0,0,0,0,0]
[null,null,23,"Y23","Y23,T,FR",": ",": ",": ",": ",": ",": ",": ",": ",": ",": ",863944,863214,872882,876608,895424,889345,865444,813066,762316,740733,762083,755031,774595,822960,819852,819915,773425,786548,799121,803209,791591,796036,788577,789235,775707,null,null,0,0,0,0,0,0,0,0,0,0,0,0,0,0,0,0,0,0,0,0,0,0,0,0,0,0,0,0,0,0,0,0,0,0,0]
[null,null,24,"Y24","Y24,T,FR",": ",": ",": ",": ",": ",": ",": ",": ",": ",": ",884516,860829,860540,868651,871067,890325,884816,861295,811609,760749,739908,761806,754795,773750,823339,821666,817436,768932,782446,792512,796435,788229,790377,783388,786821,null,null,0,0,0,0,0,0,0,0,0,0,0,0,0,0,0,0,0,0,0,0,0,0,0,0,0,0,0,0,0,0,0,0,0,0,0]
[null,null,25,"Y25","Y25,T,FR",": ",": ",": ",": ",": ",": ",": ",": ",": ",": ",888953,883109,859640,857976,864609,866754,886705,882046,859479,809806,760532,740556,762625,755460,774114,826154,820228,814981,766860,780106,789074,795249,784883,787819,783798,null,null,0,0,0,0,0,0,0,0,0,0,0,0,0,0,0,0,0,0,0,0,0,0,0,0,0,0,0,0,0,0,0,0,0,0,0]
[null,null,26,"Y26","Y26,T,FR",": ",": ",": ",": ",": ",": ",": ",": ",": ",": ",903414,890125,885723,860248,857027,863409,865326,886225,882917,858943,809805,762190,742703,764633,757338,776902,827385,819082,814170,766552,781380,789615,794300,785198,791253,null,null,0,0,0,0,0,0,0,0,0,0,0,0,0,0,0,0,0,0,0,0,0,0,0,0,0,0,0,0,0,0,0,0,0,0,0]
[null,null,27,"Y27","Y27,T,FR",": ",": ",": ",": ",": ",": ",": ",": ",": ",": ",898206,906483,892917,887502,860198,856397,862585,864585,886687,883622,860442,811737,765177,746066,767763,761179,780025,828375,820937,815145,767745,783918,789964,795761,789709,null,null,0,0,0,0,0,0,0,0,0,0,0,0,0,0,0,0,0,0,0,0,0,0,0,0,0,0,0,0,0,0,0,0,0,0,0]
[null,null,28,"Y28","Y28,T,FR",": ",": ",": ",": ",": ",": ",": ",": ",": ",": ",873693,899925,909034,893574,887628,859776,855585,862441,864861,887596,886355,863956,815346,769598,750558,772349,764629,783481,831437,823106,818756,771401,786254,793270,802251,null,null,0,0,0,0,0,0,0,0,0,0,0,0,0,0,0,0,0,0,0,0,0,0,0,0,0,0,0,0,0,0,0,0,0,0,0]
[null,null,29,"Y29","Y29,T,FR",": ",": ",": ",": ",": ",": ",": ",": ",": ",": ",886707,877968,904702,912640,895217,889266,860725,856496,863728,868640,890507,891133,869119,820569,775441,756442,778047,768775,787577,835056,827387,823628,776401,791068,801418,null,null,0,0,0,0,0,0,0,0,0,0,0,0,0,0,0,0,0,0,0,0,0,0,0,0,0,0,0,0,0,0,0,0,0,0,0]
[null,null,30,"Y30","Y30,T,FR",{"$f":"IF(ISERROR(VLOOKUP($E36,popEU,F$1,FALSE)),\"\",(VLOOKUP($E36,popEU,F$1,FALSE)))","v":": "},": ",": ",": ",": ",": ",": ",": ",": ",": ",{"$f":"IF(ISERROR(VLOOKUP($E36,popEU,P$1,FALSE)),\"\",(VLOOKUP($E36,popEU,P$1,FALSE)))","v":886362},888978,880983,906852,914547,896577,891305,862964,859364,867499,{"$f":"IF(ISERROR(VLOOKUP($E36,popEU,Z$1,FALSE)),\"\",(VLOOKUP($E36,popEU,Z$1,FALSE)))","v":873535},894690,896657,875282,826059,781048,761857,783056,772513,791824,840616,832260,827911,781435,799333,null,null,0,0,0,0,0,0,0,0,0,0,0,0,0,0,0,0,0,0,0,0,0,0,0,0,0,0,0,0,0,0,0,0,0,0,0]
[null,null,31,"Y31","Y31,T,FR",": ",": ",": ",": ",": ",": ",": ",": ",": ",": ",890041,889016,892173,883207,908429,916312,897423,893108,864261,864320,871806,879280,899268,902688,881226,830692,788174,766760,786962,776852,797084,845903,837747,833322,790122,null,null,0,0,0,0,0,0,0,0,0,0,0,0,0,0,0,0,0,0,0,0,0,0,0,0,0,0,0,0,0,0,0,0,0,0,0]
[null,null,32,"Y32","Y32,T,FR",": ",": ",": ",": ",": ",": ",": ",": ",": ",": ",873073,891721,890730,893065,883378,908585,916998,897719,894292,868322,869063,876101,884617,903698,907819,885386,837562,793125,769891,790765,782759,802056,851473,843260,842411,null,null,0,0,0,0,0,0,0,0,0,0,0,0,0,0,0,0,0,0,0,0,0,0,0,0,0,0,0,0,0,0,0,0,0,0,0]
[null,null,33,"Y33","Y33,T,FR",": ",": ",": ",": ",": ",": ",": ",": ",": ",": ",877998,874269,893617,891259,893321,883100,908605,917736,898099,897972,872336,873517,879726,889316,907267,911370,890066,842650,797178,773105,794970,788751,807267,856650,851735,null,null,0,0,0,0,0,0,0,0,0,0,0,0,0,0,0,0,0,0,0,0,0,0,0,0,0,0,0,0,0,0,0,0,0,0,0]
[null,null,34,"Y34","Y34,T,FR",": ",": ",": ",": ",": ",": ",": ",": ",": ",": ",874984,879292,875446,894407,890732,892831,882362,908392,917917,900563,901421,876186,877534,882974,893117,909275,916527,893646,846168,801275,778108,799604,794081,812284,864814,null,null,0,0,0,0,0,0,0,0,0,0,0,0,0,0,0,0,0,0,0,0,0,0,0,0,0,0,0,0,0,0,0,0,0,0,0]
[null,null,35,"Y35","Y35,T,FR",": ",": ",": ",": ",": ",": ",": ",": ",": ",": ",874482,875809,880408,875591,894342,889613,892302,881909,907988,919728,903256,904467,879606,881093,885463,895456,915748,919626,896538,850417,803748,781686,803135,797354,818854,null,null,0,0,0,0,0,0,0,0,0,0,0,0,0,0,0,0,0,0,0,0,0,0,0,0,0,0,0,0,0,0,0,0,0,0,0]
[null,null,36,"Y36","Y36,T,FR",": ",": ",": ",": ",": ",": ",": ",": ",": ",": ",876544,875036,877084,881060,875422,894183,888548,892136,881363,910192,921436,905779,907354,882837,884047,886580,899276,918846,923923,899297,853148,806585,785641,806367,803844,null,null,0,0,0,0,0,0,0,0,0,0,0,0,0,0,0,0,0,0,0,0,0,0,0,0,0,0,0,0,0,0,0,0,0,0,0]
[null,null,37,"Y37","Y37,T,FR",": ",": ",": ",": ",": ",": ",": ",": ",": ",": ",864764,876744,874537,876207,879929,873573,892391,886035,890211,883127,912355,923022,908030,909969,885446,885456,892146,904733,923588,927583,903653,857609,811408,790311,814070,null,null,0,0,0,0,0,0,0,0,0,0,0,0,0,0,0,0,0,0,0,0,0,0,0,0,0,0,0,0,0,0,0,0,0,0,0]
[null,null,38,"Y38","Y38,T,FR",": ",": ",": ",": ",": ",": ",": ",": ",": ",": ",882894,864499,876891,873732,875159,878924,872128,891282,884073,891416,884983,914387,924595,910362,912268,887056,888342,893874,907032,925875,930450,907365,859834,814539,796371,null,null,0,0,0,0,0,0,0,0,0,0,0,0,0,0,0,0,0,0,0,0,0,0,0,0,0,0,0,0,0,0,0,0,0,0,0]
[null,null,39,"Y39","Y39,T,FR",": ",": ",": ",": ",": ",": ",": ",": ",": ",": ",869849,883216,865164,877341,873215,874420,878210,870801,889886,885875,892724,886710,916435,926028,912388,913528,888585,891185,895412,908987,927576,932179,909724,861982,819701,null,null,0,0,0,0,0,0,0,0,0,0,0,0,0,0,0,0,0,0,0,0,0,0,0,0,0,0,0,0,0,0,0,0,0,0,0]
[null,null,40,"Y40","Y40,T,FR",{"$f":"IF(ISERROR(VLOOKUP($E46,popEU,F$1,FALSE)),\"\",(VLOOKUP($E46,popEU,F$1,FALSE)))","v":": "},": ",": ",": ",": ",": ",": ",": ",": ",": ",{"$f":"IF(ISERROR(VLOOKUP($E46,popEU,P$1,FALSE)),\"\",(VLOOKUP($E46,popEU,P$1,FALSE)))","v":907575},868829,881771,863848,876064,871023,872404,876440,868510,890382,{"$f":"IF(ISERROR(VLOOKUP($E46,popEU,Z$1,FALSE)),\"\",(VLOOKUP($E46,popEU,Z$1,FALSE)))","v":887555},893744,888187,918117,927003,913249,914823,890714,892762,896721,910449,926641,934090,910641,865794,null,null,0,0,0,0,0,0,0,0,0,0,0,0,0,0,0,0,0,0,0,0,0,0,0,0,0,0,0,0,0,0,0,0,0,0,0]
[null,null,41,"Y41","Y41,T,FR",": ",": ",": ",": ",": ",": ",": ",": ",": ",": ",898295,905688,867545,879806,862280,874628,868805,870447,874423,869153,890630,888856,894467,889370,919319,926714,916516,916208,891048,894063,898219,912547,928826,936104,915434,null,null,0,0,0,0,0,0,0,0,0,0,0,0,0,0,0,0,0,0,0,0,0,0,0,0,0,0,0,0,0,0,0,0,0,0,0]
[null,null,42,"Y42","Y42,T,FR",": ",": ",": ",": ",": ",": ",": ",": ",": ",": ",899315,896279,903578,865819,877515,860246,872771,866436,868184,874507,869679,890602,890155,895101,890306,919831,928187,917581,913500,888610,893322,897596,911378,928097,938013,null,null,0,0,0,0,0,0,0,0,0,0,0,0,0,0,0,0,0,0,0,0,0,0,0,0,0,0,0,0,0,0,0,0,0,0,0]
[null,null,43,"Y43","Y43,T,FR",": ",": ",": ",": ",": ",": ",": ",": ",": ",": ",886030,896825,893951,900780,863682,874639,857812,870655,863585,868150,874173,869801,890105,890914,895152,890299,920016,928241,918007,913120,888722,893529,898532,911857,930974,null,null,0,0,0,0,0,0,0,0,0,0,0,0,0,0,0,0,0,0,0,0,0,0,0,0,0,0,0,0,0,0,0,0,0,0,0]
[null,null,44,"Y44","Y44,T,FR",": ",": ",": ",": ",": ",": ",": ",": ",": ",": ",845142,884428,894668,891921,898256,861610,872035,855592,868519,863323,867947,873638,869783,889506,891363,894687,890392,918514,928864,916396,911864,888914,894170,898603,914030,null,null,0,0,0,0,0,0,0,0,0,0,0,0,0,0,0,0,0,0,0,0,0,0,0,0,0,0,0,0,0,0,0,0,0,0,0]
[null,null,45,"Y45","Y45,T,FR",": ",": ",": ",": ",": ",": ",": ",": ",": ",": ",645968,842006,881141,891232,888601,894596,858920,868957,853022,867680,862825,867319,872719,869537,888629,891127,895038,889989,918518,928061,915635,911382,887521,893497,899787,null,null,0,0,0,0,0,0,0,0,0,0,0,0,0,0,0,0,0,0,0,0,0,0,0,0,0,0,0,0,0,0,0,0,0,0,0]
[null,null,46,"Y46","Y46,T,FR",": ",": ",": ",": ",": ",": ",": ",": ",": ",": ",636636,643423,839139,877940,887749,885278,890817,856158,865714,852452,866681,861999,866603,871538,869027,887353,891011,892931,889826,916722,926799,914118,909753,886208,893947,null,null,0,0,0,0,0,0,0,0,0,0,0,0,0,0,0,0,0,0,0,0,0,0,0,0,0,0,0,0,0,0,0,0,0,0,0]
[null,null,47,"Y47","Y47,T,FR",": ",": ",": ",": ",": ",": ",": ",": ",": ",": ",624027,635653,641639,836907,875286,884682,882454,887400,853497,865696,851611,865292,860882,865608,870141,867948,886295,890291,891424,888280,915220,925057,912450,908277,886454,null,null,0,0,0,0,0,0,0,0,0,0,0,0,0,0,0,0,0,0,0,0,0,0,0,0,0,0,0,0,0,0,0,0,0,0,0]
[null,null,48,"Y48","Y48,T,FR",": ",": ",": ",": ",": ",": ",": ",": ",": ",": ",583988,621532,633357,638670,833499,871669,881002,879151,883773,852309,865432,850450,863859,859594,864323,868103,868100,885117,886570,890168,886555,915214,923858,911674,909122,null,null,0,0,0,0,0,0,0,0,0,0,0,0,0,0,0,0,0,0,0,0,0,0,0,0,0,0,0,0,0,0,0,0,0,0,0]
[null,null,49,"Y49","Y49,T,FR",": ",": ",": ",": ",": ",": ",": ",": ",": ",": ",526705,582626,620137,632033,636595,830793,868690,877616,876011,883118,850891,864951,849203,862045,858272,862692,867337,865623,882940,884258,886602,885865,914643,922336,911768,null,null,0,0,0,0,0,0,0,0,0,0,0,0,0,0,0,0,0,0,0,0,0,0,0,0,0,0,0,0,0,0,0,0,0,0,0]
[null,null,50,"Y50","Y50,T,FR",{"$f":"IF(ISERROR(VLOOKUP($E56,popEU,F$1,FALSE)),\"\",(VLOOKUP($E56,popEU,F$1,FALSE)))","v":": "},": ",": ",": ",": ",": ",": ",": ",": ",": ",{"$f":"IF(ISERROR(VLOOKUP($E56,popEU,P$1,FALSE)),\"\",(VLOOKUP($E56,popEU,P$1,FALSE)))","v":556320},524996,580015,617546,629554,633225,826848,864452,873065,874875,{"$f":"IF(ISERROR(VLOOKUP($E56,popEU,Z$1,FALSE)),\"\",(VLOOKUP($E56,popEU,Z$1,FALSE)))","v":882242},849280,864321,847797,860191,856379,862137,865752,863125,880154,883437,884704,883297,913010,922337,null,null,0,0,0,0,0,0,0,0,0,0,0,0,0,0,0,0,0,0,0,0,0,0,0,0,0,0,0,0,0,0,0,0,0,0,0]
[null,null,51,"Y51","Y51,T,FR",": ",": ",": ",": ",": ",": ",": ",": ",": ",": ",591360,553573,523000,577358,614825,627135,630115,823227,860525,872293,873441,881044,847246,863075,845933,857655,853163,859952,861870,861142,877976,881382,883285,881591,912891,null,null,0,0,0,0,0,0,0,0,0,0,0,0,0,0,0,0,0,0,0,0,0,0,0,0,0,0,0,0,0,0,0,0,0,0,0]
[null,null,52,"Y52","Y52,T,FR",": ",": ",": ",": ",": ",": ",": ",": ",": ",": ",587615,588924,551266,521343,574843,612284,624768,626934,819315,859825,871351,871850,879703,845086,861950,844008,855834,851911,856441,859702,858096,875768,879062,881078,880988,null,null,0,0,0,0,0,0,0,0,0,0,0,0,0,0,0,0,0,0,0,0,0,0,0,0,0,0,0,0,0,0,0,0,0,0,0]
[null,null,53,"Y53","Y53,T,FR",": ",": ",": ",": ",": ",": ",": ",": ",": ",": ",587261,584696,586131,548685,519595,572264,609848,622634,624261,818337,858764,870146,869931,877951,842879,860352,841563,853055,850229,852676,855871,854975,872815,876183,879290,null,null,0,0,0,0,0,0,0,0,0,0,0,0,0,0,0,0,0,0,0,0,0,0,0,0,0,0,0,0,0,0,0,0,0,0,0]
[null,null,54,"Y54","Y54,T,FR",": ",": ",": ",": ",": ",": ",": ",": ",": ",": ",597018,584221,581411,582821,545454,517227,568761,606367,619264,623309,817271,857628,868753,867872,876181,840459,856526,838072,850470,845861,849070,853888,853505,870686,875387,null,null,0,0,0,0,0,0,0,0,0,0,0,0,0,0,0,0,0,0,0,0,0,0,0,0,0,0,0,0,0,0,0,0,0,0,0]
[null,null,55,"Y55","Y55,T,FR",": ",": ",": ",": ",": ",": ",": ",": ",": ",": ",593000,592936,580363,577497,578892,541764,514339,564997,602617,617401,621790,815564,855787,866798,865452,873841,837112,853296,834686,845688,842162,846698,851178,850837,869145,null,null,0,0,0,0,0,0,0,0,0,0,0,0,0,0,0,0,0,0,0,0,0,0,0,0,0,0,0,0,0,0,0,0,0,0,0]
[null,null,56,"Y56","Y56,T,FR",": ",": ",": ",": ",": ",": ",": ",": ",": ",": ",610713,589089,589217,576844,574091,575595,538574,512274,562266,600857,615319,620325,813601,853590,864861,862756,871600,833829,850319,829785,842960,838896,844226,848564,849484,null,null,0,0,0,0,0,0,0,0,0,0,0,0,0,0,0,0,0,0,0,0,0,0,0,0,0,0,0,0,0,0,0,0,0,0,0]
[null,null,57,"Y57","Y57,T,FR",": ",": ",": ",": ",": ",": ",": ",": ",": ",": ",599916,606539,584548,584692,572698,569776,571394,534538,509147,560958,598668,612821,618209,810998,851106,862129,859571,869389,830299,845866,825614,839547,835273,840810,846275,null,null,0,0,0,0,0,0,0,0,0,0,0,0,0,0,0,0,0,0,0,0,0,0,0,0,0,0,0,0,0,0,0,0,0,0,0]
[null,null,58,"Y58","Y58,T,FR",": ",": ",": ",": ",": ",": ",": ",": ",": ",": ",623179,595047,602243,580094,580496,568808,565753,567784,531097,506971,559555,596460,610274,616100,808514,848168,858498,855916,865223,825719,841374,821912,836576,831712,838343,null,null,0,0,0,0,0,0,0,0,0,0,0,0,0,0,0,0,0,0,0,0,0,0,0,0,0,0,0,0,0,0,0,0,0,0,0]
[null,null,59,"Y59","Y59,T,FR",": ",": ",": ",": ",": ",": ",": ",": ",": ",": ",617106,618352,590512,598041,575558,576046,564599,561423,563552,529231,504672,557775,593852,607328,613681,805415,843470,853909,850336,858713,819998,835930,817477,831517,827914,null,null,0,0,0,0,0,0,0,0,0,0,0,0,0,0,0,0,0,0,0,0,0,0,0,0,0,0,0,0,0,0,0,0,0,0,0]
[null,null,60,"Y60","Y60,T,FR",{"$f":"IF(ISERROR(VLOOKUP($E66,popEU,F$1,FALSE)),\"\",(VLOOKUP($E66,popEU,F$1,FALSE)))","v":": "},": ",": ",": ",": ",": ",": ",": ",": ",": ",{"$f":"IF(ISERROR(VLOOKUP($E66,popEU,P$1,FALSE)),\"\",(VLOOKUP($E66,popEU,P$1,FALSE)))","v":625808},610951,611959,584397,592614,569798,570347,559626,556402,560725,{"$f":"IF(ISERROR(VLOOKUP($E66,popEU,Z$1,FALSE)),\"\",(VLOOKUP($E66,popEU,Z$1,FALSE)))","v":526856},501788,555524,590815,604003,610729,800067,838066,848647,842619,852187,814537,831144,811968,827225,null,null,0,0,0,0,0,0,0,0,0,0,0,0,0,0,0,0,0,0,0,0,0,0,0,0,0,0,0,0,0,0,0,0,0,0,0]
[null,null,61,"Y61","Y61,T,FR",": ",": ",": ",": ",": ",": ",": ",": ",": ",": ",593978,619772,605686,606360,579195,587641,564524,565431,554949,553257,557595,524134,498761,553013,587676,600427,606734,795031,829480,841745,835766,846757,809322,825495,807389,null,null,0,0,0,0,0,0,0,0,0,0,0,0,0,0,0,0,0,0,0,0,0,0,0,0,0,0,0,0,0,0,0,0,0,0,0]
[null,null,62,"Y62","Y62,T,FR",": ",": ",": ",": ",": ",": ",": ",": ",": ",": ",591794,587404,612655,599195,599945,573063,581833,558605,559878,551487,549901,554030,521124,495290,550214,584145,594701,602104,786761,821485,833374,828802,839727,802112,819043,null,null,0,0,0,0,0,0,0,0,0,0,0,0,0,0,0,0,0,0,0,0,0,0,0,0,0,0,0,0,0,0,0,0,0,0,0]
[null,null,63,"Y63","Y63,T,FR",": ",": ",": ",": ",": ",": ",": ",": ",": ",": ",575325,584366,580459,605033,592352,592688,566230,575702,552355,556194,547326,546096,550218,517576,491681,546900,578605,590129,596232,779956,813811,826454,822766,832927,796074,null,null,0,0,0,0,0,0,0,0,0,0,0,0,0,0,0,0,0,0,0,0,0,0,0,0,0,0,0,0,0,0,0,0,0,0,0]
[null,null,64,"Y64",{"$f":"CONCATENATE($D70,$A$7,$B$9,$A$7,$B$8)","v":"Y64,T,FR"},": ",": ",": ",": ",": ",": ",": ",": ",": ",": ",574069,568626,577298,573460,597436,585351,585444,559289,569145,548206,552035,542880,541768,545858,513832,487632,541766,574083,584930,590421,773789,806850,818824,815683,826457,null,null,0,0,0,0,0,0,0,0,0,0,0,0,0,0,0,0,0,0,0,0,0,0,0,0,0,0,0,0,0,0,0,0,0,0,0]
[null,null,65,"Y65","Y65,T,FR",": ",": ",": ",": ",": ",": ",": ",": ",": ",": ",566183,565842,560559,569035,565615,588597,577328,577346,551634,563916,543882,547425,538136,537102,541294,509619,482480,535680,567691,577410,584786,766610,800602,811693,809173,null,null,{"$f":"IF(OR($C71<=$A$14,$C71>$B$14),0,F71)","v":0},0,0,0,0,0,0,0,0,0,0,0,0,0,0,0,0,0,0,0,0,0,0,0,0,0,0,0,0,0,0,0,0,0,0]
[null,null,66,"Y66","Y66,T,FR",": ",": ",": ",": ",": ",": ",": ",": ",": ",": ",545812,557873,557311,552452,560521,557186,579409,569340,569205,546584,557949,538897,542457,532843,532303,536175,503049,477238,529785,560542,570817,579363,759483,792775,804448,null,null,": ",": ",": ",": ",": ",": ",": ",": ",": ",": ",545812,557873,557311,552452,560521,557186,579409,569340,569205,546584,557949,538897,542457,532843,532303,536175,503049,477238,529785,560542,570817,579363,759483,792775,804448]
[null,null,67,"Y67","Y67,T,FR",": ",": ",": ",": ",": ",": ",": ",": ",": ",": ",540213,537512,549062,548662,543941,551526,548606,569846,560680,563307,540885,551701,533392,536972,527452,526913,529992,497789,471209,522185,553962,565544,573517,751775,785348,null,null,": ",": ",": ",": ",": ",": ",": ",": ",": ",": ",540213,537512,549062,548662,543941,551526,548606,569846,560680,563307,540885,551701,533392,536972,527452,526913,529992,497789,471209,522185,553962,565544,573517,751775,785348]
[null,null,68,"Y68","Y68,T,FR",": ",": ",": ",": ",": ",": ",": ",": ",": ",": ",533370,531090,528812,539615,539776,534939,542250,539925,560523,553581,557072,534841,544905,527655,531555,521628,519584,524457,492465,465023,515406,548812,559005,567229,744071,null,null,": ",": ",": ",": ",": ",": ",": ",": ",": ",": ",533370,531090,528812,539615,539776,534939,542250,539925,560523,553581,557072,534841,544905,527655,531555,521628,519584,524457,492465,465023,515406,548812,559005,567229,744071]
[null,null,69,"Y69","Y69,T,FR",": ",": ",": ",": ",": ",": ",": ",": ",": ",": ",540806,523688,521441,519351,529562,529748,524960,531948,530120,553131,545824,550131,528102,537375,521597,525150,513324,513310,516641,485958,459134,507992,541920,551684,560439,null,null,": ",": ",": ",": ",": ",": ",": ",": ",": ",": ",540806,523688,521441,519351,529562,529748,524960,531948,530120,553131,545824,550131,528102,537375,521597,525150,513324,513310,516641,485958,459134,507992,541920,551684,560439]
[null,null,70,"Y70","Y70,T,FR",{"$f":"IF(ISERROR(VLOOKUP($E76,popEU,F$1,FALSE)),\"\",(VLOOKUP($E76,popEU,F$1,FALSE)))","v":": "},": ",": ",": ",": ",": ",": ",": ",": ",": ",{"$f":"IF(ISERROR(VLOOKUP($E76,popEU,P$1,FALSE)),\"\",(VLOOKUP($E76,popEU,P$1,FALSE)))","v":539757},529793,513069,510816,509313,518926,519298,514970,521904,521812,{"$f":"IF(ISERROR(VLOOKUP($E76,popEU,Z$1,FALSE)),\"\",(VLOOKUP($E76,popEU,Z$1,FALSE)))","v":545015},537785,542648,520820,529970,515028,516594,505650,506865,509263,479371,453448,502709,535226,545566,null,null,": ",": ",": ",": ",": ",": ",": ",": ",": ",": ",539757,529793,513069,510816,509313,518926,519298,514970,521904,521812,545015,537785,542648,520820,529970,515028,516594,505650,506865,509263,479371,453448,502709,535226,545566]
[null,null,71,"Y71","Y71,T,FR",": ",": ",": ",": ",": ",": ",": ",": ",": ",": ",321376,527937,518771,502433,500597,499206,507869,508640,504324,512986,513041,536459,529016,534443,513314,521876,506420,508841,497031,499513,500827,472316,447035,495209,527839,null,null,": ",": ",": ",": ",": ",": ",": ",": ",": ",": ",321376,527937,518771,502433,500597,499206,507869,508640,{"$f":"IF(OR($C77<=$A$14,$C77>$B$14),0,X77)","v":504324},{"$f":"IF(OR($C77<=$A$14,$C77>$B$14),0,Y77)","v":512986},{"$f":"IF(OR($C77<=$A$14,$C77>$B$14),0,Z77)","v":513041},{"$f":"IF(OR($C77<=$A$14,$C77>$B$14),0,AA77)","v":536459},{"$f":"IF(OR($C77<=$A$14,$C77>$B$14),0,AB77)","v":529016},{"$f":"IF(OR($C77<=$A$14,$C77>$B$14),0,AC77)","v":534443},{"$f":"IF(OR($C77<=$A$14,$C77>$B$14),0,AD77)","v":513314},{"$f":"IF(OR($C77<=$A$14,$C77>$B$14),0,AE77)","v":521876},{"$f":"IF(OR($C77<=$A$14,$C77>$B$14),0,AF77)","v":506420},{"$f":"IF(OR($C77<=$A$14,$C77>$B$14),0,AG77)","v":508841},{"$f":"IF(OR($C77<=$A$14,$C77>$B$14),0,AH77)","v":497031},{"$f":"IF(OR($C77<=$A$14,$C77>$B$14),0,AI77)","v":499513},{"$f":"IF(OR($C77<=$A$14,$C77>$B$14),0,AJ77)","v":500827},{"$f":"IF(OR($C77<=$A$14,$C77>$B$14),0,AK77)","v":472316},{"$f":"IF(OR($C77<=$A$14,$C77>$B$14),0,AL77)","v":447035},{"$f":"IF(OR($C77<=$A$14,$C77>$B$14),0,AM77)","v":495209},{"$f":"IF(OR($C77<=$A$14,$C77>$B$14),0,AN77)","v":527839}]
[null,null,72,"Y72","Y72,T,FR",": ",": ",": ",": ",": ",": ",": ",": ",": ",": ",275384,314177,515470,507204,491022,489362,488067,496087,497021,494850,503459,503449,527235,519400,526358,504992,512181,497684,499569,488628,491412,491445,464760,439498,487458,null,null,": ",{"$f":"IF(OR($C78<=$A$14,$C78>$B$14),0,G78)","v":": "},{"$f":"IF(OR($C78<=$A$14,$C78>$B$14),0,H78)","v":": "},{"$f":"IF(OR($C78<=$A$14,$C78>$B$14),0,I78)","v":": "},{"$f":"IF(OR($C78<=$A$14,$C78>$B$14),0,J78)","v":": "},{"$f":"IF(OR($C78<=$A$14,$C78>$B$14),0,K78)","v":": "},{"$f":"IF(OR($C78<=$A$14,$C78>$B$14),0,L78)","v":": "},{"$f":"IF(OR($C78<=$A$14,$C78>$B$14),0,M78)","v":": "},{"$f":"IF(OR($C78<=$A$14,$C78>$B$14),0,N78)","v":": "},{"$f":"IF(OR($C78<=$A$14,$C78>$B$14),0,O78)","v":": "},{"$f":"IF(OR($C78<=$A$14,$C78>$B$14),0,P78)","v":275384},{"$f":"IF(OR($C78<=$A$14,$C78>$B$14),0,Q78)","v":314177},{"$f":"IF(OR($C78<=$A$14,$C78>$B$14),0,R78)","v":515470},{"$f":"IF(OR($C78<=$A$14,$C78>$B$14),0,S78)","v":507204},{"$f":"IF(OR($C78<=$A$14,$C78>$B$14),0,T78)","v":491022},{"$f":"IF(OR($C78<=$A$14,$C78>$B$14),0,U78)","v":489362},{"$f":"IF(OR($C78<=$A$14,$C78>$B$14),0,V78)","v":488067},{"$f":"IF(OR($C78<=$A$14,$C78>$B$14),0,W78)","v":496087},497021,494850,503459,503449,527235,519400,526358,504992,512181,497684,499569,488628,491412,491445,464760,439498,487458]
[null,null,73,"Y73","Y73,T,FR",": ",": ",": ",": ",": ",": ",": ",": ",": ",": ",237461,267884,306168,501910,494989,478853,477202,476625,484186,486474,484832,493453,493411,517271,509902,517450,495168,502116,487868,489415,480248,483079,483224,457004,432692,null,null,": ",": ",": ",": ",": ",": ",": ",": ",": ",": ",237461,267884,306168,501910,494989,478853,477202,476625,484186,486474,484832,493453,493411,517271,509902,517450,495168,502116,487868,489415,480248,483079,483224,457004,432692]
[null,null,74,"Y74","Y74,T,FR",": ",": ",": ",": ",": ",": ",": ",": ",": ",": ",217302,231179,260571,298508,488241,482006,466279,464891,464665,472724,475385,474090,482761,482471,507069,499773,505775,483043,492203,477910,479556,471894,474196,474444,449333,null,null,": ",": ",": ",": ",": ",": ",": ",": ",": ",": ",217302,231179,260571,298508,488241,482006,466279,464891,464665,472724,475385,474090,482761,482471,507069,499773,505775,483043,492203,477910,479556,471894,474196,474444,449333]
[null,null,75,"Y75","Y75,T,FR",": ",": ",": ",": ",": ",": ",": ",": ",": ",": ",261926,210411,223718,252023,289739,472761,467355,452111,450543,452235,460725,463440,462740,471126,471661,496092,487585,493432,472192,481775,467630,469332,462430,464482,465297,null,null,": ",": ",": ",": ",": ",": ",": ",": ",": ",": ",261926,210411,223718,252023,289739,472761,467355,452111,450543,452235,460725,463440,462740,471126,471661,496092,487585,493432,472192,481775,467630,469332,462430,464482,465297]
[null,null,76,"Y76","Y76,T,FR",": ",": ",": ",": ",": ",": ",": ",": ",": ",": ",374437,252121,202727,215795,243261,280378,456628,452602,437764,437441,439083,447950,450868,449817,459531,460285,483341,473695,480641,459872,469924,457003,458828,451997,454650,null,null,": ",": ",": ",": ",": ",": ",": ",": ",": ",": ",374437,252121,202727,215795,243261,280378,456628,452602,437764,437441,439083,447950,450868,449817,459531,460285,483341,473695,480641,459872,469924,457003,458828,451997,454650]
[null,null,77,"Y77","Y77,T,FR",": ",": ",": ",": ",": ",": ",": ",": ",": ",": ",361869,359768,242064,194733,207653,233980,270543,439752,436763,423195,423488,425118,434162,437021,437082,447007,446183,469169,460121,467339,447326,456398,444987,446822,440531,null,null,": ",": ",": ",": ",": ",": ",": ",": ",": ",": ",361869,359768,242064,194733,207653,233980,270543,439752,436763,423195,423488,425118,434162,437021,437082,447007,446183,469169,460121,467339,447326,456398,444987,446822,440531]
[null,null,78,"Y78","Y78,T,FR",": ",": ",": ",": ",": ",": ",": ",": ",": ",": ",348247,346336,344964,231790,187009,199208,224470,260462,422297,420262,408158,408923,409992,419274,423611,423564,432096,431059,455013,446414,453073,433204,444269,432494,435025,null,null,": ",": ",": ",": ",": ",": ",": ",": ",": ",": ",348247,346336,344964,231790,187009,199208,224470,260462,422297,420262,408158,408923,409992,419274,423611,423564,432096,431059,455013,446414,453073,433204,444269,432494,435025]
[null,null,79,"Y79","Y79,T,FR",": ",": ",": ",": ",": ",": ",": ",": ",": ",": ",307949,331156,329969,328881,220801,178065,189989,214031,249310,404490,403147,392335,393528,393659,404467,408799,408639,416068,415990,438402,431273,438553,419290,430593,419873,null,null,": ",": ",": ",": ",": ",": ",": ",": ",": ",": ",307949,331156,329969,328881,220801,178065,189989,214031,249310,404490,403147,392335,393528,393659,404467,408799,408639,416068,415990,438402,431273,438553,419290,430593,419873]
[null,null,80,"Y80","Y80,T,FR",{"$f":"IF(ISERROR(VLOOKUP($E86,popEU,F$1,FALSE)),\"\",(VLOOKUP($E86,popEU,F$1,FALSE)))","v":": "},": ",": ",": ",": ",": ",": ",": ",": ",": ",{"$f":"IF(ISERROR(VLOOKUP($E86,popEU,P$1,FALSE)),\"\",(VLOOKUP($E86,popEU,P$1,FALSE)))","v":300370},290602,313410,312156,312361,209288,168902,180501,203268,236763,{"$f":"IF(ISERROR(VLOOKUP($E86,popEU,Z$1,FALSE)),\"\",(VLOOKUP($E86,popEU,Z$1,FALSE)))","v":386156},384927,375294,376582,377664,388493,391959,391630,398420,399634,421808,414501,422360,404079,415986,null,null,": ",": ",": ",": ",": ",": ",": ",": ",": ",": ",300370,290602,313410,312156,312361,209288,168902,180501,203268,236763,386156,384927,375294,376582,377664,388493,391959,391630,398420,399634,421808,414501,422360,404079,415986]
[null,null,81,"Y81","Y81,T,FR",": ",": ",": ",": ",": ",": ",": ",": ",": ",": ",274407,282069,273525,294674,294304,294967,197049,159404,170425,192435,223883,366806,365693,356788,360152,360404,371462,373452,373691,379761,381880,402685,398176,404791,387904,null,null,0,0,0,0,0,0,0,0,0,0,0,0,0,0,0,0,0,0,0,0,0,0,0,0,0,0,0,0,0,0,0,0,0,0,0]
[null,null,82,"Y82","Y82,T,FR",": ",": ",": ",": ",": ",": ",": ",": ",": ",": ",253424,255492,263193,255348,275884,275633,276628,184583,149452,160367,181115,210350,346447,344737,338976,342144,341482,352272,353870,354079,360415,362654,382812,379050,386407,null,null,0,0,0,0,0,0,0,0,0,0,0,0,0,0,0,0,0,0,0,0,0,0,0,0,0,0,0,0,0,0,0,0,0,0,0]
[null,null,83,"Y83","Y83,T,FR",": ",": ",": ",": ",": ",": ",": ",": ",": ",": ",222077,233937,236673,243543,237531,256463,256230,258118,171726,139285,149776,169376,196227,324242,324834,319822,320654,322361,332104,333407,334677,340551,343186,362886,360203,null,null,0,0,0,0,0,0,0,0,0,0,0,0,0,0,0,0,0,0,0,0,0,0,0,0,0,0,0,0,0,0,0,0,0,0,0]
[null,null,84,"Y84","Y84,T,FR",": ",": ",": ",": ",": ",": ",": ",": ",": ",": ",200428,202904,214357,216920,224340,218792,236233,236658,238569,158276,128950,139010,157034,181342,303407,303560,298667,298990,301736,310274,312231,313507,319413,322432,341938,null,null,0,0,0,0,0,0,0,0,0,0,0,0,0,0,0,0,0,0,0,0,0,0,0,0,0,0,0,0,0,0,0,0,0,0,0]
[null,null,85,"Y85","Y85,T,FR",": ",": ",": ",": ",": ",": ",": ",": ",": ",": ",175502,181282,183947,194151,197573,204219,199356,215718,215971,218329,144789,118416,127868,143926,167307,281118,281111,276103,277205,279486,289191,290694,291505,297825,301625,null,null,0,0,0,0,0,0,0,0,0,0,0,0,0,0,0,0,0,0,0,0,0,0,0,0,0,0,0,0,0,0,0,0,0,0,0]
[null,null,86,"Y86","Y86,T,FR",": ",": ",": ",": ",": ",": ",": ",": ",": ",": ",151915,156854,162575,164426,174608,177703,184024,180215,194721,195176,197901,131412,107812,116287,132069,152425,257272,256934,253770,254086,257156,266046,267267,268524,275504,null,null,0,0,0,0,0,0,0,0,0,0,0,0,0,0,0,0,0,0,0,0,0,0,0,0,0,0,0,0,0,0,0,0,0,0,0]
[null,null,87,"Y87","Y87,T,FR",": ",": ",": ",": ",": ",": ",": ",": ",": ",": ",129877,134024,139087,143673,146574,155209,158205,164316,160960,173563,174854,177594,117749,96571,105496,119479,137756,232705,233199,230329,232344,234450,242243,243946,246361,null,null,0,0,0,0,0,0,0,0,0,0,0,0,0,0,0,0,0,0,0,0,0,0,0,0,0,0,0,0,0,0,0,0,0,0,0]
[null,null,88,"Y88","Y88,T,FR",": ",": ",": ",": ",": ",": ",": ",": ",": ",": ",111679,112948,117043,121168,126125,128320,135971,139034,144461,141395,153163,154933,157543,103701,86635,94371,106612,123165,207847,208560,207522,209407,210786,218630,220724,null,null,0,0,0,0,0,0,0,0,0,0,0,0,0,0,0,0,0,0,0,0,0,0,0,0,0,0,0,0,0,0,0,0,0,0,0]
[null,null,89,"Y89","Y89,T,FR",": ",": ",": ",": ",": ",": ",": ",": ",": ",": ",91955,95568,96890,100354,104689,108685,110719,117482,120232,125054,122818,133511,135146,136794,91279,76406,83189,94306,108708,183625,184614,183924,185751,187147,195185,null,null,0,0,0,0,0,0,0,0,0,0,0,0,0,0,0,0,0,0,0,0,0,0,0,0,0,0,0,0,0,0,0,0,0,0,0]
[null,null,90,"Y90","Y90,T,FR",{"$f":"IF(ISERROR(VLOOKUP($E96,popEU,F$1,FALSE)),\"\",(VLOOKUP($E96,popEU,F$1,FALSE)))","v":": "},": ",": ",": ",": ",": ",": ",": ",": ",": ",{"$f":"IF(ISERROR(VLOOKUP($E96,popEU,P$1,FALSE)),\"\",(VLOOKUP($E96,popEU,P$1,FALSE)))","v":69380},77413,81054,82009,85534,89103,92330,94192,100331,102093,{"$f":"IF(ISERROR(VLOOKUP($E96,popEU,Z$1,FALSE)),\"\",(VLOOKUP($E96,popEU,Z$1,FALSE)))","v":107051},105393,114318,114878,119021,78860,66257,72540,81831,94417,160479,161345,160969,162626,165349,null,null,0,0,0,0,0,0,0,0,0,0,0,0,0,0,0,0,0,0,0,0,0,0,0,0,0,0,0,0,0,0,0,0,0,0,0]
[null,null,91,"Y91","Y91,T,FR",": ",": ",": ",": ",": ",": ",": ",": ",": ",": ",53480,57424,64319,67161,68689,71443,74135,77160,78854,83695,85610,89932,88570,95198,98127,101165,67142,56326,61884,69938,80611,137241,138309,138376,140554,null,null,0,0,0,0,0,0,0,0,0,0,0,0,0,0,0,0,0,0,0,0,0,0,0,0,0,0,0,0,0,0,0,0,0,0,0]
[null,null,92,"Y92","Y92,T,FR",": ",": ",": ",": ",": ",": ",": ",": ",": ",": ",39880,43083,46815,52223,55224,56372,58382,60715,63189,64329,68542,70403,73955,72275,79897,81974,84546,56418,47346,52366,59174,68316,114848,116404,118233,null,null,0,0,0,0,0,0,0,0,0,0,0,0,0,0,0,0,0,0,0,0,0,0,0,0,0,0,0,0,0,0,0,0,0,0,0]
[null,null,93,"Y93","Y93,T,FR",": ",": ",": ",": ",": ",": ",": ",": ",": ",": ",30115,31496,34164,37341,42058,44211,45271,46933,48832,50619,51741,55048,56661,59078,59237,65221,67165,69806,46431,39201,43357,48839,56286,95062,97309,null,null,0,0,0,0,0,0,0,0,0,0,0,0,0,0,0,0,0,0,0,0,0,0,0,0,0,0,0,0,0,0,0,0,0,0,0]
[null,null,94,"Y94","Y94,T,FR",": ",": ",": ",": ",": ",": ",": ",": ",": ",": ",22259,23333,24374,26333,29394,33174,34643,35650,36848,38227,39667,40657,43140,43973,47523,47058,52030,53894,56345,37372,31730,35051,38711,45218,77661,null,null,0,0,0,0,0,0,0,0,0,0,0,0,0,0,0,0,0,0,0,0,0,0,0,0,0,0,0,0,0,0,0,0,0,0,0]
[null,null,95,"Y95","Y95,T,FR",": ",": ",": ",": ",": ",": ",": ",": ",": ",": ",14938,16843,17600,18450,20148,22590,25554,26570,27499,28160,29253,30772,31298,32692,34350,37168,36845,40807,42174,44569,29582,25131,27409,30258,36078,null,null,0,0,0,0,0,0,0,0,0,0,0,0,0,0,0,0,0,0,0,0,0,0,0,0,0,0,0,0,0,0,0,0,0,0,0]
[null,null,96,"Y96","Y96,T,FR",": ",": ",": ",": ",": ",": ",": ",": ",": ",": ",10568,11076,12559,12917,13753,14887,16995,19328,19948,20629,21086,21917,23111,22946,24899,25760,28160,28411,31174,32301,34509,22824,19109,21096,23567,null,null,0,0,0,0,0,0,0,0,0,0,0,0,0,0,0,0,0,0,0,0,0,0,0,0,0,0,0,0,0,0,0,0,0,0,0]
[null,null,97,"Y97","Y97,T,FR",": ",": ",": ",": ",": ",": ",": ",": ",": ",": ",7351,7618,8065,9134,9343,9890,10683,12513,14422,14567,15197,15382,15912,16478,16932,18052,19078,21263,21268,23207,24038,25950,16877,14264,16062,null,null,0,0,0,0,0,0,0,0,0,0,0,0,0,0,0,0,0,0,0,0,0,0,0,0,0,0,0,0,0,0,0,0,0,0,0]
[null,null,98,"Y98","Y98,T,FR",": ",": ",": ",": ",": ",": ",": ",": ",": ",": ",4348,5213,5485,5726,6615,6418,6952,7573,9063,10313,10430,10845,10933,10946,11951,11748,13173,13720,15397,15524,17016,17804,18794,12349,10697,null,null,0,0,0,0,0,0,0,0,0,0,0,0,0,0,0,0,0,0,0,0,0,0,0,0,0,0,0,0,0,0,0,0,0,0,0]
[null,null,99,"Y99","Y99,T,FR",": ",": ",": ",": ",": ",": ",": ",": ",": ",": ",3057,2899,3637,3810,4117,4614,4203,4769,5237,6386,7277,7252,7536,7329,7716,": ",": ",9318,9573,": ",11235,12218,12442,13508,8997,null,null,0,0,0,0,0,0,0,0,0,0,0,0,0,0,0,0,0,0,0,0,0,0,0,0,0,0,0,0,0,0,0,0,0,0,0]
[null,null,100,"Y_OPEN","Y_OPEN,T,FR",": ",": ",": ",": ",": ",": ",": ",": ",": ",": ",3886,4380,4459,5015,5649,6304,7108,7260,7754,8162,9445,11033,11949,12398,13189,21779,22645,14951,15821,27540,18233,19906,20897,22215,24458,null,null,0,0,0,0,0,0,0,0,0,0,0,0,0,0,0,0,0,0,0,0,0,0,0,0,0,0,0,0,0,0,0,0,0,0,0]
[null,null,null,null,null,null,null,null,null,null,null,null,null,null,null,null,null,null,null,null,null,null,null,null,null,null,null,null,null,null,null,null,null,null,null,null,null,null,null,null,"Go to Summary",null,null,null,null,null,"forecasting by exponential extrapolation"]
[null,null,null,null,null,null,null,null,null,null,null,null,null,null,null,null,null,null,null,null,null,null,null,null,null,null,null,null,null,null,null,null,null,null,null,null,null,null,null,null,"go to Introduction",null,{"$f":"AQ109^2","v":1},{"$f":"AR109^2","v":4},9,16,25,36,49,64,81,100,121,144,169,196,225,256,289,324,361,400,441,484,529,576,625,676,729,784,841,900,961,1024,1089,1156,1225,1296,1369,1444,1521,1600,1681,1764,1849,1936,{"$f":"CI109^2","v":2025},{"$f":"CJ109^2","v":2116},2209,2304,2401,2500]
[null,null,null,null,null,null,null,null,null,null,null,null,null,null,null,null,null,null,null,null,null,null,null,null,null,null,null,null,null,null,null,null,null,null,null,null,null,null,null,null,"go to charts",null,1,2,3,4,5,6,7,8,9,10,11,12,13,14,15,16,17,18,19,20,21,22,23,24,25,26,27,28,29,30,31,32,33,34,35,36,37,38,39,40,41,42,43,44,45,46,47,48,49,50]
[null,null,null,null,null,null,null,null,null,null,null,null,null,null,null,null,null,null,null,null,null,null,null,null,null,null,null,null,null,null,null,null,null,null,null,null,null,null,null,null,"go to Data collection",null,1981,1982,1983,1984,1985,1986,1987,1988,1989,1990,1991,1992,1993,1994,1995,1996,1997,1998,1999,2000,2001,2002,2003,2004,2005,2006,2007,2008,2009,2010,2011,2012,2013,2014,2015,2016,2017,2018,2019,2020,2021,2022,2023,2024,2025,2026,2027,2028,2029,2030]
[null,null,null,null,null,null,null,null,null,null,null,null,null,null,null,null,null,null,null,null,null,null,null,null,null,null,null,null,null,null,null,null,null,null,null,null,null,null,null,null,null,"Time series: total selected population",{"$f":"SUM(AQ6:AQ106)","v":0},{"$f":"SUM(AR6:AR106)","v":0},0,0,0,0,0,0,0,0,5706279,5811527,5927527,6016329,6118786,6215432,6431827,6671731,6892573,7079835,7244219,7243499,7250511,7256729,7273536,7293225,7251890,7185181,7176013,7191873,7221767,7242884,7458013,7695311,7968556,{"$f":"FORECAST(BZ109,$AQ$111:$BY$111,$AQ$109:$BY$109)","v":9794221.7042016797},{"$f":"FORECAST(CA109,$AQ$111:$BY$111,$AQ$109:$BY$109)","v":10064019.651260506},10333817.598319329,10603615.545378152,10873413.492436975,11143211.439495798,11413009.386554621,11682807.333613444,11952605.280672271,{"$f":"FORECAST(CI109,$AQ$111:$BY$111,$AQ$109:$BY$109)","v":12222403.227731094},{"$f":"FORECAST(CJ109,$AQ$111:$BY$111,$AQ$109:$BY$109)","v":12492201.174789917},12761999.12184874,13031797.068907563,13301595.015966386,13571392.963025212,"linear"]
[null,null,null,null,null,null,null,null,null,null,null,null,null,null,null,null,null,null,null,null,null,null,null,null,null,null,null,null,null,null,null,null,null,null,null,null,null,null,null,null,null,"Forecast: total selected population",{"$f":"AQ111","v":0},{"$f":"AR111","v":0},0,0,0,0,0,0,0,0,5706279,5811527,5927527,6016329,6118786,6215432,6431827,6671731,6892573,7079835,7244219,7243499,7250511,7256729,7273536,7293225,7251890,7185181,7176013,7191873,7221767,7242884,7458013,7695311,7968556]
[null,null,null,null,null,null,null,null,null,null,null,null,null,null,null,null,null,null,null,null,null,null,null,null,null,null,null,null,null,null,null,null,null,null,null,null,null,null,null,null,null,null,null,null,null,null,null,null,null,null,null,null,null,null,null,null,null,null,null,null,null,null,null,null,null,null,null,null,null,null,null,null,null,null,null,null,null,{"$f":"BZ111","v":9794221.7042016797},{"$f":"CA111","v":10064019.651260506},10333817.598319329,10603615.545378152,10873413.492436975,11143211.439495798,11413009.386554621,11682807.333613444,11952605.280672271,12222403.227731094,12492201.174789917,12761999.12184874,13031797.068907563,13301595.015966386,13571392.963025212]
[null,null,null,null,null,null,null,null,null,null,null,null,null,null,null,null,null,null,null,null,null,null,null,null,null,null,null,null,null,null,null,null,null,null,null,null,null,null,null,null,null,"exponential"]
[null,null,null,null,null,null,null,null,null,null,null,null,null,null,null,null,null,null,null,null,null,null,null,null,null,null,null,null,null,null,null,null,null,null,null,null,null,null,null,null,null,null,null,null,null,null,null,null,null,null,null,null,null,null,null,null,null,null,null,null,null,null,null,null,null,null,null,null,null,null,null,null,null,null,null,null,null,{"$f":"FORECAST(BZ108,$AQ$111:$BY$111,$AQ$108:$BY$108)","v":10448880.509121925},{"$f":"FORECAST(CA108,$AQ$111:$BY$111,$AQ$108:$BY$108)","v":10911299.584058098},11386387.674745949,11874144.781185476,12374570.903376678,12887666.041319557,{"$f":"FORECAST(CF108,$AQ$111:$BY$111,$AQ$108:$BY$108)","v":13413430.195014112},13951863.364460343,14502965.54965825,{"$f":"FORECAST(CI108,$AQ$111:$BY$111,$AQ$108:$BY$108)","v":15066736.750607831},15643176.967309091,16232286.199762026,16834064.447966635,17448511.711922921,{"$f":"FORECAST(CN108,$AQ$111:$BY$111,$AQ$108:$BY$108)","v":18075627.991630886},"exponential"]
[]
[]
[]
[]
[]
[null,null,null,null,null,null,null,null,null,null,null,null,null,null,null,null,null,null,null,null,null,null,null,null,null,null,null,null,null,null,null,null,null,null,null,null,null,null,null,null,null,{"$f":"'input selections'!A3","v":"France"}]
[null,null,null,null,null,null,null,null,null,null,null,null,null,null,null,null,null,null,null,null,null,null,null,null,null,null,null,null,null,null,null,null,null,null,null,null,null,null,null,null,null," - "]
[null,null,null,null,null,null,null,null,null,null,null,null,null,null,null,null,null,null,null,null,null,null,null,null,null,null,null,null,null,null,null,null,null,null,null,null,null,null,null,null,null,{"$f":"'input selections'!G10","v":65}]
[null,null,null,null,null,null,null,null,null,null,null,null,null,null,null,null,null,null,null,null,null,null,null,null,null,null,null,null,null,null,null,null,null,null,null,null,null,null,null,null,null,{"$f":"'input selections'!H10","v":80}]
[null,null,null,null,null,null,null,null,null,null,null,null,null,null,null,null,null,null,null,null,null,null,null,null,null,null,null,null,null,null,null,null,null,null,null,null,null,null,null,null,null,", "]
[null,null,null,null,null,null,null,null,null,null,null,null,null,null,null,null,null,null,null,null,null,null,null,null,null,null,null,null,null,null,null,null,null,null,null,null,null,null,null,null,null,{"$f":"CONCATENATE(AP111,AP122,AP121,AP125,AP123,AP122,AP124)","v":"Time series: total selected population - France, 65 - 80"}]
[null,null,null,null,null,null,null,null,null,null,null,null,null,null,null,null,null,null,null,null,null,null,null,null,null,null,null,null,null,null,null,null,null,null,null,null,null,null,null,null,null,{"$f":"CONCATENATE(AP112,AP122,AP121,AP125,AP123,AP122,AP124)","v":"Forecast: total selected population - France, 65 - 80"}]
[]
[]
[null,null,null,null,null,null,null,null,null,null,null,null,null,null,null,null,null,null,null,null,null,null,null,null,null,null,null,null,null,null,null,null,null,null,null,null,null,null,null,null,{"$f":"'input selections'!A3","v":"France"},2015,null,null,2030]
[null,null,null,null,null,null,null,null,null,null,null,null,null,null,null,null,null,null,null,null,null,null,null,null,null,null,null,null,null,null,null,null,null,null,null,null,null,null,null,null,"Selected population",{"$f":"popselect","v":7968556},null,null,{"$f":"CN115","v":18075627.991630886}]
[null,null,null,null,null,null,null,null,null,null,null,null,null,null,null,null,null,null,null,null,null,null,null,null,null,null,null,null,null,null,null,null,null,null,null,null,null,null,null,null,"% change to 2025",null,null,null,{"$f":"AS131/AP131-1","v":1.2683693245841385}]
[]
[]
[null,null,null,null,null,null,null,null,null,null,null,null,null,null,null,null,null,null,null,null,null,null,null,null,null,null,null,null,null,null,null,null,null,null,null,null,null,null,null,null,"Costs and benefits - No risk stratification","Costs","Benefits",null,"Costs","Benefits"]
[null,null,null,null,null,null,null,null,null,null,null,null,null,null,null,null,null,null,null,null,null,null,null,null,null,null,null,null,null,null,null,null,null,null,null,null,null,null,null,null,null,"€m","€m",null,"€m","€m"]
[null,null,null,null,null,null,null,null,null,null,null,null,null,null,null,null,null,null,null,null,null,null,null,null,null,null,null,null,null,null,null,null,null,null,null,null,null,null,null,null,"Net total cost of reviews",{"$f":"'Review costs and WTE'!M57","v":622.087614968053},0,null,{"$f":"(1+$AS$132)*AP137","v":1411.12446299724},0]
[null,null,null,null,null,null,null,null,null,null,null,null,null,null,null,null,null,null,null,null,null,null,null,null,null,null,null,null,null,null,null,null,null,null,null,null,null,null,null,null,"Drugs cost avoided",0,{"$f":"'drugs saved'!L39","v":1711.1970411593882},null,0,3881.6268764850975]
[null,null,null,null,null,null,null,null,null,null,null,null,null,null,null,null,null,null,null,null,null,null,null,null,null,null,null,null,null,null,null,null,null,null,null,null,null,null,null,null,"Definitely avoidable cost of ADR related bed days",0,{"$f":"'Indirect Impacts'!AA108","v":9.486622404404093},null,0,21.519163256062868]
[null,null,null,null,null,null,null,null,null,null,null,null,null,null,null,null,null,null,null,null,null,null,null,null,null,null,null,null,null,null,null,null,null,null,null,null,null,null,null,null,"Additional potentially avoidable cost of ADR related bed days",0,{"$f":"AQ141-AQ139","v":56.919734426424561},null,0,129.11497953637723]
[null,null,null,null,null,null,null,null,null,null,null,null,null,null,null,null,null,null,null,null,null,null,null,null,null,null,null,null,null,null,null,null,null,null,null,null,null,null,null,null,"Potentially avoidable cost of ADR related bed days",null,{"$f":"'Indirect Impacts'!AA123","v":66.406356830828656},null,null,{"$f":"(1+$AS$132)*AQ141","v":150.63414279244009}]
[]
[null,null,null,null,null,null,null,null,null,null,null,null,null,null,null,null,null,null,null,null,null,null,null,null,null,null,null,null,null,null,null,null,null,null,null,null,null,null,null,null,"Costs and benefits - BNF 10+","Costs","Benefits",null,"Costs","Benefits"]
[null,null,null,null,null,null,null,null,null,null,null,null,null,null,null,null,null,null,null,null,null,null,null,null,null,null,null,null,null,null,null,null,null,null,null,null,null,null,null,null,null,"€m","€m",null,"€m","€m"]
[null,null,null,null,null,null,null,null,null,null,null,null,null,null,null,null,null,null,null,null,null,null,null,null,null,null,null,null,null,null,null,null,null,null,null,null,null,null,null,null,"Net total cost of reviews",{"$f":"'Review costs and WTE'!N57","v":29.265632768528342},0,null,{"$f":"(1+$AS$132)*AP145","v":66.385263636674068},0]
[null,null,null,null,null,null,null,null,null,null,null,null,null,null,null,null,null,null,null,null,null,null,null,null,null,null,null,null,null,null,null,null,null,null,null,null,null,null,null,null,"Drugs cost avoided",0,{"$f":"'drugs saved'!M39","v":80.501946986574751},null,0,182.60814711364469]
[null,null,null,null,null,null,null,null,null,null,null,null,null,null,null,null,null,null,null,null,null,null,null,null,null,null,null,null,null,null,null,null,null,null,null,null,null,null,null,null,"Definitely avoidable cost of ADR related bed days",0,{"$f":"'Indirect Impacts'!AB108","v":1.5491738695344197},null,0,3.514098484099188]
[null,null,null,null,null,null,null,null,null,null,null,null,null,null,null,null,null,null,null,null,null,null,null,null,null,null,null,null,null,null,null,null,null,null,null,null,null,null,null,null,"Additional potentially avoidable cost of ADR related bed days",0,{"$f":"AQ149-AQ147","v":9.2950432172065174},null,0,21.084590904595125]
[null,null,null,null,null,null,null,null,null,null,null,null,null,null,null,null,null,null,null,null,null,null,null,null,null,null,null,null,null,null,null,null,null,null,null,null,null,null,null,null,"Potentially avoidable cost of ADR related bed days",null,{"$f":"'Indirect Impacts'!AB123","v":10.844217086740937},null,null,{"$f":"(1+$AS$132)*AQ149","v":24.598689388694314}]
[]
[null,null,null,null,null,null,null,null,null,null,null,null,null,null,null,null,null,null,null,null,null,null,null,null,null,null,null,null,null,null,null,null,null,null,null,null,null,null,null,null,"Costs and benefits - BNF10+ & High Risk Med","Costs","Benefits",null,"Costs","Benefits"]
[null,null,null,null,null,null,null,null,null,null,null,null,null,null,null,null,null,null,null,null,null,null,null,null,null,null,null,null,null,null,null,null,null,null,null,null,null,null,null,null,null,"€m","€m",null,"€m","€m"]
[null,null,null,null,null,null,null,null,null,null,null,null,null,null,null,null,null,null,null,null,null,null,null,null,null,null,null,null,null,null,null,null,null,null,null,null,null,null,null,null,"Net total cost of reviews",{"$f":"'Review costs and WTE'!O57","v":28.580671502397767},0,null,{"$f":"(1+$AS$132)*AP153","v":64.831518512055155},0]
[null,null,null,null,null,null,null,null,null,null,null,null,null,null,null,null,null,null,null,null,null,null,null,null,null,null,null,null,null,null,null,null,null,null,null,null,null,null,null,null,"Drugs cost avoided",0,{"$f":"'drugs saved'!N39","v":78.617801307237258},null,0,178.33420885158779]
[null,null,null,null,null,null,null,null,null,null,null,null,null,null,null,null,null,null,null,null,null,null,null,null,null,null,null,null,null,null,null,null,null,null,null,null,null,null,null,null,"Definitely avoidable cost of ADR related bed days",0,{"$f":"'Indirect Impacts'!AC108","v":1.3428459615909627},null,0,3.0460705869146301]
[null,null,null,null,null,null,null,null,null,null,null,null,null,null,null,null,null,null,null,null,null,null,null,null,null,null,null,null,null,null,null,null,null,null,null,null,null,null,null,null,"Additional potentially avoidable cost of ADR related bed days",0,{"$f":"AQ157-AQ155","v":8.0570757695457775},null,0,18.276423521487782]
[null,null,null,null,null,null,null,null,null,null,null,null,null,null,null,null,null,null,null,null,null,null,null,null,null,null,null,null,null,null,null,null,null,null,null,null,null,null,null,null,"Potentially avoidable cost of ADR related bed days",null,{"$f":"'Indirect Impacts'!AC123","v":9.3999217311367396},null,null,{"$f":"(1+$AS$132)*AQ157","v":21.322494108402413}]
[]
[null,null,null,null,null,null,null,null,null,null,null,null,null,null,null,null,null,null,null,null,null,null,null,null,null,null,null,null,null,null,null,null,null,null,null,null,null,null,null,null,"Costs and benefits - BNF 5-9","Costs","Benefits",null,"Costs","Benefits"]
[null,null,null,null,null,null,null,null,null,null,null,null,null,null,null,null,null,null,null,null,null,null,null,null,null,null,null,null,null,null,null,null,null,null,null,null,null,null,null,null,null,"€m","€m",null,"€m","€m"]
[null,null,null,null,null,null,null,null,null,null,null,null,null,null,null,null,null,null,null,null,null,null,null,null,null,null,null,null,null,null,null,null,null,null,null,null,null,null,null,null,"Net total cost of reviews",{"$f":"'Review costs and WTE'!P57","v":33.208884366681765},0,null,{"$f":"(1+$AS$132)*AP161","v":75.330014601042677},0]
[null,null,null,null,null,null,null,null,null,null,null,null,null,null,null,null,null,null,null,null,null,null,null,null,null,null,null,null,null,null,null,null,null,null,null,null,null,null,null,null,"Drugs cost avoided",0,{"$f":"'drugs saved'!O39","v":91.348779980756262},null,0,207.21277034653315]
[null,null,null,null,null,null,null,null,null,null,null,null,null,null,null,null,null,null,null,null,null,null,null,null,null,null,null,null,null,null,null,null,null,null,null,null,null,null,null,null,"Definitely avoidable cost of ADR related bed days",0,{"$f":"'Indirect Impacts'!AD108","v":1.6207946613642326},null,0,3.6765608912883616]
[null,null,null,null,null,null,null,null,null,null,null,null,null,null,null,null,null,null,null,null,null,null,null,null,null,null,null,null,null,null,null,null,null,null,null,null,null,null,null,null,"Additional potentially avoidable cost of ADR related bed days",0,{"$f":"AQ165-AQ163","v":9.7247679681853949},null,0,22.059365347730168]
[null,null,null,null,null,null,null,null,null,null,null,null,null,null,null,null,null,null,null,null,null,null,null,null,null,null,null,null,null,null,null,null,null,null,null,null,null,null,null,null,"Potentially avoidable cost of ADR related bed days",null,{"$f":"'Indirect Impacts'!AD123","v":11.345562629549628},null,null,{"$f":"(1+$AS$132)*AQ165","v":25.735926239018532}]
[]
[null,null,null,null,null,null,null,null,null,null,null,null,null,null,null,null,null,null,null,null,null,null,null,null,null,null,null,null,null,null,null,null,null,null,null,null,null,null,null,null,"Costs and benefits - BNF 5-9 & High Risk Med","Costs","Benefits",null,"Costs","Benefits"]
[null,null,null,null,null,null,null,null,null,null,null,null,null,null,null,null,null,null,null,null,null,null,null,null,null,null,null,null,null,null,null,null,null,null,null,null,null,null,null,null,null,"€m","€m",null,"€m","€m"]
[null,null,null,null,null,null,null,null,null,null,null,null,null,null,null,null,null,null,null,null,null,null,null,null,null,null,null,null,null,null,null,null,null,null,null,null,null,null,null,null,"Net total cost of reviews",{"$f":"'Review costs and WTE'!Q57","v":32.026302034796728},0,null,{"$f":"(1+$AS$132)*AP169","v":72.647481115599476},0]
[null,null,null,null,null,null,null,null,null,null,null,null,null,null,null,null,null,null,null,null,null,null,null,null,null,null,null,null,null,null,null,null,null,null,null,null,null,null,null,null,"Drugs cost avoided",0,{"$f":"'drugs saved'!P39","v":88.09581152654107},null,0,199.83383649115154]
[null,null,null,null,null,null,null,null,null,null,null,null,null,null,null,null,null,null,null,null,null,null,null,null,null,null,null,null,null,null,null,null,null,null,null,null,null,null,null,null,"Definitely avoidable cost of ADR related bed days",0,{"$f":"'Indirect Impacts'!AE108","v":1.381255215086145},null,0,3.1331969593232776]
[null,null,null,null,null,null,null,null,null,null,null,null,null,null,null,null,null,null,null,null,null,null,null,null,null,null,null,null,null,null,null,null,null,null,null,null,null,null,null,null,"Additional potentially avoidable cost of ADR related bed days",0,{"$f":"AR173-AQ171","v":8.2875312905168723},null,0,18.799181755939671]
[null,null,null,null,null,null,null,null,null,null,null,null,null,null,null,null,null,null,null,null,null,null,null,null,null,null,null,null,null,null,null,null,null,null,null,null,null,null,null,null,null,"Potentially avoidable cost of ADR related bed days",null,{"$f":"'Indirect Impacts'!AE123","v":9.668786505603018},null,null,{"$f":"(1+$AS$132)*AR173","v":21.932378715262949}]

{"sheet":"Data collection","index":4,"n_rows":120,"n_cols":8,"rows_kept":120,"cut":false,"hidden":false,"merged":[]}
["Level 1","Level 2","Level 3","Level 4","Level 5","Data point",null,"Recorded data"]
["Choice parameters","Choice parameters","Choice parameters","Popuation selection","Popuation selection",{"$f":"'input selections'!A2","v":"Apply country specific population"}]
["Choice parameters","Choice parameters","Choice parameters","Country","Country",{"$f":"'input selections'!A3","v":"France"}]
["Choice parameters","Choice parameters","Choice parameters","Country code","Country code",{"$f":"'input selections'!G3","v":"FR"}]
["Choice parameters","Choice parameters","Choice parameters","sex","sex",{"$f":"'input selections'!A6","v":"Total"}]
["Choice parameters","Choice parameters","Choice parameters","age min","age min",{"$f":"'input selections'!A10","v":65}]
["Choice parameters","Choice parameters","Choice parameters","age max","age max",{"$f":"'input selections'!B10","v":80}]
["Choice parameters","Choice parameters","Choice parameters","Risk stratification","Risk stratification",{"$f":"'input selections'!A13","v":false}]
["Choice parameters","Choice parameters","Choice parameters","if yes","if yes",{"$f":"'input selections'!A15","v":"Apply Scottish risk profile"}]
["Choice parameters","Choice parameters","Choice parameters","Reviews","Reviews",{"$f":"'input selections'!A18","v":"Apply Scottish review set-up"}]
["Choice parameters","Choice parameters","Choice parameters","Staff cost","Staff cost",{"$f":"'input selections'!A21","v":"Apply Scottish profile for staff cost"}]
["Choice parameters","Choice parameters","Choice parameters","Review Charges","Review Charges",{"$f":"'input selections'!A24","v":"No charge for reviews"}]
["Choice parameters","Choice parameters","Choice parameters","Number of drugs","Number of drugs",{"$f":"'input selections'!A27","v":"Apply Scottish profile for DDDs stopped / started"}]
["Choice parameters","Choice parameters","Choice parameters","Drugs cost","Drugs cost",{"$f":"'input selections'!A35","v":"Apply Scottish profile for annual cost per DDD"}]
["Choice parameters","Choice parameters","Choice parameters","Cost per bed day","Cost per bed day",{"$f":"'input selections'!A38","v":"Apply Scottish profile for cost per bed day"}]
["Choice parameters","Choice parameters","Choice parameters","Bed day type","Bed day type",{"$f":"'input selections'!A39","v":"General Medicine Gross direct cost per bed day"}]
["Choice parameters","Choice parameters","Choice parameters","Admission rates","Admission rates",{"$f":"'input selections'!A42","v":"Apply Scottish profile for admission rates"}]
["Input parameters","Review cost","GPs (Primary Care Doctors)","GPs (Primary Care Doctors)","Minutes",{"$f":"'Review costs and WTE'!F23","v":30}]
["Input parameters","Review cost","GPs (Primary Care Doctors)","GPs (Primary Care Doctors)","Cost",{"$f":"'Review costs and WTE'!F24","v":1.0253912247474748}]
["Input parameters","Review cost","GPs (Primary Care Doctors)","GPs (Primary Care Doctors)","Cost per review",{"$f":"'Review costs and WTE'!F27","v":30.761736742424244}]
["Input parameters","Review cost","Other doctors","Other doctors","Minutes",{"$f":"'Review costs and WTE'!G23","v":0}]
["Input parameters","Review cost","Other doctors","Other doctors","Cost",{"$f":"'Review costs and WTE'!G24","v":1.631}]
["Input parameters","Review cost","Other doctors","Other doctors","Cost per review",{"$f":"'Review costs and WTE'!G27","v":0}]
["Input parameters","Review cost","Pharmacists","Pharmacists","Minutes",{"$f":"'Review costs and WTE'!H23","v":75}]
["Input parameters","Review cost","Pharmacists","Pharmacists","Cost",{"$f":"'Review costs and WTE'!H24","v":0.63074747474747472}]
["Input parameters","Review cost","Pharmacists","Pharmacists","Cost per review",{"$f":"'Review costs and WTE'!H27","v":47.306060606060605}]
["Input parameters","Review cost","Nurses","Nurses","Minutes",{"$f":"'Review costs and WTE'!I23","v":0}]
["Input parameters","Review cost","Nurses","Nurses","Cost",{"$f":"'Review costs and WTE'!I24","v":0.40833838383838383}]
["Input parameters","Review cost","Nurses","Nurses","Cost per review",{"$f":"'Review costs and WTE'!I27","v":0}]
["Input parameters","Review cost","Total cost per review","Total cost per review","Total cost per review",{"$f":"'Review costs and WTE'!J27","v":78.067797348484845}]
["Input parameters","Net drug savings","Number of DDDs","Drugs started (DDDs)","Drugs started (DDDs)",{"$f":"'drugs saved'!F8","v":0.4}]
["Input parameters","Net drug savings","Number of DDDs","Drugs stopped (DDDs)","Drugs stopped (DDDs)",{"$f":"'drugs saved'!E8","v":2.1}]
["Input parameters","Net drug savings","Number of DDDs","Net number of DDDs decreased per review per annum","Net number of DDDs decreased per review per annum",{"$f":"'drugs saved'!D22","v":1.7000000000000002}]
["Input parameters","Net drug savings","Cost of DDDs","Annual cost per DDD","Annual cost per DDD",{"$f":"'drugs saved'!E22","v":126.31981187051204}]
["Input parameters","Net drug savings","Cost of DDDs","Potential savings per review for full year","Potential savings per review for full year",{"$f":"'drugs saved'!F22","v":214.74368017987049}]
["Input parameters","Input parameters","ADRs","Proportion of ADRs avoidable through PPH","Proportion of ADRs avoidable through PPH",{"$f":"'Indirect Impacts'!E22","v":0.6}]
["Fixed parameters","Pirmohamed central estimates","ADRs","Adverse drug events  accounting for % of hospital admissions","average",6.5000000000000002E-2]
["Fixed parameters","Pirmohamed central estimates","ADRs","% of ADRs definitely avoidable","average",0.09]
["Fixed parameters","Pirmohamed central estimates","ADRs","% of ADRs possibly avoidable","average",0.63]
["Fixed parameters","Pirmohamed central estimates","bed days","median bed day","median",{"$f":"'Indirect Impacts'!E20","v":3.1}]
["Output","No risk stratification","No risk stratification","Population","Population summary",{"$f":"'risk stratification'!B10","v":7968556}]
["Output","No risk stratification","No risk stratification","Admissions","Average admission rate",{"$f":"'admission rate var'!D3","v":0.29253627795646647}]
["Output","No risk stratification","No risk stratification","Admissions","Admission",{"$f":"'Indirect Impacts'!F34","v":2331091.7129276688}]
["Output","No risk stratification","No risk stratification","Review Charge","Review charge",{"$f":"'Review costs and WTE'!F51","v":0}]
["Output","No risk stratification","No risk stratification","Net total cost of reviews","Net total cost of reviews",{"$f":"'Review costs and WTE'!F57","v":622087614.96805298}]
["Output","No risk stratification","No risk stratification","Avoided drugs cost","Avoided drugs cost",{"$f":"'drugs saved'!D39","v":1711197041.1593881}]
["Output","No risk stratification","No risk stratification","ADRs","ADR admissions",{"$f":"'Indirect Impacts'!F44","v":151520.96134029847}]
["Output","No risk stratification","No risk stratification","ADRs","propn ADR def avoid",{"$f":"'Indirect Impacts'!F59","v":8182.1319123761168}]
["Output","No risk stratification","No risk stratification","ADRs","propn ADR poss avoid",{"$f":"'Indirect Impacts'!F74","v":57274.923386632821}]
["Output","No risk stratification","No risk stratification","Avoidable bed days]","ADR Bed days",{"$f":"'Indirect Impacts'!F93","v":469714.98015492526}]
["Output","No risk stratification","No risk stratification","Avoidable bed days]","Bed days definitely avoidable",{"$f":"'Indirect Impacts'!F108","v":25364.608928365964}]
["Output","No risk stratification","No risk stratification","Avoidable bed days]","Bed days potentially avoidable",{"$f":"'Indirect Impacts'!F123","v":177552.26249856176}]
["Output","No risk stratification","No risk stratification","Cost of bed days","cost per bed day",{"$f":"'Indirect Impacts'!$C$34","v":374.01019787830961}]
["Output","No risk stratification","No risk stratification","Cost of bed days","cost of ADR Bed days",{"$f":"'Indirect Impacts'!Q93","v":175678192.67414987}]
["Output","No risk stratification","No risk stratification","Cost of bed days","cost of Bed days definitely avoidable",{"$f":"'Indirect Impacts'!Q108","v":9486622.4044040926}]
["Output","No risk stratification","No risk stratification","Cost of bed days","cost of Bed days potentially avoidable",{"$f":"'Indirect Impacts'!Q123","v":66406356.830828652}]
["Output","Risk stratification","BNF10+","Population","Average proportion at risk",{"$f":"'risk stratification'!BB111","v":4.7044229887186012E-2}]
["Output","Risk stratification","BNF10+","Population","Population summary",{"$f":"'risk stratification'!C10","v":374874.58033291542}]
["Output","Risk stratification","BNF10+","Admissions","Average admission rate",{"$f":"'admission rate var'!AY110","v":1.059638102142211}]
["Output","Risk stratification","BNF10+","Admissions","Admission",{"$f":"'admission rate var'!BI112","v":397231.3888453283}]
["Output","Risk stratification","BNF10+","Review Charge","Review charge",{"$f":"'Review costs and WTE'!G51","v":0}]
["Output","Risk stratification","BNF10+","Net total cost of reviews","Net total cost of reviews",{"$f":"'Review costs and WTE'!G57","v":29265632.768528342}]
["Output","Risk stratification","BNF10+","Avoided drugs cost","Avoided drugs cost",{"$f":"'drugs saved'!E39","v":80501946.986574754}]
["Output","Risk stratification","BNF10+","ADRs","ADR admissions",{"$f":"'Indirect Impacts'!G44","v":24743.507645687747}]
["Output","Risk stratification","BNF10+","ADRs","propn ADR def avoid",{"$f":"'Indirect Impacts'!G59","v":1336.1494128671384}]
["Output","Risk stratification","BNF10+","ADRs","propn ADR poss avoid",{"$f":"'Indirect Impacts'!G74","v":9353.0458900699687}]
["Output","Risk stratification","BNF10+","Avoidable bed days]","ADR Bed days",{"$f":"'Indirect Impacts'!G93","v":76704.873701632023}]
["Output","Risk stratification","BNF10+","Avoidable bed days]","Bed days definitely avoidable",{"$f":"'Indirect Impacts'!G108","v":4142.0631798881295}]
["Output","Risk stratification","BNF10+","Avoidable bed days]","Bed days potentially avoidable",{"$f":"'Indirect Impacts'!G123","v":28994.442259216903}]
["Output","Risk stratification","BNF10+","Cost of bed days","cost of ADR Bed days",{"$f":"'Indirect Impacts'!R93","v":28688404.99137814}]
["Output","Risk stratification","BNF10+","Cost of bed days","cost of Bed days definitely avoidable",{"$f":"'Indirect Impacts'!R108","v":1549173.8695344196}]
["Output","Risk stratification","BNF10+","Cost of bed days","cost of Bed days potentially avoidable",{"$f":"'Indirect Impacts'!R123","v":10844217.086740937}]
["Output","Risk stratification","BNF10+ & High Risk Med","Population","Average proportion at risk",{"$f":"'risk stratification'!BC111","v":4.5943161083291321E-2}]
["Output","Risk stratification","BNF10+ & High Risk Med","Population","Population summary",{"$f":"'risk stratification'!D10","v":366100.65190922754}]
["Output","Risk stratification","BNF10+ & High Risk Med","Admissions","Average admission rate",{"$f":"'admission rate var'!AZ110","v":0.76369056879828978}]
["Output","Risk stratification","BNF10+ & High Risk Med","Admissions","Admission",{"$f":"'admission rate var'!BJ112","v":279587.61509398266}]
["Output","Risk stratification","BNF10+ & High Risk Med","Review Charge","Review charge",{"$f":"'Review costs and WTE'!H51","v":0}]
["Output","Risk stratification","BNF10+ & High Risk Med","Net total cost of reviews","Net total cost of reviews",{"$f":"'Review costs and WTE'!H57","v":28580671.502397768}]
["Output","Risk stratification","BNF10+ & High Risk Med","Avoided drugs cost","Avoided drugs cost",{"$f":"'drugs saved'!F39","v":78617801.307237253}]
["Output","Risk stratification","BNF10+ & High Risk Med","ADRs","ADR admissions",{"$f":"'Indirect Impacts'!H44","v":21448.024634957652}]
["Output","Risk stratification","BNF10+ & High Risk Med","ADRs","propn ADR def avoid",{"$f":"'Indirect Impacts'!H59","v":1158.1933302877133}]
["Output","Risk stratification","BNF10+ & High Risk Med","ADRs","propn ADR poss avoid",{"$f":"'Indirect Impacts'!H74","v":8107.3533120139928}]
["Output","Risk stratification","BNF10+ & High Risk Med","Avoidable bed days]","ADR Bed days",{"$f":"'Indirect Impacts'!H93","v":66488.876368368728}]
["Output","Risk stratification","BNF10+ & High Risk Med","Avoidable bed days]","Bed days definitely avoidable",{"$f":"'Indirect Impacts'!H108","v":3590.3993238919111}]
["Output","Risk stratification","BNF10+ & High Risk Med","Avoidable bed days]","Bed days potentially avoidable",{"$f":"'Indirect Impacts'!H123","v":25132.795267243378}]
["Output","Risk stratification","BNF10+ & High Risk Med","Cost of bed days","cost of ADR Bed days",{"$f":"'Indirect Impacts'!S93","v":24867517.80724005}]
["Output","Risk stratification","BNF10+ & High Risk Med","Cost of bed days","cost of Bed days definitely avoidable",{"$f":"'Indirect Impacts'!S108","v":1342845.9615909627}]
["Output","Risk stratification","BNF10+ & High Risk Med","Cost of bed days","cost of Bed days potentially avoidable",{"$f":"'Indirect Impacts'!S123","v":9399921.7311367393}]
["Output","Risk stratification","BNF 5-9","Population","Average proportion at risk",{"$f":"'risk stratification'!BD111","v":5.338296980625018E-2}]
["Output","Risk stratification","BNF 5-9","Population","Population summary",{"$f":"'risk stratification'!E10","v":425385.18434741371}]
["Output","Risk stratification","BNF 5-9","Admissions","Average admission rate",{"$f":"'admission rate var'!BA110","v":0.81606785761218892}]
["Output","Risk stratification","BNF 5-9","Admissions","Admission",{"$f":"'admission rate var'!BK112","v":347143.17605035997}]
["Output","Risk stratification","BNF 5-9","Review Charge","Review charge",{"$f":"'Review costs and WTE'!I51","v":0}]
["Output","Risk stratification","BNF 5-9","Net total cost of reviews","Net total cost of reviews",{"$f":"'Review costs and WTE'!I57","v":33208884.366681762}]
["Output","Risk stratification","BNF 5-9","Avoided drugs cost","Avoided drugs cost",{"$f":"'drugs saved'!G39","v":91348779.980756268}]
["Output","Risk stratification","BNF 5-9","ADRs","ADR admissions",{"$f":"'Indirect Impacts'!I44","v":25887.439676224632}]
["Output","Risk stratification","BNF 5-9","ADRs","propn ADR def avoid",{"$f":"'Indirect Impacts'!I59","v":1397.9217425161301}]
["Output","Risk stratification","BNF 5-9","ADRs","propn ADR poss avoid",{"$f":"'Indirect Impacts'!I74","v":9785.4521976129108}]
["Output","Risk stratification","BNF 5-9","Avoidable bed days]","ADR Bed days",{"$f":"'Indirect Impacts'!I93","v":80251.062996296358}]
["Output","Risk stratification","BNF 5-9","Avoidable bed days]","Bed days definitely avoidable",{"$f":"'Indirect Impacts'!I108","v":4333.5574018000034}]
["Output","Risk stratification","BNF 5-9","Avoidable bed days]","Bed days potentially avoidable",{"$f":"'Indirect Impacts'!I123","v":30334.901812600023}]
["Output","Risk stratification","BNF 5-9","Cost of bed days","cost of ADR Bed days",{"$f":"'Indirect Impacts'!T93","v":30014715.951189492}]
["Output","Risk stratification","BNF 5-9","Cost of bed days","cost of Bed days definitely avoidable",{"$f":"'Indirect Impacts'!T108","v":1620794.6613642327}]
["Output","Risk stratification","BNF 5-9","Cost of bed days","cost of Bed days potentially avoidable",{"$f":"'Indirect Impacts'!T123","v":11345562.629549628}]
["Output","Risk stratification","BNF 5-9 & High Risk Med","Population","Average proportion at risk",{"$f":"'risk stratification'!BE111","v":5.1481979811543781E-2}]
["Output","Risk stratification","BNF 5-9 & High Risk Med","Population","Population summary",{"$f":"'risk stratification'!F10","v":410237.03911915608}]
["Output","Risk stratification","BNF 5-9 & High Risk Med","Admissions","Average admission rate",{"$f":"'admission rate var'!BB110","v":0.59561028961413953}]
["Output","Risk stratification","BNF 5-9 & High Risk Med","Admissions","Admission",{"$f":"'admission rate var'!BL112","v":244341.40168020764}]
["Output","Risk stratification","BNF 5-9 & High Risk Med","Review Charge","Review charge",{"$f":"'Review costs and WTE'!J51","v":0}]
["Output","Risk stratification","BNF 5-9 & High Risk Med","Net total cost of reviews","Net total cost of reviews",{"$f":"'Review costs and WTE'!J57","v":32026302.034796726}]
["Output","Risk stratification","BNF 5-9 & High Risk Med","Avoided drugs cost","Avoided drugs cost",{"$f":"'drugs saved'!H39","v":88095811.526541069}]
["Output","Risk stratification","BNF 5-9 & High Risk Med","ADRs","ADR admissions",{"$f":"'Indirect Impacts'!J44","v":22061.499775620094}]
["Output","Risk stratification","BNF 5-9 & High Risk Med","ADRs","propn ADR def avoid",{"$f":"'Indirect Impacts'!J59","v":1191.320987883485}]
["Output","Risk stratification","BNF 5-9 & High Risk Med","ADRs","propn ADR poss avoid",{"$f":"'Indirect Impacts'!J74","v":8339.2469151843961}]
["Output","Risk stratification","BNF 5-9 & High Risk Med","Avoidable bed days]","ADR Bed days",{"$f":"'Indirect Impacts'!J93","v":68390.649304422288}]
["Output","Risk stratification","BNF 5-9 & High Risk Med","Avoidable bed days]","Bed days definitely avoidable",{"$f":"'Indirect Impacts'!J108","v":3693.0950624388038}]
["Output","Risk stratification","BNF 5-9 & High Risk Med","Avoidable bed days]","Bed days potentially avoidable",{"$f":"'Indirect Impacts'!J123","v":25851.665437071628}]
["Output","Risk stratification","BNF 5-9 & High Risk Med","Cost of bed days","cost of ADR Bed days",{"$f":"'Indirect Impacts'!U93","v":25578800.279373057}]
["Output","Risk stratification","BNF 5-9 & High Risk Med","Cost of bed days","cost of Bed days definitely avoidable",{"$f":"'Indirect Impacts'!U108","v":1381255.2150861451}]
["Output","Risk stratification","BNF 5-9 & High Risk Med","Cost of bed days","cost of Bed days potentially avoidable",{"$f":"'Indirect Impacts'!U123","v":9668786.5056030173}]

{"sheet":"data sources and parameters","index":5,"n_rows":54,"n_cols":7,"rows_kept":54,"cut":false,"hidden":false,"merged":[[48,2,51,2],[48,3,51,3]]}
[null," "]
["return to Introduction"]
[]
["Data type","Source","Country","Accessed","File name","File link"]
["Population data","Eurostat data","All","2016-07-19","demopjan","http://ec.europa.eu/eurostat/web/population-demography-migration-projections/population-data/database"]
["Population data","NRS Scotland data","Scotland","2016-07-19","table 2","http://www.nrscotland.gov.uk/statistics-and-data/statistics/statistics-by-theme/population/population-estimates/mid-year-population-estimates/mid-2015-and-corrected-mid-2012-to-mid-2014/list-of-tables"]
["Population data","NRS Scotland time series data","Scotland","2016-09-02","table 1","http://www.nrscotland.gov.uk/statistics-and-data/statistics/statistics-by-theme/population/population-estimates/mid-year-population-estimates/population-estimates-time-series-data"]
["Prescription cost data","ISD prescription cost analysis","Scotland","2016-07-20","2016-07-01","http://www.isdscotland.org/Health-Topics/Prescribing-and-Medicines/Publications/data-tables.asp?id=1693#1693"]
["Scottish Salary data","AfC salaries","Scotland",null,null,"HSCA workforce team data"]
["Scottish Salary data","GP salary","Scotland","2016-07-20",null,"https://www.bma.org.uk/advice/employment/pay/general-practitioners-pay"]
["Bed day cost","Cost per bed day","Scotland","2016-07-25","R040","http://www.isdscotland.org/Health-Topics/Finance/Costs/File-Listings-2015.asp"]
["Risk of Admission data","Scottish Patients at Risk of Readmission or Admission data","Scotland","2016-09-12",null,"data request to ISD SPARRA team"]
["Inpatient emergency admissions into General Medicine","ISD hospital data - inpatient and day case activity","Scotland","2017-02-15",null,"http://www.isdscotland.org/Health-Topics/Hospital-Care/Inpatient-and-Day-Case-Activity/"]
["Exchange rates","XE.com","All","2017-03-03",null,"http://www.xe.com/"]
["Clinician Salary data","OECD","Various","2016-09-12",null,"http://stats.oecd.org/","not in use"]
["DDDs","OECD","Various","2016-09-12",null,"http://stats.oecd.org/","not in use"]
["Sales value","OECD","Various","2016-09-12",null,"http://stats.oecd.org/","not in use"]
[]
[]
["Parameter overview"]
[]
["Parameter","Variable type","Variable explanation","Assumptions made"]
[]
["Core Variables"]
["Population sample","choice / input var","Select either own population sample or pre-set country level population for EU28 or Scotland","Model takes a 'top-down' approach and subsequent variables are applied to total selected population to give estimates of maximum resulting costs / benefits"]
["Geographic Region","choice var","if Country level population chosen, select country"]
["Age group","choice var","select min / max age group in sample"]
["sex","choice var","select male / female / total"]
[]
["Risk stratification"]
["Risk stratification","choice var","choose whether to apply risk stratification yes / no"]
["Risk of admission / re-admission","choice / input var","if yes, choose either own blanket risk of admission, or Scottish risk profile for selected population. No data currently for EU28 country setup ","Admission risk for Scotland based on algorithm of previous admission history and patient characteristics for different risk groups (different levels of drug prescriptions). Assumption that risk stratified population groups will be impacted on most by PPH reviews"]
[]
["Polypharmacy review setup"]
["Review setup","choice / input var","Staff types involved with PPH reviews. Choose either own setup with own data input (hours per staff type per activity per review), or Scottish setup. No data currently for EU28 country setup "]
["Staff cost","choice / input var","Wage cost of staff involved with PPH reviews. Choose either own setup with own data input (annual WTE cost per staff type), or Scottish setup. No data currently for EU28 country setup ","In Scotland, reviews are no longer paid by Local Enhanced Service and are part of regular clinician activity. Costs are therefore not additional to overall wage bill and can be seen as opportunity cost. Option to add in travel time and associated staff cost, but not currently including patient time cost."]
["Charge per review","choice / input var","Choose whether charge per review is applicable (recouping cost per review). Choose yes / no and own input if yes. Not applicable to Scotland and no data currently for EU28 country setup "]
["DDDs stopped / started","choice / input var","determine average DDDs stopped / started per review. Choose either own setup with own data input, or Scottish setup. No data currently for EU28 country setup "]
[]
["Health System Variables"]
["Average annual cost per DDD","choice / input var","Determine average annual cost per DDD to be used. Choose either own input, country specific data, or Scottish data. EU28 country data partially complete (OECD)"]
["Admission rates","choice / input var","Determine admission rates to be applied to selected population group. Choose own blanket rate applied across entire selected population, or Scottish profile based on SPARRA data. No data currently for EU28 country setup "]
["Inpatient cost per bed day","choice / input var","Choose between own data input cost per bed day, or Scottish cost. No data currently for EU28 country setup  "]
[]
[]
["Indirect model parameters"]
["Cost type for inpatient cost","currently fixed to General Medicine Gross direct cost per bed day "]
[]
["assumed ADR rate associated with stratified population","fixed var","currently based on results of British study, Pirmohamed et al (2004)","most of the estimated indirect benefits based on assumptions from one key paper in the literature. uncertainty around the applicability of the results from one study onto the entire population of EU28"]
["assumed rate of definitely avoidable ADRs","fixed var"]
["assumed rate of possibly avoidable ADRs","fixed var"]
["hospital admissions associated with ADRs","fixed var"]
["assumed proportion of avoidable ADRs avoided through polypharmacy reviews","choice / input var","Imposes what proportion of avoidable ADRs is assumed to be avoided due to a PPH review","PPH reviews will be one of the contributing factors leading towards avoidable ADRs and hospital admissions, but assumptions have to be made around what proportion this factor will take up in local circumstances. "]
["assumed Length of Stay (LOS), bed days per hospital admission","fixed var","based on recent Scottish data (ISD), to give a more up-to-date estimate than the median used by Pirmohamed et al (2004)"]

{"sheet":"manual data input","index":6,"n_rows":107,"n_cols":42,"rows_kept":107,"cut":false,"hidden":true,"merged":[[17,20,20,20],[5,20,8,20],[9,20,12,20],[13,20,16,20],[5,33,6,33],[7,33,8,33]]}
[1,2,3,4,5,6,7,8,9,10,11,12,13,14,15,16,17,18,19,20,21,22,23,24,25,26,27,28,29,30,31,32,33,34,35,36,37,38,39,40,41,42]
["Manual data input",null,"Risk stratification",null,null,null,null,null,"Hospital admissions",null,null,null,null,null,"Number of drugs started / stopped",null,null,"Average drug cost per item",null,null,"Staff time allocation",null,null,null,"Travel time",null,null,"Staff cost",null,null,"Charge per review",null,null,"Average cost per bed day",null,null,null,null,"Population",null,"Avoidable ADRs through PPH"]
[null,null,"add explanatory paragraph",null,"add risk in terms of % of population in age and risk category",null,"alternative",null,"add explanatory paragraph",null,"add average number of hospital admission per patient in age group",null,"alternative",null,null,null,null,null,"Enter cost in local currency",null,null,null,"Enter time in minutes",null,null,"Enter time in hours",null,null,"Enter total WTE salary cost incl. on-cost",null,null,"Enter amount charged per review",null,null,"Enter Average cost per bed day as applicable",null,null,null,"Enter own population sample",null,"Enter own assumption around % of ADRs avoidable through PPH"]
[null,null,"too much detail for user?",null,null,null,null,null,"not currently in use",null,null,null,null,null,null,null,null,null,null,null,null,null,null,null,"not currently in use",null,null,null,"in local currency",null,null,"in local currency",null,null,"in local currency"]
[null,null,"age","10+ BNF items dispensed","10+ items and high risk meds",null,"Blanket risk category across all age groups",null,"age","10+ BNF items dispensed","10+ items and high risk meds",null,"Blanket admission rate across all age groups",null,null,null,null,null,null,null,null,null,null,null,null,null,null,null,null,null,"Set own options","Charge per review"]
[null,null,0,null,null,null,{"$f":"G7/100","v":0},null,0,null,null,null,{"$f":"M7/100","v":0},null,"set own stopped",2.1,null,"Average drug cost per item",0,null,"Patient review","GPs (Primary Care Doctors)",0,null,"GPs (Primary Care Doctors)",null,null,"GPs (Primary Care Doctors)",85000,null,"override profiles",0,null,"General Medicine","Gross direct cost per bed day",0,null,null,0,null,{"$f":"AO7/100","v":0.6}]
[null,null,1,null,null,null,0,null,1,null,null,null,0,null,"set own optimised",null,null,null,null,null,null,"Other doctors",0,null,"Other doctors",null,null,"Other doctors",140000,null,null,null,null,null,"Net Total cost per bed day",null,null,null,null,null,60]
[null,null,2,null,null,null,null,null,2,null,null,null,null,null,"set own started",0.4,null,null,null,null,null,"Pharmacists",0,null,"Pharmacists",null,null,"Pharmacists",50000,null,null,null,null,"Geriatric Assessment","Gross direct cost per bed day"]
[null,null,3,null,null,null,null,null,3,null,null,null,null,null,"set own repeats",0,null,null,null,null,null,"Nurses",0,null,"Nurses",null,null,"Nurses",35000,null,null,null,null,null,"Net Total cost per bed day"]
[null,null,4,null,null,null,null,null,4,null,null,null,null,null,null,null,null,null,null,null,"Discussion between professional practitioners","GPs (Primary Care Doctors)",0,null,"Patients"]
[null,null,5,null,null,null,null,null,5,null,null,null,null,null,null,null,null,null,null,null,null,"Other doctors",0]
[null,null,6,null,null,null,null,null,6,null,null,null,null,null,null,null,null,null,null,null,null,"Pharmacists",0]
[null,null,7,null,null,null,null,null,7,null,null,null,null,null,null,null,null,null,null,null,null,"Nurses",0]
[null,null,8,null,null,null,null,null,8,null,null,null,null,null,null,null,null,null,null,null,"Discussion with patient","GPs (Primary Care Doctors)",0]
[null,null,9,null,null,null,null,null,9,null,null,null,null,null,null,null,null,null,null,null,null,"Other doctors",0]
[null,null,10,null,null,null,null,null,10,null,null,null,null,null,null,null,null,null,null,null,null,"Pharmacists",0]
[null,null,11,null,null,null,null,null,11,null,null,null,null,null,null,null,null,null,null,null,null,"Nurses",0]
[null,null,12,null,null,null,null,null,12,null,null,null,null,null,null,null,null,null,null,null,"Travel time","GPs (Primary Care Doctors)",0]
[null,null,13,null,null,null,null,null,13,null,null,null,null,null,null,null,null,null,null,null,null,"Other doctors",0]
[null,null,14,null,null,null,null,null,14,null,null,null,null,null,null,null,null,null,null,null,null,"Pharmacists",0]
[null,null,15,null,null,null,null,null,15,null,null,null,null,null,null,null,null,null,null,null,null,"Nurses",0]
[null,null,16,null,null,null,null,null,16]
[null,null,17,null,null,null,null,null,17]
[null,null,18,null,null,null,null,null,18]
[null,null,19,null,null,null,null,null,19]
[null,null,20,null,null,null,null,null,20]
[null,null,21,null,null,null,null,null,21]
[null,null,22,null,null,null,null,null,22]
[null,null,23,null,null,null,null,null,23]
[null,null,24,null,null,null,null,null,24]
[null,null,25,null,null,null,null,null,25]
[null,null,26,null,null,null,null,null,26]
[null,null,27,null,null,null,null,null,27]
[null,null,28,null,null,null,null,null,28]
[null,null,29,null,null,null,null,null,29]
[null,null,30,null,null,null,null,null,30]
[null,null,31,null,null,null,null,null,31]
[null,null,32,null,null,null,null,null,32]
[null,null,33,null,null,null,null,null,33]
[null,null,34,null,null,null,null,null,34]
[null,null,35,null,null,null,null,null,35]
[null,null,36,null,null,null,null,null,36]
[null,null,37,null,null,null,null,null,37]
[null,null,38,null,null,null,null,null,38]
[null,null,39,null,null,null,null,null,39]
[null,null,40,null,null,null,null,null,40]
[null,null,41,null,null,null,null,null,41]
[null,null,42,null,null,null,null,null,42]
[null,null,43,null,null,null,null,null,43]
[null,null,44,null,null,null,null,null,44]
[null,null,45,null,null,null,null,null,45]
[null,null,46,null,null,null,null,null,46]
[null,null,47,null,null,null,null,null,47]
[null,null,48,null,null,null,null,null,48]
[null,null,49,null,null,null,null,null,49]
[null,null,50,null,null,null,null,null,50]
[null,null,51,null,null,null,null,null,51]
[null,null,52,null,null,null,null,null,52]
[null,null,53,null,null,null,null,null,53]
[null,null,54,null,null,null,null,null,54]
[null,null,55,null,null,null,null,null,55]
[null,null,56,null,null,null,null,null,56]
[null,null,57,null,null,null,null,null,57]
[null,null,58,null,null,null,null,null,58]
[null,null,59,null,null,null,null,null,59]
[null,null,60,null,null,null,null,null,60]
[null,null,61,null,null,null,null,null,61]
[null,null,62,null,null,null,null,null,62]
[null,null,63,null,null,null,null,null,63]
[null,null,64,null,null,null,null,null,64]
[null,null,65,null,null,null,null,null,65]
[null,null,66,null,null,null,null,null,66]
[null,null,67,null,null,null,null,null,67]
[null,null,68,null,null,null,null,null,68]
[null,null,69,null,null,null,null,null,69]
[null,null,70,null,null,null,null,null,70]
[null,null,71,null,null,null,null,null,71]
[null,null,72,null,null,null,null,null,72]
[null,null,73,null,null,null,null,null,73]
[null,null,74,null,null,null,null,null,74]
[null,null,75,null,null,null,null,null,75]
[null,null,76,null,null,null,null,null,76]
[null,null,77,null,null,null,null,null,77]
[null,null,78,null,null,null,null,null,78]
[null,null,79,null,null,null,null,null,79]
[null,null,80,null,null,null,null,null,80]
[null,null,81,null,null,null,null,null,81]
[null,null,82,null,null,null,null,null,82]
[null,null,83,null,null,null,null,null,83]
[null,null,84,null,null,null,null,null,84]
[null,null,85,null,null,null,null,null,85]
[null,null,86,null,null,null,null,null,86]
[null,null,87,null,null,null,null,null,87]
[null,null,88,null,null,null,null,null,88]
[null,null,89,null,null,null,null,null,89]
[null,null,90,null,null,null,null,null,90]
[null,null,91,null,null,null,null,null,91]
[null,null,92,null,null,null,null,null,92]
[null,null,93,null,null,null,null,null,93]
[null,null,94,null,null,null,null,null,94]
[null,null,95,null,null,null,null,null,95]
[null,null,96,null,null,null,null,null,96]
[null,null,97,null,null,null,null,null,97]
[null,null,98,null,null,null,null,null,98]
[null,null,99,null,null,null,null,null,99]
[null,null,100,null,null,null,null,null,100]
[null,null,102,null,null,null,null,null,102]

{"sheet":"input selections","index":7,"n_rows":44,"n_cols":12,"rows_kept":44,"cut":false,"hidden":true,"merged":[]}
["Do not change relative cell references in this sheet!"]
["Apply country specific population",null,null,null,"Popuation selection",{"$f":"VLOOKUP(A2,lookups!$AR$5:$AS$6,2,FALSE)","v":1},{"$f":"VLOOKUP(F2,lookups!$AQ$5:$AR$6,2,FALSE)","v":"Apply country specific population"}]
["France",null,null,null,"Country",{"$f":"VLOOKUP($A$3,lookups!$C$5:$E$34,3,FALSE)","v":11},{"$f":"IF(F2=2,\"Own population sample\",VLOOKUP(A3,lookups!$C$5:$D$34,2,FALSE))","v":"FR"},{"$f":"IF(F2=2,\"Own population sample\",A3)","v":"France"},{"$f":"VLOOKUP(A3,lookups!$C$5:$D$34,2,FALSE)","v":"FR"}]
[]
[]
["Total",null,null,null,"sex",{"$f":"VLOOKUP($A$6,lookups!$K$5:$M$7,2,FALSE)","v":0},{"$f":"VLOOKUP($A$6,lookups!$K$5:$M$7,3,FALSE)","v":"T"}]
[]
[]
[null,null,null,null,"age",null,"min","max"]
[65,80,null,null,null,null,{"$f":"A10","v":65},{"$f":"B10","v":80}]
[null,null,null,null,null,null,{"$f":"VLOOKUP(G10,lookups!$F$5:$G$107,2,FALSE)","v":"Y65"},{"$f":"VLOOKUP(H10,lookups!$F$5:$G$107,2,FALSE)","v":"Y80"}]
[]
[false,null,null,null,"Risk stratification",null,{"$f":"IF(A13=TRUE,\"Yes\",\"No\")","v":"No"}]
[]
["Apply Scottish risk profile",null,null,null,"if yes",{"$f":"VLOOKUP($A$15,lookups!$P$10:$Q$12,2,FALSE)","v":2},{"$f":"A15","v":"Apply Scottish risk profile"}]
[]
[]
["Apply Scottish review set-up",null,null,null,"Reviews",{"$f":"VLOOKUP($A$18,lookups!$X$5:$Y$6,2,FALSE)","v":2},{"$f":"A18","v":"Apply Scottish review set-up"}]
[]
[]
["Apply Scottish profile for staff cost",null,null,null,"Staff cost",{"$f":"VLOOKUP($A$21,lookups!$AB$5:$AC$6,2,FALSE)","v":2},{"$f":"A21","v":"Apply Scottish profile for staff cost"}]
[]
[]
["No charge for reviews",null,null,null,"Review Charges",{"$f":"VLOOKUP($A$24,lookups!$AJ$5:$AK$6,2,FALSE)","v":1},{"$f":"A24","v":"No charge for reviews"}]
[]
[]
["Apply Scottish profile for DDDs stopped / started",null,null,null,"Number of drugs",{"$f":"VLOOKUP($A$27,lookups!$T$5:$U$6,2,FALSE)","v":2},{"$f":"A27","v":"Apply Scottish profile for DDDs stopped / started"}]
[]
[]
[null,"not currently in use",null,null,"Professional/ Patient Travel time",2,"No"]
[]
[null,"not currently in use",null,null,"if yes",{"$f":"VLOOKUP($A$32,lookups!$X$21:$Y$24,2,FALSE)","v":{"$error":"#N/A"}},{"$f":"A32","v":0}]
[]
[]
["Apply Scottish profile for annual cost per DDD",null,null,"enter in own country's currency!","Drugs cost",{"$f":"VLOOKUP($A$35,lookups!$T$17:$U$18,2,FALSE)","v":2},{"$f":"A35","v":"Apply Scottish profile for annual cost per DDD"}]
[]
[]
["Apply Scottish profile for cost per bed day",null,null,null,null,{"$f":"VLOOKUP($A$38,lookups!$AF$13:$AG$14,2,FALSE)","v":2},{"$f":"A38","v":"Apply Scottish profile for cost per bed day"}]
["General Medicine Gross direct cost per bed day",null,null,null,"Cost per bed day",{"$f":"VLOOKUP($A$39,lookups!$AF$6:$AG$9,2,FALSE)","v":1},{"$f":"A39","v":"General Medicine Gross direct cost per bed day"}]
[]
[]
["Apply Scottish profile for admission rates",null,null,null,"Admission rates",{"$f":"VLOOKUP($A$42,lookups!$AN$5:$AO$8,2,FALSE)","v":2},{"$f":"A42","v":"Apply Scottish profile for admission rates"},null,null,null,null,"needed?"]
[]
[null,null,null,null,"% of ADRs avoidable through PPH"]

{"sheet":"lookups","index":8,"n_rows":107,"n_cols":45,"rows_kept":107,"cut":false,"hidden":true,"merged":[]}
["Do not change relative cell references in this sheet!"]
[]
[null,null,null,null,null,null,null,null,null,null,null,null,null,null,null,null,null,null,null,null,null,null,null,null,null,null,null,null,null,null,null,"currently disabled"]
[null,null,"Country",null,null,null,"Age group",null,null,"Sex",null,null,null,null,null,"Risk stratification",null,null,null,"Number of drugs",null,null,null,"Reviews",null,null,null,"Staff cost",null,null,null,"Cost per bed day",null,null,null,"Review charge",null,null,null,"Admission rates",null,null,null,"Population"]
[null,0,"Scotland","SCOT",0,0,"Y_LT1",null,0,"T","Total",0,"T",null,1,"Yes",null,null,2,"Apply Scottish profile for DDDs stopped / started",2,null,2,"Apply Scottish review set-up",2,null,2,"Apply Scottish profile for staff cost",2,null,null,"Cost type",null,null,1,"No charge for reviews",1,null,2,"Apply Scottish profile for admission rates",2,null,1,"Apply country specific population",1]
[null,1,"UK","UK",1,1,"Y1",null,1,"M","Males",1,"M",null,2,"No",null,null,3,"Apply own profile for DDDs stopped / started",3,null,3,"Apply own estimates of minutes allocated to review elements",3,null,3,"Apply own profile for staff cost",3,null,1,"General Medicine Gross direct cost per bed day",1,null,3,"Apply own charge per review",3,null,4,"Apply blanket admission rate across age groups",4,null,2,"Apply own population sample",2]
[null,2,"Austria","AT",2,2,"Y2",null,2,"F","Females",2,"F",null,null,null,null,null,null,null,null,null,null,null,null,null,null,null,null,null,2,"General Medicine Net Total cost per bed day",2]
[null,3,"Belgium","BE",3,3,"Y3",null,null,null,null,null,null,null,null,"if yes",null,null,null,null,null,null,null,null,null,null,null,null,null,null,3,"Geriatric Assessment Gross direct cost per bed day",3]
[null,4,"Bulgaria","BG",4,4,"Y4",null,null,null,null,null,null,null,null,"Risk",null,null,null,"if 3, include input boxes",null,null,null,"if 3, include input boxes",null,null,null,"if 3, include input box",null,null,4,"Geriatric Assessment Net Total cost per bed day",4,null,null,"if 3, include input boxes"]
[null,5,"Croatia","HR",5,5,"Y5",null,null,null,null,null,null,null,0,"No Risk Stratification",0,null,null,null,null,null,null,null,null,null,null,null,null,null,5,"other / not applicable",5,null,null,null,null,null,null,"if 4, include input box"]
[null,6,"Republic of Cyprus","CY",6,6,"Y6",null,null,null,null,null,null,null,2,"Apply Scottish risk profile",2]
[null,7,"Czech Republic","CZ",7,7,"Y7",null,null,null,null,null,null,null,4,"Apply blanket % to population group",4,null,1,"x - Apply country profile for DDDs stopped / started",1,null,1,"x - Apply country review set-up",1,null,null,null,null,null,null,"Cost per bed day"]
[null,8,"Denmark","DK",8,8,"Y8",null,null,null,null,null,null,null,null,null,null,null,null,null,null,null,null,null,null,null,null,null,null,null,2,"Apply Scottish profile for cost per bed day",2,null,2,"x - Apply country profile for review charge",2]
[null,9,"Estonia","EE",9,9,"Y9",null,null,null,null,null,null,null,null,null,null,null,null,null,null,null,null,null,null,null,1,"Apply country profile for staff cost",1,null,3,"Apply own profile for cost per bed day",3,null,null,null,null,null,null,"Apply own profile for admission rates"]
[null,10,"Finland","FI",10,10,"Y10"]
[null,11,"France","FR",11,11,"Y11",null,null,null,null,null,null,null,3,"Apply own risk profile",3,null,null,"Drugs cost"]
[null,12,"Germany","DE_TOT",12,12,"Y12",null,null,null,null,null,null,null,1,"x - Apply country risk profiles",1,null,2,"Apply Scottish profile for annual cost per DDD",2,null,null,null,null,null,null,null,null,null,null,null,null,null,null,null,null,null,1,"x - Apply country profile for admission rates",1]
[null,13,"Greece","EL",13,13,"Y13",null,null,null,null,null,null,null,null,null,null,null,3,"Apply own blanket average annual cost per DDD",3]
[null,14,"Hungary","HU",14,14,"Y14",null,null,null,null,null,null,null,null,null,null,null,null,null,null,null,null,null,null,null,null,null,null,null,1,"x - Apply country profile for cost per bed day",1]
[null,15,"Ireland","MT",15,15,"Y15"]
[null,16,"Italy","IT",16,16,"Y16",null,null,null,null,null,null,null,null,null,null,null,null,"if 3, include input boxes"]
[null,17,"Latvia","LV",17,17,"Y17"]
[null,18,"Lithuania","LT",18,18,"Y18"]
[null,19,"Luxembourg","LU",19,19,"Y19",null,null,null,null,null,null,null,null,null,null,null,1,"Apply country profile for annual cost per DDD",1]
[null,20,"Malta","MT",20,20,"Y20"]
[null,21,"Netherlands","NL",21,21,"Y21"]
[null,22,"Poland","PL",22,22,"Y22"]
[null,23,"Portugal","PT",23,23,"Y23"]
[null,24,"Romania","RO",24,24,"Y24"]
[null,25,"Slovakia","SK",25,25,"Y25"]
[null,26,"Slovenia","SI",26,26,"Y26"]
[null,27,"Spain","ES",27,27,"Y27"]
[null,28,"Sweden","SE",28,28,"Y28"]
[null,29,"EU28","EU28",29,29,"Y29"]
[null,30,"n/a - own population sample","N/A",30,30,"Y30"]
[null,null,"Bulgaria",null,null,31,"Y31"]
[null,null,null,null,null,32,"Y32"]
[null,null,null,null,null,33,"Y33"]
[null,null,null,null,null,34,"Y34"]
[null,null,null,null,null,35,"Y35"]
[null,null,null,null,null,36,"Y36"]
[null,null,null,null,null,37,"Y37"]
[null,null,null,null,null,38,"Y38"]
[null,null,null,null,null,39,"Y39"]
[null,null,null,null,null,40,"Y40"]
[null,null,null,null,null,41,"Y41"]
[null,null,null,null,null,42,"Y42"]
[null,null,null,null,null,43,"Y43"]
[null,null,null,null,null,44,"Y44"]
[null,null,null,null,null,45,"Y45"]
[null,null,null,null,null,46,"Y46"]
[null,null,null,null,null,47,"Y47"]
[null,null,null,null,null,48,"Y48"]
[null,null,null,null,null,49,"Y49"]
[null,null,null,null,null,50,"Y50"]
[null,null,null,null,null,51,"Y51"]
[null,null,null,null,null,52,"Y52"]
[null,null,null,null,null,53,"Y53"]
[null,null,null,null,null,54,"Y54"]
[null,null,null,null,null,55,"Y55"]
[null,null,null,null,null,56,"Y56"]
[null,null,null,null,null,57,"Y57"]
[null,null,null,null,null,58,"Y58"]
[null,null,null,null,null,59,"Y59"]
[null,null,null,null,null,60,"Y60"]
[null,null,null,null,null,61,"Y61"]
[null,null,null,null,null,62,"Y62"]
[null,null,null,null,null,63,"Y63"]
[null,null,null,null,null,64,"Y64"]
[null,null,null,null,null,65,"Y65"]
[null,null,null,null,null,66,"Y66"]
[null,null,null,null,null,67,"Y67"]
[null,null,null,null,null,68,"Y68"]
[null,null,null,null,null,69,"Y69"]
[null,null,null,null,null,70,"Y70"]
[null,null,null,null,null,71,"Y71"]
[null,null,null,null,null,72,"Y72"]
[null,null,null,null,null,73,"Y73"]
[null,null,null,null,null,74,"Y74"]
[null,null,null,null,null,75,"Y75"]
[null,null,null,null,null,76,"Y76"]
[null,null,null,null,null,77,"Y77"]
[null,null,null,null,null,78,"Y78"]
[null,null,null,null,null,79,"Y79"]
[null,null,null,null,null,80,"Y80"]
[null,null,null,null,null,81,"Y81"]
[null,null,null,null,null,82,"Y82"]
[null,null,null,null,null,83,"Y83"]
[null,null,null,null,null,84,"Y84"]
[null,null,null,null,null,85,"Y85"]
[null,null,null,null,null,86,"Y86"]
[null,null,null,null,null,87,"Y87"]
[null,null,null,null,null,88,"Y88"]
[null,null,null,null,null,89,"Y89"]
[null,null,null,null,null,90,"Y90"]
[null,null,null,null,null,91,"Y91"]
[null,null,null,null,null,92,"Y92"]
[null,null,null,null,null,93,"Y93"]
[null,null,null,null,null,94,"Y94"]
[null,null,null,null,null,95,"Y95"]
[null,null,null,null,null,96,"Y96"]
[null,null,null,null,null,97,"Y97"]
[null,null,null,null,null,98,"Y98"]
[null,null,null,null,null,99,"Y99"]
[null,null,null,null,null,100,"Y_OPEN"]
[null,null,null,null,null,101,"UNK"]
[null,null,null,null,null,102,"TOTAL"]

{"sheet":"population lookup","index":9,"n_rows":104,"n_cols":21,"rows_kept":104,"cut":false,"hidden":true,"merged":[]}
["Population lookup"]
[null,null,null,null,"EU28+Scotland",null,null,null,null,null,null,null,"EU28 permanent"]
[null,null,"Age",null,null,"clean","min","max","selection",null,null,"EU28","clean","min","max","selection"]
[null,null,0,"Y_LT1",{"$f":"CONCATENATE($D4,$A$7,$B$9,$A$7,$B$8)","v":"Y_LT1,T,FR"},{"$f":"IF(ISERROR(VLOOKUP(E4,popEU,2,FALSE)),\"\",(VLOOKUP(E4,popEU,2,FALSE)))","v":786136},{"$f":"IF(C4<=$A$14,0,F4)","v":0},{"$f":"IF(C4>$B$14,0,F4)","v":786136},{"$f":"IF(OR(G4=0,H4=0),0,F4)","v":0},{"$f":"IF(OR(C4<=$A$14,C4>$B$14),0,F4)","v":0},null,{"$f":"CONCATENATE($D4,$A$7,$B$9,$A$7,$L$3)","v":"Y_LT1,T,EU28"},{"$f":"IF(ISERROR(VLOOKUP(L4,popEU,2,FALSE)),\"\",(VLOOKUP(L4,popEU,2,FALSE)))","v":5084324},{"$f":"IF(C4<=$A$14,0,M4)","v":0},{"$f":"IF(C4>$B$14,0,M4)","v":5084324},{"$f":"IF(OR(N4=0,O4=0),0,M4)","v":0}]
[null,null,1,"Y1","Y1,T,FR",788866,{"$f":"IF(C5<=$A$14,0,F5)","v":0},{"$f":"IF(C5>$B$14,0,F5)","v":788866},{"$f":"IF(OR(G5=0,H5=0),0,F5)","v":0},{"$f":"IF(OR(C5<=$A$14,C5>$B$14),0,F5)","v":0},null,{"$f":"CONCATENATE($D5,$A$7,$B$9,$A$7,$L$3)","v":"Y1,T,EU28"},5097350,{"$f":"IF(C5<=$A$14,0,M5)","v":0},{"$f":"IF(C5>$B$14,0,M5)","v":5097350},{"$f":"IF(OR(N5=0,O5=0),0,M5)","v":0}]
[null,null,2,"Y2","Y2,T,FR",798550,0,798550,0,0,null,"Y2,T,EU28",5227187,0,5227187,0]
[",",null,3,"Y3","Y3,T,FR",809128,0,809128,0,0,null,"Y3,T,EU28",5290022,0,5290022,0]
[{"$f":"'input selections'!F3","v":11},{"$f":"'input selections'!G3","v":"FR"},4,"Y4","Y4,T,FR",831956,0,831956,0,0,null,"Y4,T,EU28",5424155,0,5424155,0]
[{"$f":"'input selections'!F6","v":0},{"$f":"'input selections'!G6","v":"T"},5,"Y5","Y5,T,FR",829704,0,829704,0,0,null,"Y5,T,EU28",5453323,0,5453323,0,null,null,null,null,"Total population selected"]
[null,null,6,"Y6","Y6,T,FR",835497,0,835497,0,0,null,"Y6,T,EU28",5509409,0,5509409,0,null,2,null,{"$f":"'input selections'!G3","v":"FR"},{"$f":"IF('input selections'!F2=2,'manual data input'!AM6,SUM(I4:I105))","v":7968556}]
[null,null,7,"Y7","Y7,T,FR",832147,0,832147,0,0,null,"Y7,T,EU28",5403266,0,5403266,0,null,null,29,"EU28",{"$f":"SUM(P4:P105)","v":66458505}]
[null,null,8,"Y8","Y8,T,FR",846392,0,846392,0,0,null,"Y8,T,EU28",5356183,0,5356183,0]
["min","max",9,"Y9","Y9,T,FR",829605,0,829605,0,0,null,"Y9,T,EU28",5280486,0,5280486,0]
[{"$f":"'input selections'!G10","v":65},{"$f":"'input selections'!H10","v":80},10,"Y10","Y10,T,FR",825391,0,825391,0,0,null,"Y10,T,EU28",5246080,0,5246080,0]
[{"$f":"'input selections'!G11","v":"Y65"},{"$f":"'input selections'!H11","v":"Y80"},11,"Y11","Y11,T,FR",821249,0,821249,0,0,null,"Y11,T,EU28",5199142,0,5199142,0]
[null,null,12,"Y12","Y12,T,FR",826583,0,826583,0,0,null,"Y12,T,EU28",5179113,0,5179113,0]
[null,null,13,"Y13","Y13,T,FR",838757,0,838757,0,0,null,"Y13,T,EU28",5230151,0,5230151,0]
[null,null,14,"Y14","Y14,T,FR",856210,0,856210,0,0,null,"Y14,T,EU28",5364975,0,5364975,0]
[null,null,15,"Y15","Y15,T,FR",818533,0,818533,0,0,null,"Y15,T,EU28",5319592,0,5319592,0]
[null,null,16,"Y16","Y16,T,FR",816024,0,816024,0,0,null,"Y16,T,EU28",5356351,0,5356351,0]
[null,null,17,"Y17","Y17,T,FR",799000,0,799000,0,0,null,"Y17,T,EU28",5412124,0,5412124,0]
[null,null,18,"Y18","Y18,T,FR",797344,0,797344,0,0,null,"Y18,T,EU28",5464838,0,5464838,0]
[null,null,19,"Y19","Y19,T,FR",780628,0,780628,0,0,null,"Y19,T,EU28",5490974,0,5490974,0]
[null,null,20,"Y20","Y20,T,FR",750544,0,750544,0,0,null,"Y20,T,EU28",5617902,0,5617902,0]
[null,null,21,"Y21","Y21,T,FR",738055,0,738055,0,0,null,"Y21,T,EU28",5759023,0,5759023,0]
[null,null,22,"Y22","Y22,T,FR",770540,0,770540,0,0,null,"Y22,T,EU28",5951439,0,5951439,0]
[null,null,23,"Y23","Y23,T,FR",775707,0,775707,0,0,null,"Y23,T,EU28",6115334,0,6115334,0]
[null,null,24,"Y24","Y24,T,FR",786821,0,786821,0,0,null,"Y24,T,EU28",6307635,0,6307635,0]
[null,null,25,"Y25","Y25,T,FR",783798,0,783798,0,0,null,"Y25,T,EU28",6324774,0,6324774,0]
[null,null,26,"Y26","Y26,T,FR",791253,0,791253,0,0,null,"Y26,T,EU28",6433341,0,6433341,0]
[null,null,27,"Y27","Y27,T,FR",789709,0,789709,0,0,null,"Y27,T,EU28",6400344,0,6400344,0]
[null,null,28,"Y28","Y28,T,FR",802251,0,802251,0,0,null,"Y28,T,EU28",6453046,0,6453046,0]
[null,null,29,"Y29","Y29,T,FR",801418,0,801418,0,0,null,"Y29,T,EU28",6495745,0,6495745,0]
[null,null,30,"Y30","Y30,T,FR",799333,0,799333,0,0,null,"Y30,T,EU28",6551136,0,6551136,0]
[null,null,31,"Y31","Y31,T,FR",790122,0,790122,0,0,null,"Y31,T,EU28",6585267,0,6585267,0]
[null,null,32,"Y32",{"$f":"CONCATENATE($D36,$A$7,$B$9,$A$7,$B$8)","v":"Y32,T,FR"},{"$f":"IF(ISERROR(VLOOKUP(E36,popEU,2,FALSE)),\"\",(VLOOKUP(E36,popEU,2,FALSE)))","v":842411},0,842411,0,0,null,"Y32,T,EU28",{"$f":"IF(ISERROR(VLOOKUP(L36,popEU,2,FALSE)),\"\",(VLOOKUP(L36,popEU,2,FALSE)))","v":6757540},0,6757540,0]
[null,null,33,"Y33","Y33,T,FR",851735,0,851735,0,0,null,"Y33,T,EU28",6826293,0,6826293,0]
[null,null,34,"Y34","Y34,T,FR",864814,0,864814,0,0,null,"Y34,T,EU28",6967557,0,6967557,0]
[null,null,35,"Y35","Y35,T,FR",818854,0,818854,0,0,null,"Y35,T,EU28",6928852,0,6928852,0]
[null,null,36,"Y36","Y36,T,FR",803844,0,803844,0,0,null,"Y36,T,EU28",6928482,0,6928482,0]
[null,null,37,"Y37","Y37,T,FR",814070,0,814070,0,0,null,"Y37,T,EU28",6960474,0,6960474,0]
[null,null,38,"Y38","Y38,T,FR",796371,0,796371,0,0,null,"Y38,T,EU28",7008965,0,7008965,0]
[null,null,39,"Y39","Y39,T,FR",819701,0,819701,0,0,null,"Y39,T,EU28",7059426,0,7059426,0]
[null,null,40,"Y40","Y40,T,FR",865794,0,865794,0,0,null,"Y40,T,EU28",7166209,0,7166209,0]
[null,null,41,"Y41","Y41,T,FR",915434,0,915434,0,0,null,"Y41,T,EU28",7111915,0,7111915,0]
[null,null,42,"Y42","Y42,T,FR",938013,0,938013,0,0,null,"Y42,T,EU28",7260240,0,7260240,0]
[null,null,43,"Y43","Y43,T,FR",930974,0,930974,0,0,null,"Y43,T,EU28",7380790,0,7380790,0]
[null,null,44,"Y44","Y44,T,FR",914030,0,914030,0,0,null,"Y44,T,EU28",7394356,0,7394356,0]
[null,null,45,"Y45","Y45,T,FR",899787,0,899787,0,0,null,"Y45,T,EU28",7501133,0,7501133,0]
[null,null,46,"Y46","Y46,T,FR",893947,0,893947,0,0,null,"Y46,T,EU28",7578257,0,7578257,0]
[null,null,47,"Y47","Y47,T,FR",886454,0,886454,0,0,null,"Y47,T,EU28",7615681,0,7615681,0]
[null,null,48,"Y48","Y48,T,FR",909122,0,909122,0,0,null,"Y48,T,EU28",7489280,0,7489280,0]
[null,null,49,"Y49","Y49,T,FR",911768,0,911768,0,0,null,"Y49,T,EU28",7506945,0,7506945,0]
[null,null,50,"Y50","Y50,T,FR",922337,0,922337,0,0,null,"Y50,T,EU28",7595213,0,7595213,0]
[null,null,51,"Y51","Y51,T,FR",912891,0,912891,0,0,null,"Y51,T,EU28",7439837,0,7439837,0]
[null,null,52,"Y52","Y52,T,FR",880988,0,880988,0,0,null,"Y52,T,EU28",7254222,0,7254222,0]
[null,null,53,"Y53","Y53,T,FR",879290,0,879290,0,0,null,"Y53,T,EU28",7202192,0,7202192,0]
[null,null,54,"Y54","Y54,T,FR",875387,0,875387,0,0,null,"Y54,T,EU28",7118434,0,7118434,0]
[null,null,55,"Y55","Y55,T,FR",869145,0,869145,0,0,null,"Y55,T,EU28",7023479,0,7023479,0]
[null,null,56,"Y56","Y56,T,FR",849484,0,849484,0,0,null,"Y56,T,EU28",6880038,0,6880038,0]
[null,null,57,"Y57","Y57,T,FR",846275,0,846275,0,0,null,"Y57,T,EU28",6810578,0,6810578,0]
[null,null,58,"Y58","Y58,T,FR",838343,0,838343,0,0,null,"Y58,T,EU28",6696376,0,6696376,0]
[null,null,59,"Y59","Y59,T,FR",827914,0,827914,0,0,null,"Y59,T,EU28",6584251,0,6584251,0]
[null,null,60,"Y60","Y60,T,FR",827225,0,827225,0,0,null,"Y60,T,EU28",6430304,0,6430304,0]
[null,null,61,"Y61","Y61,T,FR",807389,0,807389,0,0,null,"Y61,T,EU28",6261103,0,6261103,0]
[null,null,62,"Y62","Y62,T,FR",819043,0,819043,0,0,null,"Y62,T,EU28",6206240,0,6206240,0]
[null,null,63,"Y63","Y63,T,FR",796074,0,796074,0,0,null,"Y63,T,EU28",6053229,0,6053229,0]
[null,null,64,"Y64",{"$f":"CONCATENATE($D68,$A$7,$B$9,$A$7,$B$8)","v":"Y64,T,FR"},{"$f":"IF(ISERROR(VLOOKUP(E68,popEU,2,FALSE)),\"\",(VLOOKUP(E68,popEU,2,FALSE)))","v":826457},0,826457,0,0,null,"Y64,T,EU28",{"$f":"IF(ISERROR(VLOOKUP(L68,popEU,2,FALSE)),\"\",(VLOOKUP(L68,popEU,2,FALSE)))","v":6086910},0,6086910,0]
[null,null,65,"Y65","Y65,T,FR",809173,{"$f":"IF(C69<=$A$14,0,F69)","v":0},{"$f":"IF(C69>$B$14,0,F69)","v":809173},{"$f":"IF(OR(G69=0,H69=0),0,F69)","v":0},{"$f":"IF(OR(C69<=$A$14,C69>$B$14),0,F69)","v":0},null,{"$f":"CONCATENATE($D69,$A$7,$B$9,$A$7,$L$3)","v":"Y65,T,EU28"},6019581,{"$f":"IF(C69<=$A$14,0,M69)","v":0},{"$f":"IF(C69>$B$14,0,M69)","v":6019581},{"$f":"IF(OR(N69=0,O69=0),0,M69)","v":0}]
[null,null,66,"Y66","Y66,T,FR",804448,804448,804448,804448,804448,null,"Y66,T,EU28",5930729,5930729,5930729,5930729]
[null,null,67,"Y67","Y67,T,FR",785348,785348,785348,785348,785348,null,"Y67,T,EU28",5755848,5755848,5755848,5755848]
[null,null,68,"Y68","Y68,T,FR",744071,744071,744071,744071,744071,null,"Y68,T,EU28",5414407,5414407,5414407,5414407]
[null,null,69,"Y69","Y69,T,FR",560439,560439,560439,560439,560439,null,"Y69,T,EU28",4547270,4547270,4547270,4547270]
[null,null,70,"Y70","Y70,T,FR",545566,545566,545566,545566,545566,null,"Y70,T,EU28",4711723,4711723,4711723,4711723]
[null,null,71,"Y71","Y71,T,FR",527839,527839,527839,527839,527839,null,"Y71,T,EU28",4567456,4567456,4567456,4567456]
[null,null,72,"Y72","Y72,T,FR",487458,487458,487458,487458,487458,null,"Y72,T,EU28",4289075,4289075,4289075,4289075]
[null,null,73,"Y73","Y73,T,FR",432692,432692,432692,432692,432692,null,"Y73,T,EU28",4285266,4285266,4285266,4285266]
[null,null,74,"Y74","Y74,T,FR",449333,449333,449333,449333,449333,null,"Y74,T,EU28",4430564,4430564,4430564,4430564]
[null,null,75,"Y75","Y75,T,FR",465297,465297,465297,465297,465297,null,"Y75,T,EU28",4228282,4228282,4228282,4228282]
[null,null,76,"Y76","Y76,T,FR",454650,454650,454650,454650,454650,null,"Y76,T,EU28",4047115,4047115,4047115,4047115]
[null,null,77,"Y77","Y77,T,FR",440531,440531,440531,440531,440531,null,"Y77,T,EU28",3831560,3831560,3831560,3831560]
[null,null,78,"Y78","Y78,T,FR",435025,435025,435025,435025,435025,null,"Y78,T,EU28",3678738,3678738,3678738,3678738]
[null,null,79,"Y79","Y79,T,FR",419873,419873,419873,419873,419873,null,"Y79,T,EU28",3482755,3482755,3482755,3482755]
[null,null,80,"Y80","Y80,T,FR",415986,415986,415986,415986,415986,null,"Y80,T,EU28",3257717,3257717,3257717,3257717]
[null,null,81,"Y81","Y81,T,FR",387904,387904,0,0,0,null,"Y81,T,EU28",2947326,2947326,0,0]
[null,null,82,"Y82","Y82,T,FR",386407,386407,0,0,0,null,"Y82,T,EU28",2814357,2814357,0,0]
[null,null,83,"Y83","Y83,T,FR",360203,360203,0,0,0,null,"Y83,T,EU28",2605561,2605561,0,0]
[null,null,84,"Y84","Y84,T,FR",341938,341938,0,0,0,null,"Y84,T,EU28",2465238,2465238,0,0]
[null,null,85,"Y85","Y85,T,FR",301625,301625,0,0,0,null,"Y85,T,EU28",2149001,2149001,0,0]
[null,null,86,"Y86","Y86,T,FR",275504,275504,0,0,0,null,"Y86,T,EU28",1923848,1923848,0,0]
[null,null,87,"Y87","Y87,T,FR",246361,246361,0,0,0,null,"Y87,T,EU28",1654551,1654551,0,0]
[null,null,88,"Y88","Y88,T,FR",220724,220724,0,0,0,null,"Y88,T,EU28",1452739,1452739,0,0]
[null,null,89,"Y89","Y89,T,FR",195185,195185,0,0,0,null,"Y89,T,EU28",1243240,1243240,0,0]
[null,null,90,"Y90","Y90,T,FR",165349,165349,0,0,0,null,"Y90,T,EU28",1025023,1025023,0,0]
[null,null,91,"Y91","Y91,T,FR",140554,140554,0,0,0,null,"Y91,T,EU28",846186,846186,0,0]
[null,null,92,"Y92","Y92,T,FR",118233,118233,0,0,0,null,"Y92,T,EU28",686232,686232,0,0]
[null,null,93,"Y93","Y93,T,FR",97309,97309,0,0,0,null,"Y93,T,EU28",545850,545850,0,0]
[null,null,94,"Y94","Y94,T,FR",77661,77661,0,0,0,null,"Y94,T,EU28",409747,409747,0,0]
[null,null,95,"Y95","Y95,T,FR",36078,36078,0,0,0,null,"Y95,T,EU28",237457,237457,0,0]
[null,null,96,"Y96",{"$f":"CONCATENATE($D100,$A$7,$B$9,$A$7,$B$8)","v":"Y96,T,FR"},{"$f":"IF(ISERROR(VLOOKUP(E100,popEU,2,FALSE)),\"\",(VLOOKUP(E100,popEU,2,FALSE)))","v":23567},23567,0,0,0,null,"Y96,T,EU28",{"$f":"IF(ISERROR(VLOOKUP(L100,popEU,2,FALSE)),\"\",(VLOOKUP(L100,popEU,2,FALSE)))","v":140881},140881,0,0]
[null,null,97,"Y97","Y97,T,FR",16062,16062,0,0,0,null,"Y97,T,EU28",101060,101060,0,0]
[null,null,98,"Y98","Y98,T,FR",10697,10697,0,0,0,null,"Y98,T,EU28",74296,74296,0,0]
[null,null,99,"Y99","Y99,T,FR",8997,8997,0,0,0,null,"Y99,T,EU28",58515,58515,0,0]
[null,null,100,"Y_OPEN","Y_OPEN,T,FR",24458,24458,0,0,0,null,"Y_OPEN,T,EU28",": ",": ",0,0]

{"sheet":"risk stratification","index":10,"n_rows":113,"n_cols":61,"rows_kept":113,"cut":false,"hidden":true,"merged":[[7,2,7,3]]}
[null,null,null,null,null,null,null,"Population",null,null,null,null,null,null,null,null,"Apply Scottish risk profile",null,null,null,null,null,null,null,null,"Apply own risk profile",null,null,null,null,null,null,null,null,"Apply blanket % to population group",null,null,null,null,null,null,null,null,"Selected risk profile",null,null,null,null,null,null,null,null,null,"Applied to population"]
[{"$f":"'input selections'!F2","v":1},{"$f":"'input selections'!G2","v":"Apply country specific population"},null,null,null,null,null,null,null,null,null,null,1,null,{"$f":"CONCATENATE(O3,O4,O5)","v":""},"2BNF10+SCOT","2BNF10+ & High Risk MedSCOT","2BNF 5-9SCOT","2BNF 5-9 & High Risk MedSCOT","2BNF10+SCOT","2BNF10+ & High Risk MedSCOT","2BNF 5-9SCOT","2BNF 5-9 & High Risk MedSCOT","","3BNF10+FR","3BNF10+ & High Risk MedFR","3BNF 5-9FR","3BNF 5-9 & High Risk MedFR","3BNF10+EU28","3BNF10+ & High Risk MedEU28","3BNF 5-9EU28","3BNF 5-9 & High Risk MedEU28","","4BNF10+FR","4BNF10+ & High Risk MedFR","4BNF 5-9FR","4BNF 5-9 & High Risk MedFR","4BNF10+EU28","4BNF10+ & High Risk MedEU28","4BNF 5-9EU28","4BNF 5-9 & High Risk MedEU28",null,null,{"$f":"CONCATENATE($A$5,AR4,AR5)","v":"2BNF10+SCOT"},{"$f":"CONCATENATE($A$5,AS4,AS5)","v":"2BNF10+ & High Risk MedSCOT"},"2BNF 5-9SCOT","2BNF 5-9 & High Risk MedSCOT","2BNF10+SCOT","2BNF10+ & High Risk MedSCOT","2BNF 5-9SCOT","2BNF 5-9 & High Risk MedSCOT"]
[{"$f":"'input selections'!F3","v":11},{"$f":"'input selections'!G3","v":"FR"},null,null,null,null,null,null,null,null,null,null,2,null,null,2,2,2,2,2,2,2,2,null,3,3,3,3,3,3,3,3,null,4,4,4,4,4,4,4,4]
[{"$f":"'input selections'!F13","v":0},{"$f":"'input selections'!G13","v":"No"},null,null,null,null,null,null,null,null,null,null,3,null,null,"BNF10+","BNF10+ & High Risk Med","BNF 5-9","BNF 5-9 & High Risk Med","BNF10+","BNF10+ & High Risk Med","BNF 5-9","BNF 5-9 & High Risk Med",null,"BNF10+","BNF10+ & High Risk Med","BNF 5-9","BNF 5-9 & High Risk Med","BNF10+","BNF10+ & High Risk Med","BNF 5-9","BNF 5-9 & High Risk Med",null,"BNF10+","BNF10+ & High Risk Med","BNF 5-9","BNF 5-9 & High Risk Med","BNF10+","BNF10+ & High Risk Med","BNF 5-9","BNF 5-9 & High Risk Med",null,null,"BNF10+","BNF10+ & High Risk Med","BNF 5-9","BNF 5-9 & High Risk Med","BNF10+","BNF10+ & High Risk Med","BNF 5-9","BNF 5-9 & High Risk Med",null,null,"BNF10+","BNF10+ & High Risk Med","BNF 5-9","BNF 5-9 & High Risk Med","BNF10+","BNF10+ & High Risk Med","BNF 5-9","BNF 5-9 & High Risk Med"]
[{"$f":"'input selections'!F15","v":2},{"$f":"'input selections'!G15","v":"Apply Scottish risk profile"},null,null,null,null,null,"age",null,"selection","EU28 permanent",null,4,null,null,"SCOT","SCOT","SCOT","SCOT","SCOT","SCOT","SCOT","SCOT",null,{"$f":"$B$3","v":"FR"},{"$f":"$B$3","v":"FR"},{"$f":"$B$3","v":"FR"},{"$f":"$B$3","v":"FR"},"EU28","EU28","EU28","EU28",null,{"$f":"$B$3","v":"FR"},{"$f":"$B$3","v":"FR"},{"$f":"$B$3","v":"FR"},{"$f":"$B$3","v":"FR"},"EU28","EU28","EU28","EU28",null,null,{"$f":"IF($A$5=2,\"SCOT\",$B$3)","v":"SCOT"},{"$f":"IF($A$5=2,\"SCOT\",$B$3)","v":"SCOT"},{"$f":"IF($A$5=2,\"SCOT\",$B$3)","v":"SCOT"},{"$f":"IF($A$5=2,\"SCOT\",$B$3)","v":"SCOT"},{"$f":"IF($A$5=2,\"SCOT\",\"EU28\")","v":"SCOT"},{"$f":"IF($A$5=2,\"SCOT\",\"EU28\")","v":"SCOT"},"SCOT","SCOT",null,null,{"$f":"IF($A$5=2,\"SCOT\",$B$3)","v":"SCOT"},{"$f":"IF($A$5=2,\"SCOT\",$B$3)","v":"SCOT"},{"$f":"IF($A$5=2,\"SCOT\",$B$3)","v":"SCOT"},{"$f":"IF($A$5=2,\"SCOT\",$B$3)","v":"SCOT"},"EU28","EU28","EU28","EU28"]
[null,null,null,null,null,null,null,0,"Y_LT1",{"$f":"'population lookup'!I4","v":0},{"$f":"'population lookup'!P4","v":0},null,5,null,null,{"$f":"HLOOKUP($P$5,altrisk10plus,Risk!$A7,FALSE)","v":0},{"$f":"HLOOKUP($Q$5,altrisk10plushighrisk,Risk!$A7,FALSE)","v":0},{"$f":"HLOOKUP($R$5,altrisk59,Risk!$A7,FALSE)","v":0},{"$f":"HLOOKUP($S$5,altrisk59plushighrisk,Risk!$A7,FALSE)","v":0},{"$f":"HLOOKUP($T$5,altrisk10plus,Risk!$A7,FALSE)","v":0},{"$f":"HLOOKUP($U$5,altrisk10plushighrisk,Risk!$A7,FALSE)","v":0},{"$f":"HLOOKUP($V$5,altrisk59,Risk!$A7,FALSE)","v":0},{"$f":"HLOOKUP($W$5,altrisk59plushighrisk,Risk!$A7,FALSE)","v":0},null,{"$f":"Risk!E7","v":0},{"$f":"Risk!F7","v":0},{"$f":"Risk!G7","v":0},{"$f":"Risk!H7","v":0},{"$f":"Y6","v":0},{"$f":"Z6","v":0},0,0,null,{"$f":"Risk!$J7","v":0},{"$f":"Risk!$J7","v":0},{"$f":"Risk!$J7","v":0},{"$f":"Risk!$J7","v":0},{"$f":"Risk!$J7","v":0},{"$f":"Risk!$J7","v":0},{"$f":"Risk!$J7","v":0},{"$f":"Risk!$J7","v":0},null,null,{"$f":"HLOOKUP(AR$2,$P$2:$AO$107,$M6,FALSE)","v":0},0,0,0,0,0,0,0,null,null,{"$f":"IF(ISERROR($J6*AR6),\"\",($J6*AR6))","v":0},{"$f":"IF(ISERROR($J6*AS6),\"\",($J6*AS6))","v":0},0,0,{"$f":"IF(ISERROR($K6*AV6),\"\",($K6*AV6))","v":0},{"$f":"IF(ISERROR($K6*AW6),\"\",($K6*AW6))","v":0},0,0]
["Population summary",null,null,null,null,null,null,1,"Y1",{"$f":"'population lookup'!I5","v":0},{"$f":"'population lookup'!P5","v":0},null,6,null,null,{"$f":"HLOOKUP($P$5,altrisk10plus,Risk!$A8,FALSE)","v":0},{"$f":"HLOOKUP($Q$5,altrisk10plushighrisk,Risk!$A8,FALSE)","v":0},{"$f":"HLOOKUP($R$5,altrisk59,Risk!$A8,FALSE)","v":0},{"$f":"HLOOKUP($S$5,altrisk59plushighrisk,Risk!$A8,FALSE)","v":0},{"$f":"HLOOKUP($T$5,altrisk10plus,Risk!$A8,FALSE)","v":0},{"$f":"HLOOKUP($U$5,altrisk10plushighrisk,Risk!$A8,FALSE)","v":0},{"$f":"HLOOKUP($V$5,altrisk59,Risk!$A8,FALSE)","v":0},{"$f":"HLOOKUP($W$5,altrisk59plushighrisk,Risk!$A8,FALSE)","v":0},null,{"$f":"Risk!E8","v":0},{"$f":"Risk!F8","v":0},{"$f":"Risk!G8","v":0},{"$f":"Risk!H8","v":0},{"$f":"Y7","v":0},{"$f":"Z7","v":0},{"$f":"AA7","v":0},{"$f":"AB7","v":0},null,{"$f":"Risk!$J8","v":0},{"$f":"Risk!$J8","v":0},{"$f":"Risk!$J8","v":0},{"$f":"Risk!$J8","v":0},{"$f":"Risk!$J8","v":0},{"$f":"Risk!$J8","v":0},{"$f":"Risk!$J8","v":0},{"$f":"Risk!$J8","v":0},null,null,0,0,0,0,0,0,0,0,null,null,{"$f":"IF(ISERROR($J7*AR7),\"\",($J7*AR7))","v":0},{"$f":"IF(ISERROR($J7*AS7),\"\",($J7*AS7))","v":0},{"$f":"IF(ISERROR($J7*AT7),\"\",($J7*AT7))","v":0},{"$f":"IF(ISERROR($J7*AU7),\"\",($J7*AU7))","v":0},{"$f":"IF(ISERROR($K7*AV7),\"\",($K7*AV7))","v":0},{"$f":"IF(ISERROR($K7*AW7),\"\",($K7*AW7))","v":0},{"$f":"IF(ISERROR($K7*AX7),\"\",($K7*AX7))","v":0},{"$f":"IF(ISERROR($K7*AY7),\"\",($K7*AY7))","v":0}]
[null,"No risk stratification","Risk stratification",null,null,null,null,2,"Y2",{"$f":"'population lookup'!I6","v":0},{"$f":"'population lookup'!P6","v":0},null,7,null,null,{"$f":"HLOOKUP($P$5,altrisk10plus,Risk!$A9,FALSE)","v":0},{"$f":"HLOOKUP($Q$5,altrisk10plushighrisk,Risk!$A9,FALSE)","v":0},{"$f":"HLOOKUP($R$5,altrisk59,Risk!$A9,FALSE)","v":0},{"$f":"HLOOKUP($S$5,altrisk59plushighrisk,Risk!$A9,FALSE)","v":0},{"$f":"HLOOKUP($T$5,altrisk10plus,Risk!$A9,FALSE)","v":0},{"$f":"HLOOKUP($U$5,altrisk10plushighrisk,Risk!$A9,FALSE)","v":0},{"$f":"HLOOKUP($V$5,altrisk59,Risk!$A9,FALSE)","v":0},{"$f":"HLOOKUP($W$5,altrisk59plushighrisk,Risk!$A9,FALSE)","v":0},null,{"$f":"Risk!E9","v":0},{"$f":"Risk!F9","v":0},{"$f":"Risk!G9","v":0},{"$f":"Risk!H9","v":0},0,0,0,0,null,{"$f":"Risk!$J9","v":0},{"$f":"Risk!$J9","v":0},{"$f":"Risk!$J9","v":0},{"$f":"Risk!$J9","v":0},{"$f":"Risk!$J9","v":0},{"$f":"Risk!$J9","v":0},{"$f":"Risk!$J9","v":0},{"$f":"Risk!$J9","v":0},null,null,0,0,0,0,0,0,0,0,null,null,0,0,0,0,0,0,0,0]
[null,null,"BNF10+","BNF10+ & High Risk Med","BNF 5-9","BNF 5-9 & High Risk Med",null,3,"Y3",{"$f":"'population lookup'!I7","v":0},{"$f":"'population lookup'!P7","v":0},null,8,null,null,{"$f":"HLOOKUP($P$5,altrisk10plus,Risk!$A10,FALSE)","v":0},{"$f":"HLOOKUP($Q$5,altrisk10plushighrisk,Risk!$A10,FALSE)","v":0},{"$f":"HLOOKUP($R$5,altrisk59,Risk!$A10,FALSE)","v":0},{"$f":"HLOOKUP($S$5,altrisk59plushighrisk,Risk!$A10,FALSE)","v":0},{"$f":"HLOOKUP($T$5,altrisk10plus,Risk!$A10,FALSE)","v":0},{"$f":"HLOOKUP($U$5,altrisk10plushighrisk,Risk!$A10,FALSE)","v":0},{"$f":"HLOOKUP($V$5,altrisk59,Risk!$A10,FALSE)","v":0},{"$f":"HLOOKUP($W$5,altrisk59plushighrisk,Risk!$A10,FALSE)","v":0},null,{"$f":"Risk!E10","v":0},{"$f":"Risk!F10","v":0},{"$f":"Risk!G10","v":0},{"$f":"Risk!H10","v":0},0,0,0,0,null,{"$f":"Risk!$J10","v":0},{"$f":"Risk!$J10","v":0},{"$f":"Risk!$J10","v":0},{"$f":"Risk!$J10","v":0},{"$f":"Risk!$J10","v":0},{"$f":"Risk!$J10","v":0},{"$f":"Risk!$J10","v":0},{"$f":"Risk!$J10","v":0},null,null,0,0,0,0,0,0,0,0,null,null,0,0,0,0,0,0,0,0]
[{"$f":"'input selections'!G3","v":"FR"},{"$f":"IF('risk stratification'!$A$2=2,'manual data input'!$AM$6,J109)","v":7968556},{"$f":"IF($A$2=2,IF($A$5=4,$B10*'manual data input'!$G$6,IF($A$5=2,$B10*C14,\"n/a\")),BB109)","v":374874.58033291542},{"$f":"IF($A$2=2,IF($A$5=4,$B10*'manual data input'!$G$6,IF($A$5=2,$B10*D14,\"n/a\")),BC109)","v":366100.65190922754},{"$f":"IF($A$2=2,IF($A$5=4,$B10*'manual data input'!$G$6,IF($A$5=2,$B10*E14,\"n/a\")),BD109)","v":425385.18434741371},{"$f":"IF($A$2=2,IF($A$5=4,$B10*'manual data input'!$G$6,IF($A$5=2,$B10*F14,\"n/a\")),BE109)","v":410237.03911915608},null,4,"Y4",{"$f":"'population lookup'!I8","v":0},{"$f":"'population lookup'!P8","v":0},null,9,null,null,{"$f":"HLOOKUP($P$5,altrisk10plus,Risk!$A11,FALSE)","v":0},{"$f":"HLOOKUP($Q$5,altrisk10plushighrisk,Risk!$A11,FALSE)","v":0},{"$f":"HLOOKUP($R$5,altrisk59,Risk!$A11,FALSE)","v":0},{"$f":"HLOOKUP($S$5,altrisk59plushighrisk,Risk!$A11,FALSE)","v":0},{"$f":"HLOOKUP($T$5,altrisk10plus,Risk!$A11,FALSE)","v":0},{"$f":"HLOOKUP($U$5,altrisk10plushighrisk,Risk!$A11,FALSE)","v":0},{"$f":"HLOOKUP($V$5,altrisk59,Risk!$A11,FALSE)","v":0},{"$f":"HLOOKUP($W$5,altrisk59plushighrisk,Risk!$A11,FALSE)","v":0},null,{"$f":"Risk!E11","v":0},{"$f":"Risk!F11","v":0},{"$f":"Risk!G11","v":0},{"$f":"Risk!H11","v":0},0,0,0,0,null,{"$f":"Risk!$J11","v":0},{"$f":"Risk!$J11","v":0},{"$f":"Risk!$J11","v":0},{"$f":"Risk!$J11","v":0},{"$f":"Risk!$J11","v":0},{"$f":"Risk!$J11","v":0},{"$f":"Risk!$J11","v":0},{"$f":"Risk!$J11","v":0},null,null,0,0,0,0,0,0,0,0,null,null,0,0,0,0,0,0,0,0]
["EU28",{"$f":"K109","v":66458505},{"$f":"BF109","v":3186074.3249250641},{"$f":"BG109","v":3111764.1294038352},{"$f":"BH109","v":3613499.8814225914},3485371.1753152437,null,5,"Y5",{"$f":"'population lookup'!I9","v":0},{"$f":"'population lookup'!P9","v":0},null,10,null,null,{"$f":"HLOOKUP($P$5,altrisk10plus,Risk!$A12,FALSE)","v":0},{"$f":"HLOOKUP($Q$5,altrisk10plushighrisk,Risk!$A12,FALSE)","v":0},{"$f":"HLOOKUP($R$5,altrisk59,Risk!$A12,FALSE)","v":0},{"$f":"HLOOKUP($S$5,altrisk59plushighrisk,Risk!$A12,FALSE)","v":0},{"$f":"HLOOKUP($T$5,altrisk10plus,Risk!$A12,FALSE)","v":0},{"$f":"HLOOKUP($U$5,altrisk10plushighrisk,Risk!$A12,FALSE)","v":0},{"$f":"HLOOKUP($V$5,altrisk59,Risk!$A12,FALSE)","v":0},{"$f":"HLOOKUP($W$5,altrisk59plushighrisk,Risk!$A12,FALSE)","v":0},null,{"$f":"Risk!E12","v":0},{"$f":"Risk!F12","v":0},{"$f":"Risk!G12","v":0},{"$f":"Risk!H12","v":0},0,0,0,0,null,{"$f":"Risk!$J12","v":0},{"$f":"Risk!$J12","v":0},{"$f":"Risk!$J12","v":0},{"$f":"Risk!$J12","v":0},{"$f":"Risk!$J12","v":0},{"$f":"Risk!$J12","v":0},{"$f":"Risk!$J12","v":0},{"$f":"Risk!$J12","v":0},null,null,0,0,0,0,0,0,0,0,null,null,0,0,0,0,0,0,0,0]
[null,null,null,null,null,null,null,6,"Y6",{"$f":"'population lookup'!I10","v":0},{"$f":"'population lookup'!P10","v":0},null,11,null,null,{"$f":"HLOOKUP($P$5,altrisk10plus,Risk!$A13,FALSE)","v":0},{"$f":"HLOOKUP($Q$5,altrisk10plushighrisk,Risk!$A13,FALSE)","v":0},{"$f":"HLOOKUP($R$5,altrisk59,Risk!$A13,FALSE)","v":0},{"$f":"HLOOKUP($S$5,altrisk59plushighrisk,Risk!$A13,FALSE)","v":0},{"$f":"HLOOKUP($T$5,altrisk10plus,Risk!$A13,FALSE)","v":0},{"$f":"HLOOKUP($U$5,altrisk10plushighrisk,Risk!$A13,FALSE)","v":0},{"$f":"HLOOKUP($V$5,altrisk59,Risk!$A13,FALSE)","v":0},{"$f":"HLOOKUP($W$5,altrisk59plushighrisk,Risk!$A13,FALSE)","v":0},null,{"$f":"Risk!E13","v":0},{"$f":"Risk!F13","v":0},{"$f":"Risk!G13","v":0},{"$f":"Risk!H13","v":0},0,0,0,0,null,{"$f":"Risk!$J13","v":0},{"$f":"Risk!$J13","v":0},{"$f":"Risk!$J13","v":0},{"$f":"Risk!$J13","v":0},{"$f":"Risk!$J13","v":0},{"$f":"Risk!$J13","v":0},{"$f":"Risk!$J13","v":0},{"$f":"Risk!$J13","v":0},null,null,0,0,0,0,0,0,0,0,null,null,0,0,0,0,0,0,0,0]
[null,"cross averages",null,null,null,null,null,7,"Y7",{"$f":"'population lookup'!I11","v":0},{"$f":"'population lookup'!P11","v":0},null,12,null,null,{"$f":"HLOOKUP($P$5,altrisk10plus,Risk!$A14,FALSE)","v":0},{"$f":"HLOOKUP($Q$5,altrisk10plushighrisk,Risk!$A14,FALSE)","v":0},{"$f":"HLOOKUP($R$5,altrisk59,Risk!$A14,FALSE)","v":0},{"$f":"HLOOKUP($S$5,altrisk59plushighrisk,Risk!$A14,FALSE)","v":0},{"$f":"HLOOKUP($T$5,altrisk10plus,Risk!$A14,FALSE)","v":0},{"$f":"HLOOKUP($U$5,altrisk10plushighrisk,Risk!$A14,FALSE)","v":0},{"$f":"HLOOKUP($V$5,altrisk59,Risk!$A14,FALSE)","v":0},{"$f":"HLOOKUP($W$5,altrisk59plushighrisk,Risk!$A14,FALSE)","v":0},null,{"$f":"Risk!E14","v":0},{"$f":"Risk!F14","v":0},{"$f":"Risk!G14","v":0},{"$f":"Risk!H14","v":0},0,0,0,0,null,{"$f":"Risk!$J14","v":0},{"$f":"Risk!$J14","v":0},{"$f":"Risk!$J14","v":0},{"$f":"Risk!$J14","v":0},{"$f":"Risk!$J14","v":0},{"$f":"Risk!$J14","v":0},{"$f":"Risk!$J14","v":0},{"$f":"Risk!$J14","v":0},null,null,0,0,0,0,0,0,0,0,null,null,0,0,0,0,0,0,0,0]
[2,"Apply Scottish risk profile",{"$f":"Risk!L108","v":1.3351200446677834E-2},{"$f":"Risk!M108","v":1.2935417829890192E-2},{"$f":"Risk!N108","v":1.6222408337986226E-2},{"$f":"Risk!O108","v":1.5402382281779268E-2},null,8,"Y8",{"$f":"'population lookup'!I12","v":0},{"$f":"'population lookup'!P12","v":0},null,13,null,null,{"$f":"HLOOKUP($P$5,altrisk10plus,Risk!$A15,FALSE)","v":0},{"$f":"HLOOKUP($Q$5,altrisk10plushighrisk,Risk!$A15,FALSE)","v":0},{"$f":"HLOOKUP($R$5,altrisk59,Risk!$A15,FALSE)","v":0},{"$f":"HLOOKUP($S$5,altrisk59plushighrisk,Risk!$A15,FALSE)","v":0},{"$f":"HLOOKUP($T$5,altrisk10plus,Risk!$A15,FALSE)","v":0},{"$f":"HLOOKUP($U$5,altrisk10plushighrisk,Risk!$A15,FALSE)","v":0},{"$f":"HLOOKUP($V$5,altrisk59,Risk!$A15,FALSE)","v":0},{"$f":"HLOOKUP($W$5,altrisk59plushighrisk,Risk!$A15,FALSE)","v":0},null,{"$f":"Risk!E15","v":0},{"$f":"Risk!F15","v":0},{"$f":"Risk!G15","v":0},{"$f":"Risk!H15","v":0},0,0,0,0,null,{"$f":"Risk!$J15","v":0},{"$f":"Risk!$J15","v":0},{"$f":"Risk!$J15","v":0},{"$f":"Risk!$J15","v":0},{"$f":"Risk!$J15","v":0},{"$f":"Risk!$J15","v":0},{"$f":"Risk!$J15","v":0},{"$f":"Risk!$J15","v":0},null,null,0,0,0,0,0,0,0,0,null,null,0,0,0,0,0,0,0,0]
[4,"Apply blanket % to population group",null,null,null,null,null,9,"Y9",{"$f":"'population lookup'!I13","v":0},{"$f":"'population lookup'!P13","v":0},null,14,null,null,{"$f":"HLOOKUP($P$5,altrisk10plus,Risk!$A16,FALSE)","v":0},{"$f":"HLOOKUP($Q$5,altrisk10plushighrisk,Risk!$A16,FALSE)","v":0},{"$f":"HLOOKUP($R$5,altrisk59,Risk!$A16,FALSE)","v":0},{"$f":"HLOOKUP($S$5,altrisk59plushighrisk,Risk!$A16,FALSE)","v":0},{"$f":"HLOOKUP($T$5,altrisk10plus,Risk!$A16,FALSE)","v":0},{"$f":"HLOOKUP($U$5,altrisk10plushighrisk,Risk!$A16,FALSE)","v":0},{"$f":"HLOOKUP($V$5,altrisk59,Risk!$A16,FALSE)","v":0},{"$f":"HLOOKUP($W$5,altrisk59plushighrisk,Risk!$A16,FALSE)","v":0},null,{"$f":"Risk!E16","v":0},{"$f":"Risk!F16","v":0},{"$f":"Risk!G16","v":0},{"$f":"Risk!H16","v":0},0,0,0,0,null,{"$f":"Risk!$J16","v":0},{"$f":"Risk!$J16","v":0},{"$f":"Risk!$J16","v":0},{"$f":"Risk!$J16","v":0},{"$f":"Risk!$J16","v":0},{"$f":"Risk!$J16","v":0},{"$f":"Risk!$J16","v":0},{"$f":"Risk!$J16","v":0},null,null,0,0,0,0,0,0,0,0,null,null,0,0,0,0,0,0,0,0]
[null,null,null,null,null,null,null,10,"Y10",{"$f":"'population lookup'!I14","v":0},{"$f":"'population lookup'!P14","v":0},null,15,null,null,{"$f":"HLOOKUP($P$5,altrisk10plus,Risk!$A17,FALSE)","v":0},{"$f":"HLOOKUP($Q$5,altrisk10plushighrisk,Risk!$A17,FALSE)","v":0},{"$f":"HLOOKUP($R$5,altrisk59,Risk!$A17,FALSE)","v":0},{"$f":"HLOOKUP($S$5,altrisk59plushighrisk,Risk!$A17,FALSE)","v":0},{"$f":"HLOOKUP($T$5,altrisk10plus,Risk!$A17,FALSE)","v":0},{"$f":"HLOOKUP($U$5,altrisk10plushighrisk,Risk!$A17,FALSE)","v":0},{"$f":"HLOOKUP($V$5,altrisk59,Risk!$A17,FALSE)","v":0},{"$f":"HLOOKUP($W$5,altrisk59plushighrisk,Risk!$A17,FALSE)","v":0},null,{"$f":"Risk!E17","v":0},{"$f":"Risk!F17","v":0},{"$f":"Risk!G17","v":0},{"$f":"Risk!H17","v":0},0,0,0,0,null,{"$f":"Risk!$J17","v":0},{"$f":"Risk!$J17","v":0},{"$f":"Risk!$J17","v":0},{"$f":"Risk!$J17","v":0},{"$f":"Risk!$J17","v":0},{"$f":"Risk!$J17","v":0},{"$f":"Risk!$J17","v":0},{"$f":"Risk!$J17","v":0},null,null,{"$f":"HLOOKUP(AR$2,$P$2:$AO$107,$M16,FALSE)","v":0},0,0,0,0,0,0,0,null,null,0,0,0,0,0,0,0,0]
[null,null,null,null,null,null,null,11,"Y11",{"$f":"'population lookup'!I15","v":0},{"$f":"'population lookup'!P15","v":0},null,16,null,null,{"$f":"HLOOKUP($P$5,altrisk10plus,Risk!$A18,FALSE)","v":0},{"$f":"HLOOKUP($Q$5,altrisk10plushighrisk,Risk!$A18,FALSE)","v":0},{"$f":"HLOOKUP($R$5,altrisk59,Risk!$A18,FALSE)","v":0},{"$f":"HLOOKUP($S$5,altrisk59plushighrisk,Risk!$A18,FALSE)","v":0},{"$f":"HLOOKUP($T$5,altrisk10plus,Risk!$A18,FALSE)","v":0},{"$f":"HLOOKUP($U$5,altrisk10plushighrisk,Risk!$A18,FALSE)","v":0},{"$f":"HLOOKUP($V$5,altrisk59,Risk!$A18,FALSE)","v":0},{"$f":"HLOOKUP($W$5,altrisk59plushighrisk,Risk!$A18,FALSE)","v":0},null,{"$f":"Risk!E18","v":0},{"$f":"Risk!F18","v":0},{"$f":"Risk!G18","v":0},{"$f":"Risk!H18","v":0},0,0,0,0,null,{"$f":"Risk!$J18","v":0},{"$f":"Risk!$J18","v":0},{"$f":"Risk!$J18","v":0},{"$f":"Risk!$J18","v":0},{"$f":"Risk!$J18","v":0},{"$f":"Risk!$J18","v":0},{"$f":"Risk!$J18","v":0},{"$f":"Risk!$J18","v":0},null,null,0,0,0,0,0,0,0,0,null,null,0,0,0,0,0,0,0,0]
[null,null,null,null,null,null,null,12,"Y12",{"$f":"'population lookup'!I16","v":0},{"$f":"'population lookup'!P16","v":0},null,17,null,null,{"$f":"HLOOKUP($P$5,altrisk10plus,Risk!$A19,FALSE)","v":0},{"$f":"HLOOKUP($Q$5,altrisk10plushighrisk,Risk!$A19,FALSE)","v":0},{"$f":"HLOOKUP($R$5,altrisk59,Risk!$A19,FALSE)","v":0},{"$f":"HLOOKUP($S$5,altrisk59plushighrisk,Risk!$A19,FALSE)","v":0},{"$f":"HLOOKUP($T$5,altrisk10plus,Risk!$A19,FALSE)","v":0},{"$f":"HLOOKUP($U$5,altrisk10plushighrisk,Risk!$A19,FALSE)","v":0},{"$f":"HLOOKUP($V$5,altrisk59,Risk!$A19,FALSE)","v":0},{"$f":"HLOOKUP($W$5,altrisk59plushighrisk,Risk!$A19,FALSE)","v":0},null,{"$f":"Risk!E19","v":0},{"$f":"Risk!F19","v":0},{"$f":"Risk!G19","v":0},{"$f":"Risk!H19","v":0},0,0,0,0,null,{"$f":"Risk!$J19","v":0},{"$f":"Risk!$J19","v":0},{"$f":"Risk!$J19","v":0},{"$f":"Risk!$J19","v":0},{"$f":"Risk!$J19","v":0},{"$f":"Risk!$J19","v":0},{"$f":"Risk!$J19","v":0},{"$f":"Risk!$J19","v":0},null,null,0,0,0,0,0,0,0,0,null,null,0,0,0,0,0,0,0,0]
[null,null,null,null,null,null,null,13,"Y13",{"$f":"'population lookup'!I17","v":0},{"$f":"'population lookup'!P17","v":0},null,18,null,null,{"$f":"HLOOKUP($P$5,altrisk10plus,Risk!$A20,FALSE)","v":8.1688223281143636E-4},{"$f":"HLOOKUP($Q$5,altrisk10plushighrisk,Risk!$A20,FALSE)","v":5.786249149081008E-4},{"$f":"HLOOKUP($R$5,altrisk59,Risk!$A20,FALSE)","v":1.6337644656228727E-3},{"$f":"HLOOKUP($S$5,altrisk59plushighrisk,Risk!$A20,FALSE)","v":9.8706603131381893E-4},{"$f":"HLOOKUP($T$5,altrisk10plus,Risk!$A20,FALSE)","v":8.1688223281143636E-4},{"$f":"HLOOKUP($U$5,altrisk10plushighrisk,Risk!$A20,FALSE)","v":5.786249149081008E-4},{"$f":"HLOOKUP($V$5,altrisk59,Risk!$A20,FALSE)","v":1.6337644656228727E-3},{"$f":"HLOOKUP($W$5,altrisk59plushighrisk,Risk!$A20,FALSE)","v":9.8706603131381893E-4},null,{"$f":"Risk!E20","v":0},{"$f":"Risk!F20","v":0},{"$f":"Risk!G20","v":0},{"$f":"Risk!H20","v":0},0,0,0,0,null,{"$f":"Risk!$J20","v":0},{"$f":"Risk!$J20","v":0},{"$f":"Risk!$J20","v":0},{"$f":"Risk!$J20","v":0},{"$f":"Risk!$J20","v":0},{"$f":"Risk!$J20","v":0},{"$f":"Risk!$J20","v":0},{"$f":"Risk!$J20","v":0},null,null,8.1688223281143636E-4,5.786249149081008E-4,1.6337644656228727E-3,9.8706603131381893E-4,8.1688223281143636E-4,5.786249149081008E-4,1.6337644656228727E-3,9.8706603131381893E-4,null,null,0,0,0,0,0,0,0,0]
[null,null,null,null,null,null,null,14,"Y14",{"$f":"'population lookup'!I18","v":0},{"$f":"'population lookup'!P18","v":0},null,19,null,null,{"$f":"HLOOKUP($P$5,altrisk10plus,Risk!$A21,FALSE)","v":6.6584545726936775E-4},{"$f":"HLOOKUP($Q$5,altrisk10plushighrisk,Risk!$A21,FALSE)","v":4.8273795652029164E-4},{"$f":"HLOOKUP($R$5,altrisk59,Risk!$A21,FALSE)","v":1.4648600059926091E-3},{"$f":"HLOOKUP($S$5,altrisk59plushighrisk,Risk!$A21,FALSE)","v":1.0487065951992542E-3},{"$f":"HLOOKUP($T$5,altrisk10plus,Risk!$A21,FALSE)","v":6.6584545726936775E-4},{"$f":"HLOOKUP($U$5,altrisk10plushighrisk,Risk!$A21,FALSE)","v":4.8273795652029164E-4},{"$f":"HLOOKUP($V$5,altrisk59,Risk!$A21,FALSE)","v":1.4648600059926091E-3},{"$f":"HLOOKUP($W$5,altrisk59plushighrisk,Risk!$A21,FALSE)","v":1.0487065951992542E-3},null,{"$f":"Risk!E21","v":0},{"$f":"Risk!F21","v":0},{"$f":"Risk!G21","v":0},{"$f":"Risk!H21","v":0},0,0,0,0,null,{"$f":"Risk!$J21","v":0},{"$f":"Risk!$J21","v":0},{"$f":"Risk!$J21","v":0},{"$f":"Risk!$J21","v":0},{"$f":"Risk!$J21","v":0},{"$f":"Risk!$J21","v":0},{"$f":"Risk!$J21","v":0},{"$f":"Risk!$J21","v":0},null,null,6.6584545726936775E-4,4.8273795652029164E-4,1.4648600059926091E-3,1.0487065951992542E-3,6.6584545726936775E-4,4.8273795652029164E-4,1.4648600059926091E-3,1.0487065951992542E-3,null,null,0,0,0,0,0,0,0,0]
[null,null,null,null,null,null,null,15,"Y15",{"$f":"'population lookup'!I19","v":0},{"$f":"'population lookup'!P19","v":0},null,20,null,null,{"$f":"HLOOKUP($P$5,altrisk10plus,Risk!$A22,FALSE)","v":1.0227563283047815E-3},{"$f":"HLOOKUP($Q$5,altrisk10plushighrisk,Risk!$A22,FALSE)","v":6.7118384045001275E-4},{"$f":"HLOOKUP($R$5,altrisk59,Risk!$A22,FALSE)","v":1.9496292508309895E-3},{"$f":"HLOOKUP($S$5,altrisk59plushighrisk,Risk!$A22,FALSE)","v":1.2784454103809768E-3},{"$f":"HLOOKUP($T$5,altrisk10plus,Risk!$A22,FALSE)","v":1.0227563283047815E-3},{"$f":"HLOOKUP($U$5,altrisk10plushighrisk,Risk!$A22,FALSE)","v":6.7118384045001275E-4},{"$f":"HLOOKUP($V$5,altrisk59,Risk!$A22,FALSE)","v":1.9496292508309895E-3},{"$f":"HLOOKUP($W$5,altrisk59plushighrisk,Risk!$A22,FALSE)","v":1.2784454103809768E-3},null,{"$f":"Risk!E22","v":0},{"$f":"Risk!F22","v":0},{"$f":"Risk!G22","v":0},{"$f":"Risk!H22","v":0},0,0,0,0,null,{"$f":"Risk!$J22","v":0},{"$f":"Risk!$J22","v":0},{"$f":"Risk!$J22","v":0},{"$f":"Risk!$J22","v":0},{"$f":"Risk!$J22","v":0},{"$f":"Risk!$J22","v":0},{"$f":"Risk!$J22","v":0},{"$f":"Risk!$J22","v":0},null,null,1.0227563283047815E-3,6.7118384045001275E-4,1.9496292508309895E-3,1.2784454103809768E-3,1.0227563283047815E-3,6.7118384045001275E-4,1.9496292508309895E-3,1.2784454103809768E-3,null,null,0,0,0,0,0,0,0,0]
[null,null,null,null,null,null,null,16,"Y16",{"$f":"'population lookup'!I20","v":0},{"$f":"'population lookup'!P20","v":0},null,21,null,null,{"$f":"HLOOKUP($P$5,altrisk10plus,Risk!$A23,FALSE)","v":1.0457238985799372E-3},{"$f":"HLOOKUP($Q$5,altrisk10plushighrisk,Risk!$A23,FALSE)","v":8.9416971037994638E-4},{"$f":"HLOOKUP($R$5,altrisk59,Risk!$A23,FALSE)","v":2.318779079459861E-3},{"$f":"HLOOKUP($S$5,altrisk59plushighrisk,Risk!$A23,FALSE)","v":1.9095827713198855E-3},{"$f":"HLOOKUP($T$5,altrisk10plus,Risk!$A23,FALSE)","v":1.0457238985799372E-3},{"$f":"HLOOKUP($U$5,altrisk10plushighrisk,Risk!$A23,FALSE)","v":8.9416971037994638E-4},{"$f":"HLOOKUP($V$5,altrisk59,Risk!$A23,FALSE)","v":2.318779079459861E-3},{"$f":"HLOOKUP($W$5,altrisk59plushighrisk,Risk!$A23,FALSE)","v":1.9095827713198855E-3},null,{"$f":"Risk!E23","v":0},{"$f":"Risk!F23","v":0},{"$f":"Risk!G23","v":0},{"$f":"Risk!H23","v":0},0,0,0,0,null,{"$f":"Risk!$J23","v":0},{"$f":"Risk!$J23","v":0},{"$f":"Risk!$J23","v":0},{"$f":"Risk!$J23","v":0},{"$f":"Risk!$J23","v":0},{"$f":"Risk!$J23","v":0},{"$f":"Risk!$J23","v":0},{"$f":"Risk!$J23","v":0},null,null,1.0457238985799372E-3,8.9416971037994638E-4,2.318779079459861E-3,1.9095827713198855E-3,1.0457238985799372E-3,8.9416971037994638E-4,2.318779079459861E-3,1.9095827713198855E-3,null,null,0,0,0,0,0,0,0,0]
[null,null,null,null,null,null,null,17,"Y17",{"$f":"'population lookup'!I21","v":0},{"$f":"'population lookup'!P21","v":0},null,22,null,null,{"$f":"HLOOKUP($P$5,altrisk10plus,Risk!$A24,FALSE)","v":1.1544475457029709E-3},{"$f":"HLOOKUP($Q$5,altrisk10plushighrisk,Risk!$A24,FALSE)","v":1.0229282050532654E-3},{"$f":"HLOOKUP($R$5,altrisk59,Risk!$A24,FALSE)","v":2.3381216115503207E-3},{"$f":"HLOOKUP($S$5,altrisk59plushighrisk,Risk!$A24,FALSE)","v":1.8997238093846356E-3},{"$f":"HLOOKUP($T$5,altrisk10plus,Risk!$A24,FALSE)","v":1.1544475457029709E-3},{"$f":"HLOOKUP($U$5,altrisk10plushighrisk,Risk!$A24,FALSE)","v":1.0229282050532654E-3},{"$f":"HLOOKUP($V$5,altrisk59,Risk!$A24,FALSE)","v":2.3381216115503207E-3},{"$f":"HLOOKUP($W$5,altrisk59plushighrisk,Risk!$A24,FALSE)","v":1.8997238093846356E-3},null,{"$f":"Risk!E24","v":0},{"$f":"Risk!F24","v":0},{"$f":"Risk!G24","v":0},{"$f":"Risk!H24","v":0},0,0,0,0,null,{"$f":"Risk!$J24","v":0},{"$f":"Risk!$J24","v":0},{"$f":"Risk!$J24","v":0},{"$f":"Risk!$J24","v":0},{"$f":"Risk!$J24","v":0},{"$f":"Risk!$J24","v":0},{"$f":"Risk!$J24","v":0},{"$f":"Risk!$J24","v":0},null,null,1.1544475457029709E-3,1.0229282050532654E-3,2.3381216115503207E-3,1.8997238093846356E-3,1.1544475457029709E-3,1.0229282050532654E-3,2.3381216115503207E-3,1.8997238093846356E-3,null,null,0,0,0,0,0,0,0,0]
[null,null,null,null,null,null,null,18,"Y18",{"$f":"'population lookup'!I22","v":0},{"$f":"'population lookup'!P22","v":0},null,23,null,null,{"$f":"HLOOKUP($P$5,altrisk10plus,Risk!$A25,FALSE)","v":1.1209662729272634E-3},{"$f":"HLOOKUP($Q$5,altrisk10plushighrisk,Risk!$A25,FALSE)","v":9.8084548881135548E-4},{"$f":"HLOOKUP($R$5,altrisk59,Risk!$A25,FALSE)","v":2.2279204674429359E-3},{"$f":"HLOOKUP($S$5,altrisk59plushighrisk,Risk!$A25,FALSE)","v":1.7935460366836212E-3},{"$f":"HLOOKUP($T$5,altrisk10plus,Risk!$A25,FALSE)","v":1.1209662729272634E-3},{"$f":"HLOOKUP($U$5,altrisk10plushighrisk,Risk!$A25,FALSE)","v":9.8084548881135548E-4},{"$f":"HLOOKUP($V$5,altrisk59,Risk!$A25,FALSE)","v":2.2279204674429359E-3},{"$f":"HLOOKUP($W$5,altrisk59plushighrisk,Risk!$A25,FALSE)","v":1.7935460366836212E-3},null,{"$f":"Risk!E25","v":0},{"$f":"Risk!F25","v":0},{"$f":"Risk!G25","v":0},{"$f":"Risk!H25","v":0},0,0,0,0,null,{"$f":"Risk!$J25","v":0},{"$f":"Risk!$J25","v":0},{"$f":"Risk!$J25","v":0},{"$f":"Risk!$J25","v":0},{"$f":"Risk!$J25","v":0},{"$f":"Risk!$J25","v":0},{"$f":"Risk!$J25","v":0},{"$f":"Risk!$J25","v":0},null,null,1.1209662729272634E-3,9.8084548881135548E-4,2.2279204674429359E-3,1.7935460366836212E-3,1.1209662729272634E-3,9.8084548881135548E-4,2.2279204674429359E-3,1.7935460366836212E-3,null,null,0,0,0,0,0,0,0,0]
[null,null,null,null,null,null,null,19,"Y19",{"$f":"'population lookup'!I23","v":0},{"$f":"'population lookup'!P23","v":0},null,24,null,null,{"$f":"HLOOKUP($P$5,altrisk10plus,Risk!$A26,FALSE)","v":1.5996499911130556E-3},{"$f":"HLOOKUP($Q$5,altrisk10plushighrisk,Risk!$A26,FALSE)","v":1.3125333260414814E-3},{"$f":"HLOOKUP($R$5,altrisk59,Risk!$A26,FALSE)","v":2.8438222064232099E-3},{"$f":"HLOOKUP($S$5,altrisk59plushighrisk,Risk!$A26,FALSE)","v":2.2832610984263274E-3},{"$f":"HLOOKUP($T$5,altrisk10plus,Risk!$A26,FALSE)","v":1.5996499911130556E-3},{"$f":"HLOOKUP($U$5,altrisk10plushighrisk,Risk!$A26,FALSE)","v":1.3125333260414814E-3},{"$f":"HLOOKUP($V$5,altrisk59,Risk!$A26,FALSE)","v":2.8438222064232099E-3},{"$f":"HLOOKUP($W$5,altrisk59plushighrisk,Risk!$A26,FALSE)","v":2.2832610984263274E-3},null,{"$f":"Risk!E26","v":0},{"$f":"Risk!F26","v":0},{"$f":"Risk!G26","v":0},{"$f":"Risk!H26","v":0},0,0,0,0,null,{"$f":"Risk!$J26","v":0},{"$f":"Risk!$J26","v":0},{"$f":"Risk!$J26","v":0},{"$f":"Risk!$J26","v":0},{"$f":"Risk!$J26","v":0},{"$f":"Risk!$J26","v":0},{"$f":"Risk!$J26","v":0},{"$f":"Risk!$J26","v":0},null,null,1.5996499911130556E-3,1.3125333260414814E-3,2.8438222064232099E-3,2.2832610984263274E-3,1.5996499911130556E-3,1.3125333260414814E-3,2.8438222064232099E-3,2.2832610984263274E-3,null,null,0,0,0,0,0,0,0,0]
[null,null,null,null,null,null,null,20,"Y20",{"$f":"'population lookup'!I24","v":0},{"$f":"'population lookup'!P24","v":0},null,25,null,null,{"$f":"HLOOKUP($P$5,altrisk10plus,Risk!$A27,FALSE)","v":1.3551009872878621E-3},{"$f":"HLOOKUP($Q$5,altrisk10plushighrisk,Risk!$A27,FALSE)","v":1.1486094082725688E-3},{"$f":"HLOOKUP($R$5,altrisk59,Risk!$A27,FALSE)","v":2.5940504613796217E-3},{"$f":"HLOOKUP($S$5,altrisk59plushighrisk,Risk!$A27,FALSE)","v":2.1294444085952118E-3},{"$f":"HLOOKUP($T$5,altrisk10plus,Risk!$A27,FALSE)","v":1.3551009872878621E-3},{"$f":"HLOOKUP($U$5,altrisk10plushighrisk,Risk!$A27,FALSE)","v":1.1486094082725688E-3},{"$f":"HLOOKUP($V$5,altrisk59,Risk!$A27,FALSE)","v":2.5940504613796217E-3},{"$f":"HLOOKUP($W$5,altrisk59plushighrisk,Risk!$A27,FALSE)","v":2.1294444085952118E-3},null,{"$f":"Risk!E27","v":0},{"$f":"Risk!F27","v":0},{"$f":"Risk!G27","v":0},{"$f":"Risk!H27","v":0},0,0,0,0,null,{"$f":"Risk!$J27","v":0},{"$f":"Risk!$J27","v":0},{"$f":"Risk!$J27","v":0},{"$f":"Risk!$J27","v":0},{"$f":"Risk!$J27","v":0},{"$f":"Risk!$J27","v":0},{"$f":"Risk!$J27","v":0},{"$f":"Risk!$J27","v":0},null,null,{"$f":"HLOOKUP(AR$2,$P$2:$AO$107,$M26,FALSE)","v":1.3551009872878621E-3},1.1486094082725688E-3,2.5940504613796217E-3,2.1294444085952118E-3,1.3551009872878621E-3,1.1486094082725688E-3,2.5940504613796217E-3,2.1294444085952118E-3,null,null,0,0,0,0,0,0,0,0]
[null,null,null,null,null,null,null,21,"Y21",{"$f":"'population lookup'!I25","v":0},{"$f":"'population lookup'!P25","v":0},null,26,null,null,{"$f":"HLOOKUP($P$5,altrisk10plus,Risk!$A28,FALSE)","v":1.2945654143903891E-3},{"$f":"HLOOKUP($Q$5,altrisk10plushighrisk,Risk!$A28,FALSE)","v":1.2298371436708696E-3},{"$f":"HLOOKUP($R$5,altrisk59,Risk!$A28,FALSE)","v":2.511456903917355E-3},{"$f":"HLOOKUP($S$5,altrisk59plushighrisk,Risk!$A28,FALSE)","v":2.16192424203195E-3},{"$f":"HLOOKUP($T$5,altrisk10plus,Risk!$A28,FALSE)","v":1.2945654143903891E-3},{"$f":"HLOOKUP($U$5,altrisk10plushighrisk,Risk!$A28,FALSE)","v":1.2298371436708696E-3},{"$f":"HLOOKUP($V$5,altrisk59,Risk!$A28,FALSE)","v":2.511456903917355E-3},{"$f":"HLOOKUP($W$5,altrisk59plushighrisk,Risk!$A28,FALSE)","v":2.16192424203195E-3},null,{"$f":"Risk!E28","v":0},{"$f":"Risk!F28","v":0},{"$f":"Risk!G28","v":0},{"$f":"Risk!H28","v":0},0,0,0,0,null,{"$f":"Risk!$J28","v":0},{"$f":"Risk!$J28","v":0},{"$f":"Risk!$J28","v":0},{"$f":"Risk!$J28","v":0},{"$f":"Risk!$J28","v":0},{"$f":"Risk!$J28","v":0},{"$f":"Risk!$J28","v":0},{"$f":"Risk!$J28","v":0},null,null,1.2945654143903891E-3,1.2298371436708696E-3,2.511456903917355E-3,2.16192424203195E-3,1.2945654143903891E-3,1.2298371436708696E-3,2.511456903917355E-3,2.16192424203195E-3,null,null,0,0,0,0,0,0,0,0]
[null,null,null,null,null,null,null,22,"Y22",{"$f":"'population lookup'!I26","v":0},{"$f":"'population lookup'!P26","v":0},null,27,null,null,{"$f":"HLOOKUP($P$5,altrisk10plus,Risk!$A29,FALSE)","v":1.5914332339811456E-3},{"$f":"HLOOKUP($Q$5,altrisk10plushighrisk,Risk!$A29,FALSE)","v":1.4295925661186562E-3},{"$f":"HLOOKUP($R$5,altrisk59,Risk!$A29,FALSE)","v":2.8726718545591867E-3},{"$f":"HLOOKUP($S$5,altrisk59plushighrisk,Risk!$A29,FALSE)","v":2.5085303518685852E-3},{"$f":"HLOOKUP($T$5,altrisk10plus,Risk!$A29,FALSE)","v":1.5914332339811456E-3},{"$f":"HLOOKUP($U$5,altrisk10plushighrisk,Risk!$A29,FALSE)","v":1.4295925661186562E-3},{"$f":"HLOOKUP($V$5,altrisk59,Risk!$A29,FALSE)","v":2.8726718545591867E-3},{"$f":"HLOOKUP($W$5,altrisk59plushighrisk,Risk!$A29,FALSE)","v":2.5085303518685852E-3},null,{"$f":"Risk!E29","v":0},{"$f":"Risk!F29","v":0},{"$f":"Risk!G29","v":0},{"$f":"Risk!H29","v":0},0,0,0,0,null,{"$f":"Risk!$J29","v":0},{"$f":"Risk!$J29","v":0},{"$f":"Risk!$J29","v":0},{"$f":"Risk!$J29","v":0},{"$f":"Risk!$J29","v":0},{"$f":"Risk!$J29","v":0},{"$f":"Risk!$J29","v":0},{"$f":"Risk!$J29","v":0},null,null,1.5914332339811456E-3,1.4295925661186562E-3,2.8726718545591867E-3,2.5085303518685852E-3,1.5914332339811456E-3,1.4295925661186562E-3,2.8726718545591867E-3,2.5085303518685852E-3,null,null,0,0,0,0,0,0,0,0]
[null,null,null,null,null,null,null,23,"Y23",{"$f":"'population lookup'!I27","v":0},{"$f":"'population lookup'!P27","v":0},null,28,null,null,{"$f":"HLOOKUP($P$5,altrisk10plus,Risk!$A30,FALSE)","v":1.8088593305860433E-3},{"$f":"HLOOKUP($Q$5,altrisk10plushighrisk,Risk!$A30,FALSE)","v":1.6592544235450922E-3},{"$f":"HLOOKUP($R$5,altrisk59,Risk!$A30,FALSE)","v":3.0328994791029144E-3},{"$f":"HLOOKUP($S$5,altrisk59plushighrisk,Risk!$A30,FALSE)","v":2.679287880642485E-3},{"$f":"HLOOKUP($T$5,altrisk10plus,Risk!$A30,FALSE)","v":1.8088593305860433E-3},{"$f":"HLOOKUP($U$5,altrisk10plushighrisk,Risk!$A30,FALSE)","v":1.6592544235450922E-3},{"$f":"HLOOKUP($V$5,altrisk59,Risk!$A30,FALSE)","v":3.0328994791029144E-3},{"$f":"HLOOKUP($W$5,altrisk59plushighrisk,Risk!$A30,FALSE)","v":2.679287880642485E-3},null,{"$f":"Risk!E30","v":0},{"$f":"Risk!F30","v":0},{"$f":"Risk!G30","v":0},{"$f":"Risk!H30","v":0},0,0,0,0,null,{"$f":"Risk!$J30","v":0},{"$f":"Risk!$J30","v":0},{"$f":"Risk!$J30","v":0},{"$f":"Risk!$J30","v":0},{"$f":"Risk!$J30","v":0},{"$f":"Risk!$J30","v":0},{"$f":"Risk!$J30","v":0},{"$f":"Risk!$J30","v":0},null,null,1.8088593305860433E-3,1.6592544235450922E-3,3.0328994791029144E-3,2.679287880642485E-3,1.8088593305860433E-3,1.6592544235450922E-3,3.0328994791029144E-3,2.679287880642485E-3,null,null,0,0,0,0,0,0,0,0]
[null,null,null,null,null,null,null,24,"Y24",{"$f":"'population lookup'!I28","v":0},{"$f":"'population lookup'!P28","v":0},null,29,null,null,{"$f":"HLOOKUP($P$5,altrisk10plus,Risk!$A31,FALSE)","v":1.7876731808393938E-3},{"$f":"HLOOKUP($Q$5,altrisk10plushighrisk,Risk!$A31,FALSE)","v":1.5980714798412763E-3},{"$f":"HLOOKUP($R$5,altrisk59,Risk!$A31,FALSE)","v":3.0877991305407713E-3},{"$f":"HLOOKUP($S$5,altrisk59plushighrisk,Risk!$A31,FALSE)","v":2.6544238139736454E-3},{"$f":"HLOOKUP($T$5,altrisk10plus,Risk!$A31,FALSE)","v":1.7876731808393938E-3},{"$f":"HLOOKUP($U$5,altrisk10plushighrisk,Risk!$A31,FALSE)","v":1.5980714798412763E-3},{"$f":"HLOOKUP($V$5,altrisk59,Risk!$A31,FALSE)","v":3.0877991305407713E-3},{"$f":"HLOOKUP($W$5,altrisk59plushighrisk,Risk!$A31,FALSE)","v":2.6544238139736454E-3},null,{"$f":"Risk!E31","v":0},{"$f":"Risk!F31","v":0},{"$f":"Risk!G31","v":0},{"$f":"Risk!H31","v":0},0,0,0,0,null,{"$f":"Risk!$J31","v":0},{"$f":"Risk!$J31","v":0},{"$f":"Risk!$J31","v":0},{"$f":"Risk!$J31","v":0},{"$f":"Risk!$J31","v":0},{"$f":"Risk!$J31","v":0},{"$f":"Risk!$J31","v":0},{"$f":"Risk!$J31","v":0},null,null,1.7876731808393938E-3,1.5980714798412763E-3,3.0877991305407713E-3,2.6544238139736454E-3,1.7876731808393938E-3,1.5980714798412763E-3,3.0877991305407713E-3,2.6544238139736454E-3,null,null,0,0,0,0,0,0,0,0]
[null,null,null,null,null,null,null,25,"Y25",{"$f":"'population lookup'!I29","v":0},{"$f":"'population lookup'!P29","v":0},null,30,null,null,{"$f":"HLOOKUP($P$5,altrisk10plus,Risk!$A32,FALSE)","v":1.9745686757786244E-3},{"$f":"HLOOKUP($Q$5,altrisk10plushighrisk,Risk!$A32,FALSE)","v":1.834528344163119E-3},{"$f":"HLOOKUP($R$5,altrisk59,Risk!$A32,FALSE)","v":3.4870042572260813E-3},{"$f":"HLOOKUP($S$5,altrisk59plushighrisk,Risk!$A32,FALSE)","v":3.0108671297333633E-3},{"$f":"HLOOKUP($T$5,altrisk10plus,Risk!$A32,FALSE)","v":1.9745686757786244E-3},{"$f":"HLOOKUP($U$5,altrisk10plushighrisk,Risk!$A32,FALSE)","v":1.834528344163119E-3},{"$f":"HLOOKUP($V$5,altrisk59,Risk!$A32,FALSE)","v":3.4870042572260813E-3},{"$f":"HLOOKUP($W$5,altrisk59plushighrisk,Risk!$A32,FALSE)","v":3.0108671297333633E-3},null,{"$f":"Risk!E32","v":0},{"$f":"Risk!F32","v":0},{"$f":"Risk!G32","v":0},{"$f":"Risk!H32","v":0},0,0,0,0,null,{"$f":"Risk!$J32","v":0},{"$f":"Risk!$J32","v":0},{"$f":"Risk!$J32","v":0},{"$f":"Risk!$J32","v":0},{"$f":"Risk!$J32","v":0},{"$f":"Risk!$J32","v":0},{"$f":"Risk!$J32","v":0},{"$f":"Risk!$J32","v":0},null,null,1.9745686757786244E-3,1.834528344163119E-3,3.4870042572260813E-3,3.0108671297333633E-3,1.9745686757786244E-3,1.834528344163119E-3,3.4870042572260813E-3,3.0108671297333633E-3,null,null,0,0,0,0,0,0,0,0]
[null,null,null,null,null,null,null,26,"Y26",{"$f":"'population lookup'!I30","v":0},{"$f":"'population lookup'!P30","v":0},null,31,null,null,{"$f":"HLOOKUP($P$5,altrisk10plus,Risk!$A33,FALSE)","v":2.1137180300147959E-3},{"$f":"HLOOKUP($Q$5,altrisk10plushighrisk,Risk!$A33,FALSE)","v":1.9305291340801804E-3},{"$f":"HLOOKUP($R$5,altrisk59,Risk!$A33,FALSE)","v":3.635595011625449E-3},{"$f":"HLOOKUP($S$5,altrisk59plushighrisk,Risk!$A33,FALSE)","v":3.2974001268230818E-3},{"$f":"HLOOKUP($T$5,altrisk10plus,Risk!$A33,FALSE)","v":2.1137180300147959E-3},{"$f":"HLOOKUP($U$5,altrisk10plushighrisk,Risk!$A33,FALSE)","v":1.9305291340801804E-3},{"$f":"HLOOKUP($V$5,altrisk59,Risk!$A33,FALSE)","v":3.635595011625449E-3},{"$f":"HLOOKUP($W$5,altrisk59plushighrisk,Risk!$A33,FALSE)","v":3.2974001268230818E-3},null,{"$f":"Risk!E33","v":0},{"$f":"Risk!F33","v":0},{"$f":"Risk!G33","v":0},{"$f":"Risk!H33","v":0},0,0,0,0,null,{"$f":"Risk!$J33","v":0},{"$f":"Risk!$J33","v":0},{"$f":"Risk!$J33","v":0},{"$f":"Risk!$J33","v":0},{"$f":"Risk!$J33","v":0},{"$f":"Risk!$J33","v":0},{"$f":"Risk!$J33","v":0},{"$f":"Risk!$J33","v":0},null,null,2.1137180300147959E-3,1.9305291340801804E-3,3.635595011625449E-3,3.2974001268230818E-3,2.1137180300147959E-3,1.9305291340801804E-3,3.635595011625449E-3,3.2974001268230818E-3,null,null,0,0,0,0,0,0,0,0]
[null,null,null,null,null,null,null,27,"Y27",{"$f":"'population lookup'!I31","v":0},{"$f":"'population lookup'!P31","v":0},null,32,null,null,{"$f":"HLOOKUP($P$5,altrisk10plus,Risk!$A34,FALSE)","v":2.1833751577275884E-3},{"$f":"HLOOKUP($Q$5,altrisk10plushighrisk,Risk!$A34,FALSE)","v":2.0557753108474048E-3},{"$f":"HLOOKUP($R$5,altrisk59,Risk!$A34,FALSE)","v":3.8705286886989067E-3},{"$f":"HLOOKUP($S$5,altrisk59plushighrisk,Risk!$A34,FALSE)","v":3.4735513872938906E-3},{"$f":"HLOOKUP($T$5,altrisk10plus,Risk!$A34,FALSE)","v":2.1833751577275884E-3},{"$f":"HLOOKUP($U$5,altrisk10plushighrisk,Risk!$A34,FALSE)","v":2.0557753108474048E-3},{"$f":"HLOOKUP($V$5,altrisk59,Risk!$A34,FALSE)","v":3.8705286886989067E-3},{"$f":"HLOOKUP($W$5,altrisk59plushighrisk,Risk!$A34,FALSE)","v":3.4735513872938906E-3},null,{"$f":"Risk!E34","v":0},{"$f":"Risk!F34","v":0},{"$f":"Risk!G34","v":0},{"$f":"Risk!H34","v":0},0,0,0,0,null,{"$f":"Risk!$J34","v":0},{"$f":"Risk!$J34","v":0},{"$f":"Risk!$J34","v":0},{"$f":"Risk!$J34","v":0},{"$f":"Risk!$J34","v":0},{"$f":"Risk!$J34","v":0},{"$f":"Risk!$J34","v":0},{"$f":"Risk!$J34","v":0},null,null,2.1833751577275884E-3,2.0557753108474048E-3,3.8705286886989067E-3,3.4735513872938906E-3,2.1833751577275884E-3,2.0557753108474048E-3,3.8705286886989067E-3,3.4735513872938906E-3,null,null,0,0,0,0,0,0,0,0]
[null,null,null,null,null,null,null,28,"Y28",{"$f":"'population lookup'!I32","v":0},{"$f":"'population lookup'!P32","v":0},null,33,null,null,{"$f":"HLOOKUP($P$5,altrisk10plus,Risk!$A35,FALSE)","v":2.299490304059992E-3},{"$f":"HLOOKUP($Q$5,altrisk10plushighrisk,Risk!$A35,FALSE)","v":2.1969652586560431E-3},{"$f":"HLOOKUP($R$5,altrisk59,Risk!$A35,FALSE)","v":3.866658855234636E-3},{"$f":"HLOOKUP($S$5,altrisk59plushighrisk,Risk!$A35,FALSE)","v":3.471205108676548E-3},{"$f":"HLOOKUP($T$5,altrisk10plus,Risk!$A35,FALSE)","v":2.299490304059992E-3},{"$f":"HLOOKUP($U$5,altrisk10plushighrisk,Risk!$A35,FALSE)","v":2.1969652586560431E-3},{"$f":"HLOOKUP($V$5,altrisk59,Risk!$A35,FALSE)","v":3.866658855234636E-3},{"$f":"HLOOKUP($W$5,altrisk59plushighrisk,Risk!$A35,FALSE)","v":3.471205108676548E-3},null,{"$f":"Risk!E35","v":0},{"$f":"Risk!F35","v":0},{"$f":"Risk!G35","v":0},{"$f":"Risk!H35","v":0},0,0,0,0,null,{"$f":"Risk!$J35","v":0},{"$f":"Risk!$J35","v":0},{"$f":"Risk!$J35","v":0},{"$f":"Risk!$J35","v":0},{"$f":"Risk!$J35","v":0},{"$f":"Risk!$J35","v":0},{"$f":"Risk!$J35","v":0},{"$f":"Risk!$J35","v":0},null,null,2.299490304059992E-3,2.1969652586560431E-3,3.866658855234636E-3,3.471205108676548E-3,2.299490304059992E-3,2.1969652586560431E-3,3.866658855234636E-3,3.471205108676548E-3,null,null,0,0,0,0,0,0,0,0]
[null,null,null,null,null,null,null,29,"Y29",{"$f":"'population lookup'!I33","v":0},{"$f":"'population lookup'!P33","v":0},null,34,null,null,{"$f":"HLOOKUP($P$5,altrisk10plus,Risk!$A36,FALSE)","v":2.3679574922752604E-3},{"$f":"HLOOKUP($Q$5,altrisk10plushighrisk,Risk!$A36,FALSE)","v":2.1946923099136562E-3},{"$f":"HLOOKUP($R$5,altrisk59,Risk!$A36,FALSE)","v":3.9562216639233011E-3},{"$f":"HLOOKUP($S$5,altrisk59plushighrisk,Risk!$A36,FALSE)","v":3.5519362384128909E-3},{"$f":"HLOOKUP($T$5,altrisk10plus,Risk!$A36,FALSE)","v":2.3679574922752604E-3},{"$f":"HLOOKUP($U$5,altrisk10plushighrisk,Risk!$A36,FALSE)","v":2.1946923099136562E-3},{"$f":"HLOOKUP($V$5,altrisk59,Risk!$A36,FALSE)","v":3.9562216639233011E-3},{"$f":"HLOOKUP($W$5,altrisk59plushighrisk,Risk!$A36,FALSE)","v":3.5519362384128909E-3},null,{"$f":"Risk!E36","v":0},{"$f":"Risk!F36","v":0},{"$f":"Risk!G36","v":0},{"$f":"Risk!H36","v":0},0,0,0,0,null,{"$f":"Risk!$J36","v":0},{"$f":"Risk!$J36","v":0},{"$f":"Risk!$J36","v":0},{"$f":"Risk!$J36","v":0},{"$f":"Risk!$J36","v":0},{"$f":"Risk!$J36","v":0},{"$f":"Risk!$J36","v":0},{"$f":"Risk!$J36","v":0},null,null,2.3679574922752604E-3,2.1946923099136562E-3,3.9562216639233011E-3,3.5519362384128909E-3,2.3679574922752604E-3,2.1946923099136562E-3,3.9562216639233011E-3,3.5519362384128909E-3,null,null,0,0,0,0,0,0,0,0]
[null,null,null,null,null,null,null,30,"Y30",{"$f":"'population lookup'!I34","v":0},{"$f":"'population lookup'!P34","v":0},null,35,null,null,{"$f":"HLOOKUP($P$5,altrisk10plus,Risk!$A37,FALSE)","v":2.1673415844407689E-3},{"$f":"HLOOKUP($Q$5,altrisk10plushighrisk,Risk!$A37,FALSE)","v":2.0247533223065077E-3},{"$f":"HLOOKUP($R$5,altrisk59,Risk!$A37,FALSE)","v":3.8071065989847717E-3},{"$f":"HLOOKUP($S$5,altrisk59plushighrisk,Risk!$A37,FALSE)","v":3.3650829863685621E-3},{"$f":"HLOOKUP($T$5,altrisk10plus,Risk!$A37,FALSE)","v":2.1673415844407689E-3},{"$f":"HLOOKUP($U$5,altrisk10plushighrisk,Risk!$A37,FALSE)","v":2.0247533223065077E-3},{"$f":"HLOOKUP($V$5,altrisk59,Risk!$A37,FALSE)","v":3.8071065989847717E-3},{"$f":"HLOOKUP($W$5,altrisk59plushighrisk,Risk!$A37,FALSE)","v":3.3650829863685621E-3},null,{"$f":"Risk!E37","v":0},{"$f":"Risk!F37","v":0},{"$f":"Risk!G37","v":0},{"$f":"Risk!H37","v":0},0,0,0,0,null,{"$f":"Risk!$J37","v":0},{"$f":"Risk!$J37","v":0},{"$f":"Risk!$J37","v":0},{"$f":"Risk!$J37","v":0},{"$f":"Risk!$J37","v":0},{"$f":"Risk!$J37","v":0},{"$f":"Risk!$J37","v":0},{"$f":"Risk!$J37","v":0},null,null,{"$f":"HLOOKUP(AR$2,$P$2:$AO$107,$M36,FALSE)","v":2.1673415844407689E-3},2.0247533223065077E-3,3.8071065989847717E-3,3.3650829863685621E-3,2.1673415844407689E-3,2.0247533223065077E-3,3.8071065989847717E-3,3.3650829863685621E-3,null,null,0,0,0,0,0,0,0,0]
[null,null,null,null,null,null,null,31,"Y31",{"$f":"'population lookup'!I35","v":0},{"$f":"'population lookup'!P35","v":0},null,36,null,null,{"$f":"HLOOKUP($P$5,altrisk10plus,Risk!$A38,FALSE)","v":2.5394183727636618E-3},{"$f":"HLOOKUP($Q$5,altrisk10plushighrisk,Risk!$A38,FALSE)","v":2.4389893975696186E-3},{"$f":"HLOOKUP($R$5,altrisk59,Risk!$A38,FALSE)","v":4.1893229652372275E-3},{"$f":"HLOOKUP($S$5,altrisk59plushighrisk,Risk!$A38,FALSE)","v":3.8736890431988061E-3},{"$f":"HLOOKUP($T$5,altrisk10plus,Risk!$A38,FALSE)","v":2.5394183727636618E-3},{"$f":"HLOOKUP($U$5,altrisk10plushighrisk,Risk!$A38,FALSE)","v":2.4389893975696186E-3},{"$f":"HLOOKUP($V$5,altrisk59,Risk!$A38,FALSE)","v":4.1893229652372275E-3},{"$f":"HLOOKUP($W$5,altrisk59plushighrisk,Risk!$A38,FALSE)","v":3.8736890431988061E-3},null,{"$f":"Risk!E38","v":0},{"$f":"Risk!F38","v":0},{"$f":"Risk!G38","v":0},{"$f":"Risk!H38","v":0},0,0,0,0,null,{"$f":"Risk!$J38","v":0},{"$f":"Risk!$J38","v":0},{"$f":"Risk!$J38","v":0},{"$f":"Risk!$J38","v":0},{"$f":"Risk!$J38","v":0},{"$f":"Risk!$J38","v":0},{"$f":"Risk!$J38","v":0},{"$f":"Risk!$J38","v":0},null,null,2.5394183727636618E-3,2.4389893975696186E-3,4.1893229652372275E-3,3.8736890431988061E-3,2.5394183727636618E-3,2.4389893975696186E-3,4.1893229652372275E-3,3.8736890431988061E-3,null,null,0,0,0,0,0,0,0,0]
[null,null,null,null,null,null,null,32,"Y32",{"$f":"'population lookup'!I36","v":0},{"$f":"'population lookup'!P36","v":0},null,37,null,null,{"$f":"HLOOKUP($P$5,altrisk10plus,Risk!$A39,FALSE)","v":3.1618701876628508E-3},{"$f":"HLOOKUP($Q$5,altrisk10plushighrisk,Risk!$A39,FALSE)","v":2.8837427174517667E-3},{"$f":"HLOOKUP($R$5,altrisk59,Risk!$A39,FALSE)","v":4.7574435694001226E-3},{"$f":"HLOOKUP($S$5,altrisk59plushighrisk,Risk!$A39,FALSE)","v":4.3182949322247274E-3},{"$f":"HLOOKUP($T$5,altrisk10plus,Risk!$A39,FALSE)","v":3.1618701876628508E-3},{"$f":"HLOOKUP($U$5,altrisk10plushighrisk,Risk!$A39,FALSE)","v":2.8837427174517667E-3},{"$f":"HLOOKUP($V$5,altrisk59,Risk!$A39,FALSE)","v":4.7574435694001226E-3},{"$f":"HLOOKUP($W$5,altrisk59plushighrisk,Risk!$A39,FALSE)","v":4.3182949322247274E-3},null,{"$f":"Risk!E39","v":0},{"$f":"Risk!F39","v":0},{"$f":"Risk!G39","v":0},{"$f":"Risk!H39","v":0},0,0,0,0,null,{"$f":"Risk!$J39","v":0},{"$f":"Risk!$J39","v":0},{"$f":"Risk!$J39","v":0},{"$f":"Risk!$J39","v":0},{"$f":"Risk!$J39","v":0},{"$f":"Risk!$J39","v":0},{"$f":"Risk!$J39","v":0},{"$f":"Risk!$J39","v":0},null,null,3.1618701876628508E-3,2.8837427174517667E-3,4.7574435694001226E-3,4.3182949322247274E-3,3.1618701876628508E-3,2.8837427174517667E-3,4.7574435694001226E-3,4.3182949322247274E-3,null,null,0,0,0,0,0,0,0,0]
[null,null,null,null,null,null,null,33,"Y33",{"$f":"'population lookup'!I37","v":0},{"$f":"'population lookup'!P37","v":0},null,38,null,null,{"$f":"HLOOKUP($P$5,altrisk10plus,Risk!$A40,FALSE)","v":2.9812799830505909E-3},{"$f":"HLOOKUP($Q$5,altrisk10plushighrisk,Risk!$A40,FALSE)","v":2.8602127756170645E-3},{"$f":"HLOOKUP($R$5,altrisk59,Risk!$A40,FALSE)","v":4.7064876889783445E-3},{"$f":"HLOOKUP($S$5,altrisk59plushighrisk,Risk!$A40,FALSE)","v":4.3281526657485735E-3},{"$f":"HLOOKUP($T$5,altrisk10plus,Risk!$A40,FALSE)","v":2.9812799830505909E-3},{"$f":"HLOOKUP($U$5,altrisk10plushighrisk,Risk!$A40,FALSE)","v":2.8602127756170645E-3},{"$f":"HLOOKUP($V$5,altrisk59,Risk!$A40,FALSE)","v":4.7064876889783445E-3},{"$f":"HLOOKUP($W$5,altrisk59plushighrisk,Risk!$A40,FALSE)","v":4.3281526657485735E-3},null,{"$f":"Risk!E40","v":0},{"$f":"Risk!F40","v":0},{"$f":"Risk!G40","v":0},{"$f":"Risk!H40","v":0},0,0,0,0,null,{"$f":"Risk!$J40","v":0},{"$f":"Risk!$J40","v":0},{"$f":"Risk!$J40","v":0},{"$f":"Risk!$J40","v":0},{"$f":"Risk!$J40","v":0},{"$f":"Risk!$J40","v":0},{"$f":"Risk!$J40","v":0},{"$f":"Risk!$J40","v":0},null,null,2.9812799830505909E-3,2.8602127756170645E-3,4.7064876889783445E-3,4.3281526657485735E-3,2.9812799830505909E-3,2.8602127756170645E-3,4.7064876889783445E-3,4.3281526657485735E-3,null,null,0,0,0,0,0,0,0,0]
[null,null,null,null,null,null,null,34,"Y34",{"$f":"'population lookup'!I38","v":0},{"$f":"'population lookup'!P38","v":0},null,39,null,null,{"$f":"HLOOKUP($P$5,altrisk10plus,Risk!$A41,FALSE)","v":3.3733683164121702E-3},{"$f":"HLOOKUP($Q$5,altrisk10plushighrisk,Risk!$A41,FALSE)","v":3.1941071981487217E-3},{"$f":"HLOOKUP($R$5,altrisk59,Risk!$A41,FALSE)","v":5.2148688949366882E-3},{"$f":"HLOOKUP($S$5,altrisk59plushighrisk,Risk!$A41,FALSE)","v":4.8074572625197596E-3},{"$f":"HLOOKUP($T$5,altrisk10plus,Risk!$A41,FALSE)","v":3.3733683164121702E-3},{"$f":"HLOOKUP($U$5,altrisk10plushighrisk,Risk!$A41,FALSE)","v":3.1941071981487217E-3},{"$f":"HLOOKUP($V$5,altrisk59,Risk!$A41,FALSE)","v":5.2148688949366882E-3},{"$f":"HLOOKUP($W$5,altrisk59plushighrisk,Risk!$A41,FALSE)","v":4.8074572625197596E-3},null,{"$f":"Risk!E41","v":0},{"$f":"Risk!F41","v":0},{"$f":"Risk!G41","v":0},{"$f":"Risk!H41","v":0},0,0,0,0,null,{"$f":"Risk!$J41","v":0},{"$f":"Risk!$J41","v":0},{"$f":"Risk!$J41","v":0},{"$f":"Risk!$J41","v":0},{"$f":"Risk!$J41","v":0},{"$f":"Risk!$J41","v":0},{"$f":"Risk!$J41","v":0},{"$f":"Risk!$J41","v":0},null,null,3.3733683164121702E-3,3.1941071981487217E-3,5.2148688949366882E-3,4.8074572625197596E-3,3.3733683164121702E-3,3.1941071981487217E-3,5.2148688949366882E-3,4.8074572625197596E-3,null,null,0,0,0,0,0,0,0,0]
[null,null,null,null,null,null,null,35,"Y35",{"$f":"'population lookup'!I39","v":0},{"$f":"'population lookup'!P39","v":0},null,40,null,null,{"$f":"HLOOKUP($P$5,altrisk10plus,Risk!$A42,FALSE)","v":3.2766267293307737E-3},{"$f":"HLOOKUP($Q$5,altrisk10plushighrisk,Risk!$A42,FALSE)","v":3.1276891507248297E-3},{"$f":"HLOOKUP($R$5,altrisk59,Risk!$A42,FALSE)","v":5.1466207718276298E-3},{"$f":"HLOOKUP($S$5,altrisk59plushighrisk,Risk!$A42,FALSE)","v":4.7163566558549013E-3},{"$f":"HLOOKUP($T$5,altrisk10plus,Risk!$A42,FALSE)","v":3.2766267293307737E-3},{"$f":"HLOOKUP($U$5,altrisk10plushighrisk,Risk!$A42,FALSE)","v":3.1276891507248297E-3},{"$f":"HLOOKUP($V$5,altrisk59,Risk!$A42,FALSE)","v":5.1466207718276298E-3},{"$f":"HLOOKUP($W$5,altrisk59plushighrisk,Risk!$A42,FALSE)","v":4.7163566558549013E-3},null,{"$f":"Risk!E42","v":0},{"$f":"Risk!F42","v":0},{"$f":"Risk!G42","v":0},{"$f":"Risk!H42","v":0},0,0,0,0,null,{"$f":"Risk!$J42","v":0},{"$f":"Risk!$J42","v":0},{"$f":"Risk!$J42","v":0},{"$f":"Risk!$J42","v":0},{"$f":"Risk!$J42","v":0},{"$f":"Risk!$J42","v":0},{"$f":"Risk!$J42","v":0},{"$f":"Risk!$J42","v":0},null,null,3.2766267293307737E-3,3.1276891507248297E-3,5.1466207718276298E-3,4.7163566558549013E-3,3.2766267293307737E-3,3.1276891507248297E-3,5.1466207718276298E-3,4.7163566558549013E-3,null,null,0,0,0,0,0,0,0,0]
[null,null,null,null,null,null,null,36,"Y36",{"$f":"'population lookup'!I40","v":0},{"$f":"'population lookup'!P40","v":0},null,41,null,null,{"$f":"HLOOKUP($P$5,altrisk10plus,Risk!$A43,FALSE)","v":2.7363845323909747E-3},{"$f":"HLOOKUP($Q$5,altrisk10plushighrisk,Risk!$A43,FALSE)","v":2.548746735884165E-3},{"$f":"HLOOKUP($R$5,altrisk59,Risk!$A43,FALSE)","v":4.3000328366143885E-3},{"$f":"HLOOKUP($S$5,altrisk59plushighrisk,Risk!$A43,FALSE)","v":3.9403937266430031E-3},{"$f":"HLOOKUP($T$5,altrisk10plus,Risk!$A43,FALSE)","v":2.7363845323909747E-3},{"$f":"HLOOKUP($U$5,altrisk10plushighrisk,Risk!$A43,FALSE)","v":2.548746735884165E-3},{"$f":"HLOOKUP($V$5,altrisk59,Risk!$A43,FALSE)","v":4.3000328366143885E-3},{"$f":"HLOOKUP($W$5,altrisk59plushighrisk,Risk!$A43,FALSE)","v":3.9403937266430031E-3},null,{"$f":"Risk!E43","v":0},{"$f":"Risk!F43","v":0},{"$f":"Risk!G43","v":0},{"$f":"Risk!H43","v":0},0,0,0,0,null,{"$f":"Risk!$J43","v":0},{"$f":"Risk!$J43","v":0},{"$f":"Risk!$J43","v":0},{"$f":"Risk!$J43","v":0},{"$f":"Risk!$J43","v":0},{"$f":"Risk!$J43","v":0},{"$f":"Risk!$J43","v":0},{"$f":"Risk!$J43","v":0},null,null,2.7363845323909747E-3,2.548746735884165E-3,4.3000328366143885E-3,3.9403937266430031E-3,2.7363845323909747E-3,2.548746735884165E-3,4.3000328366143885E-3,3.9403937266430031E-3,null,null,0,0,0,0,0,0,0,0]
[null,null,null,null,null,null,null,37,"Y37",{"$f":"'population lookup'!I41","v":0},{"$f":"'population lookup'!P41","v":0},null,42,null,null,{"$f":"HLOOKUP($P$5,altrisk10plus,Risk!$A44,FALSE)","v":3.4440497060146758E-3},{"$f":"HLOOKUP($Q$5,altrisk10plushighrisk,Risk!$A44,FALSE)","v":3.3664810189422733E-3},{"$f":"HLOOKUP($R$5,altrisk59,Risk!$A44,FALSE)","v":5.4142943576537027E-3},{"$f":"HLOOKUP($S$5,altrisk59plushighrisk,Risk!$A44,FALSE)","v":5.1660745590220141E-3},{"$f":"HLOOKUP($T$5,altrisk10plus,Risk!$A44,FALSE)","v":3.4440497060146758E-3},{"$f":"HLOOKUP($U$5,altrisk10plushighrisk,Risk!$A44,FALSE)","v":3.3664810189422733E-3},{"$f":"HLOOKUP($V$5,altrisk59,Risk!$A44,FALSE)","v":5.4142943576537027E-3},{"$f":"HLOOKUP($W$5,altrisk59plushighrisk,Risk!$A44,FALSE)","v":5.1660745590220141E-3},null,{"$f":"Risk!E44","v":0},{"$f":"Risk!F44","v":0},{"$f":"Risk!G44","v":0},{"$f":"Risk!H44","v":0},0,0,0,0,null,{"$f":"Risk!$J44","v":0},{"$f":"Risk!$J44","v":0},{"$f":"Risk!$J44","v":0},{"$f":"Risk!$J44","v":0},{"$f":"Risk!$J44","v":0},{"$f":"Risk!$J44","v":0},{"$f":"Risk!$J44","v":0},{"$f":"Risk!$J44","v":0},null,null,3.4440497060146758E-3,3.3664810189422733E-3,5.4142943576537027E-3,5.1660745590220141E-3,3.4440497060146758E-3,3.3664810189422733E-3,5.4142943576537027E-3,5.1660745590220141E-3,null,null,0,0,0,0,0,0,0,0]
[null,null,null,null,null,null,null,38,"Y38",{"$f":"'population lookup'!I42","v":0},{"$f":"'population lookup'!P42","v":0},null,43,null,null,{"$f":"HLOOKUP($P$5,altrisk10plus,Risk!$A45,FALSE)","v":4.1011829158186294E-3},{"$f":"HLOOKUP($Q$5,altrisk10plushighrisk,Risk!$A45,FALSE)","v":3.9175478598864524E-3},{"$f":"HLOOKUP($R$5,altrisk59,Risk!$A45,FALSE)","v":5.8916247111573603E-3},{"$f":"HLOOKUP($S$5,altrisk59plushighrisk,Risk!$A45,FALSE)","v":5.432537071326916E-3},{"$f":"HLOOKUP($T$5,altrisk10plus,Risk!$A45,FALSE)","v":4.1011829158186294E-3},{"$f":"HLOOKUP($U$5,altrisk10plushighrisk,Risk!$A45,FALSE)","v":3.9175478598864524E-3},{"$f":"HLOOKUP($V$5,altrisk59,Risk!$A45,FALSE)","v":5.8916247111573603E-3},{"$f":"HLOOKUP($W$5,altrisk59plushighrisk,Risk!$A45,FALSE)","v":5.432537071326916E-3},null,{"$f":"Risk!E45","v":0},{"$f":"Risk!F45","v":0},{"$f":"Risk!G45","v":0},{"$f":"Risk!H45","v":0},0,0,0,0,null,{"$f":"Risk!$J45","v":0},{"$f":"Risk!$J45","v":0},{"$f":"Risk!$J45","v":0},{"$f":"Risk!$J45","v":0},{"$f":"Risk!$J45","v":0},{"$f":"Risk!$J45","v":0},{"$f":"Risk!$J45","v":0},{"$f":"Risk!$J45","v":0},null,null,4.1011829158186294E-3,3.9175478598864524E-3,5.8916247111573603E-3,5.432537071326916E-3,4.1011829158186294E-3,3.9175478598864524E-3,5.8916247111573603E-3,5.432537071326916E-3,null,null,0,0,0,0,0,0,0,0]
[null,null,null,null,null,null,null,39,"Y39",{"$f":"'population lookup'!I43","v":0},{"$f":"'population lookup'!P43","v":0},null,44,null,null,{"$f":"HLOOKUP($P$5,altrisk10plus,Risk!$A46,FALSE)","v":4.1486005675516052E-3},{"$f":"HLOOKUP($Q$5,altrisk10plushighrisk,Risk!$A46,FALSE)","v":4.018956799815618E-3},{"$f":"HLOOKUP($R$5,altrisk59,Risk!$A46,FALSE)","v":6.2949251667362904E-3},{"$f":"HLOOKUP($S$5,altrisk59plushighrisk,Risk!$A46,FALSE)","v":5.9780181789372095E-3},{"$f":"HLOOKUP($T$5,altrisk10plus,Risk!$A46,FALSE)","v":4.1486005675516052E-3},{"$f":"HLOOKUP($U$5,altrisk10plushighrisk,Risk!$A46,FALSE)","v":4.018956799815618E-3},{"$f":"HLOOKUP($V$5,altrisk59,Risk!$A46,FALSE)","v":6.2949251667362904E-3},{"$f":"HLOOKUP($W$5,altrisk59plushighrisk,Risk!$A46,FALSE)","v":5.9780181789372095E-3},null,{"$f":"Risk!E46","v":0},{"$f":"Risk!F46","v":0},{"$f":"Risk!G46","v":0},{"$f":"Risk!H46","v":0},0,0,0,0,null,{"$f":"Risk!$J46","v":0},{"$f":"Risk!$J46","v":0},{"$f":"Risk!$J46","v":0},{"$f":"Risk!$J46","v":0},{"$f":"Risk!$J46","v":0},{"$f":"Risk!$J46","v":0},{"$f":"Risk!$J46","v":0},{"$f":"Risk!$J46","v":0},null,null,4.1486005675516052E-3,4.018956799815618E-3,6.2949251667362904E-3,5.9780181789372095E-3,4.1486005675516052E-3,4.018956799815618E-3,6.2949251667362904E-3,5.9780181789372095E-3,null,null,0,0,0,0,0,0,0,0]
[null,null,null,null,null,null,null,40,"Y40",{"$f":"'population lookup'!I44","v":0},{"$f":"'population lookup'!P44","v":0},null,45,null,null,{"$f":"HLOOKUP($P$5,altrisk10plus,Risk!$A47,FALSE)","v":3.8991105154136713E-3},{"$f":"HLOOKUP($Q$5,altrisk10plushighrisk,Risk!$A47,FALSE)","v":3.7772633118069942E-3},{"$f":"HLOOKUP($R$5,altrisk59,Risk!$A47,FALSE)","v":5.8892815076560662E-3},{"$f":"HLOOKUP($S$5,altrisk59plushighrisk,Risk!$A47,FALSE)","v":5.4966627404789952E-3},{"$f":"HLOOKUP($T$5,altrisk10plus,Risk!$A47,FALSE)","v":3.8991105154136713E-3},{"$f":"HLOOKUP($U$5,altrisk10plushighrisk,Risk!$A47,FALSE)","v":3.7772633118069942E-3},{"$f":"HLOOKUP($V$5,altrisk59,Risk!$A47,FALSE)","v":5.8892815076560662E-3},{"$f":"HLOOKUP($W$5,altrisk59plushighrisk,Risk!$A47,FALSE)","v":5.4966627404789952E-3},null,{"$f":"Risk!E47","v":0},{"$f":"Risk!F47","v":0},{"$f":"Risk!G47","v":0},{"$f":"Risk!H47","v":0},0,0,0,0,null,{"$f":"Risk!$J47","v":0},{"$f":"Risk!$J47","v":0},{"$f":"Risk!$J47","v":0},{"$f":"Risk!$J47","v":0},{"$f":"Risk!$J47","v":0},{"$f":"Risk!$J47","v":0},{"$f":"Risk!$J47","v":0},{"$f":"Risk!$J47","v":0},null,null,{"$f":"HLOOKUP(AR$2,$P$2:$AO$107,$M46,FALSE)","v":3.8991105154136713E-3},3.7772633118069942E-3,5.8892815076560662E-3,5.4966627404789952E-3,3.8991105154136713E-3,3.7772633118069942E-3,5.8892815076560662E-3,5.4966627404789952E-3,null,null,0,0,0,0,0,0,0,0]
[null,null,null,null,null,null,null,41,"Y41",{"$f":"'population lookup'!I45","v":0},{"$f":"'population lookup'!P45","v":0},null,46,null,null,{"$f":"HLOOKUP($P$5,altrisk10plus,Risk!$A48,FALSE)","v":4.639343194109598E-3},{"$f":"HLOOKUP($Q$5,altrisk10plushighrisk,Risk!$A48,FALSE)","v":4.4699289763471687E-3},{"$f":"HLOOKUP($R$5,altrisk59,Risk!$A48,FALSE)","v":6.4507721378771095E-3},{"$f":"HLOOKUP($S$5,altrisk59plushighrisk,Risk!$A48,FALSE)","v":6.0989118394474493E-3},{"$f":"HLOOKUP($T$5,altrisk10plus,Risk!$A48,FALSE)","v":4.639343194109598E-3},{"$f":"HLOOKUP($U$5,altrisk10plushighrisk,Risk!$A48,FALSE)","v":4.4699289763471687E-3},{"$f":"HLOOKUP($V$5,altrisk59,Risk!$A48,FALSE)","v":6.4507721378771095E-3},{"$f":"HLOOKUP($W$5,altrisk59plushighrisk,Risk!$A48,FALSE)","v":6.0989118394474493E-3},null,{"$f":"Risk!E48","v":0},{"$f":"Risk!F48","v":0},{"$f":"Risk!G48","v":0},{"$f":"Risk!H48","v":0},0,0,0,0,null,{"$f":"Risk!$J48","v":0},{"$f":"Risk!$J48","v":0},{"$f":"Risk!$J48","v":0},{"$f":"Risk!$J48","v":0},{"$f":"Risk!$J48","v":0},{"$f":"Risk!$J48","v":0},{"$f":"Risk!$J48","v":0},{"$f":"Risk!$J48","v":0},null,null,4.639343194109598E-3,4.4699289763471687E-3,6.4507721378771095E-3,6.0989118394474493E-3,4.639343194109598E-3,4.4699289763471687E-3,6.4507721378771095E-3,6.0989118394474493E-3,null,null,0,0,0,0,0,0,0,0]
[null,null,null,null,null,null,null,42,"Y42",{"$f":"'population lookup'!I46","v":0},{"$f":"'population lookup'!P46","v":0},null,47,null,null,{"$f":"HLOOKUP($P$5,altrisk10plus,Risk!$A49,FALSE)","v":4.6875825278614057E-3},{"$f":"HLOOKUP($Q$5,altrisk10plushighrisk,Risk!$A49,FALSE)","v":4.5555379496117886E-3},{"$f":"HLOOKUP($R$5,altrisk59,Risk!$A49,FALSE)","v":6.4041620451064278E-3},{"$f":"HLOOKUP($S$5,altrisk59plushighrisk,Risk!$A49,FALSE)","v":6.1004595151323083E-3},{"$f":"HLOOKUP($T$5,altrisk10plus,Risk!$A49,FALSE)","v":4.6875825278614057E-3},{"$f":"HLOOKUP($U$5,altrisk10plushighrisk,Risk!$A49,FALSE)","v":4.5555379496117886E-3},{"$f":"HLOOKUP($V$5,altrisk59,Risk!$A49,FALSE)","v":6.4041620451064278E-3},{"$f":"HLOOKUP($W$5,altrisk59plushighrisk,Risk!$A49,FALSE)","v":6.1004595151323083E-3},null,{"$f":"Risk!E49","v":0},{"$f":"Risk!F49","v":0},{"$f":"Risk!G49","v":0},{"$f":"Risk!H49","v":0},0,0,0,0,null,{"$f":"Risk!$J49","v":0},{"$f":"Risk!$J49","v":0},{"$f":"Risk!$J49","v":0},{"$f":"Risk!$J49","v":0},{"$f":"Risk!$J49","v":0},{"$f":"Risk!$J49","v":0},{"$f":"Risk!$J49","v":0},{"$f":"Risk!$J49","v":0},null,null,4.6875825278614057E-3,4.5555379496117886E-3,6.4041620451064278E-3,6.1004595151323083E-3,4.6875825278614057E-3,4.5555379496117886E-3,6.4041620451064278E-3,6.1004595151323083E-3,null,null,0,0,0,0,0,0,0,0]
[null,null,null,null,null,null,null,43,"Y43",{"$f":"'population lookup'!I47","v":0},{"$f":"'population lookup'!P47","v":0},null,48,null,null,{"$f":"HLOOKUP($P$5,altrisk10plus,Risk!$A50,FALSE)","v":5.0685975609756099E-3},{"$f":"HLOOKUP($Q$5,altrisk10plushighrisk,Risk!$A50,FALSE)","v":4.9796747967479679E-3},{"$f":"HLOOKUP($R$5,altrisk59,Risk!$A50,FALSE)","v":7.1138211382113818E-3},{"$f":"HLOOKUP($S$5,altrisk59plushighrisk,Risk!$A50,FALSE)","v":6.7962398373983737E-3},{"$f":"HLOOKUP($T$5,altrisk10plus,Risk!$A50,FALSE)","v":5.0685975609756099E-3},{"$f":"HLOOKUP($U$5,altrisk10plushighrisk,Risk!$A50,FALSE)","v":4.9796747967479679E-3},{"$f":"HLOOKUP($V$5,altrisk59,Risk!$A50,FALSE)","v":7.1138211382113818E-3},{"$f":"HLOOKUP($W$5,altrisk59plushighrisk,Risk!$A50,FALSE)","v":6.7962398373983737E-3},null,{"$f":"Risk!E50","v":0},{"$f":"Risk!F50","v":0},{"$f":"Risk!G50","v":0},{"$f":"Risk!H50","v":0},0,0,0,0,null,{"$f":"Risk!$J50","v":0},{"$f":"Risk!$J50","v":0},{"$f":"Risk!$J50","v":0},{"$f":"Risk!$J50","v":0},{"$f":"Risk!$J50","v":0},{"$f":"Risk!$J50","v":0},{"$f":"Risk!$J50","v":0},{"$f":"Risk!$J50","v":0},null,null,5.0685975609756099E-3,4.9796747967479679E-3,7.1138211382113818E-3,6.7962398373983737E-3,5.0685975609756099E-3,4.9796747967479679E-3,7.1138211382113818E-3,6.7962398373983737E-3,null,null,0,0,0,0,0,0,0,0]
[null,null,null,null,null,null,null,44,"Y44",{"$f":"'population lookup'!I48","v":0},{"$f":"'population lookup'!P48","v":0},null,49,null,null,{"$f":"HLOOKUP($P$5,altrisk10plus,Risk!$A51,FALSE)","v":5.3098668793937279E-3},{"$f":"HLOOKUP($Q$5,altrisk10plushighrisk,Risk!$A51,FALSE)","v":5.1353642119958123E-3},{"$f":"HLOOKUP($R$5,altrisk59,Risk!$A51,FALSE)","v":7.4786857456249686E-3},{"$f":"HLOOKUP($S$5,altrisk59plushighrisk,Risk!$A51,FALSE)","v":7.0798225058583035E-3},{"$f":"HLOOKUP($T$5,altrisk10plus,Risk!$A51,FALSE)","v":5.3098668793937279E-3},{"$f":"HLOOKUP($U$5,altrisk10plushighrisk,Risk!$A51,FALSE)","v":5.1353642119958123E-3},{"$f":"HLOOKUP($V$5,altrisk59,Risk!$A51,FALSE)","v":7.4786857456249686E-3},{"$f":"HLOOKUP($W$5,altrisk59plushighrisk,Risk!$A51,FALSE)","v":7.0798225058583035E-3},null,{"$f":"Risk!E51","v":0},{"$f":"Risk!F51","v":0},{"$f":"Risk!G51","v":0},{"$f":"Risk!H51","v":0},0,0,0,0,null,{"$f":"Risk!$J51","v":0},{"$f":"Risk!$J51","v":0},{"$f":"Risk!$J51","v":0},{"$f":"Risk!$J51","v":0},{"$f":"Risk!$J51","v":0},{"$f":"Risk!$J51","v":0},{"$f":"Risk!$J51","v":0},{"$f":"Risk!$J51","v":0},null,null,5.3098668793937279E-3,5.1353642119958123E-3,7.4786857456249686E-3,7.0798225058583035E-3,5.3098668793937279E-3,5.1353642119958123E-3,7.4786857456249686E-3,7.0798225058583035E-3,null,null,0,0,0,0,0,0,0,0]
[null,null,null,null,null,null,null,45,"Y45",{"$f":"'population lookup'!I49","v":0},{"$f":"'population lookup'!P49","v":0},null,50,null,null,{"$f":"HLOOKUP($P$5,altrisk10plus,Risk!$A52,FALSE)","v":5.3331023559691155E-3},{"$f":"HLOOKUP($Q$5,altrisk10plushighrisk,Risk!$A52,FALSE)","v":5.1846169075430611E-3},{"$f":"HLOOKUP($R$5,altrisk59,Risk!$A52,FALSE)","v":7.4118986339338742E-3},{"$f":"HLOOKUP($S$5,altrisk59plushighrisk,Risk!$A52,FALSE)","v":6.9540685012868739E-3},{"$f":"HLOOKUP($T$5,altrisk10plus,Risk!$A52,FALSE)","v":5.3331023559691155E-3},{"$f":"HLOOKUP($U$5,altrisk10plushighrisk,Risk!$A52,FALSE)","v":5.1846169075430611E-3},{"$f":"HLOOKUP($V$5,altrisk59,Risk!$A52,FALSE)","v":7.4118986339338742E-3},{"$f":"HLOOKUP($W$5,altrisk59plushighrisk,Risk!$A52,FALSE)","v":6.9540685012868739E-3},null,{"$f":"Risk!E52","v":0},{"$f":"Risk!F52","v":0},{"$f":"Risk!G52","v":0},{"$f":"Risk!H52","v":0},0,0,0,0,null,{"$f":"Risk!$J52","v":0},{"$f":"Risk!$J52","v":0},{"$f":"Risk!$J52","v":0},{"$f":"Risk!$J52","v":0},{"$f":"Risk!$J52","v":0},{"$f":"Risk!$J52","v":0},{"$f":"Risk!$J52","v":0},{"$f":"Risk!$J52","v":0},null,null,5.3331023559691155E-3,5.1846169075430611E-3,7.4118986339338742E-3,6.9540685012868739E-3,5.3331023559691155E-3,5.1846169075430611E-3,7.4118986339338742E-3,6.9540685012868739E-3,null,null,0,0,0,0,0,0,0,0]
[null,null,null,null,null,null,null,46,"Y46",{"$f":"'population lookup'!I50","v":0},{"$f":"'population lookup'!P50","v":0},null,51,null,null,{"$f":"HLOOKUP($P$5,altrisk10plus,Risk!$A53,FALSE)","v":6.0132964816613128E-3},{"$f":"HLOOKUP($Q$5,altrisk10plushighrisk,Risk!$A53,FALSE)","v":5.7767485869375766E-3},{"$f":"HLOOKUP($R$5,altrisk59,Risk!$A53,FALSE)","v":8.428574985682627E-3},{"$f":"HLOOKUP($S$5,altrisk59plushighrisk,Risk!$A53,FALSE)","v":7.9430293070391674E-3},{"$f":"HLOOKUP($T$5,altrisk10plus,Risk!$A53,FALSE)","v":6.0132964816613128E-3},{"$f":"HLOOKUP($U$5,altrisk10plushighrisk,Risk!$A53,FALSE)","v":5.7767485869375766E-3},{"$f":"HLOOKUP($V$5,altrisk59,Risk!$A53,FALSE)","v":8.428574985682627E-3},{"$f":"HLOOKUP($W$5,altrisk59plushighrisk,Risk!$A53,FALSE)","v":7.9430293070391674E-3},null,{"$f":"Risk!E53","v":0},{"$f":"Risk!F53","v":0},{"$f":"Risk!G53","v":0},{"$f":"Risk!H53","v":0},0,0,0,0,null,{"$f":"Risk!$J53","v":0},{"$f":"Risk!$J53","v":0},{"$f":"Risk!$J53","v":0},{"$f":"Risk!$J53","v":0},{"$f":"Risk!$J53","v":0},{"$f":"Risk!$J53","v":0},{"$f":"Risk!$J53","v":0},{"$f":"Risk!$J53","v":0},null,null,6.0132964816613128E-3,5.7767485869375766E-3,8.428574985682627E-3,7.9430293070391674E-3,6.0132964816613128E-3,5.7767485869375766E-3,8.428574985682627E-3,7.9430293070391674E-3,null,null,0,0,0,0,0,0,0,0]
[null,null,null,null,null,null,null,47,"Y47",{"$f":"'population lookup'!I51","v":0},{"$f":"'population lookup'!P51","v":0},null,52,null,null,{"$f":"HLOOKUP($P$5,altrisk10plus,Risk!$A54,FALSE)","v":6.1418269230769235E-3},{"$f":"HLOOKUP($Q$5,altrisk10plushighrisk,Risk!$A54,FALSE)","v":5.9254807692307688E-3},{"$f":"HLOOKUP($R$5,altrisk59,Risk!$A54,FALSE)","v":8.1610576923076932E-3},{"$f":"HLOOKUP($S$5,altrisk59plushighrisk,Risk!$A54,FALSE)","v":7.5721153846153846E-3},{"$f":"HLOOKUP($T$5,altrisk10plus,Risk!$A54,FALSE)","v":6.1418269230769235E-3},{"$f":"HLOOKUP($U$5,altrisk10plushighrisk,Risk!$A54,FALSE)","v":5.9254807692307688E-3},{"$f":"HLOOKUP($V$5,altrisk59,Risk!$A54,FALSE)","v":8.1610576923076932E-3},{"$f":"HLOOKUP($W$5,altrisk59plushighrisk,Risk!$A54,FALSE)","v":7.5721153846153846E-3},null,{"$f":"Risk!E54","v":0},{"$f":"Risk!F54","v":0},{"$f":"Risk!G54","v":0},{"$f":"Risk!H54","v":0},0,0,0,0,null,{"$f":"Risk!$J54","v":0},{"$f":"Risk!$J54","v":0},{"$f":"Risk!$J54","v":0},{"$f":"Risk!$J54","v":0},{"$f":"Risk!$J54","v":0},{"$f":"Risk!$J54","v":0},{"$f":"Risk!$J54","v":0},{"$f":"Risk!$J54","v":0},null,null,6.1418269230769235E-3,5.9254807692307688E-3,8.1610576923076932E-3,7.5721153846153846E-3,6.1418269230769235E-3,5.9254807692307688E-3,8.1610576923076932E-3,7.5721153846153846E-3,null,null,0,0,0,0,0,0,0,0]
[null,null,null,null,null,null,null,48,"Y48",{"$f":"'population lookup'!I52","v":0},{"$f":"'population lookup'!P52","v":0},null,53,null,null,{"$f":"HLOOKUP($P$5,altrisk10plus,Risk!$A55,FALSE)","v":6.2939787197779451E-3},{"$f":"HLOOKUP($Q$5,altrisk10plushighrisk,Risk!$A55,FALSE)","v":6.1113681186238467E-3},{"$f":"HLOOKUP($R$5,altrisk59,Risk!$A55,FALSE)","v":8.509654013781013E-3},{"$f":"HLOOKUP($S$5,altrisk59plushighrisk,Risk!$A55,FALSE)","v":8.1079106912419954E-3},{"$f":"HLOOKUP($T$5,altrisk10plus,Risk!$A55,FALSE)","v":6.2939787197779451E-3},{"$f":"HLOOKUP($U$5,altrisk10plushighrisk,Risk!$A55,FALSE)","v":6.1113681186238467E-3},{"$f":"HLOOKUP($V$5,altrisk59,Risk!$A55,FALSE)","v":8.509654013781013E-3},{"$f":"HLOOKUP($W$5,altrisk59plushighrisk,Risk!$A55,FALSE)","v":8.1079106912419954E-3},null,{"$f":"Risk!E55","v":0},{"$f":"Risk!F55","v":0},{"$f":"Risk!G55","v":0},{"$f":"Risk!H55","v":0},0,0,0,0,null,{"$f":"Risk!$J55","v":0},{"$f":"Risk!$J55","v":0},{"$f":"Risk!$J55","v":0},{"$f":"Risk!$J55","v":0},{"$f":"Risk!$J55","v":0},{"$f":"Risk!$J55","v":0},{"$f":"Risk!$J55","v":0},{"$f":"Risk!$J55","v":0},null,null,6.2939787197779451E-3,6.1113681186238467E-3,8.509654013781013E-3,8.1079106912419954E-3,6.2939787197779451E-3,6.1113681186238467E-3,8.509654013781013E-3,8.1079106912419954E-3,null,null,0,0,0,0,0,0,0,0]
[null,null,null,null,null,null,null,49,"Y49",{"$f":"'population lookup'!I53","v":0},{"$f":"'population lookup'!P53","v":0},null,54,null,null,{"$f":"HLOOKUP($P$5,altrisk10plus,Risk!$A56,FALSE)","v":7.1632011930519391E-3},{"$f":"HLOOKUP($Q$5,altrisk10plushighrisk,Risk!$A56,FALSE)","v":6.9920666935592308E-3},{"$f":"HLOOKUP($R$5,altrisk59,Risk!$A56,FALSE)","v":9.2168151869644402E-3},{"$f":"HLOOKUP($S$5,altrisk59plushighrisk,Risk!$A56,FALSE)","v":8.703411688486316E-3},{"$f":"HLOOKUP($T$5,altrisk10plus,Risk!$A56,FALSE)","v":7.1632011930519391E-3},{"$f":"HLOOKUP($U$5,altrisk10plushighrisk,Risk!$A56,FALSE)","v":6.9920666935592308E-3},{"$f":"HLOOKUP($V$5,altrisk59,Risk!$A56,FALSE)","v":9.2168151869644402E-3},{"$f":"HLOOKUP($W$5,altrisk59plushighrisk,Risk!$A56,FALSE)","v":8.703411688486316E-3},null,{"$f":"Risk!E56","v":0},{"$f":"Risk!F56","v":0},{"$f":"Risk!G56","v":0},{"$f":"Risk!H56","v":0},0,0,0,0,null,{"$f":"Risk!$J56","v":0},{"$f":"Risk!$J56","v":0},{"$f":"Risk!$J56","v":0},{"$f":"Risk!$J56","v":0},{"$f":"Risk!$J56","v":0},{"$f":"Risk!$J56","v":0},{"$f":"Risk!$J56","v":0},{"$f":"Risk!$J56","v":0},null,null,7.1632011930519391E-3,6.9920666935592308E-3,9.2168151869644402E-3,8.703411688486316E-3,7.1632011930519391E-3,6.9920666935592308E-3,9.2168151869644402E-3,8.703411688486316E-3,null,null,0,0,0,0,0,0,0,0]
[null,null,null,null,null,null,null,50,"Y50",{"$f":"'population lookup'!I54","v":0},{"$f":"'population lookup'!P54","v":0},null,55,null,null,{"$f":"HLOOKUP($P$5,altrisk10plus,Risk!$A57,FALSE)","v":7.3914729166927222E-3},{"$f":"HLOOKUP($Q$5,altrisk10plushighrisk,Risk!$A57,FALSE)","v":7.141338469427317E-3},{"$f":"HLOOKUP($R$5,altrisk59,Risk!$A57,FALSE)","v":9.6927098315344497E-3},{"$f":"HLOOKUP($S$5,altrisk59plushighrisk,Risk!$A57,FALSE)","v":9.1424140475505587E-3},{"$f":"HLOOKUP($T$5,altrisk10plus,Risk!$A57,FALSE)","v":7.3914729166927222E-3},{"$f":"HLOOKUP($U$5,altrisk10plushighrisk,Risk!$A57,FALSE)","v":7.141338469427317E-3},{"$f":"HLOOKUP($V$5,altrisk59,Risk!$A57,FALSE)","v":9.6927098315344497E-3},{"$f":"HLOOKUP($W$5,altrisk59plushighrisk,Risk!$A57,FALSE)","v":9.1424140475505587E-3},null,{"$f":"Risk!E57","v":0},{"$f":"Risk!F57","v":0},{"$f":"Risk!G57","v":0},{"$f":"Risk!H57","v":0},0,0,0,0,null,{"$f":"Risk!$J57","v":0},{"$f":"Risk!$J57","v":0},{"$f":"Risk!$J57","v":0},{"$f":"Risk!$J57","v":0},{"$f":"Risk!$J57","v":0},{"$f":"Risk!$J57","v":0},{"$f":"Risk!$J57","v":0},{"$f":"Risk!$J57","v":0},null,null,{"$f":"HLOOKUP(AR$2,$P$2:$AO$107,$M56,FALSE)","v":7.3914729166927222E-3},7.141338469427317E-3,9.6927098315344497E-3,9.1424140475505587E-3,7.3914729166927222E-3,7.141338469427317E-3,9.6927098315344497E-3,9.1424140475505587E-3,null,null,0,0,0,0,0,0,0,0]
[null,null,null,null,null,null,null,51,"Y51",{"$f":"'population lookup'!I55","v":0},{"$f":"'population lookup'!P55","v":0},null,56,null,null,{"$f":"HLOOKUP($P$5,altrisk10plus,Risk!$A58,FALSE)","v":7.6611201350608154E-3},{"$f":"HLOOKUP($Q$5,altrisk10plushighrisk,Risk!$A58,FALSE)","v":7.4820622354099782E-3},{"$f":"HLOOKUP($R$5,altrisk59,Risk!$A58,FALSE)","v":1.0295829229923134E-2},{"$f":"HLOOKUP($S$5,altrisk59plushighrisk,Risk!$A58,FALSE)","v":9.7586555309706214E-3},{"$f":"HLOOKUP($T$5,altrisk10plus,Risk!$A58,FALSE)","v":7.6611201350608154E-3},{"$f":"HLOOKUP($U$5,altrisk10plushighrisk,Risk!$A58,FALSE)","v":7.4820622354099782E-3},{"$f":"HLOOKUP($V$5,altrisk59,Risk!$A58,FALSE)","v":1.0295829229923134E-2},{"$f":"HLOOKUP($W$5,altrisk59plushighrisk,Risk!$A58,FALSE)","v":9.7586555309706214E-3},null,{"$f":"Risk!E58","v":0},{"$f":"Risk!F58","v":0},{"$f":"Risk!G58","v":0},{"$f":"Risk!H58","v":0},0,0,0,0,null,{"$f":"Risk!$J58","v":0},{"$f":"Risk!$J58","v":0},{"$f":"Risk!$J58","v":0},{"$f":"Risk!$J58","v":0},{"$f":"Risk!$J58","v":0},{"$f":"Risk!$J58","v":0},{"$f":"Risk!$J58","v":0},{"$f":"Risk!$J58","v":0},null,null,7.6611201350608154E-3,7.4820622354099782E-3,1.0295829229923134E-2,9.7586555309706214E-3,7.6611201350608154E-3,7.4820622354099782E-3,1.0295829229923134E-2,9.7586555309706214E-3,null,null,0,0,0,0,0,0,0,0]
[null,null,null,null,null,null,null,52,"Y52",{"$f":"'population lookup'!I56","v":0},{"$f":"'population lookup'!P56","v":0},null,57,null,null,{"$f":"HLOOKUP($P$5,altrisk10plus,Risk!$A59,FALSE)","v":9.0721267184064834E-3},{"$f":"HLOOKUP($Q$5,altrisk10plushighrisk,Risk!$A59,FALSE)","v":8.8337350674118614E-3},{"$f":"HLOOKUP($R$5,altrisk59,Risk!$A59,FALSE)","v":1.1350091383466215E-2},{"$f":"HLOOKUP($S$5,altrisk59plushighrisk,Risk!$A59,FALSE)","v":1.0701136333536409E-2},{"$f":"HLOOKUP($T$5,altrisk10plus,Risk!$A59,FALSE)","v":9.0721267184064834E-3},{"$f":"HLOOKUP($U$5,altrisk10plushighrisk,Risk!$A59,FALSE)","v":8.8337350674118614E-3},{"$f":"HLOOKUP($V$5,altrisk59,Risk!$A59,FALSE)","v":1.1350091383466215E-2},{"$f":"HLOOKUP($W$5,altrisk59plushighrisk,Risk!$A59,FALSE)","v":1.0701136333536409E-2},null,{"$f":"Risk!E59","v":0},{"$f":"Risk!F59","v":0},{"$f":"Risk!G59","v":0},{"$f":"Risk!H59","v":0},0,0,0,0,null,{"$f":"Risk!$J59","v":0},{"$f":"Risk!$J59","v":0},{"$f":"Risk!$J59","v":0},{"$f":"Risk!$J59","v":0},{"$f":"Risk!$J59","v":0},{"$f":"Risk!$J59","v":0},{"$f":"Risk!$J59","v":0},{"$f":"Risk!$J59","v":0},null,null,9.0721267184064834E-3,8.8337350674118614E-3,1.1350091383466215E-2,1.0701136333536409E-2,9.0721267184064834E-3,8.8337350674118614E-3,1.1350091383466215E-2,1.0701136333536409E-2,null,null,0,0,0,0,0,0,0,0]
[null,null,null,null,null,null,null,53,"Y53",{"$f":"'population lookup'!I57","v":0},{"$f":"'population lookup'!P57","v":0},null,58,null,null,{"$f":"HLOOKUP($P$5,altrisk10plus,Risk!$A60,FALSE)","v":8.5544226765600813E-3},{"$f":"HLOOKUP($Q$5,altrisk10plushighrisk,Risk!$A60,FALSE)","v":8.2608231463193304E-3},{"$f":"HLOOKUP($R$5,altrisk59,Risk!$A60,FALSE)","v":1.0809800886136764E-2},{"$f":"HLOOKUP($S$5,altrisk59plushighrisk,Risk!$A60,FALSE)","v":1.0289328991619068E-2},{"$f":"HLOOKUP($T$5,altrisk10plus,Risk!$A60,FALSE)","v":8.5544226765600813E-3},{"$f":"HLOOKUP($U$5,altrisk10plushighrisk,Risk!$A60,FALSE)","v":8.2608231463193304E-3},{"$f":"HLOOKUP($V$5,altrisk59,Risk!$A60,FALSE)","v":1.0809800886136764E-2},{"$f":"HLOOKUP($W$5,altrisk59plushighrisk,Risk!$A60,FALSE)","v":1.0289328991619068E-2},null,{"$f":"Risk!E60","v":0},{"$f":"Risk!F60","v":0},{"$f":"Risk!G60","v":0},{"$f":"Risk!H60","v":0},0,0,0,0,null,{"$f":"Risk!$J60","v":0},{"$f":"Risk!$J60","v":0},{"$f":"Risk!$J60","v":0},{"$f":"Risk!$J60","v":0},{"$f":"Risk!$J60","v":0},{"$f":"Risk!$J60","v":0},{"$f":"Risk!$J60","v":0},{"$f":"Risk!$J60","v":0},null,null,8.5544226765600813E-3,8.2608231463193304E-3,1.0809800886136764E-2,1.0289328991619068E-2,8.5544226765600813E-3,8.2608231463193304E-3,1.0809800886136764E-2,1.0289328991619068E-2,null,null,0,0,0,0,0,0,0,0]
[null,null,null,null,null,null,null,54,"Y54",{"$f":"'population lookup'!I58","v":0},{"$f":"'population lookup'!P58","v":0},null,59,null,null,{"$f":"HLOOKUP($P$5,altrisk10plus,Risk!$A61,FALSE)","v":9.9109116116899345E-3},{"$f":"HLOOKUP($Q$5,altrisk10plushighrisk,Risk!$A61,FALSE)","v":9.6089170750456431E-3},{"$f":"HLOOKUP($R$5,altrisk59,Risk!$A61,FALSE)","v":1.2120962538950432E-2},{"$f":"HLOOKUP($S$5,altrisk59plushighrisk,Risk!$A61,FALSE)","v":1.1516973465661849E-2},{"$f":"HLOOKUP($T$5,altrisk10plus,Risk!$A61,FALSE)","v":9.9109116116899345E-3},{"$f":"HLOOKUP($U$5,altrisk10plushighrisk,Risk!$A61,FALSE)","v":9.6089170750456431E-3},{"$f":"HLOOKUP($V$5,altrisk59,Risk!$A61,FALSE)","v":1.2120962538950432E-2},{"$f":"HLOOKUP($W$5,altrisk59plushighrisk,Risk!$A61,FALSE)","v":1.1516973465661849E-2},null,{"$f":"Risk!E61","v":0},{"$f":"Risk!F61","v":0},{"$f":"Risk!G61","v":0},{"$f":"Risk!H61","v":0},0,0,0,0,null,{"$f":"Risk!$J61","v":0},{"$f":"Risk!$J61","v":0},{"$f":"Risk!$J61","v":0},{"$f":"Risk!$J61","v":0},{"$f":"Risk!$J61","v":0},{"$f":"Risk!$J61","v":0},{"$f":"Risk!$J61","v":0},{"$f":"Risk!$J61","v":0},null,null,9.9109116116899345E-3,9.6089170750456431E-3,1.2120962538950432E-2,1.1516973465661849E-2,9.9109116116899345E-3,9.6089170750456431E-3,1.2120962538950432E-2,1.1516973465661849E-2,null,null,0,0,0,0,0,0,0,0]
[null,null,null,null,null,null,null,55,"Y55",{"$f":"'population lookup'!I59","v":0},{"$f":"'population lookup'!P59","v":0},null,60,null,null,{"$f":"HLOOKUP($P$5,altrisk10plus,Risk!$A62,FALSE)","v":9.3964276644374848E-3},{"$f":"HLOOKUP($Q$5,altrisk10plushighrisk,Risk!$A62,FALSE)","v":9.2130139112277434E-3},{"$f":"HLOOKUP($R$5,altrisk59,Risk!$A62,FALSE)","v":1.1597392702954372E-2},{"$f":"HLOOKUP($S$5,altrisk59plushighrisk,Risk!$A62,FALSE)","v":1.1061260193572054E-2},{"$f":"HLOOKUP($T$5,altrisk10plus,Risk!$A62,FALSE)","v":9.3964276644374848E-3},{"$f":"HLOOKUP($U$5,altrisk10plushighrisk,Risk!$A62,FALSE)","v":9.2130139112277434E-3},{"$f":"HLOOKUP($V$5,altrisk59,Risk!$A62,FALSE)","v":1.1597392702954372E-2},{"$f":"HLOOKUP($W$5,altrisk59plushighrisk,Risk!$A62,FALSE)","v":1.1061260193572054E-2},null,{"$f":"Risk!E62","v":0},{"$f":"Risk!F62","v":0},{"$f":"Risk!G62","v":0},{"$f":"Risk!H62","v":0},0,0,0,0,null,{"$f":"Risk!$J62","v":0},{"$f":"Risk!$J62","v":0},{"$f":"Risk!$J62","v":0},{"$f":"Risk!$J62","v":0},{"$f":"Risk!$J62","v":0},{"$f":"Risk!$J62","v":0},{"$f":"Risk!$J62","v":0},{"$f":"Risk!$J62","v":0},null,null,9.3964276644374848E-3,9.2130139112277434E-3,1.1597392702954372E-2,1.1061260193572054E-2,9.3964276644374848E-3,9.2130139112277434E-3,1.1597392702954372E-2,1.1061260193572054E-2,null,null,0,0,0,0,0,0,0,0]
[null,null,null,null,null,null,null,56,"Y56",{"$f":"'population lookup'!I60","v":0},{"$f":"'population lookup'!P60","v":0},null,61,null,null,{"$f":"HLOOKUP($P$5,altrisk10plus,Risk!$A63,FALSE)","v":1.1113538708032918E-2},{"$f":"HLOOKUP($Q$5,altrisk10plushighrisk,Risk!$A63,FALSE)","v":1.0720268006700168E-2},{"$f":"HLOOKUP($R$5,altrisk59,Risk!$A63,FALSE)","v":1.3254679193066783E-2},{"$f":"HLOOKUP($S$5,altrisk59plushighrisk,Risk!$A63,FALSE)","v":1.2540965698055495E-2},{"$f":"HLOOKUP($T$5,altrisk10plus,Risk!$A63,FALSE)","v":1.1113538708032918E-2},{"$f":"HLOOKUP($U$5,altrisk10plushighrisk,Risk!$A63,FALSE)","v":1.0720268006700168E-2},{"$f":"HLOOKUP($V$5,altrisk59,Risk!$A63,FALSE)","v":1.3254679193066783E-2},{"$f":"HLOOKUP($W$5,altrisk59plushighrisk,Risk!$A63,FALSE)","v":1.2540965698055495E-2},null,{"$f":"Risk!E63","v":0},{"$f":"Risk!F63","v":0},{"$f":"Risk!G63","v":0},{"$f":"Risk!H63","v":0},0,0,0,0,null,{"$f":"Risk!$J63","v":0},{"$f":"Risk!$J63","v":0},{"$f":"Risk!$J63","v":0},{"$f":"Risk!$J63","v":0},{"$f":"Risk!$J63","v":0},{"$f":"Risk!$J63","v":0},{"$f":"Risk!$J63","v":0},{"$f":"Risk!$J63","v":0},null,null,1.1113538708032918E-2,1.0720268006700168E-2,1.3254679193066783E-2,1.2540965698055495E-2,1.1113538708032918E-2,1.0720268006700168E-2,1.3254679193066783E-2,1.2540965698055495E-2,null,null,0,0,0,0,0,0,0,0]
[null,null,null,null,null,null,null,57,"Y57",{"$f":"'population lookup'!I61","v":0},{"$f":"'population lookup'!P61","v":0},null,62,null,null,{"$f":"HLOOKUP($P$5,altrisk10plus,Risk!$A64,FALSE)","v":1.125989044430919E-2},{"$f":"HLOOKUP($Q$5,altrisk10plushighrisk,Risk!$A64,FALSE)","v":1.0849056603773584E-2},{"$f":"HLOOKUP($R$5,altrisk59,Risk!$A64,FALSE)","v":1.3694461351186854E-2},{"$f":"HLOOKUP($S$5,altrisk59plushighrisk,Risk!$A64,FALSE)","v":1.2948874010955569E-2},{"$f":"HLOOKUP($T$5,altrisk10plus,Risk!$A64,FALSE)","v":1.125989044430919E-2},{"$f":"HLOOKUP($U$5,altrisk10plushighrisk,Risk!$A64,FALSE)","v":1.0849056603773584E-2},{"$f":"HLOOKUP($V$5,altrisk59,Risk!$A64,FALSE)","v":1.3694461351186854E-2},{"$f":"HLOOKUP($W$5,altrisk59plushighrisk,Risk!$A64,FALSE)","v":1.2948874010955569E-2},null,{"$f":"Risk!E64","v":0},{"$f":"Risk!F64","v":0},{"$f":"Risk!G64","v":0},{"$f":"Risk!H64","v":0},0,0,0,0,null,{"$f":"Risk!$J64","v":0},{"$f":"Risk!$J64","v":0},{"$f":"Risk!$J64","v":0},{"$f":"Risk!$J64","v":0},{"$f":"Risk!$J64","v":0},{"$f":"Risk!$J64","v":0},{"$f":"Risk!$J64","v":0},{"$f":"Risk!$J64","v":0},null,null,1.125989044430919E-2,1.0849056603773584E-2,1.3694461351186854E-2,1.2948874010955569E-2,1.125989044430919E-2,1.0849056603773584E-2,1.3694461351186854E-2,1.2948874010955569E-2,null,null,0,0,0,0,0,0,0,0]
[null,null,null,null,null,null,null,58,"Y58",{"$f":"'population lookup'!I62","v":0},{"$f":"'population lookup'!P62","v":0},null,63,null,null,{"$f":"HLOOKUP($P$5,altrisk10plus,Risk!$A65,FALSE)","v":1.1916890494273101E-2},{"$f":"HLOOKUP($Q$5,altrisk10plushighrisk,Risk!$A65,FALSE)","v":1.1654471921212682E-2},{"$f":"HLOOKUP($R$5,altrisk59,Risk!$A65,FALSE)","v":1.4077984625358897E-2},{"$f":"HLOOKUP($S$5,altrisk59plushighrisk,Risk!$A65,FALSE)","v":1.3475965545984996E-2},{"$f":"HLOOKUP($T$5,altrisk10plus,Risk!$A65,FALSE)","v":1.1916890494273101E-2},{"$f":"HLOOKUP($U$5,altrisk10plushighrisk,Risk!$A65,FALSE)","v":1.1654471921212682E-2},{"$f":"HLOOKUP($V$5,altrisk59,Risk!$A65,FALSE)","v":1.4077984625358897E-2},{"$f":"HLOOKUP($W$5,altrisk59plushighrisk,Risk!$A65,FALSE)","v":1.3475965545984996E-2},null,{"$f":"Risk!E65","v":0},{"$f":"Risk!F65","v":0},{"$f":"Risk!G65","v":0},{"$f":"Risk!H65","v":0},0,0,0,0,null,{"$f":"Risk!$J65","v":0},{"$f":"Risk!$J65","v":0},{"$f":"Risk!$J65","v":0},{"$f":"Risk!$J65","v":0},{"$f":"Risk!$J65","v":0},{"$f":"Risk!$J65","v":0},{"$f":"Risk!$J65","v":0},{"$f":"Risk!$J65","v":0},null,null,1.1916890494273101E-2,1.1654471921212682E-2,1.4077984625358897E-2,1.3475965545984996E-2,1.1916890494273101E-2,1.1654471921212682E-2,1.4077984625358897E-2,1.3475965545984996E-2,null,null,0,0,0,0,0,0,0,0]
[null,null,null,null,null,null,null,59,"Y59",{"$f":"'population lookup'!I63","v":0},{"$f":"'population lookup'!P63","v":0},null,64,null,null,{"$f":"HLOOKUP($P$5,altrisk10plus,Risk!$A66,FALSE)","v":1.1985466442266857E-2},{"$f":"HLOOKUP($Q$5,altrisk10plushighrisk,Risk!$A66,FALSE)","v":1.1733803104896424E-2},{"$f":"HLOOKUP($R$5,altrisk59,Risk!$A66,FALSE)","v":1.42347075200151E-2},{"$f":"HLOOKUP($S$5,altrisk59plushighrisk,Risk!$A66,FALSE)","v":1.3621278135174671E-2},{"$f":"HLOOKUP($T$5,altrisk10plus,Risk!$A66,FALSE)","v":1.1985466442266857E-2},{"$f":"HLOOKUP($U$5,altrisk10plushighrisk,Risk!$A66,FALSE)","v":1.1733803104896424E-2},{"$f":"HLOOKUP($V$5,altrisk59,Risk!$A66,FALSE)","v":1.42347075200151E-2},{"$f":"HLOOKUP($W$5,altrisk59plushighrisk,Risk!$A66,FALSE)","v":1.3621278135174671E-2},null,{"$f":"Risk!E66","v":0},{"$f":"Risk!F66","v":0},{"$f":"Risk!G66","v":0},{"$f":"Risk!H66","v":0},0,0,0,0,null,{"$f":"Risk!$J66","v":0},{"$f":"Risk!$J66","v":0},{"$f":"Risk!$J66","v":0},{"$f":"Risk!$J66","v":0},{"$f":"Risk!$J66","v":0},{"$f":"Risk!$J66","v":0},{"$f":"Risk!$J66","v":0},{"$f":"Risk!$J66","v":0},null,null,1.1985466442266857E-2,1.1733803104896424E-2,1.42347075200151E-2,1.3621278135174671E-2,1.1985466442266857E-2,1.1733803104896424E-2,1.42347075200151E-2,1.3621278135174671E-2,null,null,0,0,0,0,0,0,0,0]
[null,null,null,null,null,null,null,60,"Y60",{"$f":"'population lookup'!I64","v":0},{"$f":"'population lookup'!P64","v":0},null,65,null,null,{"$f":"HLOOKUP($P$5,altrisk10plus,Risk!$A67,FALSE)","v":1.3941781213735842E-2},{"$f":"HLOOKUP($Q$5,altrisk10plushighrisk,Risk!$A67,FALSE)","v":1.3386071294313779E-2},{"$f":"HLOOKUP($R$5,altrisk59,Risk!$A67,FALSE)","v":1.6066554435055488E-2},{"$f":"HLOOKUP($S$5,altrisk59plushighrisk,Risk!$A67,FALSE)","v":1.5265678374711929E-2},{"$f":"HLOOKUP($T$5,altrisk10plus,Risk!$A67,FALSE)","v":1.3941781213735842E-2},{"$f":"HLOOKUP($U$5,altrisk10plushighrisk,Risk!$A67,FALSE)","v":1.3386071294313779E-2},{"$f":"HLOOKUP($V$5,altrisk59,Risk!$A67,FALSE)","v":1.6066554435055488E-2},{"$f":"HLOOKUP($W$5,altrisk59plushighrisk,Risk!$A67,FALSE)","v":1.5265678374711929E-2},null,{"$f":"Risk!E67","v":0},{"$f":"Risk!F67","v":0},{"$f":"Risk!G67","v":0},{"$f":"Risk!H67","v":0},0,0,0,0,null,{"$f":"Risk!$J67","v":0},{"$f":"Risk!$J67","v":0},{"$f":"Risk!$J67","v":0},{"$f":"Risk!$J67","v":0},{"$f":"Risk!$J67","v":0},{"$f":"Risk!$J67","v":0},{"$f":"Risk!$J67","v":0},{"$f":"Risk!$J67","v":0},null,null,{"$f":"HLOOKUP(AR$2,$P$2:$AO$107,$M66,FALSE)","v":1.3941781213735842E-2},1.3386071294313779E-2,1.6066554435055488E-2,1.5265678374711929E-2,1.3941781213735842E-2,1.3386071294313779E-2,1.6066554435055488E-2,1.5265678374711929E-2,null,null,{"$f":"IF(ISERROR($J66*AR66),\"\",($J66*AR66))","v":0},0,0,0,0,0,0,0]
[null,null,null,null,null,null,null,61,"Y61",{"$f":"'population lookup'!I65","v":0},{"$f":"'population lookup'!P65","v":0},null,66,null,null,{"$f":"HLOOKUP($P$5,altrisk10plus,Risk!$A68,FALSE)","v":1.3719709731761048E-2},{"$f":"HLOOKUP($Q$5,altrisk10plushighrisk,Risk!$A68,FALSE)","v":1.3363353634832188E-2},{"$f":"HLOOKUP($R$5,altrisk59,Risk!$A68,FALSE)","v":1.6003628352986913E-2},{"$f":"HLOOKUP($S$5,altrisk59plushighrisk,Risk!$A68,FALSE)","v":1.5307114163535052E-2},{"$f":"HLOOKUP($T$5,altrisk10plus,Risk!$A68,FALSE)","v":1.3719709731761048E-2},{"$f":"HLOOKUP($U$5,altrisk10plushighrisk,Risk!$A68,FALSE)","v":1.3363353634832188E-2},{"$f":"HLOOKUP($V$5,altrisk59,Risk!$A68,FALSE)","v":1.6003628352986913E-2},{"$f":"HLOOKUP($W$5,altrisk59plushighrisk,Risk!$A68,FALSE)","v":1.5307114163535052E-2},null,{"$f":"Risk!E68","v":0},{"$f":"Risk!F68","v":0},{"$f":"Risk!G68","v":0},{"$f":"Risk!H68","v":0},0,0,0,0,null,{"$f":"Risk!$J68","v":0},{"$f":"Risk!$J68","v":0},{"$f":"Risk!$J68","v":0},{"$f":"Risk!$J68","v":0},{"$f":"Risk!$J68","v":0},{"$f":"Risk!$J68","v":0},{"$f":"Risk!$J68","v":0},{"$f":"Risk!$J68","v":0},null,null,1.3719709731761048E-2,1.3363353634832188E-2,1.6003628352986913E-2,1.5307114163535052E-2,1.3719709731761048E-2,1.3363353634832188E-2,1.6003628352986913E-2,1.5307114163535052E-2,null,null,0,0,0,0,0,0,0,0]
[null,null,null,null,null,null,null,62,"Y62",{"$f":"'population lookup'!I66","v":0},{"$f":"'population lookup'!P66","v":0},null,67,null,null,{"$f":"HLOOKUP($P$5,altrisk10plus,Risk!$A69,FALSE)","v":1.4522082631783447E-2},{"$f":"HLOOKUP($Q$5,altrisk10plushighrisk,Risk!$A69,FALSE)","v":1.4052583862194016E-2},{"$f":"HLOOKUP($R$5,altrisk59,Risk!$A69,FALSE)","v":1.6740059577774899E-2},{"$f":"HLOOKUP($S$5,altrisk59plushighrisk,Risk!$A69,FALSE)","v":1.5882010102318354E-2},{"$f":"HLOOKUP($T$5,altrisk10plus,Risk!$A69,FALSE)","v":1.4522082631783447E-2},{"$f":"HLOOKUP($U$5,altrisk10plushighrisk,Risk!$A69,FALSE)","v":1.4052583862194016E-2},{"$f":"HLOOKUP($V$5,altrisk59,Risk!$A69,FALSE)","v":1.6740059577774899E-2},{"$f":"HLOOKUP($W$5,altrisk59plushighrisk,Risk!$A69,FALSE)","v":1.5882010102318354E-2},null,{"$f":"Risk!E69","v":0},{"$f":"Risk!F69","v":0},{"$f":"Risk!G69","v":0},{"$f":"Risk!H69","v":0},0,0,0,0,null,{"$f":"Risk!$J69","v":0},{"$f":"Risk!$J69","v":0},{"$f":"Risk!$J69","v":0},{"$f":"Risk!$J69","v":0},{"$f":"Risk!$J69","v":0},{"$f":"Risk!$J69","v":0},{"$f":"Risk!$J69","v":0},{"$f":"Risk!$J69","v":0},null,null,1.4522082631783447E-2,1.4052583862194016E-2,1.6740059577774899E-2,1.5882010102318354E-2,1.4522082631783447E-2,1.4052583862194016E-2,1.6740059577774899E-2,1.5882010102318354E-2,null,null,0,0,0,0,0,0,0,0]
[null,null,null,null,null,null,null,63,"Y63",{"$f":"'population lookup'!I67","v":0},{"$f":"'population lookup'!P67","v":0},null,68,null,null,{"$f":"HLOOKUP($P$5,altrisk10plus,Risk!$A70,FALSE)","v":1.4559265706599146E-2},{"$f":"HLOOKUP($Q$5,altrisk10plushighrisk,Risk!$A70,FALSE)","v":1.4163633486311125E-2},{"$f":"HLOOKUP($R$5,altrisk59,Risk!$A70,FALSE)","v":1.6758980851400537E-2},{"$f":"HLOOKUP($S$5,altrisk59plushighrisk,Risk!$A70,FALSE)","v":1.6078493432505142E-2},{"$f":"HLOOKUP($T$5,altrisk10plus,Risk!$A70,FALSE)","v":1.4559265706599146E-2},{"$f":"HLOOKUP($U$5,altrisk10plushighrisk,Risk!$A70,FALSE)","v":1.4163633486311125E-2},{"$f":"HLOOKUP($V$5,altrisk59,Risk!$A70,FALSE)","v":1.6758980851400537E-2},{"$f":"HLOOKUP($W$5,altrisk59plushighrisk,Risk!$A70,FALSE)","v":1.6078493432505142E-2},null,{"$f":"Risk!E70","v":0},{"$f":"Risk!F70","v":0},{"$f":"Risk!G70","v":0},{"$f":"Risk!H70","v":0},0,0,0,0,null,{"$f":"Risk!$J70","v":0},{"$f":"Risk!$J70","v":0},{"$f":"Risk!$J70","v":0},{"$f":"Risk!$J70","v":0},{"$f":"Risk!$J70","v":0},{"$f":"Risk!$J70","v":0},{"$f":"Risk!$J70","v":0},{"$f":"Risk!$J70","v":0},null,null,1.4559265706599146E-2,1.4163633486311125E-2,1.6758980851400537E-2,1.6078493432505142E-2,1.4559265706599146E-2,1.4163633486311125E-2,1.6758980851400537E-2,1.6078493432505142E-2,null,null,0,0,0,0,0,0,0,0]
[null,null,null,null,null,null,null,64,"Y64",{"$f":"'population lookup'!I68","v":0},{"$f":"'population lookup'!P68","v":0},null,69,null,null,{"$f":"HLOOKUP($P$5,altrisk10plus,Risk!$A71,FALSE)","v":1.5598800092300592E-2},{"$f":"HLOOKUP($Q$5,altrisk10plushighrisk,Risk!$A71,FALSE)","v":1.5075763402815167E-2},{"$f":"HLOOKUP($R$5,altrisk59,Risk!$A71,FALSE)","v":1.8167833243596648E-2},{"$f":"HLOOKUP($S$5,altrisk59plushighrisk,Risk!$A71,FALSE)","v":1.722944388893162E-2},{"$f":"HLOOKUP($T$5,altrisk10plus,Risk!$A71,FALSE)","v":1.5598800092300592E-2},{"$f":"HLOOKUP($U$5,altrisk10plushighrisk,Risk!$A71,FALSE)","v":1.5075763402815167E-2},{"$f":"HLOOKUP($V$5,altrisk59,Risk!$A71,FALSE)","v":1.8167833243596648E-2},{"$f":"HLOOKUP($W$5,altrisk59plushighrisk,Risk!$A71,FALSE)","v":1.722944388893162E-2},null,{"$f":"Risk!E71","v":0},{"$f":"Risk!F71","v":0},{"$f":"Risk!G71","v":0},{"$f":"Risk!H71","v":0},0,0,0,0,null,{"$f":"Risk!$J71","v":0},{"$f":"Risk!$J71","v":0},{"$f":"Risk!$J71","v":0},{"$f":"Risk!$J71","v":0},{"$f":"Risk!$J71","v":0},{"$f":"Risk!$J71","v":0},{"$f":"Risk!$J71","v":0},{"$f":"Risk!$J71","v":0},null,null,1.5598800092300592E-2,1.5075763402815167E-2,1.8167833243596648E-2,1.722944388893162E-2,1.5598800092300592E-2,1.5075763402815167E-2,1.8167833243596648E-2,1.722944388893162E-2,null,null,0,0,0,0,0,0,0,0]
[null,null,null,null,null,null,null,65,"Y65",{"$f":"'population lookup'!I69","v":0},{"$f":"'population lookup'!P69","v":0},null,70,null,null,{"$f":"HLOOKUP($P$5,altrisk10plus,Risk!$A72,FALSE)","v":1.5331784956042234E-2},{"$f":"HLOOKUP($Q$5,altrisk10plushighrisk,Risk!$A72,FALSE)","v":1.4719083512631624E-2},{"$f":"HLOOKUP($R$5,altrisk59,Risk!$A72,FALSE)","v":1.7554608797252819E-2},{"$f":"HLOOKUP($S$5,altrisk59plushighrisk,Risk!$A72,FALSE)","v":1.6485943488978499E-2},{"$f":"HLOOKUP($T$5,altrisk10plus,Risk!$A72,FALSE)","v":1.5331784956042234E-2},{"$f":"HLOOKUP($U$5,altrisk10plushighrisk,Risk!$A72,FALSE)","v":1.4719083512631624E-2},{"$f":"HLOOKUP($V$5,altrisk59,Risk!$A72,FALSE)","v":1.7554608797252819E-2},{"$f":"HLOOKUP($W$5,altrisk59plushighrisk,Risk!$A72,FALSE)","v":1.6485943488978499E-2},null,{"$f":"Risk!E72","v":0},{"$f":"Risk!F72","v":0},{"$f":"Risk!G72","v":0},{"$f":"Risk!H72","v":0},{"$f":"Y71","v":0},{"$f":"Z71","v":0},{"$f":"AA71","v":0},{"$f":"AB71","v":0},null,{"$f":"Risk!$J72","v":0},{"$f":"Risk!$J72","v":0},{"$f":"Risk!$J72","v":0},{"$f":"Risk!$J72","v":0},{"$f":"Risk!$J72","v":0},{"$f":"Risk!$J72","v":0},{"$f":"Risk!$J72","v":0},{"$f":"Risk!$J72","v":0},null,null,1.5331784956042234E-2,1.4719083512631624E-2,1.7554608797252819E-2,1.6485943488978499E-2,1.5331784956042234E-2,1.4719083512631624E-2,1.7554608797252819E-2,1.6485943488978499E-2,null,null,{"$f":"IF(ISERROR($J71*AR71),\"\",($J71*AR71))","v":0},{"$f":"IF(ISERROR($J71*AS71),\"\",($J71*AS71))","v":0},{"$f":"IF(ISERROR($J71*AT71),\"\",($J71*AT71))","v":0},{"$f":"IF(ISERROR($J71*AU71),\"\",($J71*AU71))","v":0},{"$f":"IF(ISERROR($K71*AV71),\"\",($K71*AV71))","v":0},{"$f":"IF(ISERROR($K71*AW71),\"\",($K71*AW71))","v":0},{"$f":"IF(ISERROR($K71*AX71),\"\",($K71*AX71))","v":0},{"$f":"IF(ISERROR($K71*AY71),\"\",($K71*AY71))","v":0}]
[null,null,null,null,null,null,null,66,"Y66",{"$f":"'population lookup'!I70","v":804448},{"$f":"'population lookup'!P70","v":5930729},null,71,null,null,{"$f":"HLOOKUP($P$5,altrisk10plus,Risk!$A73,FALSE)","v":2.3896536706367991E-2},{"$f":"HLOOKUP($Q$5,altrisk10plushighrisk,Risk!$A73,FALSE)","v":2.3252731438526065E-2},{"$f":"HLOOKUP($R$5,altrisk59,Risk!$A73,FALSE)","v":2.770256196625703E-2},{"$f":"HLOOKUP($S$5,altrisk59plushighrisk,Risk!$A73,FALSE)","v":2.6490693226789874E-2},{"$f":"HLOOKUP($T$5,altrisk10plus,Risk!$A73,FALSE)","v":2.3896536706367991E-2},{"$f":"HLOOKUP($U$5,altrisk10plushighrisk,Risk!$A73,FALSE)","v":2.3252731438526065E-2},{"$f":"HLOOKUP($V$5,altrisk59,Risk!$A73,FALSE)","v":2.770256196625703E-2},{"$f":"HLOOKUP($W$5,altrisk59plushighrisk,Risk!$A73,FALSE)","v":2.6490693226789874E-2},null,{"$f":"Risk!E73","v":0},{"$f":"Risk!F73","v":0},{"$f":"Risk!G73","v":0},{"$f":"Risk!H73","v":0},0,0,0,0,null,{"$f":"Risk!$J73","v":0},{"$f":"Risk!$J73","v":0},{"$f":"Risk!$J73","v":0},{"$f":"Risk!$J73","v":0},{"$f":"Risk!$J73","v":0},{"$f":"Risk!$J73","v":0},{"$f":"Risk!$J73","v":0},{"$f":"Risk!$J73","v":0},null,null,2.3896536706367991E-2,2.3252731438526065E-2,2.770256196625703E-2,2.6490693226789874E-2,2.3896536706367991E-2,2.3252731438526065E-2,2.770256196625703E-2,2.6490693226789874E-2,null,null,19223.521160364318,18705.613300259414,22285.270568631535,21310.385184904662,141723.88324402113,137905.64867167824,164296.38762757758,157109.12255022628]
[null,null,null,null,null,null,null,67,"Y67",{"$f":"'population lookup'!I71","v":785348},{"$f":"'population lookup'!P71","v":5755848},null,72,null,null,{"$f":"HLOOKUP($P$5,altrisk10plus,Risk!$A74,FALSE)","v":2.3087470258499013E-2},{"$f":"HLOOKUP($Q$5,altrisk10plushighrisk,Risk!$A74,FALSE)","v":2.2442230915030045E-2},{"$f":"HLOOKUP($R$5,altrisk59,Risk!$A74,FALSE)","v":2.6233012057910232E-2},{"$f":"HLOOKUP($S$5,altrisk59plushighrisk,Risk!$A74,FALSE)","v":2.5023188288905915E-2},{"$f":"HLOOKUP($T$5,altrisk10plus,Risk!$A74,FALSE)","v":2.3087470258499013E-2},{"$f":"HLOOKUP($U$5,altrisk10plushighrisk,Risk!$A74,FALSE)","v":2.2442230915030045E-2},{"$f":"HLOOKUP($V$5,altrisk59,Risk!$A74,FALSE)","v":2.6233012057910232E-2},{"$f":"HLOOKUP($W$5,altrisk59plushighrisk,Risk!$A74,FALSE)","v":2.5023188288905915E-2},null,{"$f":"Risk!E74","v":0},{"$f":"Risk!F74","v":0},{"$f":"Risk!G74","v":0},{"$f":"Risk!H74","v":0},0,0,0,0,null,{"$f":"Risk!$J74","v":0},{"$f":"Risk!$J74","v":0},{"$f":"Risk!$J74","v":0},{"$f":"Risk!$J74","v":0},{"$f":"Risk!$J74","v":0},{"$f":"Risk!$J74","v":0},{"$f":"Risk!$J74","v":0},{"$f":"Risk!$J74","v":0},null,null,2.3087470258499013E-2,2.2442230915030045E-2,2.6233012057910232E-2,2.5023188288905915E-2,2.3087470258499013E-2,2.2442230915030045E-2,2.6233012057910232E-2,2.5023188288905915E-2,null,null,18131.698592571684,17624.961164657016,20602.043553655683,19651.910876315684,132887.96951244102,129174.06992781385,150993.22998749849,144029.66826632252]
[null,null,null,null,null,null,null,68,"Y68",{"$f":"'population lookup'!I72","v":744071},{"$f":"'population lookup'!P72","v":5414407},null,73,null,null,{"$f":"HLOOKUP($P$5,altrisk10plus,Risk!$A75,FALSE)","v":2.1943573667711599E-2},{"$f":"HLOOKUP($Q$5,altrisk10plushighrisk,Risk!$A75,FALSE)","v":2.1447561604698226E-2},{"$f":"HLOOKUP($R$5,altrisk59,Risk!$A75,FALSE)","v":2.4741081703107019E-2},{"$f":"HLOOKUP($S$5,altrisk59plushighrisk,Risk!$A75,FALSE)","v":2.3788738542121345E-2},{"$f":"HLOOKUP($T$5,altrisk10plus,Risk!$A75,FALSE)","v":2.1943573667711599E-2},{"$f":"HLOOKUP($U$5,altrisk10plushighrisk,Risk!$A75,FALSE)","v":2.1447561604698226E-2},{"$f":"HLOOKUP($V$5,altrisk59,Risk!$A75,FALSE)","v":2.4741081703107019E-2},{"$f":"HLOOKUP($W$5,altrisk59plushighrisk,Risk!$A75,FALSE)","v":2.3788738542121345E-2},null,{"$f":"Risk!E75","v":0},{"$f":"Risk!F75","v":0},{"$f":"Risk!G75","v":0},{"$f":"Risk!H75","v":0},0,0,0,0,null,{"$f":"Risk!$J75","v":0},{"$f":"Risk!$J75","v":0},{"$f":"Risk!$J75","v":0},{"$f":"Risk!$J75","v":0},{"$f":"Risk!$J75","v":0},{"$f":"Risk!$J75","v":0},{"$f":"Risk!$J75","v":0},{"$f":"Risk!$J75","v":0},null,null,2.1943573667711599E-2,2.1447561604698226E-2,2.4741081703107019E-2,2.3788738542121345E-2,2.1943573667711599E-2,2.1447561604698226E-2,2.4741081703107019E-2,2.3788738542121345E-2,null,null,16327.576802507838,15958.508610769413,18409.121403912541,17700.510475774772,118811.43887147335,116125.82768540931,133958.28596087455,128801.9124836316]
[null,null,null,null,null,null,null,69,"Y69",{"$f":"'population lookup'!I73","v":560439},{"$f":"'population lookup'!P73","v":4547270},null,74,null,null,{"$f":"HLOOKUP($P$5,altrisk10plus,Risk!$A76,FALSE)","v":2.4902739925520629E-2},{"$f":"HLOOKUP($Q$5,altrisk10plushighrisk,Risk!$A76,FALSE)","v":2.4278611105332141E-2},{"$f":"HLOOKUP($R$5,altrisk59,Risk!$A76,FALSE)","v":2.8148209790500759E-2},{"$f":"HLOOKUP($S$5,altrisk59plushighrisk,Risk!$A76,FALSE)","v":2.7191212266211746E-2},{"$f":"HLOOKUP($T$5,altrisk10plus,Risk!$A76,FALSE)","v":2.4902739925520629E-2},{"$f":"HLOOKUP($U$5,altrisk10plushighrisk,Risk!$A76,FALSE)","v":2.4278611105332141E-2},{"$f":"HLOOKUP($V$5,altrisk59,Risk!$A76,FALSE)","v":2.8148209790500759E-2},{"$f":"HLOOKUP($W$5,altrisk59plushighrisk,Risk!$A76,FALSE)","v":2.7191212266211746E-2},null,{"$f":"Risk!E76","v":0},{"$f":"Risk!F76","v":0},{"$f":"Risk!G76","v":0},{"$f":"Risk!H76","v":0},0,0,0,0,null,{"$f":"Risk!$J76","v":0},{"$f":"Risk!$J76","v":0},{"$f":"Risk!$J76","v":0},{"$f":"Risk!$J76","v":0},{"$f":"Risk!$J76","v":0},{"$f":"Risk!$J76","v":0},{"$f":"Risk!$J76","v":0},{"$f":"Risk!$J76","v":0},null,null,2.4902739925520629E-2,2.4278611105332141E-2,2.8148209790500759E-2,2.7191212266211746E-2,2.4902739925520629E-2,2.4278611105332141E-2,2.8148209790500759E-2,2.7191212266211746E-2,null,null,13956.466661118855,13606.680529261239,15775.354546778455,15239.015811263445,113239.48218112219,110401.39992094369,127997.50993405038,123645.78380177669]
[null,null,null,null,null,null,null,70,"Y70",{"$f":"'population lookup'!I74","v":545566},{"$f":"'population lookup'!P74","v":4711723},null,75,null,null,{"$f":"HLOOKUP($P$5,altrisk10plus,Risk!$A77,FALSE)","v":2.9545195486150689E-2},{"$f":"HLOOKUP($Q$5,altrisk10plushighrisk,Risk!$A77,FALSE)","v":2.8656103955317452E-2},{"$f":"HLOOKUP($R$5,altrisk59,Risk!$A77,FALSE)","v":3.3717086515445117E-2},{"$f":"HLOOKUP($S$5,altrisk59plushighrisk,Risk!$A77,FALSE)","v":3.2326456172346973E-2},{"$f":"HLOOKUP($T$5,altrisk10plus,Risk!$A77,FALSE)","v":2.9545195486150689E-2},{"$f":"HLOOKUP($U$5,altrisk10plushighrisk,Risk!$A77,FALSE)","v":2.8656103955317452E-2},{"$f":"HLOOKUP($V$5,altrisk59,Risk!$A77,FALSE)","v":3.3717086515445117E-2},{"$f":"HLOOKUP($W$5,altrisk59plushighrisk,Risk!$A77,FALSE)","v":3.2326456172346973E-2},null,{"$f":"Risk!E77","v":0},{"$f":"Risk!F77","v":0},{"$f":"Risk!G77","v":0},{"$f":"Risk!H77","v":0},0,0,0,0,null,{"$f":"Risk!$J77","v":0},{"$f":"Risk!$J77","v":0},{"$f":"Risk!$J77","v":0},{"$f":"Risk!$J77","v":0},{"$f":"Risk!$J77","v":0},{"$f":"Risk!$J77","v":0},{"$f":"Risk!$J77","v":0},{"$f":"Risk!$J77","v":0},null,null,{"$f":"HLOOKUP(AR$2,$P$2:$AO$107,$M76,FALSE)","v":2.9545195486150689E-2},2.8656103955317452E-2,3.3717086515445117E-2,3.2326456172346973E-2,2.9545195486150689E-2,2.8656103955317452E-2,3.3717086515445117E-2,3.2326456172346973E-2,null,null,16118.854120597287,15633.796010486722,18394.896021885332,17636.215388122648,139208.77711159238,135019.62409666021,158865.57202781262,152313.30705573919]
[null,null,null,null,null,null,null,71,"Y71",{"$f":"'population lookup'!I75","v":527839},{"$f":"'population lookup'!P75","v":4567456},null,76,null,null,{"$f":"HLOOKUP($P$5,altrisk10plus,Risk!$A78,FALSE)","v":3.1140155453240261E-2},{"$f":"HLOOKUP($Q$5,altrisk10plushighrisk,Risk!$A78,FALSE)","v":3.0422298133570967E-2},{"$f":"HLOOKUP($R$5,altrisk59,Risk!$A78,FALSE)","v":3.5249269765829989E-2},{"$f":"HLOOKUP($S$5,altrisk59plushighrisk,Risk!$A78,FALSE)","v":3.3937323629882665E-2},{"$f":"HLOOKUP($T$5,altrisk10plus,Risk!$A78,FALSE)","v":3.1140155453240261E-2},{"$f":"HLOOKUP($U$5,altrisk10plushighrisk,Risk!$A78,FALSE)","v":3.0422298133570967E-2},{"$f":"HLOOKUP($V$5,altrisk59,Risk!$A78,FALSE)","v":3.5249269765829989E-2},{"$f":"HLOOKUP($W$5,altrisk59plushighrisk,Risk!$A78,FALSE)","v":3.3937323629882665E-2},null,{"$f":"Risk!E78","v":0},{"$f":"Risk!F78","v":0},{"$f":"Risk!G78","v":0},{"$f":"Risk!H78","v":0},0,0,0,0,null,{"$f":"Risk!$J78","v":0},{"$f":"Risk!$J78","v":0},{"$f":"Risk!$J78","v":0},{"$f":"Risk!$J78","v":0},{"$f":"Risk!$J78","v":0},{"$f":"Risk!$J78","v":0},{"$f":"Risk!$J78","v":0},{"$f":"Risk!$J78","v":0},null,null,3.1140155453240261E-2,3.0422298133570967E-2,3.5249269765829989E-2,3.3937323629882665E-2,3.1140155453240261E-2,3.0422298133570967E-2,3.5249269765829989E-2,3.3937323629882665E-2,null,null,16436.988514282886,16058.075424525965,18605.939303925938,17913.442967473635,142231.28986583496,138952.50814396751,160999.48868755877,155007.23243724936]
[null,null,null,null,null,null,null,72,"Y72",{"$f":"'population lookup'!I76","v":487458},{"$f":"'population lookup'!P76","v":4289075},null,77,null,null,{"$f":"HLOOKUP($P$5,altrisk10plus,Risk!$A79,FALSE)","v":4.3627450980392155E-2},{"$f":"HLOOKUP($Q$5,altrisk10plushighrisk,Risk!$A79,FALSE)","v":4.2622549019607846E-2},{"$f":"HLOOKUP($R$5,altrisk59,Risk!$A79,FALSE)","v":4.9338235294117648E-2},{"$f":"HLOOKUP($S$5,altrisk59plushighrisk,Risk!$A79,FALSE)","v":4.7524509803921568E-2},{"$f":"HLOOKUP($T$5,altrisk10plus,Risk!$A79,FALSE)","v":4.3627450980392155E-2},{"$f":"HLOOKUP($U$5,altrisk10plushighrisk,Risk!$A79,FALSE)","v":4.2622549019607846E-2},{"$f":"HLOOKUP($V$5,altrisk59,Risk!$A79,FALSE)","v":4.9338235294117648E-2},{"$f":"HLOOKUP($W$5,altrisk59plushighrisk,Risk!$A79,FALSE)","v":4.7524509803921568E-2},null,{"$f":"Risk!E79","v":0},{"$f":"Risk!F79","v":0},{"$f":"Risk!G79","v":0},{"$f":"Risk!H79","v":0},0,0,0,0,null,{"$f":"Risk!$J79","v":0},{"$f":"Risk!$J79","v":0},{"$f":"Risk!$J79","v":0},{"$f":"Risk!$J79","v":0},{"$f":"Risk!$J79","v":0},{"$f":"Risk!$J79","v":0},{"$f":"Risk!$J79","v":0},{"$f":"Risk!$J79","v":0},null,null,4.3627450980392155E-2,4.2622549019607846E-2,4.9338235294117648E-2,4.7524509803921568E-2,4.3627450980392155E-2,4.2622549019607846E-2,4.9338235294117648E-2,4.7524509803921568E-2,null,null,21266.55,20776.702500000003,24050.317500000001,23166.202499999999,187121.40931372548,182811.30943627452,211615.39154411765,203836.18688725491]
[null,null,null,null,null,null,null,73,"Y73",{"$f":"'population lookup'!I77","v":432692},{"$f":"'population lookup'!P77","v":4285266},null,78,null,null,{"$f":"HLOOKUP($P$5,altrisk10plus,Risk!$A80,FALSE)","v":4.6621108580106305E-2},{"$f":"HLOOKUP($Q$5,altrisk10plushighrisk,Risk!$A80,FALSE)","v":4.5558086560364468E-2},{"$f":"HLOOKUP($R$5,altrisk59,Risk!$A80,FALSE)","v":5.1986838774993674E-2},{"$f":"HLOOKUP($S$5,altrisk59plushighrisk,Risk!$A80,FALSE)","v":5.0164515312579094E-2},{"$f":"HLOOKUP($T$5,altrisk10plus,Risk!$A80,FALSE)","v":4.6621108580106305E-2},{"$f":"HLOOKUP($U$5,altrisk10plushighrisk,Risk!$A80,FALSE)","v":4.5558086560364468E-2},{"$f":"HLOOKUP($V$5,altrisk59,Risk!$A80,FALSE)","v":5.1986838774993674E-2},{"$f":"HLOOKUP($W$5,altrisk59plushighrisk,Risk!$A80,FALSE)","v":5.0164515312579094E-2},null,{"$f":"Risk!E80","v":0},{"$f":"Risk!F80","v":0},{"$f":"Risk!G80","v":0},{"$f":"Risk!H80","v":0},0,0,0,0,null,{"$f":"Risk!$J80","v":0},{"$f":"Risk!$J80","v":0},{"$f":"Risk!$J80","v":0},{"$f":"Risk!$J80","v":0},{"$f":"Risk!$J80","v":0},{"$f":"Risk!$J80","v":0},{"$f":"Risk!$J80","v":0},{"$f":"Risk!$J80","v":0},null,null,4.6621108580106305E-2,4.5558086560364468E-2,5.1986838774993674E-2,5.0164515312579094E-2,4.6621108580106305E-2,4.5558086560364468E-2,5.1986838774993674E-2,5.0164515312579094E-2,null,null,20172.580713743359,19712.619589977221,22494.289243229563,21705.784459630475,199783.85148063782,195228.51936218681,222777.43264996205,214968.29187547456]
[null,null,null,null,null,null,null,74,"Y74",{"$f":"'population lookup'!I78","v":449333},{"$f":"'population lookup'!P78","v":4430564},null,79,null,null,{"$f":"HLOOKUP($P$5,altrisk10plus,Risk!$A81,FALSE)","v":5.3292278540975839E-2},{"$f":"HLOOKUP($Q$5,altrisk10plushighrisk,Risk!$A81,FALSE)","v":5.2239591557450393E-2},{"$f":"HLOOKUP($R$5,altrisk59,Risk!$A81,FALSE)","v":5.9713669140481075E-2},{"$f":"HLOOKUP($S$5,altrisk59plushighrisk,Risk!$A81,FALSE)","v":5.7739881046370858E-2},{"$f":"HLOOKUP($T$5,altrisk10plus,Risk!$A81,FALSE)","v":5.3292278540975839E-2},{"$f":"HLOOKUP($U$5,altrisk10plushighrisk,Risk!$A81,FALSE)","v":5.2239591557450393E-2},{"$f":"HLOOKUP($V$5,altrisk59,Risk!$A81,FALSE)","v":5.9713669140481075E-2},{"$f":"HLOOKUP($W$5,altrisk59plushighrisk,Risk!$A81,FALSE)","v":5.7739881046370858E-2},null,{"$f":"Risk!E81","v":0},{"$f":"Risk!F81","v":0},{"$f":"Risk!G81","v":0},{"$f":"Risk!H81","v":0},0,0,0,0,null,{"$f":"Risk!$J81","v":0},{"$f":"Risk!$J81","v":0},{"$f":"Risk!$J81","v":0},{"$f":"Risk!$J81","v":0},{"$f":"Risk!$J81","v":0},{"$f":"Risk!$J81","v":0},{"$f":"Risk!$J81","v":0},{"$f":"Risk!$J81","v":0},null,null,5.3292278540975839E-2,5.2239591557450393E-2,5.9713669140481075E-2,5.7739881046370858E-2,5.3292278540975839E-2,5.2239591557450393E-2,5.9713669140481075E-2,5.7739881046370858E-2,null,null,23945.979393652298,23472.972393283857,26831.322095899784,25944.433970208956,236114.85078162007,231450.85372914365,264565.23280172638,255820.23832833304]
[null,null,null,null,null,null,null,75,"Y75",{"$f":"'population lookup'!I79","v":465297},{"$f":"'population lookup'!P79","v":4228282},null,80,null,null,{"$f":"HLOOKUP($P$5,altrisk10plus,Risk!$A82,FALSE)","v":5.5954695292029413E-2},{"$f":"HLOOKUP($Q$5,altrisk10plushighrisk,Risk!$A82,FALSE)","v":5.4743188797791116E-2},{"$f":"HLOOKUP($R$5,altrisk59,Risk!$A82,FALSE)","v":6.3449130814526813E-2},{"$f":"HLOOKUP($S$5,altrisk59plushighrisk,Risk!$A82,FALSE)","v":6.1307863522384695E-2},{"$f":"HLOOKUP($T$5,altrisk10plus,Risk!$A82,FALSE)","v":5.5954695292029413E-2},{"$f":"HLOOKUP($U$5,altrisk10plushighrisk,Risk!$A82,FALSE)","v":5.4743188797791116E-2},{"$f":"HLOOKUP($V$5,altrisk59,Risk!$A82,FALSE)","v":6.3449130814526813E-2},{"$f":"HLOOKUP($W$5,altrisk59plushighrisk,Risk!$A82,FALSE)","v":6.1307863522384695E-2},null,{"$f":"Risk!E82","v":0},{"$f":"Risk!F82","v":0},{"$f":"Risk!G82","v":0},{"$f":"Risk!H82","v":0},0,0,0,0,null,{"$f":"Risk!$J82","v":0},{"$f":"Risk!$J82","v":0},{"$f":"Risk!$J82","v":0},{"$f":"Risk!$J82","v":0},{"$f":"Risk!$J82","v":0},{"$f":"Risk!$J82","v":0},{"$f":"Risk!$J82","v":0},{"$f":"Risk!$J82","v":0},null,null,5.5954695292029413E-2,5.4743188797791116E-2,6.3449130814526813E-2,6.1307863522384695E-2,5.5954695292029413E-2,5.4743188797791116E-2,6.3449130814526813E-2,6.1307863522384695E-2,null,null,26035.551855295409,25471.841518045814,29522.690220606884,28526.364973375032,236592.23091877272,231469.63981630182,268280.81773870904,259226.93579015581]
[null,null,null,null,null,null,null,76,"Y76",{"$f":"'population lookup'!I80","v":454650},{"$f":"'population lookup'!P80","v":4047115},null,81,null,null,{"$f":"HLOOKUP($P$5,altrisk10plus,Risk!$A83,FALSE)","v":5.9849561715233354E-2},{"$f":"HLOOKUP($Q$5,altrisk10plushighrisk,Risk!$A83,FALSE)","v":5.8546552949538026E-2},{"$f":"HLOOKUP($R$5,altrisk59,Risk!$A83,FALSE)","v":6.7016109926557682E-2},{"$f":"HLOOKUP($S$5,altrisk59plushighrisk,Risk!$A83,FALSE)","v":6.5002369106846716E-2},{"$f":"HLOOKUP($T$5,altrisk10plus,Risk!$A83,FALSE)","v":5.9849561715233354E-2},{"$f":"HLOOKUP($U$5,altrisk10plushighrisk,Risk!$A83,FALSE)","v":5.8546552949538026E-2},{"$f":"HLOOKUP($V$5,altrisk59,Risk!$A83,FALSE)","v":6.7016109926557682E-2},{"$f":"HLOOKUP($W$5,altrisk59plushighrisk,Risk!$A83,FALSE)","v":6.5002369106846716E-2},null,{"$f":"Risk!E83","v":0},{"$f":"Risk!F83","v":0},{"$f":"Risk!G83","v":0},{"$f":"Risk!H83","v":0},0,0,0,0,null,{"$f":"Risk!$J83","v":0},{"$f":"Risk!$J83","v":0},{"$f":"Risk!$J83","v":0},{"$f":"Risk!$J83","v":0},{"$f":"Risk!$J83","v":0},{"$f":"Risk!$J83","v":0},{"$f":"Risk!$J83","v":0},{"$f":"Risk!$J83","v":0},null,null,5.9849561715233354E-2,5.8546552949538026E-2,6.7016109926557682E-2,6.5002369106846716E-2,5.9849561715233354E-2,5.8546552949538026E-2,6.7016109926557682E-2,6.5002369106846716E-2,null,null,27210.603233830843,26618.190298507463,30468.874378109449,29553.327114427859,242218.05896114663,236944.63264036959,271221.90372542047,263072.06304785598]
[null,null,null,null,null,null,null,77,"Y77",{"$f":"'population lookup'!I81","v":440531},{"$f":"'population lookup'!P81","v":3831560},null,82,null,null,{"$f":"HLOOKUP($P$5,altrisk10plus,Risk!$A84,FALSE)","v":8.1615147568065566E-2},{"$f":"HLOOKUP($Q$5,altrisk10plushighrisk,Risk!$A84,FALSE)","v":7.9581916955237156E-2},{"$f":"HLOOKUP($R$5,altrisk59,Risk!$A84,FALSE)","v":9.336976204847984E-2},{"$f":"HLOOKUP($S$5,altrisk59plushighrisk,Risk!$A84,FALSE)","v":9.0097531530959118E-2},{"$f":"HLOOKUP($T$5,altrisk10plus,Risk!$A84,FALSE)","v":8.1615147568065566E-2},{"$f":"HLOOKUP($U$5,altrisk10plushighrisk,Risk!$A84,FALSE)","v":7.9581916955237156E-2},{"$f":"HLOOKUP($V$5,altrisk59,Risk!$A84,FALSE)","v":9.336976204847984E-2},{"$f":"HLOOKUP($W$5,altrisk59plushighrisk,Risk!$A84,FALSE)","v":9.0097531530959118E-2},null,{"$f":"Risk!E84","v":0},{"$f":"Risk!F84","v":0},{"$f":"Risk!G84","v":0},{"$f":"Risk!H84","v":0},0,0,0,0,null,{"$f":"Risk!$J84","v":0},{"$f":"Risk!$J84","v":0},{"$f":"Risk!$J84","v":0},{"$f":"Risk!$J84","v":0},{"$f":"Risk!$J84","v":0},{"$f":"Risk!$J84","v":0},{"$f":"Risk!$J84","v":0},{"$f":"Risk!$J84","v":0},null,null,8.1615147568065566E-2,7.9581916955237156E-2,9.336976204847984E-2,9.0097531530959118E-2,8.1615147568065566E-2,7.9581916955237156E-2,9.336976204847984E-2,9.0097531530959118E-2,null,null,35954.002573307494,35058.301458207578,41132.274644978876,39690.755662864955,312713.33481589728,304922.88972900849,357751.84547447343,345214.09791276173]
[null,null,null,null,null,null,null,78,"Y78",{"$f":"'population lookup'!I82","v":435025},{"$f":"'population lookup'!P82","v":3678738},null,83,null,null,{"$f":"HLOOKUP($P$5,altrisk10plus,Risk!$A85,FALSE)","v":9.0515299580690989E-2},{"$f":"HLOOKUP($Q$5,altrisk10plushighrisk,Risk!$A85,FALSE)","v":8.8609349551235408E-2},{"$f":"HLOOKUP($R$5,altrisk59,Risk!$A85,FALSE)","v":0.10316387704889628},{"$f":"HLOOKUP($S$5,altrisk59plushighrisk,Risk!$A85,FALSE)","v":9.9455937900682675E-2},{"$f":"HLOOKUP($T$5,altrisk10plus,Risk!$A85,FALSE)","v":9.0515299580690989E-2},{"$f":"HLOOKUP($U$5,altrisk10plushighrisk,Risk!$A85,FALSE)","v":8.8609349551235408E-2},{"$f":"HLOOKUP($V$5,altrisk59,Risk!$A85,FALSE)","v":0.10316387704889628},{"$f":"HLOOKUP($W$5,altrisk59plushighrisk,Risk!$A85,FALSE)","v":9.9455937900682675E-2},null,{"$f":"Risk!E85","v":0},{"$f":"Risk!F85","v":0},{"$f":"Risk!G85","v":0},{"$f":"Risk!H85","v":0},0,0,0,0,null,{"$f":"Risk!$J85","v":0},{"$f":"Risk!$J85","v":0},{"$f":"Risk!$J85","v":0},{"$f":"Risk!$J85","v":0},{"$f":"Risk!$J85","v":0},{"$f":"Risk!$J85","v":0},{"$f":"Risk!$J85","v":0},{"$f":"Risk!$J85","v":0},null,null,9.0515299580690989E-2,8.8609349551235408E-2,0.10316387704889628,9.9455937900682675E-2,9.0515299580690989E-2,8.8609349551235408E-2,0.10316387704889628,9.9455937900682675E-2,null,null,39376.418200090098,38547.282288526185,44878.865613196103,43265.819385244482,332982.07214887202,325970.58134941262,379512.87472710258,365872.33808088157]
[null,null,null,null,null,null,null,79,"Y79",{"$f":"'population lookup'!I83","v":419873},{"$f":"'population lookup'!P83","v":3482755},null,84,null,null,{"$f":"HLOOKUP($P$5,altrisk10plus,Risk!$A86,FALSE)","v":9.4139485547600113E-2},{"$f":"HLOOKUP($Q$5,altrisk10plushighrisk,Risk!$A86,FALSE)","v":9.1714967609955678E-2},{"$f":"HLOOKUP($R$5,altrisk59,Risk!$A86,FALSE)","v":0.10637572451414934},{"$f":"HLOOKUP($S$5,altrisk59plushighrisk,Risk!$A86,FALSE)","v":0.10273894760768269},{"$f":"HLOOKUP($T$5,altrisk10plus,Risk!$A86,FALSE)","v":9.4139485547600113E-2},{"$f":"HLOOKUP($U$5,altrisk10plushighrisk,Risk!$A86,FALSE)","v":9.1714967609955678E-2},{"$f":"HLOOKUP($V$5,altrisk59,Risk!$A86,FALSE)","v":0.10637572451414934},{"$f":"HLOOKUP($W$5,altrisk59plushighrisk,Risk!$A86,FALSE)","v":0.10273894760768269},null,{"$f":"Risk!E86","v":0},{"$f":"Risk!F86","v":0},{"$f":"Risk!G86","v":0},{"$f":"Risk!H86","v":0},0,0,0,0,null,{"$f":"Risk!$J86","v":0},{"$f":"Risk!$J86","v":0},{"$f":"Risk!$J86","v":0},{"$f":"Risk!$J86","v":0},{"$f":"Risk!$J86","v":0},{"$f":"Risk!$J86","v":0},{"$f":"Risk!$J86","v":0},{"$f":"Risk!$J86","v":0},null,null,9.4139485547600113E-2,9.1714967609955678E-2,0.10637572451414934,0.10273894760768269,9.4139485547600113E-2,9.1714967609955678E-2,0.10637572451414934,0.10273894760768269,null,null,39526.628215327502,38508.63859529492,44664.294578929424,43137.310148880555,327864.76398833201,319420.76201841119,370480.58643027616,357814.58347539493]
[null,null,null,null,null,null,null,80,"Y80",{"$f":"'population lookup'!I84","v":415986},{"$f":"'population lookup'!P84","v":3257717},null,85,null,null,{"$f":"HLOOKUP($P$5,altrisk10plus,Risk!$A87,FALSE)","v":9.9020544672718591E-2},{"$f":"HLOOKUP($Q$5,altrisk10plushighrisk,Risk!$A87,FALSE)","v":9.6989966555183951E-2},{"$f":"HLOOKUP($R$5,altrisk59,Risk!$A87,FALSE)","v":0.11363274406752667},{"$f":"HLOOKUP($S$5,altrisk59plushighrisk,Risk!$A87,FALSE)","v":0.1100891861761427},{"$f":"HLOOKUP($T$5,altrisk10plus,Risk!$A87,FALSE)","v":9.9020544672718591E-2},{"$f":"HLOOKUP($U$5,altrisk10plushighrisk,Risk!$A87,FALSE)","v":9.6989966555183951E-2},{"$f":"HLOOKUP($V$5,altrisk59,Risk!$A87,FALSE)","v":0.11363274406752667},{"$f":"HLOOKUP($W$5,altrisk59plushighrisk,Risk!$A87,FALSE)","v":0.1100891861761427},null,{"$f":"Risk!E87","v":0},{"$f":"Risk!F87","v":0},{"$f":"Risk!G87","v":0},{"$f":"Risk!H87","v":0},0,0,0,0,null,{"$f":"Risk!$J87","v":0},{"$f":"Risk!$J87","v":0},{"$f":"Risk!$J87","v":0},{"$f":"Risk!$J87","v":0},{"$f":"Risk!$J87","v":0},{"$f":"Risk!$J87","v":0},{"$f":"Risk!$J87","v":0},{"$f":"Risk!$J87","v":0},null,null,{"$f":"HLOOKUP(AR$2,$P$2:$AO$107,$M86,FALSE)","v":9.9020544672718591E-2},9.6989966555183951E-2,0.11363274406752667,0.1100891861761427,9.9020544672718591E-2,9.6989966555183951E-2,0.11363274406752667,0.1100891861761427,null,null,41191.160296225513,40346.468227424753,47269.630673674154,45795.560200668901,322580.91172957479,315965.86287625419,370183.32210543077,358639.41332218505]
[null,null,null,null,null,null,null,81,"Y81",{"$f":"'population lookup'!I85","v":0},{"$f":"'population lookup'!P85","v":0},null,86,null,null,{"$f":"HLOOKUP($P$5,altrisk10plus,Risk!$A88,FALSE)","v":0.10162710056014937},{"$f":"HLOOKUP($Q$5,altrisk10plushighrisk,Risk!$A88,FALSE)","v":9.9359829287810078E-2},{"$f":"HLOOKUP($R$5,altrisk59,Risk!$A88,FALSE)","v":0.11847603805459234},{"$f":"HLOOKUP($S$5,altrisk59plushighrisk,Risk!$A88,FALSE)","v":0.11451942740286299},{"$f":"HLOOKUP($T$5,altrisk10plus,Risk!$A88,FALSE)","v":0.10162710056014937},{"$f":"HLOOKUP($U$5,altrisk10plushighrisk,Risk!$A88,FALSE)","v":9.9359829287810078E-2},{"$f":"HLOOKUP($V$5,altrisk59,Risk!$A88,FALSE)","v":0.11847603805459234},{"$f":"HLOOKUP($W$5,altrisk59plushighrisk,Risk!$A88,FALSE)","v":0.11451942740286299},null,{"$f":"Risk!E88","v":0},{"$f":"Risk!F88","v":0},{"$f":"Risk!G88","v":0},{"$f":"Risk!H88","v":0},0,0,0,0,null,{"$f":"Risk!$J88","v":0},{"$f":"Risk!$J88","v":0},{"$f":"Risk!$J88","v":0},{"$f":"Risk!$J88","v":0},{"$f":"Risk!$J88","v":0},{"$f":"Risk!$J88","v":0},{"$f":"Risk!$J88","v":0},{"$f":"Risk!$J88","v":0},null,null,0.10162710056014937,9.9359829287810078E-2,0.11847603805459234,0.11451942740286299,0.10162710056014937,9.9359829287810078E-2,0.11847603805459234,0.11451942740286299,null,null,0,0,0,0,0,0,0,0]
[null,null,null,null,null,null,null,82,"Y82",{"$f":"'population lookup'!I86","v":0},{"$f":"'population lookup'!P86","v":0},null,87,null,null,{"$f":"HLOOKUP($P$5,altrisk10plus,Risk!$A89,FALSE)","v":0.15670248726098582},{"$f":"HLOOKUP($Q$5,altrisk10plushighrisk,Risk!$A89,FALSE)","v":0.15317087937036478},{"$f":"HLOOKUP($R$5,altrisk59,Risk!$A89,FALSE)","v":0.18475354422077594},{"$f":"HLOOKUP($S$5,altrisk59plushighrisk,Risk!$A89,FALSE)","v":0.17779123152212301},{"$f":"HLOOKUP($T$5,altrisk10plus,Risk!$A89,FALSE)","v":0.15670248726098582},{"$f":"HLOOKUP($U$5,altrisk10plushighrisk,Risk!$A89,FALSE)","v":0.15317087937036478},{"$f":"HLOOKUP($V$5,altrisk59,Risk!$A89,FALSE)","v":0.18475354422077594},{"$f":"HLOOKUP($W$5,altrisk59plushighrisk,Risk!$A89,FALSE)","v":0.17779123152212301},null,{"$f":"Risk!E89","v":0},{"$f":"Risk!F89","v":0},{"$f":"Risk!G89","v":0},{"$f":"Risk!H89","v":0},0,0,0,0,null,{"$f":"Risk!$J89","v":0},{"$f":"Risk!$J89","v":0},{"$f":"Risk!$J89","v":0},{"$f":"Risk!$J89","v":0},{"$f":"Risk!$J89","v":0},{"$f":"Risk!$J89","v":0},{"$f":"Risk!$J89","v":0},{"$f":"Risk!$J89","v":0},null,null,0.15670248726098582,0.15317087937036478,0.18475354422077594,0.17779123152212301,0.15670248726098582,0.15317087937036478,0.18475354422077594,0.17779123152212301,null,null,0,0,0,0,0,0,0,0]
[null,null,null,null,null,null,null,83,"Y83",{"$f":"'population lookup'!I87","v":0},{"$f":"'population lookup'!P87","v":0},null,88,null,null,{"$f":"HLOOKUP($P$5,altrisk10plus,Risk!$A90,FALSE)","v":0.16453371592539454},{"$f":"HLOOKUP($Q$5,altrisk10plushighrisk,Risk!$A90,FALSE)","v":0.15982783357245336},{"$f":"HLOOKUP($R$5,altrisk59,Risk!$A90,FALSE)","v":0.19466284074605453},{"$f":"HLOOKUP($S$5,altrisk59plushighrisk,Risk!$A90,FALSE)","v":0.18668579626972739},{"$f":"HLOOKUP($T$5,altrisk10plus,Risk!$A90,FALSE)","v":0.16453371592539454},{"$f":"HLOOKUP($U$5,altrisk10plushighrisk,Risk!$A90,FALSE)","v":0.15982783357245336},{"$f":"HLOOKUP($V$5,altrisk59,Risk!$A90,FALSE)","v":0.19466284074605453},{"$f":"HLOOKUP($W$5,altrisk59plushighrisk,Risk!$A90,FALSE)","v":0.18668579626972739},null,{"$f":"Risk!E90","v":0},{"$f":"Risk!F90","v":0},{"$f":"Risk!G90","v":0},{"$f":"Risk!H90","v":0},0,0,0,0,null,{"$f":"Risk!$J90","v":0},{"$f":"Risk!$J90","v":0},{"$f":"Risk!$J90","v":0},{"$f":"Risk!$J90","v":0},{"$f":"Risk!$J90","v":0},{"$f":"Risk!$J90","v":0},{"$f":"Risk!$J90","v":0},{"$f":"Risk!$J90","v":0},null,null,0.16453371592539454,0.15982783357245336,0.19466284074605453,0.18668579626972739,0.16453371592539454,0.15982783357245336,0.19466284074605453,0.18668579626972739,null,null,0,0,0,0,0,0,0,0]
[null,null,null,null,null,null,null,84,"Y84",{"$f":"'population lookup'!I88","v":0},{"$f":"'population lookup'!P88","v":0},null,89,null,null,{"$f":"HLOOKUP($P$5,altrisk10plus,Risk!$A91,FALSE)","v":0.1735959651035987},{"$f":"HLOOKUP($Q$5,altrisk10plushighrisk,Risk!$A91,FALSE)","v":0.16793893129770993},{"$f":"HLOOKUP($R$5,altrisk59,Risk!$A91,FALSE)","v":0.20624318429661942},{"$f":"HLOOKUP($S$5,altrisk59plushighrisk,Risk!$A91,FALSE)","v":0.19588331515812432},{"$f":"HLOOKUP($T$5,altrisk10plus,Risk!$A91,FALSE)","v":0.1735959651035987},{"$f":"HLOOKUP($U$5,altrisk10plushighrisk,Risk!$A91,FALSE)","v":0.16793893129770993},{"$f":"HLOOKUP($V$5,altrisk59,Risk!$A91,FALSE)","v":0.20624318429661942},{"$f":"HLOOKUP($W$5,altrisk59plushighrisk,Risk!$A91,FALSE)","v":0.19588331515812432},null,{"$f":"Risk!E91","v":0},{"$f":"Risk!F91","v":0},{"$f":"Risk!G91","v":0},{"$f":"Risk!H91","v":0},0,0,0,0,null,{"$f":"Risk!$J91","v":0},{"$f":"Risk!$J91","v":0},{"$f":"Risk!$J91","v":0},{"$f":"Risk!$J91","v":0},{"$f":"Risk!$J91","v":0},{"$f":"Risk!$J91","v":0},{"$f":"Risk!$J91","v":0},{"$f":"Risk!$J91","v":0},null,null,0.1735959651035987,0.16793893129770993,0.20624318429661942,0.19588331515812432,0.1735959651035987,0.16793893129770993,0.20624318429661942,0.19588331515812432,null,null,0,0,0,0,0,0,0,0]
[null,null,null,null,null,null,null,85,"Y85",{"$f":"'population lookup'!I89","v":0},{"$f":"'population lookup'!P89","v":0},null,90,null,null,{"$f":"HLOOKUP($P$5,altrisk10plus,Risk!$A92,FALSE)","v":0.1720731232983275},{"$f":"HLOOKUP($Q$5,altrisk10plushighrisk,Risk!$A92,FALSE)","v":0.16732788798133022},{"$f":"HLOOKUP($R$5,altrisk59,Risk!$A92,FALSE)","v":0.21065733177751847},{"$f":"HLOOKUP($S$5,altrisk59plushighrisk,Risk!$A92,FALSE)","v":0.2},{"$f":"HLOOKUP($T$5,altrisk10plus,Risk!$A92,FALSE)","v":0.1720731232983275},{"$f":"HLOOKUP($U$5,altrisk10plushighrisk,Risk!$A92,FALSE)","v":0.16732788798133022},{"$f":"HLOOKUP($V$5,altrisk59,Risk!$A92,FALSE)","v":0.21065733177751847},{"$f":"HLOOKUP($W$5,altrisk59plushighrisk,Risk!$A92,FALSE)","v":0.2},null,{"$f":"Risk!E92","v":0},{"$f":"Risk!F92","v":0},{"$f":"Risk!G92","v":0},{"$f":"Risk!H92","v":0},0,0,0,0,null,{"$f":"Risk!$J92","v":0},{"$f":"Risk!$J92","v":0},{"$f":"Risk!$J92","v":0},{"$f":"Risk!$J92","v":0},{"$f":"Risk!$J92","v":0},{"$f":"Risk!$J92","v":0},{"$f":"Risk!$J92","v":0},{"$f":"Risk!$J92","v":0},null,null,0.1720731232983275,0.16732788798133022,0.21065733177751847,0.2,0.1720731232983275,0.16732788798133022,0.21065733177751847,0.2,null,null,0,0,0,0,0,0,0,0]
[null,null,null,null,null,null,null,86,"Y86",{"$f":"'population lookup'!I90","v":0},{"$f":"'population lookup'!P90","v":0},null,91,null,null,{"$f":"HLOOKUP($P$5,altrisk10plus,Risk!$A93,FALSE)","v":0.17759587151881839},{"$f":"HLOOKUP($Q$5,altrisk10plushighrisk,Risk!$A93,FALSE)","v":0.17199039060414628},{"$f":"HLOOKUP($R$5,altrisk59,Risk!$A93,FALSE)","v":0.21336417830767862},{"$f":"HLOOKUP($S$5,altrisk59plushighrisk,Risk!$A93,FALSE)","v":0.20304297535367916},{"$f":"HLOOKUP($T$5,altrisk10plus,Risk!$A93,FALSE)","v":0.17759587151881839},{"$f":"HLOOKUP($U$5,altrisk10plushighrisk,Risk!$A93,FALSE)","v":0.17199039060414628},{"$f":"HLOOKUP($V$5,altrisk59,Risk!$A93,FALSE)","v":0.21336417830767862},{"$f":"HLOOKUP($W$5,altrisk59plushighrisk,Risk!$A93,FALSE)","v":0.20304297535367916},null,{"$f":"Risk!E93","v":0},{"$f":"Risk!F93","v":0},{"$f":"Risk!G93","v":0},{"$f":"Risk!H93","v":0},0,0,0,0,null,{"$f":"Risk!$J93","v":0},{"$f":"Risk!$J93","v":0},{"$f":"Risk!$J93","v":0},{"$f":"Risk!$J93","v":0},{"$f":"Risk!$J93","v":0},{"$f":"Risk!$J93","v":0},{"$f":"Risk!$J93","v":0},{"$f":"Risk!$J93","v":0},null,null,0.17759587151881839,0.17199039060414628,0.21336417830767862,0.20304297535367916,0.17759587151881839,0.17199039060414628,0.21336417830767862,0.20304297535367916,null,null,0,0,0,0,0,0,0,0]
[null,null,null,null,null,null,null,87,"Y87",{"$f":"'population lookup'!I91","v":0},{"$f":"'population lookup'!P91","v":0},null,92,null,null,{"$f":"HLOOKUP($P$5,altrisk10plus,Risk!$A94,FALSE)","v":0},{"$f":"HLOOKUP($Q$5,altrisk10plushighrisk,Risk!$A94,FALSE)","v":0},{"$f":"HLOOKUP($R$5,altrisk59,Risk!$A94,FALSE)","v":0},{"$f":"HLOOKUP($S$5,altrisk59plushighrisk,Risk!$A94,FALSE)","v":0},{"$f":"HLOOKUP($T$5,altrisk10plus,Risk!$A94,FALSE)","v":0},{"$f":"HLOOKUP($U$5,altrisk10plushighrisk,Risk!$A94,FALSE)","v":0},{"$f":"HLOOKUP($V$5,altrisk59,Risk!$A94,FALSE)","v":0},{"$f":"HLOOKUP($W$5,altrisk59plushighrisk,Risk!$A94,FALSE)","v":0},null,{"$f":"Risk!E94","v":0},{"$f":"Risk!F94","v":0},{"$f":"Risk!G94","v":0},{"$f":"Risk!H94","v":0},0,0,0,0,null,{"$f":"Risk!$J94","v":0},{"$f":"Risk!$J94","v":0},{"$f":"Risk!$J94","v":0},{"$f":"Risk!$J94","v":0},{"$f":"Risk!$J94","v":0},{"$f":"Risk!$J94","v":0},{"$f":"Risk!$J94","v":0},{"$f":"Risk!$J94","v":0},null,null,0,0,0,0,0,0,0,0,null,null,0,0,0,0,0,0,0,0]
[null,null,null,null,null,null,null,88,"Y88",{"$f":"'population lookup'!I92","v":0},{"$f":"'population lookup'!P92","v":0},null,93,null,null,{"$f":"HLOOKUP($P$5,altrisk10plus,Risk!$A95,FALSE)","v":0},{"$f":"HLOOKUP($Q$5,altrisk10plushighrisk,Risk!$A95,FALSE)","v":0},{"$f":"HLOOKUP($R$5,altrisk59,Risk!$A95,FALSE)","v":0},{"$f":"HLOOKUP($S$5,altrisk59plushighrisk,Risk!$A95,FALSE)","v":0},{"$f":"HLOOKUP($T$5,altrisk10plus,Risk!$A95,FALSE)","v":0},{"$f":"HLOOKUP($U$5,altrisk10plushighrisk,Risk!$A95,FALSE)","v":0},{"$f":"HLOOKUP($V$5,altrisk59,Risk!$A95,FALSE)","v":0},{"$f":"HLOOKUP($W$5,altrisk59plushighrisk,Risk!$A95,FALSE)","v":0},null,{"$f":"Risk!E95","v":0},{"$f":"Risk!F95","v":0},{"$f":"Risk!G95","v":0},{"$f":"Risk!H95","v":0},0,0,0,0,null,{"$f":"Risk!$J95","v":0},{"$f":"Risk!$J95","v":0},{"$f":"Risk!$J95","v":0},{"$f":"Risk!$J95","v":0},{"$f":"Risk!$J95","v":0},{"$f":"Risk!$J95","v":0},{"$f":"Risk!$J95","v":0},{"$f":"Risk!$J95","v":0},null,null,0,0,0,0,0,0,0,0,null,null,0,0,0,0,0,0,0,0]
[null,null,null,null,null,null,null,89,"Y89",{"$f":"'population lookup'!I93","v":0},{"$f":"'population lookup'!P93","v":0},null,94,null,null,{"$f":"HLOOKUP($P$5,altrisk10plus,Risk!$A96,FALSE)","v":0},{"$f":"HLOOKUP($Q$5,altrisk10plushighrisk,Risk!$A96,FALSE)","v":0},{"$f":"HLOOKUP($R$5,altrisk59,Risk!$A96,FALSE)","v":0},{"$f":"HLOOKUP($S$5,altrisk59plushighrisk,Risk!$A96,FALSE)","v":0},{"$f":"HLOOKUP($T$5,altrisk10plus,Risk!$A96,FALSE)","v":0},{"$f":"HLOOKUP($U$5,altrisk10plushighrisk,Risk!$A96,FALSE)","v":0},{"$f":"HLOOKUP($V$5,altrisk59,Risk!$A96,FALSE)","v":0},{"$f":"HLOOKUP($W$5,altrisk59plushighrisk,Risk!$A96,FALSE)","v":0},null,{"$f":"Risk!E96","v":0},{"$f":"Risk!F96","v":0},{"$f":"Risk!G96","v":0},{"$f":"Risk!H96","v":0},0,0,0,0,null,{"$f":"Risk!$J96","v":0},{"$f":"Risk!$J96","v":0},{"$f":"Risk!$J96","v":0},{"$f":"Risk!$J96","v":0},{"$f":"Risk!$J96","v":0},{"$f":"Risk!$J96","v":0},{"$f":"Risk!$J96","v":0},{"$f":"Risk!$J96","v":0},null,null,0,0,0,0,0,0,0,0,null,null,0,0,0,0,0,0,0,0]
[null,null,null,null,null,null,null,90,"Y90",{"$f":"'population lookup'!I94","v":0},{"$f":"'population lookup'!P94","v":0},null,95,null,null,{"$f":"HLOOKUP($P$5,altrisk10plus,Risk!$A97,FALSE)","v":0},{"$f":"HLOOKUP($Q$5,altrisk10plushighrisk,Risk!$A97,FALSE)","v":0},{"$f":"HLOOKUP($R$5,altrisk59,Risk!$A97,FALSE)","v":0},{"$f":"HLOOKUP($S$5,altrisk59plushighrisk,Risk!$A97,FALSE)","v":0},{"$f":"HLOOKUP($T$5,altrisk10plus,Risk!$A97,FALSE)","v":0},{"$f":"HLOOKUP($U$5,altrisk10plushighrisk,Risk!$A97,FALSE)","v":0},{"$f":"HLOOKUP($V$5,altrisk59,Risk!$A97,FALSE)","v":0},{"$f":"HLOOKUP($W$5,altrisk59plushighrisk,Risk!$A97,FALSE)","v":0},null,{"$f":"Risk!E97","v":0},{"$f":"Risk!F97","v":0},{"$f":"Risk!G97","v":0},{"$f":"Risk!H97","v":0},0,0,0,0,null,{"$f":"Risk!$J97","v":0},{"$f":"Risk!$J97","v":0},{"$f":"Risk!$J97","v":0},{"$f":"Risk!$J97","v":0},{"$f":"Risk!$J97","v":0},{"$f":"Risk!$J97","v":0},{"$f":"Risk!$J97","v":0},{"$f":"Risk!$J97","v":0},null,null,{"$f":"HLOOKUP(AR$2,$P$2:$AO$107,$M96,FALSE)","v":0},0,0,0,0,0,0,0,null,null,0,0,0,0,0,0,0,0]
[null,null,null,null,null,null,null,91,"Y91",{"$f":"'population lookup'!I95","v":0},{"$f":"'population lookup'!P95","v":0},null,96,null,null,{"$f":"HLOOKUP($P$5,altrisk10plus,Risk!$A98,FALSE)","v":0},{"$f":"HLOOKUP($Q$5,altrisk10plushighrisk,Risk!$A98,FALSE)","v":0},{"$f":"HLOOKUP($R$5,altrisk59,Risk!$A98,FALSE)","v":0},{"$f":"HLOOKUP($S$5,altrisk59plushighrisk,Risk!$A98,FALSE)","v":0},{"$f":"HLOOKUP($T$5,altrisk10plus,Risk!$A98,FALSE)","v":0},{"$f":"HLOOKUP($U$5,altrisk10plushighrisk,Risk!$A98,FALSE)","v":0},{"$f":"HLOOKUP($V$5,altrisk59,Risk!$A98,FALSE)","v":0},{"$f":"HLOOKUP($W$5,altrisk59plushighrisk,Risk!$A98,FALSE)","v":0},null,{"$f":"Risk!E98","v":0},{"$f":"Risk!F98","v":0},{"$f":"Risk!G98","v":0},{"$f":"Risk!H98","v":0},0,0,0,0,null,{"$f":"Risk!$J98","v":0},{"$f":"Risk!$J98","v":0},{"$f":"Risk!$J98","v":0},{"$f":"Risk!$J98","v":0},{"$f":"Risk!$J98","v":0},{"$f":"Risk!$J98","v":0},{"$f":"Risk!$J98","v":0},{"$f":"Risk!$J98","v":0},null,null,0,0,0,0,0,0,0,0,null,null,0,0,0,0,0,0,0,0]
[null,null,null,null,null,null,null,92,"Y92",{"$f":"'population lookup'!I96","v":0},{"$f":"'population lookup'!P96","v":0},null,97,null,null,{"$f":"HLOOKUP($P$5,altrisk10plus,Risk!$A99,FALSE)","v":0},{"$f":"HLOOKUP($Q$5,altrisk10plushighrisk,Risk!$A99,FALSE)","v":0},{"$f":"HLOOKUP($R$5,altrisk59,Risk!$A99,FALSE)","v":0},{"$f":"HLOOKUP($S$5,altrisk59plushighrisk,Risk!$A99,FALSE)","v":0},{"$f":"HLOOKUP($T$5,altrisk10plus,Risk!$A99,FALSE)","v":0},{"$f":"HLOOKUP($U$5,altrisk10plushighrisk,Risk!$A99,FALSE)","v":0},{"$f":"HLOOKUP($V$5,altrisk59,Risk!$A99,FALSE)","v":0},{"$f":"HLOOKUP($W$5,altrisk59plushighrisk,Risk!$A99,FALSE)","v":0},null,{"$f":"Risk!E99","v":0},{"$f":"Risk!F99","v":0},{"$f":"Risk!G99","v":0},{"$f":"Risk!H99","v":0},0,0,0,0,null,{"$f":"Risk!$J99","v":0},{"$f":"Risk!$J99","v":0},{"$f":"Risk!$J99","v":0},{"$f":"Risk!$J99","v":0},{"$f":"Risk!$J99","v":0},{"$f":"Risk!$J99","v":0},{"$f":"Risk!$J99","v":0},{"$f":"Risk!$J99","v":0},null,null,0,0,0,0,0,0,0,0,null,null,0,0,0,0,0,0,0,0]
[null,null,null,null,null,null,null,93,"Y93",{"$f":"'population lookup'!I97","v":0},{"$f":"'population lookup'!P97","v":0},null,98,null,null,{"$f":"HLOOKUP($P$5,altrisk10plus,Risk!$A100,FALSE)","v":0},{"$f":"HLOOKUP($Q$5,altrisk10plushighrisk,Risk!$A100,FALSE)","v":0},{"$f":"HLOOKUP($R$5,altrisk59,Risk!$A100,FALSE)","v":0},{"$f":"HLOOKUP($S$5,altrisk59plushighrisk,Risk!$A100,FALSE)","v":0},{"$f":"HLOOKUP($T$5,altrisk10plus,Risk!$A100,FALSE)","v":0},{"$f":"HLOOKUP($U$5,altrisk10plushighrisk,Risk!$A100,FALSE)","v":0},{"$f":"HLOOKUP($V$5,altrisk59,Risk!$A100,FALSE)","v":0},{"$f":"HLOOKUP($W$5,altrisk59plushighrisk,Risk!$A100,FALSE)","v":0},null,{"$f":"Risk!E100","v":0},{"$f":"Risk!F100","v":0},{"$f":"Risk!G100","v":0},{"$f":"Risk!H100","v":0},0,0,0,0,null,{"$f":"Risk!$J100","v":0},{"$f":"Risk!$J100","v":0},{"$f":"Risk!$J100","v":0},{"$f":"Risk!$J100","v":0},{"$f":"Risk!$J100","v":0},{"$f":"Risk!$J100","v":0},{"$f":"Risk!$J100","v":0},{"$f":"Risk!$J100","v":0},null,null,0,0,0,0,0,0,0,0,null,null,0,0,0,0,0,0,0,0]
[null,null,null,null,null,null,null,94,"Y94",{"$f":"'population lookup'!I98","v":0},{"$f":"'population lookup'!P98","v":0},null,99,null,null,{"$f":"HLOOKUP($P$5,altrisk10plus,Risk!$A101,FALSE)","v":0},{"$f":"HLOOKUP($Q$5,altrisk10plushighrisk,Risk!$A101,FALSE)","v":0},{"$f":"HLOOKUP($R$5,altrisk59,Risk!$A101,FALSE)","v":0},{"$f":"HLOOKUP($S$5,altrisk59plushighrisk,Risk!$A101,FALSE)","v":0},{"$f":"HLOOKUP($T$5,altrisk10plus,Risk!$A101,FALSE)","v":0},{"$f":"HLOOKUP($U$5,altrisk10plushighrisk,Risk!$A101,FALSE)","v":0},{"$f":"HLOOKUP($V$5,altrisk59,Risk!$A101,FALSE)","v":0},{"$f":"HLOOKUP($W$5,altrisk59plushighrisk,Risk!$A101,FALSE)","v":0},null,{"$f":"Risk!E101","v":0},{"$f":"Risk!F101","v":0},{"$f":"Risk!G101","v":0},{"$f":"Risk!H101","v":0},0,0,0,0,null,{"$f":"Risk!$J101","v":0},{"$f":"Risk!$J101","v":0},{"$f":"Risk!$J101","v":0},{"$f":"Risk!$J101","v":0},{"$f":"Risk!$J101","v":0},{"$f":"Risk!$J101","v":0},{"$f":"Risk!$J101","v":0},{"$f":"Risk!$J101","v":0},null,null,0,0,0,0,0,0,0,0,null,null,0,0,0,0,0,0,0,0]
[null,null,null,null,null,null,null,95,"Y95",{"$f":"'population lookup'!I99","v":0},{"$f":"'population lookup'!P99","v":0},null,100,null,null,{"$f":"HLOOKUP($P$5,altrisk10plus,Risk!$A102,FALSE)","v":0},{"$f":"HLOOKUP($Q$5,altrisk10plushighrisk,Risk!$A102,FALSE)","v":0},{"$f":"HLOOKUP($R$5,altrisk59,Risk!$A102,FALSE)","v":0},{"$f":"HLOOKUP($S$5,altrisk59plushighrisk,Risk!$A102,FALSE)","v":0},{"$f":"HLOOKUP($T$5,altrisk10plus,Risk!$A102,FALSE)","v":0},{"$f":"HLOOKUP($U$5,altrisk10plushighrisk,Risk!$A102,FALSE)","v":0},{"$f":"HLOOKUP($V$5,altrisk59,Risk!$A102,FALSE)","v":0},{"$f":"HLOOKUP($W$5,altrisk59plushighrisk,Risk!$A102,FALSE)","v":0},null,{"$f":"Risk!E102","v":0},{"$f":"Risk!F102","v":0},{"$f":"Risk!G102","v":0},{"$f":"Risk!H102","v":0},0,0,0,0,null,{"$f":"Risk!$J102","v":0},{"$f":"Risk!$J102","v":0},{"$f":"Risk!$J102","v":0},{"$f":"Risk!$J102","v":0},{"$f":"Risk!$J102","v":0},{"$f":"Risk!$J102","v":0},{"$f":"Risk!$J102","v":0},{"$f":"Risk!$J102","v":0},null,null,0,0,0,0,0,0,0,0,null,null,0,0,0,0,0,0,0,0]
[null,null,null,null,null,null,null,96,"Y96",{"$f":"'population lookup'!I100","v":0},{"$f":"'population lookup'!P100","v":0},null,101,null,null,{"$f":"HLOOKUP($P$5,altrisk10plus,Risk!$A103,FALSE)","v":0},{"$f":"HLOOKUP($Q$5,altrisk10plushighrisk,Risk!$A103,FALSE)","v":0},{"$f":"HLOOKUP($R$5,altrisk59,Risk!$A103,FALSE)","v":0},{"$f":"HLOOKUP($S$5,altrisk59plushighrisk,Risk!$A103,FALSE)","v":0},{"$f":"HLOOKUP($T$5,altrisk10plus,Risk!$A103,FALSE)","v":0},{"$f":"HLOOKUP($U$5,altrisk10plushighrisk,Risk!$A103,FALSE)","v":0},{"$f":"HLOOKUP($V$5,altrisk59,Risk!$A103,FALSE)","v":0},{"$f":"HLOOKUP($W$5,altrisk59plushighrisk,Risk!$A103,FALSE)","v":0},null,{"$f":"Risk!E103","v":0},{"$f":"Risk!F103","v":0},{"$f":"Risk!G103","v":0},{"$f":"Risk!H103","v":0},0,0,0,0,null,{"$f":"Risk!$J103","v":0},{"$f":"Risk!$J103","v":0},{"$f":"Risk!$J103","v":0},{"$f":"Risk!$J103","v":0},{"$f":"Risk!$J103","v":0},{"$f":"Risk!$J103","v":0},{"$f":"Risk!$J103","v":0},{"$f":"Risk!$J103","v":0},null,null,0,0,0,0,0,0,0,0,null,null,0,0,0,0,0,0,0,0]
[null,null,null,null,null,null,null,97,"Y97",{"$f":"'population lookup'!I101","v":0},{"$f":"'population lookup'!P101","v":0},null,102,null,null,{"$f":"HLOOKUP($P$5,altrisk10plus,Risk!$A104,FALSE)","v":0},{"$f":"HLOOKUP($Q$5,altrisk10plushighrisk,Risk!$A104,FALSE)","v":0},{"$f":"HLOOKUP($R$5,altrisk59,Risk!$A104,FALSE)","v":0},{"$f":"HLOOKUP($S$5,altrisk59plushighrisk,Risk!$A104,FALSE)","v":0},{"$f":"HLOOKUP($T$5,altrisk10plus,Risk!$A104,FALSE)","v":0},{"$f":"HLOOKUP($U$5,altrisk10plushighrisk,Risk!$A104,FALSE)","v":0},{"$f":"HLOOKUP($V$5,altrisk59,Risk!$A104,FALSE)","v":0},{"$f":"HLOOKUP($W$5,altrisk59plushighrisk,Risk!$A104,FALSE)","v":0},null,{"$f":"Risk!E104","v":0},{"$f":"Risk!F104","v":0},{"$f":"Risk!G104","v":0},{"$f":"Risk!H104","v":0},0,0,0,0,null,{"$f":"Risk!$J104","v":0},{"$f":"Risk!$J104","v":0},{"$f":"Risk!$J104","v":0},{"$f":"Risk!$J104","v":0},{"$f":"Risk!$J104","v":0},{"$f":"Risk!$J104","v":0},{"$f":"Risk!$J104","v":0},{"$f":"Risk!$J104","v":0},null,null,0,0,0,0,0,0,0,0,null,null,0,0,0,0,0,0,0,0]
[null,null,null,null,null,null,null,98,"Y98",{"$f":"'population lookup'!I102","v":0},{"$f":"'population lookup'!P102","v":0},null,103,null,null,{"$f":"HLOOKUP($P$5,altrisk10plus,Risk!$A105,FALSE)","v":0},{"$f":"HLOOKUP($Q$5,altrisk10plushighrisk,Risk!$A105,FALSE)","v":0},{"$f":"HLOOKUP($R$5,altrisk59,Risk!$A105,FALSE)","v":0},{"$f":"HLOOKUP($S$5,altrisk59plushighrisk,Risk!$A105,FALSE)","v":0},{"$f":"HLOOKUP($T$5,altrisk10plus,Risk!$A105,FALSE)","v":0},{"$f":"HLOOKUP($U$5,altrisk10plushighrisk,Risk!$A105,FALSE)","v":0},{"$f":"HLOOKUP($V$5,altrisk59,Risk!$A105,FALSE)","v":0},{"$f":"HLOOKUP($W$5,altrisk59plushighrisk,Risk!$A105,FALSE)","v":0},null,{"$f":"Risk!E105","v":0},{"$f":"Risk!F105","v":0},{"$f":"Risk!G105","v":0},{"$f":"Risk!H105","v":0},0,0,0,0,null,{"$f":"Risk!$J105","v":0},{"$f":"Risk!$J105","v":0},{"$f":"Risk!$J105","v":0},{"$f":"Risk!$J105","v":0},{"$f":"Risk!$J105","v":0},{"$f":"Risk!$J105","v":0},{"$f":"Risk!$J105","v":0},{"$f":"Risk!$J105","v":0},null,null,0,0,0,0,0,0,0,0,null,null,0,0,0,0,0,0,0,0]
[null,null,null,null,null,null,null,99,"Y99",{"$f":"'population lookup'!I103","v":0},{"$f":"'population lookup'!P103","v":0},null,104,null,null,{"$f":"HLOOKUP($P$5,altrisk10plus,Risk!$A106,FALSE)","v":0},{"$f":"HLOOKUP($Q$5,altrisk10plushighrisk,Risk!$A106,FALSE)","v":0},{"$f":"HLOOKUP($R$5,altrisk59,Risk!$A106,FALSE)","v":0},{"$f":"HLOOKUP($S$5,altrisk59plushighrisk,Risk!$A106,FALSE)","v":0},{"$f":"HLOOKUP($T$5,altrisk10plus,Risk!$A106,FALSE)","v":0},{"$f":"HLOOKUP($U$5,altrisk10plushighrisk,Risk!$A106,FALSE)","v":0},{"$f":"HLOOKUP($V$5,altrisk59,Risk!$A106,FALSE)","v":0},{"$f":"HLOOKUP($W$5,altrisk59plushighrisk,Risk!$A106,FALSE)","v":0},null,{"$f":"Risk!E106","v":0},{"$f":"Risk!F106","v":0},{"$f":"Risk!G106","v":0},{"$f":"Risk!H106","v":0},0,0,0,0,null,{"$f":"Risk!$J106","v":0},{"$f":"Risk!$J106","v":0},{"$f":"Risk!$J106","v":0},{"$f":"Risk!$J106","v":0},{"$f":"Risk!$J106","v":0},{"$f":"Risk!$J106","v":0},{"$f":"Risk!$J106","v":0},{"$f":"Risk!$J106","v":0},null,null,0,0,0,0,0,0,0,0,null,null,0,0,0,0,0,0,0,0]
[null,null,null,null,null,null,null,100,"Y_OPEN",{"$f":"'population lookup'!I104","v":0},{"$f":"'population lookup'!P104","v":0},null,105,null,null,{"$f":"HLOOKUP($P$5,altrisk10plus,Risk!$A107,FALSE)","v":0.22113330820454832},{"$f":"HLOOKUP($Q$5,altrisk10plushighrisk,Risk!$A107,FALSE)","v":0.21186078653097123},{"$f":"HLOOKUP($R$5,altrisk59,Risk!$A107,FALSE)","v":0.27495916572433721},{"$f":"HLOOKUP($S$5,altrisk59plushighrisk,Risk!$A107,FALSE)","v":0.25792184947857771},{"$f":"HLOOKUP($T$5,altrisk10plus,Risk!$A107,FALSE)","v":0.22113330820454832},{"$f":"HLOOKUP($U$5,altrisk10plushighrisk,Risk!$A107,FALSE)","v":0.21186078653097123},{"$f":"HLOOKUP($V$5,altrisk59,Risk!$A107,FALSE)","v":0.27495916572433721},{"$f":"HLOOKUP($W$5,altrisk59plushighrisk,Risk!$A107,FALSE)","v":0.25792184947857771},null,{"$f":"Risk!E107","v":0},{"$f":"Risk!F107","v":0},{"$f":"Risk!G107","v":0},{"$f":"Risk!H107","v":0},0,0,0,0,null,{"$f":"Risk!$J107","v":0},{"$f":"Risk!$J107","v":0},{"$f":"Risk!$J107","v":0},{"$f":"Risk!$J107","v":0},{"$f":"Risk!$J107","v":0},{"$f":"Risk!$J107","v":0},{"$f":"Risk!$J107","v":0},{"$f":"Risk!$J107","v":0},null,null,0.22113330820454832,0.21186078653097123,0.27495916572433721,0.25792184947857771,0.22113330820454832,0.21186078653097123,0.27495916572433721,0.25792184947857771,null,null,0,0,0,0,0,0,0,0]
[null,null,null,null,null,null,null,102,"TOTAL",{"$f":"'population lookup'!I105","v":0},{"$f":"'population lookup'!P105","v":0},null,106,null,null,{"$f":"HLOOKUP($P$5,altrisk10plus,Risk!$A108,FALSE)","v":1.3351200446677834E-2},{"$f":"HLOOKUP($Q$5,altrisk10plushighrisk,Risk!$A108,FALSE)","v":1.2935417829890192E-2},{"$f":"HLOOKUP($R$5,altrisk59,Risk!$A108,FALSE)","v":1.6222408337986226E-2},{"$f":"HLOOKUP($S$5,altrisk59plushighrisk,Risk!$A108,FALSE)","v":1.5402382281779268E-2},{"$f":"HLOOKUP($T$5,altrisk10plus,Risk!$A108,FALSE)","v":1.3351200446677834E-2},{"$f":"HLOOKUP($U$5,altrisk10plushighrisk,Risk!$A108,FALSE)","v":1.2935417829890192E-2},{"$f":"HLOOKUP($V$5,altrisk59,Risk!$A108,FALSE)","v":1.6222408337986226E-2},{"$f":"HLOOKUP($W$5,altrisk59plushighrisk,Risk!$A108,FALSE)","v":1.5402382281779268E-2},null,{"$f":"Risk!E108","v":0},{"$f":"Risk!F108","v":0},{"$f":"Risk!G108","v":0},{"$f":"Risk!H108","v":0},0,0,0,0,null,{"$f":"Risk!$J108","v":0},{"$f":"Risk!$J108","v":0},{"$f":"Risk!$J108","v":0},{"$f":"Risk!$J108","v":0},{"$f":"Risk!$J108","v":0},{"$f":"Risk!$J108","v":0},{"$f":"Risk!$J108","v":0},{"$f":"Risk!$J108","v":0},null,null,1.3351200446677834E-2,1.2935417829890192E-2,1.6222408337986226E-2,1.5402382281779268E-2,1.3351200446677834E-2,1.2935417829890192E-2,1.6222408337986226E-2,1.5402382281779268E-2,null,null,0,0,0,0,0,0,0,0]
[]
[null,null,null,null,null,null,null,"Totals",null,{"$f":"SUM(J6:J107)","v":7968556},{"$f":"SUM(K6:K107)","v":66458505},null,null,null,null,null,null,null,null,null,null,null,null,null,null,null,null,null,null,null,null,null,null,null,null,null,null,null,null,null,null,null,null,null,null,null,null,null,null,null,null,null,"Totals",{"$f":"SUM(BB6:BB107)","v":374874.58033291542},{"$f":"SUM(BC6:BC107)","v":366100.65190922754},425385.18434741371,410237.03911915608,3186074.3249250641,3111764.1294038352,3613499.8814225914,3485371.1753152437]
[]
[null,null,null,null,null,null,null,null,null,null,null,null,null,null,null,null,null,null,null,null,null,null,null,null,null,null,null,null,null,null,null,null,null,null,null,null,null,null,null,null,null,null,null,null,null,null,null,null,null,null,null,null,"Average risk",{"$f":"BB109/$J$109","v":4.7044229887186012E-2},{"$f":"BC109/$J$109","v":4.5943161083291321E-2},5.338296980625018E-2,5.1481979811543781E-2,{"$f":"BF109/$K$109","v":4.7940806446444502E-2},{"$f":"BG109/$K$109","v":4.6822662192052548E-2},5.4372271561368875E-2,5.2444321089004993E-2]
[]
[null,null,null,null,null,null,null,null,null,null,null,null,null,null,null,null,null,null,null,null,null,null,null,null,null,null,null,null,null,null,null,null,null,null,null,null,null,null,null,null,null,null,null,null,null,null,null,null,null,null,null,null,null,{"$f":"SUMPRODUCT($J$6:$J$107,AR$6:AR$107)","v":374874.58033291542}]

{"sheet":"admission rate var","index":11,"n_rows":114,"n_cols":68,"rows_kept":114,"cut":false,"hidden":true,"merged":[]}
[null,null," ",null,null,null,null,"Population",null,null,null,null,null,null,null,null,null,null,null,null,null,null,"Apply Scottish profile for admission rates",null,null,null,null,null,null,null,null,"Apply own profile for admission rates",null,null,null,null,null,null,null,null,"Apply blanket admission rate across age groups",null,null,null,null,null,null,null,null,null,"Selected admission rate",null,null,null,null,null,null,null,null,null,"Applied to population"]
[{"$f":"'input selections'!F2","v":1},{"$f":"'input selections'!G2","v":"Apply country specific population"},null,"chosen admission rate",null,null,null,null,null,null,null,null,null,null,null,null,null,null,null,1,null,{"$f":"CONCATENATE(V3,V4,V5)","v":""},"2BNF10+SCOT","2BNF10+ & High Risk MedSCOT","2BNF 5-9SCOT","2BNF 5-9 & High Risk MedSCOT","2BNF10+SCOT","2BNF10+ & High Risk MedSCOT","2BNF 5-9SCOT","2BNF 5-9 & High Risk MedSCOT","","3BNF10+FR","3BNF10+ & High Risk MedFR","3BNF 5-9FR","3BNF 5-9 & High Risk MedFR","3BNF10+EU28","3BNF10+ & High Risk MedEU28","3BNF 5-9EU28","3BNF 5-9 & High Risk MedEU28","","4BNF10+FR","4BNF10+ & High Risk MedFR","4BNF 5-9FR","4BNF 5-9 & High Risk MedFR","4BNF10+EU28","4BNF10+ & High Risk MedEU28","4BNF 5-9EU28","4BNF 5-9 & High Risk MedEU28",null,null,{"$f":"CONCATENATE($A$4,AY4,AY5)","v":"2BNF10+SCOT"},{"$f":"CONCATENATE($A$4,AZ4,AZ5)","v":"2BNF10+ & High Risk MedSCOT"},"2BNF 5-9SCOT","2BNF 5-9 & High Risk MedSCOT","2BNF10+SCOT","2BNF10+ & High Risk MedSCOT",{"$f":"CONCATENATE($A$4,BE4,BE5)","v":"2BNF 5-9SCOT"},"2BNF 5-9 & High Risk MedSCOT"]
[{"$f":"'input selections'!F3","v":11},{"$f":"'input selections'!G3","v":"FR"},null,{"$f":"IF(A4=2,Admissions!$L$4,admissionunioverride)","v":0.29253627795646647},null,null,null,null,null,"risk stratified population",null,null,null,null,null,null,null,null,null,2,null,null,2,2,2,2,2,2,2,2,null,3,3,3,3,3,3,3,3,null,4,4,4,4,4,4,4,4]
[{"$f":"'input selections'!F42","v":2},{"$f":"'input selections'!G42","v":"Apply Scottish profile for admission rates"},null,null,null,null,null,null,null,"BNF10+","BNF10+ & High Risk Med","BNF 5-9","BNF 5-9 & High Risk Med","BNF10+","BNF10+ & High Risk Med","BNF 5-9","BNF 5-9 & High Risk Med",null,null,3,null,null,"BNF10+","BNF10+ & High Risk Med","BNF 5-9","BNF 5-9 & High Risk Med","BNF10+","BNF10+ & High Risk Med","BNF 5-9","BNF 5-9 & High Risk Med",null,"BNF10+","BNF10+ & High Risk Med","BNF 5-9","BNF 5-9 & High Risk Med","BNF10+","BNF10+ & High Risk Med","BNF 5-9","BNF 5-9 & High Risk Med",null,"BNF10+","BNF10+ & High Risk Med","BNF 5-9","BNF 5-9 & High Risk Med","BNF10+","BNF10+ & High Risk Med","BNF 5-9","BNF 5-9 & High Risk Med",null,null,"BNF10+","BNF10+ & High Risk Med","BNF 5-9","BNF 5-9 & High Risk Med","BNF10+","BNF10+ & High Risk Med","BNF 5-9","BNF 5-9 & High Risk Med",null,null,"BNF10+","BNF10+ & High Risk Med","BNF 5-9","BNF 5-9 & High Risk Med","BNF10+","BNF10+ & High Risk Med","BNF 5-9","BNF 5-9 & High Risk Med"]
[1,{"$f":"IF(B3=\"SCOT\",Admissions!$L$4,\"n/a\")","v":"n/a"},"n/a",null,null,null,null,"age",null,{"$f":"$B$3","v":"FR"},{"$f":"$B$3","v":"FR"},"FR","FR","EU28","EU28","EU28","EU28","EU28 permanent",null,4,null,null,"SCOT","SCOT","SCOT","SCOT","SCOT","SCOT","SCOT","SCOT",null,{"$f":"$B$3","v":"FR"},{"$f":"$B$3","v":"FR"},{"$f":"$B$3","v":"FR"},"FR","EU28","EU28","EU28","EU28",null,{"$f":"$B$3","v":"FR"},{"$f":"$B$3","v":"FR"},{"$f":"$B$3","v":"FR"},"FR","EU28","EU28","EU28","EU28",null,null,{"$f":"IF($A$4=2,\"SCOT\",$B$3)","v":"SCOT"},{"$f":"IF($A$4=2,\"SCOT\",$B$3)","v":"SCOT"},{"$f":"IF($A$4=2,\"SCOT\",$B$3)","v":"SCOT"},"SCOT",{"$f":"IF($A$4=2,\"SCOT\",\"EU28\")","v":"SCOT"},{"$f":"IF($A$4=2,\"SCOT\",\"EU28\")","v":"SCOT"},"SCOT","SCOT",null,null,{"$f":"IF($A$5=2,\"SCOT\",$B$3)","v":"FR"},{"$f":"IF($A$5=2,\"SCOT\",$B$3)","v":"FR"},{"$f":"IF($A$5=2,\"SCOT\",$B$3)","v":"FR"},"FR","EU28","EU28","EU28","EU28"]
[2,{"$f":"Admissions!$L$4*'risk stratification'!B10","v":2331091.7129276688},{"$f":"Admissions!$L$4*'risk stratification'!B11","v":19441523.691251218},null,null,null,null,0,"Y_LT1",{"$f":"'risk stratification'!BB6","v":0},{"$f":"'risk stratification'!BC6","v":0},{"$f":"'risk stratification'!BD6","v":0},{"$f":"'risk stratification'!BE6","v":0},{"$f":"'risk stratification'!BF6","v":0},{"$f":"'risk stratification'!BG6","v":0},{"$f":"'risk stratification'!BH6","v":0},{"$f":"'risk stratification'!BI6","v":0},{"$f":"'population lookup'!P4","v":0},null,5,null,null,{"$f":"HLOOKUP($W$5,admission10plus,Risk!$A7,FALSE)","v":0},{"$f":"HLOOKUP($X$5,admission10plushighrisk,Risk!$A7,FALSE)","v":0},{"$f":"HLOOKUP($Y$5,admissions59,Risk!$A7,FALSE)","v":0},{"$f":"HLOOKUP($Z$5,admissions59highrisk,Risk!$A7,FALSE)","v":0},{"$f":"HLOOKUP($AA$5,admission10plus,Risk!$A7,FALSE)","v":0},{"$f":"HLOOKUP($AB$5,admission10plushighrisk,Risk!$A7,FALSE)","v":0},{"$f":"HLOOKUP($AC$5,admissions59,Risk!$A7,FALSE)","v":0},{"$f":"HLOOKUP($AC$5,admissions59highrisk,Risk!$A7,FALSE)","v":0},null,{"$f":"Admissions!E12","v":0},{"$f":"Admissions!F12","v":0},{"$f":"Admissions!G12","v":0},{"$f":"Admissions!H12","v":0},{"$f":"AF6","v":0},{"$f":"AG6","v":0},0,0,null,{"$f":"admissionunioverride","v":0},0,{"$f":"admissionunioverride","v":0},{"$f":"admissionunioverride","v":0},0,0,0,0,null,null,{"$f":"HLOOKUP(AY$2,$W$2:$AV$106,$T6,FALSE)","v":0},0,0,0,0,0,0,0,null,null,{"$f":"IF(ISERROR(J6*AY6),\"\",(J6*AY6))","v":0},{"$f":"IF(ISERROR(K6*AZ6),\"\",(K6*AZ6))","v":0},{"$f":"IF(ISERROR(L6*BA6),\"\",(L6*BA6))","v":0},{"$f":"IF(ISERROR(M6*BB6),\"\",(M6*BB6))","v":0},{"$f":"IF(ISERROR(N6*BC6),\"\",(N6*BC6))","v":0},{"$f":"IF(ISERROR(O6*BD6),\"\",(O6*BD6))","v":0},{"$f":"IF(ISERROR(P6*BE6),\"\",(P6*BE6))","v":0},{"$f":"IF(ISERROR(Q6*BF6),\"\",(Q6*BF6))","v":0}]
[3,"n/a","n/a",null,null,null,null,1,"Y1",{"$f":"'risk stratification'!BB7","v":0},{"$f":"'risk stratification'!BC7","v":0},{"$f":"'risk stratification'!BD7","v":0},{"$f":"'risk stratification'!BE7","v":0},{"$f":"'risk stratification'!BF7","v":0},{"$f":"'risk stratification'!BG7","v":0},{"$f":"'risk stratification'!BH7","v":0},{"$f":"'risk stratification'!BI7","v":0},{"$f":"'population lookup'!P5","v":0},null,6,null,null,{"$f":"HLOOKUP($W$5,admission10plus,Risk!$A8,FALSE)","v":0},{"$f":"HLOOKUP($X$5,admission10plushighrisk,Risk!$A8,FALSE)","v":0},{"$f":"HLOOKUP($Y$5,admissions59,Risk!$A8,FALSE)","v":0},{"$f":"HLOOKUP($Z$5,admissions59highrisk,Risk!$A8,FALSE)","v":0},{"$f":"HLOOKUP($AA$5,admission10plus,Risk!$A8,FALSE)","v":0},{"$f":"HLOOKUP($AB$5,admission10plushighrisk,Risk!$A8,FALSE)","v":0},{"$f":"HLOOKUP($AC$5,admissions59,Risk!$A8,FALSE)","v":0},{"$f":"HLOOKUP($AC$5,admissions59highrisk,Risk!$A8,FALSE)","v":0},null,{"$f":"Admissions!E13","v":0},{"$f":"Admissions!F13","v":0},{"$f":"Admissions!G13","v":0},{"$f":"Admissions!H13","v":0},{"$f":"AF7","v":0},{"$f":"AG7","v":0},{"$f":"AH7","v":0},{"$f":"AI7","v":0},null,0,0,0,0,0,0,0,0,null,null,0,0,0,0,0,0,0,0,null,null,0,0,0,0,0,0,0,0]
[4,{"$f":"'manual data input'!$M$6*'risk stratification'!B10","v":0},{"$f":"'manual data input'!$M$6*'risk stratification'!B11","v":0},null,null,null,null,2,"Y2",{"$f":"'risk stratification'!BB8","v":0},{"$f":"'risk stratification'!BC8","v":0},{"$f":"'risk stratification'!BD8","v":0},{"$f":"'risk stratification'!BE8","v":0},{"$f":"'risk stratification'!BF8","v":0},{"$f":"'risk stratification'!BG8","v":0},{"$f":"'risk stratification'!BH8","v":0},{"$f":"'risk stratification'!BI8","v":0},{"$f":"'population lookup'!P6","v":0},null,7,null,null,{"$f":"HLOOKUP($W$5,admission10plus,Risk!$A9,FALSE)","v":0},{"$f":"HLOOKUP($X$5,admission10plushighrisk,Risk!$A9,FALSE)","v":0},{"$f":"HLOOKUP($Y$5,admissions59,Risk!$A9,FALSE)","v":0},{"$f":"HLOOKUP($Z$5,admissions59highrisk,Risk!$A9,FALSE)","v":0},{"$f":"HLOOKUP($AA$5,admission10plus,Risk!$A9,FALSE)","v":0},{"$f":"HLOOKUP($AB$5,admission10plushighrisk,Risk!$A9,FALSE)","v":0},{"$f":"HLOOKUP($AC$5,admissions59,Risk!$A9,FALSE)","v":0},{"$f":"HLOOKUP($AC$5,admissions59highrisk,Risk!$A9,FALSE)","v":0},null,{"$f":"Admissions!E14","v":0},{"$f":"Admissions!F14","v":0},{"$f":"Admissions!G14","v":0},{"$f":"Admissions!H14","v":0},0,0,0,0,null,0,0,0,0,0,0,0,0,null,null,0,0,0,0,0,0,0,0,null,null,0,0,0,0,0,0,0,0]
["Admissions",null,null,null,null,null,null,3,"Y3",{"$f":"'risk stratification'!BB9","v":0},{"$f":"'risk stratification'!BC9","v":0},{"$f":"'risk stratification'!BD9","v":0},{"$f":"'risk stratification'!BE9","v":0},{"$f":"'risk stratification'!BF9","v":0},{"$f":"'risk stratification'!BG9","v":0},{"$f":"'risk stratification'!BH9","v":0},{"$f":"'risk stratification'!BI9","v":0},{"$f":"'population lookup'!P7","v":0},null,8,null,null,{"$f":"HLOOKUP($W$5,admission10plus,Risk!$A10,FALSE)","v":0},{"$f":"HLOOKUP($X$5,admission10plushighrisk,Risk!$A10,FALSE)","v":0},{"$f":"HLOOKUP($Y$5,admissions59,Risk!$A10,FALSE)","v":0},{"$f":"HLOOKUP($Z$5,admissions59highrisk,Risk!$A10,FALSE)","v":0},{"$f":"HLOOKUP($AA$5,admission10plus,Risk!$A10,FALSE)","v":0},{"$f":"HLOOKUP($AB$5,admission10plushighrisk,Risk!$A10,FALSE)","v":0},{"$f":"HLOOKUP($AC$5,admissions59,Risk!$A10,FALSE)","v":0},{"$f":"HLOOKUP($AC$5,admissions59highrisk,Risk!$A10,FALSE)","v":0},null,{"$f":"Admissions!E15","v":0},{"$f":"Admissions!F15","v":0},{"$f":"Admissions!G15","v":0},{"$f":"Admissions!H15","v":0},0,0,0,0,null,0,0,0,0,0,0,0,0,null,null,0,0,0,0,0,0,0,0,null,null,0,0,0,0,0,0,0,0]
[null,"No risk","Risk stratification",null,null,null,null,4,"Y4",{"$f":"'risk stratification'!BB10","v":0},{"$f":"'risk stratification'!BC10","v":0},{"$f":"'risk stratification'!BD10","v":0},{"$f":"'risk stratification'!BE10","v":0},{"$f":"'risk stratification'!BF10","v":0},{"$f":"'risk stratification'!BG10","v":0},{"$f":"'risk stratification'!BH10","v":0},{"$f":"'risk stratification'!BI10","v":0},{"$f":"'population lookup'!P8","v":0},null,9,null,null,{"$f":"HLOOKUP($W$5,admission10plus,Risk!$A11,FALSE)","v":0},{"$f":"HLOOKUP($X$5,admission10plushighrisk,Risk!$A11,FALSE)","v":0},{"$f":"HLOOKUP($Y$5,admissions59,Risk!$A11,FALSE)","v":0},{"$f":"HLOOKUP($Z$5,admissions59highrisk,Risk!$A11,FALSE)","v":0},{"$f":"HLOOKUP($AA$5,admission10plus,Risk!$A11,FALSE)","v":0},{"$f":"HLOOKUP($AB$5,admission10plushighrisk,Risk!$A11,FALSE)","v":0},{"$f":"HLOOKUP($AC$5,admissions59,Risk!$A11,FALSE)","v":0},{"$f":"HLOOKUP($AC$5,admissions59highrisk,Risk!$A11,FALSE)","v":0},null,{"$f":"Admissions!E16","v":0},{"$f":"Admissions!F16","v":0},{"$f":"Admissions!G16","v":0},{"$f":"Admissions!H16","v":0},0,0,0,0,null,0,0,0,0,0,0,0,0,null,null,0,0,0,0,0,0,0,0,null,null,0,0,0,0,0,0,0,0]
[null,null,"BNF10+","BNF10+ & High Risk Med","BNF 5-9","BNF 5-9 & High Risk Med",null,5,"Y5",{"$f":"'risk stratification'!BB11","v":0},{"$f":"'risk stratification'!BC11","v":0},{"$f":"'risk stratification'!BD11","v":0},{"$f":"'risk stratification'!BE11","v":0},{"$f":"'risk stratification'!BF11","v":0},{"$f":"'risk stratification'!BG11","v":0},{"$f":"'risk stratification'!BH11","v":0},{"$f":"'risk stratification'!BI11","v":0},{"$f":"'population lookup'!P9","v":0},null,10,null,null,{"$f":"HLOOKUP($W$5,admission10plus,Risk!$A12,FALSE)","v":0},{"$f":"HLOOKUP($X$5,admission10plushighrisk,Risk!$A12,FALSE)","v":0},{"$f":"HLOOKUP($Y$5,admissions59,Risk!$A12,FALSE)","v":0},{"$f":"HLOOKUP($Z$5,admissions59highrisk,Risk!$A12,FALSE)","v":0},{"$f":"HLOOKUP($AA$5,admission10plus,Risk!$A12,FALSE)","v":0},{"$f":"HLOOKUP($AB$5,admission10plushighrisk,Risk!$A12,FALSE)","v":0},{"$f":"HLOOKUP($AC$5,admissions59,Risk!$A12,FALSE)","v":0},{"$f":"HLOOKUP($AC$5,admissions59highrisk,Risk!$A12,FALSE)","v":0},null,{"$f":"Admissions!E17","v":0},{"$f":"Admissions!F17","v":0},{"$f":"Admissions!G17","v":0},{"$f":"Admissions!H17","v":0},0,0,0,0,null,0,0,0,0,0,0,0,0,null,null,0,0,0,0,0,0,0,0,null,null,0,0,0,0,0,0,0,0]
[{"$f":"'input selections'!G3","v":"FR"},{"$f":"VLOOKUP($A$4,$A$5:$C$8,2,FALSE)","v":2331091.7129276688},{"$f":"IF(AND($A$2=2,$A$4=4),'manual data input'!$M$6*'risk stratification'!C10,BI108)","v":380669.34839519608},{"$f":"IF(AND($A$2=2,$A$4=4),'manual data input'!$M$6*'risk stratification'!D10,BJ108)","v":329969.60976857925},{"$f":"IF(AND($A$2=2,$A$4=4),'manual data input'!$M$6*'risk stratification'!E10,BK108)","v":398268.30271114816},{"$f":"IF(AND($A$2=2,$A$4=4),'manual data input'!$M$6*'risk stratification'!F10,BL108)","v":339407.68885569373},null,6,"Y6",{"$f":"'risk stratification'!BB12","v":0},{"$f":"'risk stratification'!BC12","v":0},{"$f":"'risk stratification'!BD12","v":0},{"$f":"'risk stratification'!BE12","v":0},{"$f":"'risk stratification'!BF12","v":0},{"$f":"'risk stratification'!BG12","v":0},{"$f":"'risk stratification'!BH12","v":0},{"$f":"'risk stratification'!BI12","v":0},{"$f":"'population lookup'!P10","v":0},null,11,null,null,{"$f":"HLOOKUP($W$5,admission10plus,Risk!$A13,FALSE)","v":0},{"$f":"HLOOKUP($X$5,admission10plushighrisk,Risk!$A13,FALSE)","v":0},{"$f":"HLOOKUP($Y$5,admissions59,Risk!$A13,FALSE)","v":0},{"$f":"HLOOKUP($Z$5,admissions59highrisk,Risk!$A13,FALSE)","v":0},{"$f":"HLOOKUP($AA$5,admission10plus,Risk!$A13,FALSE)","v":0},{"$f":"HLOOKUP($AB$5,admission10plushighrisk,Risk!$A13,FALSE)","v":0},{"$f":"HLOOKUP($AC$5,admissions59,Risk!$A13,FALSE)","v":0},{"$f":"HLOOKUP($AC$5,admissions59highrisk,Risk!$A13,FALSE)","v":0},null,{"$f":"Admissions!E18","v":0},{"$f":"Admissions!F18","v":0},{"$f":"Admissions!G18","v":0},{"$f":"Admissions!H18","v":0},0,0,0,0,null,0,0,0,0,0,0,0,0,null,null,0,0,0,0,0,0,0,0,null,null,0,0,0,0,0,0,0,0]
["EU28",{"$f":"VLOOKUP($A$4,$A$5:$C$8,3,FALSE)","v":19441523.691251218},{"$f":"BM108","v":3236297.9086385197},{"$f":"BN108","v":2806682.7023872728},{"$f":"BO108","v":3384807.3866912462},{"$f":"BP108","v":2886553.9085314278},null,7,"Y7",{"$f":"'risk stratification'!BB13","v":0},{"$f":"'risk stratification'!BC13","v":0},{"$f":"'risk stratification'!BD13","v":0},{"$f":"'risk stratification'!BE13","v":0},{"$f":"'risk stratification'!BF13","v":0},{"$f":"'risk stratification'!BG13","v":0},{"$f":"'risk stratification'!BH13","v":0},{"$f":"'risk stratification'!BI13","v":0},{"$f":"'population lookup'!P11","v":0},null,12,null,null,{"$f":"HLOOKUP($W$5,admission10plus,Risk!$A14,FALSE)","v":0},{"$f":"HLOOKUP($X$5,admission10plushighrisk,Risk!$A14,FALSE)","v":0},{"$f":"HLOOKUP($Y$5,admissions59,Risk!$A14,FALSE)","v":0},{"$f":"HLOOKUP($Z$5,admissions59highrisk,Risk!$A14,FALSE)","v":0},{"$f":"HLOOKUP($AA$5,admission10plus,Risk!$A14,FALSE)","v":0},{"$f":"HLOOKUP($AB$5,admission10plushighrisk,Risk!$A14,FALSE)","v":0},{"$f":"HLOOKUP($AC$5,admissions59,Risk!$A14,FALSE)","v":0},{"$f":"HLOOKUP($AC$5,admissions59highrisk,Risk!$A14,FALSE)","v":0},null,{"$f":"Admissions!E19","v":0},{"$f":"Admissions!F19","v":0},{"$f":"Admissions!G19","v":0},{"$f":"Admissions!H19","v":0},0,0,0,0,null,0,0,0,0,0,0,0,0,null,null,0,0,0,0,0,0,0,0,null,null,0,0,0,0,0,0,0,0]
[null,null,null,null,null,null,null,8,"Y8",{"$f":"'risk stratification'!BB14","v":0},{"$f":"'risk stratification'!BC14","v":0},{"$f":"'risk stratification'!BD14","v":0},{"$f":"'risk stratification'!BE14","v":0},{"$f":"'risk stratification'!BF14","v":0},{"$f":"'risk stratification'!BG14","v":0},{"$f":"'risk stratification'!BH14","v":0},{"$f":"'risk stratification'!BI14","v":0},{"$f":"'population lookup'!P12","v":0},null,13,null,null,{"$f":"HLOOKUP($W$5,admission10plus,Risk!$A15,FALSE)","v":0},{"$f":"HLOOKUP($X$5,admission10plushighrisk,Risk!$A15,FALSE)","v":0},{"$f":"HLOOKUP($Y$5,admissions59,Risk!$A15,FALSE)","v":0},{"$f":"HLOOKUP($Z$5,admissions59highrisk,Risk!$A15,FALSE)","v":0},{"$f":"HLOOKUP($AA$5,admission10plus,Risk!$A15,FALSE)","v":0},{"$f":"HLOOKUP($AB$5,admission10plushighrisk,Risk!$A15,FALSE)","v":0},{"$f":"HLOOKUP($AC$5,admissions59,Risk!$A15,FALSE)","v":0},{"$f":"HLOOKUP($AC$5,admissions59highrisk,Risk!$A15,FALSE)","v":0},null,{"$f":"Admissions!E20","v":0},{"$f":"Admissions!F20","v":0},{"$f":"Admissions!G20","v":0},{"$f":"Admissions!H20","v":0},0,0,0,0,null,0,0,0,0,0,0,0,0,null,null,0,0,0,0,0,0,0,0,null,null,0,0,0,0,0,0,0,0]
[null,null,null,null,null,null,null,9,"Y9",{"$f":"'risk stratification'!BB15","v":0},{"$f":"'risk stratification'!BC15","v":0},{"$f":"'risk stratification'!BD15","v":0},{"$f":"'risk stratification'!BE15","v":0},{"$f":"'risk stratification'!BF15","v":0},{"$f":"'risk stratification'!BG15","v":0},{"$f":"'risk stratification'!BH15","v":0},{"$f":"'risk stratification'!BI15","v":0},{"$f":"'population lookup'!P13","v":0},null,14,null,null,{"$f":"HLOOKUP($W$5,admission10plus,Risk!$A16,FALSE)","v":0},{"$f":"HLOOKUP($X$5,admission10plushighrisk,Risk!$A16,FALSE)","v":0},{"$f":"HLOOKUP($Y$5,admissions59,Risk!$A16,FALSE)","v":0},{"$f":"HLOOKUP($Z$5,admissions59highrisk,Risk!$A16,FALSE)","v":0},{"$f":"HLOOKUP($AA$5,admission10plus,Risk!$A16,FALSE)","v":0},{"$f":"HLOOKUP($AB$5,admission10plushighrisk,Risk!$A16,FALSE)","v":0},{"$f":"HLOOKUP($AC$5,admissions59,Risk!$A16,FALSE)","v":0},{"$f":"HLOOKUP($AC$5,admissions59highrisk,Risk!$A16,FALSE)","v":0},null,{"$f":"Admissions!E21","v":0},{"$f":"Admissions!F21","v":0},{"$f":"Admissions!G21","v":0},{"$f":"Admissions!H21","v":0},0,0,0,0,null,0,0,0,0,0,0,0,0,null,null,0,0,0,0,0,0,0,0,null,null,0,0,0,0,0,0,0,0]
[null,"cross averages",null,null,null,null,null,10,"Y10",{"$f":"'risk stratification'!BB16","v":0},{"$f":"'risk stratification'!BC16","v":0},{"$f":"'risk stratification'!BD16","v":0},{"$f":"'risk stratification'!BE16","v":0},{"$f":"'risk stratification'!BF16","v":0},{"$f":"'risk stratification'!BG16","v":0},{"$f":"'risk stratification'!BH16","v":0},{"$f":"'risk stratification'!BI16","v":0},{"$f":"'population lookup'!P14","v":0},null,15,null,null,{"$f":"HLOOKUP($W$5,admission10plus,Risk!$A17,FALSE)","v":0},{"$f":"HLOOKUP($X$5,admission10plushighrisk,Risk!$A17,FALSE)","v":0},{"$f":"HLOOKUP($Y$5,admissions59,Risk!$A17,FALSE)","v":0},{"$f":"HLOOKUP($Z$5,admissions59highrisk,Risk!$A17,FALSE)","v":0},{"$f":"HLOOKUP($AA$5,admission10plus,Risk!$A17,FALSE)","v":0},{"$f":"HLOOKUP($AB$5,admission10plushighrisk,Risk!$A17,FALSE)","v":0},{"$f":"HLOOKUP($AC$5,admissions59,Risk!$A17,FALSE)","v":0},{"$f":"HLOOKUP($AC$5,admissions59highrisk,Risk!$A17,FALSE)","v":0},null,{"$f":"Admissions!E22","v":0},{"$f":"Admissions!F22","v":0},{"$f":"Admissions!G22","v":0},{"$f":"Admissions!H22","v":0},0,0,0,0,null,0,0,0,0,0,0,0,0,null,null,{"$f":"HLOOKUP(AY$2,$W$2:$AV$106,$T16,FALSE)","v":0},0,0,0,0,0,0,0,null,null,0,0,0,0,0,0,0,0]
[2,"Apply Scottish risk profile",{"$f":"Risk!L108","v":1.3351200446677834E-2},{"$f":"Risk!M108","v":1.2935417829890192E-2},{"$f":"Risk!N108","v":1.6222408337986226E-2},{"$f":"Risk!O108","v":1.5402382281779268E-2},null,11,"Y11",{"$f":"'risk stratification'!BB17","v":0},{"$f":"'risk stratification'!BC17","v":0},{"$f":"'risk stratification'!BD17","v":0},{"$f":"'risk stratification'!BE17","v":0},{"$f":"'risk stratification'!BF17","v":0},{"$f":"'risk stratification'!BG17","v":0},{"$f":"'risk stratification'!BH17","v":0},{"$f":"'risk stratification'!BI17","v":0},{"$f":"'population lookup'!P15","v":0},null,16,null,null,{"$f":"HLOOKUP($W$5,admission10plus,Risk!$A18,FALSE)","v":0},{"$f":"HLOOKUP($X$5,admission10plushighrisk,Risk!$A18,FALSE)","v":0},{"$f":"HLOOKUP($Y$5,admissions59,Risk!$A18,FALSE)","v":0},{"$f":"HLOOKUP($Z$5,admissions59highrisk,Risk!$A18,FALSE)","v":0},{"$f":"HLOOKUP($AA$5,admission10plus,Risk!$A18,FALSE)","v":0},{"$f":"HLOOKUP($AB$5,admission10plushighrisk,Risk!$A18,FALSE)","v":0},{"$f":"HLOOKUP($AC$5,admissions59,Risk!$A18,FALSE)","v":0},{"$f":"HLOOKUP($AC$5,admissions59highrisk,Risk!$A18,FALSE)","v":0},null,{"$f":"Admissions!E23","v":0},{"$f":"Admissions!F23","v":0},{"$f":"Admissions!G23","v":0},{"$f":"Admissions!H23","v":0},0,0,0,0,null,0,0,0,0,0,0,0,0,null,null,0,0,0,0,0,0,0,0,null,null,0,0,0,0,0,0,0,0]
[4,"Apply blanket % to population group",null,null,null,null,null,12,"Y12",{"$f":"'risk stratification'!BB18","v":0},{"$f":"'risk stratification'!BC18","v":0},{"$f":"'risk stratification'!BD18","v":0},{"$f":"'risk stratification'!BE18","v":0},{"$f":"'risk stratification'!BF18","v":0},{"$f":"'risk stratification'!BG18","v":0},{"$f":"'risk stratification'!BH18","v":0},{"$f":"'risk stratification'!BI18","v":0},{"$f":"'population lookup'!P16","v":0},null,17,null,null,{"$f":"HLOOKUP($W$5,admission10plus,Risk!$A19,FALSE)","v":0},{"$f":"HLOOKUP($X$5,admission10plushighrisk,Risk!$A19,FALSE)","v":0},{"$f":"HLOOKUP($Y$5,admissions59,Risk!$A19,FALSE)","v":0},{"$f":"HLOOKUP($Z$5,admissions59highrisk,Risk!$A19,FALSE)","v":0},{"$f":"HLOOKUP($AA$5,admission10plus,Risk!$A19,FALSE)","v":0},{"$f":"HLOOKUP($AB$5,admission10plushighrisk,Risk!$A19,FALSE)","v":0},{"$f":"HLOOKUP($AC$5,admissions59,Risk!$A19,FALSE)","v":0},{"$f":"HLOOKUP($AC$5,admissions59highrisk,Risk!$A19,FALSE)","v":0},null,{"$f":"Admissions!E24","v":0},{"$f":"Admissions!F24","v":0},{"$f":"Admissions!G24","v":0},{"$f":"Admissions!H24","v":0},0,0,0,0,null,0,0,0,0,0,0,0,0,null,null,0,0,0,0,0,0,0,0,null,null,0,0,0,0,0,0,0,0]
[null,null,null,null,null,null,null,13,"Y13",{"$f":"'risk stratification'!BB19","v":0},{"$f":"'risk stratification'!BC19","v":0},{"$f":"'risk stratification'!BD19","v":0},{"$f":"'risk stratification'!BE19","v":0},{"$f":"'risk stratification'!BF19","v":0},{"$f":"'risk stratification'!BG19","v":0},{"$f":"'risk stratification'!BH19","v":0},{"$f":"'risk stratification'!BI19","v":0},{"$f":"'population lookup'!P17","v":0},null,18,null,null,{"$f":"HLOOKUP($W$5,admission10plus,Risk!$A20,FALSE)","v":0},{"$f":"HLOOKUP($X$5,admission10plushighrisk,Risk!$A20,FALSE)","v":0},{"$f":"HLOOKUP($Y$5,admissions59,Risk!$A20,FALSE)","v":0},{"$f":"HLOOKUP($Z$5,admissions59highrisk,Risk!$A20,FALSE)","v":0},{"$f":"HLOOKUP($AA$5,admission10plus,Risk!$A20,FALSE)","v":0},{"$f":"HLOOKUP($AB$5,admission10plushighrisk,Risk!$A20,FALSE)","v":0},{"$f":"HLOOKUP($AC$5,admissions59,Risk!$A20,FALSE)","v":0},{"$f":"HLOOKUP($AC$5,admissions59highrisk,Risk!$A20,FALSE)","v":0},null,{"$f":"Admissions!E25","v":0},{"$f":"Admissions!F25","v":0},{"$f":"Admissions!G25","v":0},{"$f":"Admissions!H25","v":0},0,0,0,0,null,0,0,0,0,0,0,0,0,null,null,0,0,0,0,0,0,0,0,null,null,0,0,0,0,0,0,0,0]
[null,null,null,null,null,null,null,14,"Y14",{"$f":"'risk stratification'!BB20","v":0},{"$f":"'risk stratification'!BC20","v":0},{"$f":"'risk stratification'!BD20","v":0},{"$f":"'risk stratification'!BE20","v":0},{"$f":"'risk stratification'!BF20","v":0},{"$f":"'risk stratification'!BG20","v":0},{"$f":"'risk stratification'!BH20","v":0},{"$f":"'risk stratification'!BI20","v":0},{"$f":"'population lookup'!P18","v":0},null,19,null,null,{"$f":"HLOOKUP($W$5,admission10plus,Risk!$A21,FALSE)","v":0},{"$f":"HLOOKUP($X$5,admission10plushighrisk,Risk!$A21,FALSE)","v":0},{"$f":"HLOOKUP($Y$5,admissions59,Risk!$A21,FALSE)","v":0},{"$f":"HLOOKUP($Z$5,admissions59highrisk,Risk!$A21,FALSE)","v":0},{"$f":"HLOOKUP($AA$5,admission10plus,Risk!$A21,FALSE)","v":0},{"$f":"HLOOKUP($AB$5,admission10plushighrisk,Risk!$A21,FALSE)","v":0},{"$f":"HLOOKUP($AC$5,admissions59,Risk!$A21,FALSE)","v":0},{"$f":"HLOOKUP($AC$5,admissions59highrisk,Risk!$A21,FALSE)","v":0},null,{"$f":"Admissions!E26","v":0},{"$f":"Admissions!F26","v":0},{"$f":"Admissions!G26","v":0},{"$f":"Admissions!H26","v":0},0,0,0,0,null,0,0,0,0,0,0,0,0,null,null,0,0,0,0,0,0,0,0,null,null,0,0,0,0,0,0,0,0]
[null,null,null,null,null,null,null,15,"Y15",{"$f":"'risk stratification'!BB21","v":0},{"$f":"'risk stratification'!BC21","v":0},{"$f":"'risk stratification'!BD21","v":0},{"$f":"'risk stratification'!BE21","v":0},{"$f":"'risk stratification'!BF21","v":0},{"$f":"'risk stratification'!BG21","v":0},{"$f":"'risk stratification'!BH21","v":0},{"$f":"'risk stratification'!BI21","v":0},{"$f":"'population lookup'!P19","v":0},null,20,null,null,{"$f":"HLOOKUP($W$5,admission10plus,Risk!$A22,FALSE)","v":0},{"$f":"HLOOKUP($X$5,admission10plushighrisk,Risk!$A22,FALSE)","v":0},{"$f":"HLOOKUP($Y$5,admissions59,Risk!$A22,FALSE)","v":0},{"$f":"HLOOKUP($Z$5,admissions59highrisk,Risk!$A22,FALSE)","v":0},{"$f":"HLOOKUP($AA$5,admission10plus,Risk!$A22,FALSE)","v":0},{"$f":"HLOOKUP($AB$5,admission10plushighrisk,Risk!$A22,FALSE)","v":0},{"$f":"HLOOKUP($AC$5,admissions59,Risk!$A22,FALSE)","v":0},{"$f":"HLOOKUP($AC$5,admissions59highrisk,Risk!$A22,FALSE)","v":0},null,{"$f":"Admissions!E27","v":0},{"$f":"Admissions!F27","v":0},{"$f":"Admissions!G27","v":0},{"$f":"Admissions!H27","v":0},0,0,0,0,null,0,0,0,0,0,0,0,0,null,null,0,0,0,0,0,0,0,0,null,null,0,0,0,0,0,0,0,0]
[null,null,null,null,null,null,null,16,"Y16",{"$f":"'risk stratification'!BB22","v":0},{"$f":"'risk stratification'!BC22","v":0},{"$f":"'risk stratification'!BD22","v":0},{"$f":"'risk stratification'!BE22","v":0},{"$f":"'risk stratification'!BF22","v":0},{"$f":"'risk stratification'!BG22","v":0},{"$f":"'risk stratification'!BH22","v":0},{"$f":"'risk stratification'!BI22","v":0},{"$f":"'population lookup'!P20","v":0},null,21,null,null,{"$f":"HLOOKUP($W$5,admission10plus,Risk!$A23,FALSE)","v":1.805555555555556},{"$f":"HLOOKUP($X$5,admission10plushighrisk,Risk!$A23,FALSE)","v":1.3725490196078429},{"$f":"HLOOKUP($Y$5,admissions59,Risk!$A23,FALSE)","v":1.572916666666667},{"$f":"HLOOKUP($Z$5,admissions59highrisk,Risk!$A23,FALSE)","v":1.1494252873563218},{"$f":"HLOOKUP($AA$5,admission10plus,Risk!$A23,FALSE)","v":1.805555555555556},{"$f":"HLOOKUP($AB$5,admission10plushighrisk,Risk!$A23,FALSE)","v":1.3725490196078429},{"$f":"HLOOKUP($AC$5,admissions59,Risk!$A23,FALSE)","v":1.572916666666667},{"$f":"HLOOKUP($AC$5,admissions59highrisk,Risk!$A23,FALSE)","v":1.1494252873563218},null,{"$f":"Admissions!E28","v":0},{"$f":"Admissions!F28","v":0},{"$f":"Admissions!G28","v":0},{"$f":"Admissions!H28","v":0},0,0,0,0,null,0,0,0,0,0,0,0,0,null,null,1.805555555555556,1.3725490196078429,1.572916666666667,1.1494252873563218,1.805555555555556,1.3725490196078429,1.572916666666667,1.1494252873563218,null,null,0,0,0,0,0,0,0,0]
[null,null,null,null,null,null,null,17,"Y17",{"$f":"'risk stratification'!BB23","v":0},{"$f":"'risk stratification'!BC23","v":0},{"$f":"'risk stratification'!BD23","v":0},{"$f":"'risk stratification'!BE23","v":0},{"$f":"'risk stratification'!BF23","v":0},{"$f":"'risk stratification'!BG23","v":0},{"$f":"'risk stratification'!BH23","v":0},{"$f":"'risk stratification'!BI23","v":0},{"$f":"'population lookup'!P21","v":0},null,22,null,null,{"$f":"HLOOKUP($W$5,admission10plus,Risk!$A24,FALSE)","v":2.3916666666666679},{"$f":"HLOOKUP($X$5,admission10plushighrisk,Risk!$A24,FALSE)","v":1.4252873563218389},{"$f":"HLOOKUP($Y$5,admissions59,Risk!$A24,FALSE)","v":1.5075757575757578},{"$f":"HLOOKUP($Z$5,admissions59highrisk,Risk!$A24,FALSE)","v":0.83597883597883627},{"$f":"HLOOKUP($AA$5,admission10plus,Risk!$A24,FALSE)","v":2.3916666666666679},{"$f":"HLOOKUP($AB$5,admission10plushighrisk,Risk!$A24,FALSE)","v":1.4252873563218389},{"$f":"HLOOKUP($AC$5,admissions59,Risk!$A24,FALSE)","v":1.5075757575757578},{"$f":"HLOOKUP($AC$5,admissions59highrisk,Risk!$A24,FALSE)","v":0.83597883597883627},null,{"$f":"Admissions!E29","v":0},{"$f":"Admissions!F29","v":0},{"$f":"Admissions!G29","v":0},{"$f":"Admissions!H29","v":0},0,0,0,0,null,0,0,0,0,0,0,0,0,null,null,2.3916666666666679,1.4252873563218389,1.5075757575757578,0.83597883597883627,2.3916666666666679,1.4252873563218389,1.5075757575757578,0.83597883597883627,null,null,0,0,0,0,0,0,0,0]
[null,null,null,null,null,null,null,18,"Y18",{"$f":"'risk stratification'!BB24","v":0},{"$f":"'risk stratification'!BC24","v":0},{"$f":"'risk stratification'!BD24","v":0},{"$f":"'risk stratification'!BE24","v":0},{"$f":"'risk stratification'!BF24","v":0},{"$f":"'risk stratification'!BG24","v":0},{"$f":"'risk stratification'!BH24","v":0},{"$f":"'risk stratification'!BI24","v":0},{"$f":"'population lookup'!P22","v":0},null,23,null,null,{"$f":"HLOOKUP($W$5,admission10plus,Risk!$A25,FALSE)","v":1.6354166666666672},{"$f":"HLOOKUP($X$5,admission10plushighrisk,Risk!$A25,FALSE)","v":1.2857142857142858},{"$f":"HLOOKUP($Y$5,admissions59,Risk!$A25,FALSE)","v":1.4480874316939893},{"$f":"HLOOKUP($Z$5,admissions59highrisk,Risk!$A25,FALSE)","v":1.0250000000000001},{"$f":"HLOOKUP($AA$5,admission10plus,Risk!$A25,FALSE)","v":1.6354166666666672},{"$f":"HLOOKUP($AB$5,admission10plushighrisk,Risk!$A25,FALSE)","v":1.2857142857142858},{"$f":"HLOOKUP($AC$5,admissions59,Risk!$A25,FALSE)","v":1.4480874316939893},{"$f":"HLOOKUP($AC$5,admissions59highrisk,Risk!$A25,FALSE)","v":1.0250000000000001},null,{"$f":"Admissions!E30","v":0},{"$f":"Admissions!F30","v":0},{"$f":"Admissions!G30","v":0},{"$f":"Admissions!H30","v":0},0,0,0,0,null,0,0,0,0,0,0,0,0,null,null,1.6354166666666672,1.2857142857142858,1.4480874316939893,1.0250000000000001,1.6354166666666672,1.2857142857142858,1.4480874316939893,1.0250000000000001,null,null,0,0,0,0,0,0,0,0]
[null,null,null,null,null,null,null,19,"Y19",{"$f":"'risk stratification'!BB25","v":0},{"$f":"'risk stratification'!BC25","v":0},{"$f":"'risk stratification'!BD25","v":0},{"$f":"'risk stratification'!BE25","v":0},{"$f":"'risk stratification'!BF25","v":0},{"$f":"'risk stratification'!BG25","v":0},{"$f":"'risk stratification'!BH25","v":0},{"$f":"'risk stratification'!BI25","v":0},{"$f":"'population lookup'!P23","v":0},null,24,null,null,{"$f":"HLOOKUP($W$5,admission10plus,Risk!$A26,FALSE)","v":2.6763285024154588},{"$f":"HLOOKUP($X$5,admission10plushighrisk,Risk!$A26,FALSE)","v":1.2881355932203389},{"$f":"HLOOKUP($Y$5,admissions59,Risk!$A26,FALSE)","v":1.5010893246187365},{"$f":"HLOOKUP($Z$5,admissions59highrisk,Risk!$A26,FALSE)","v":0.69047619047619058},{"$f":"HLOOKUP($AA$5,admission10plus,Risk!$A26,FALSE)","v":2.6763285024154588},{"$f":"HLOOKUP($AB$5,admission10plushighrisk,Risk!$A26,FALSE)","v":1.2881355932203389},{"$f":"HLOOKUP($AC$5,admissions59,Risk!$A26,FALSE)","v":1.5010893246187365},{"$f":"HLOOKUP($AC$5,admissions59highrisk,Risk!$A26,FALSE)","v":0.69047619047619058},null,{"$f":"Admissions!E31","v":0},{"$f":"Admissions!F31","v":0},{"$f":"Admissions!G31","v":0},{"$f":"Admissions!H31","v":0},0,0,0,0,null,0,0,0,0,0,0,0,0,null,null,2.6763285024154588,1.2881355932203389,1.5010893246187365,0.69047619047619058,2.6763285024154588,1.2881355932203389,1.5010893246187365,0.69047619047619058,null,null,0,0,0,0,0,0,0,0]
[null,null,null,null,null,null,null,20,"Y20",{"$f":"'risk stratification'!BB26","v":0},{"$f":"'risk stratification'!BC26","v":0},{"$f":"'risk stratification'!BD26","v":0},{"$f":"'risk stratification'!BE26","v":0},{"$f":"'risk stratification'!BF26","v":0},{"$f":"'risk stratification'!BG26","v":0},{"$f":"'risk stratification'!BH26","v":0},{"$f":"'risk stratification'!BI26","v":0},{"$f":"'population lookup'!P24","v":0},null,25,null,null,{"$f":"HLOOKUP($W$5,admission10plus,Risk!$A27,FALSE)","v":2.371308016877637},{"$f":"HLOOKUP($X$5,admission10plushighrisk,Risk!$A27,FALSE)","v":1.285714285714286},{"$f":"HLOOKUP($Y$5,admissions59,Risk!$A27,FALSE)","v":1.4437500000000005},{"$f":"HLOOKUP($Z$5,admissions59highrisk,Risk!$A27,FALSE)","v":0.76153846153846183},{"$f":"HLOOKUP($AA$5,admission10plus,Risk!$A27,FALSE)","v":2.371308016877637},{"$f":"HLOOKUP($AB$5,admission10plushighrisk,Risk!$A27,FALSE)","v":1.285714285714286},{"$f":"HLOOKUP($AC$5,admissions59,Risk!$A27,FALSE)","v":1.4437500000000005},{"$f":"HLOOKUP($AC$5,admissions59highrisk,Risk!$A27,FALSE)","v":0.76153846153846183},null,{"$f":"Admissions!E32","v":0},{"$f":"Admissions!F32","v":0},{"$f":"Admissions!G32","v":0},{"$f":"Admissions!H32","v":0},0,0,0,0,null,{"$f":"admissionunioverride","v":0},0,0,0,0,0,0,0,null,null,{"$f":"HLOOKUP(AY$2,$W$2:$AV$106,$T26,FALSE)","v":2.371308016877637},1.285714285714286,1.4437500000000005,0.76153846153846183,2.371308016877637,1.285714285714286,1.4437500000000005,0.76153846153846183,null,null,0,0,0,0,0,0,0,0]
[null,null,null,null,null,null,null,21,"Y21",{"$f":"'risk stratification'!BB27","v":0},{"$f":"'risk stratification'!BC27","v":0},{"$f":"'risk stratification'!BD27","v":0},{"$f":"'risk stratification'!BE27","v":0},{"$f":"'risk stratification'!BF27","v":0},{"$f":"'risk stratification'!BG27","v":0},{"$f":"'risk stratification'!BH27","v":0},{"$f":"'risk stratification'!BI27","v":0},{"$f":"'population lookup'!P25","v":0},null,26,null,null,{"$f":"HLOOKUP($W$5,admission10plus,Risk!$A28,FALSE)","v":2.5958333333333323},{"$f":"HLOOKUP($X$5,admission10plushighrisk,Risk!$A28,FALSE)","v":1.4904761904761907},{"$f":"HLOOKUP($Y$5,admissions59,Risk!$A28,FALSE)","v":1.5890985324947577},{"$f":"HLOOKUP($Z$5,admissions59highrisk,Risk!$A28,FALSE)","v":0.90625},{"$f":"HLOOKUP($AA$5,admission10plus,Risk!$A28,FALSE)","v":2.5958333333333323},{"$f":"HLOOKUP($AB$5,admission10plushighrisk,Risk!$A28,FALSE)","v":1.4904761904761907},{"$f":"HLOOKUP($AC$5,admissions59,Risk!$A28,FALSE)","v":1.5890985324947577},{"$f":"HLOOKUP($AC$5,admissions59highrisk,Risk!$A28,FALSE)","v":0.90625},null,{"$f":"Admissions!E33","v":0},{"$f":"Admissions!F33","v":0},{"$f":"Admissions!G33","v":0},{"$f":"Admissions!H33","v":0},0,0,0,0,null,0,0,0,0,0,0,0,0,null,null,2.5958333333333323,1.4904761904761907,1.5890985324947577,0.90625,2.5958333333333323,1.4904761904761907,1.5890985324947577,0.90625,null,null,0,0,0,0,0,0,0,0]
[null,null,null,null,null,null,null,22,"Y22",{"$f":"'risk stratification'!BB28","v":0},{"$f":"'risk stratification'!BC28","v":0},{"$f":"'risk stratification'!BD28","v":0},{"$f":"'risk stratification'!BE28","v":0},{"$f":"'risk stratification'!BF28","v":0},{"$f":"'risk stratification'!BG28","v":0},{"$f":"'risk stratification'!BH28","v":0},{"$f":"'risk stratification'!BI28","v":0},{"$f":"'population lookup'!P26","v":0},null,27,null,null,{"$f":"HLOOKUP($W$5,admission10plus,Risk!$A29,FALSE)","v":1.8831908831908832},{"$f":"HLOOKUP($X$5,admission10plushighrisk,Risk!$A29,FALSE)","v":1.2430555555555556},{"$f":"HLOOKUP($Y$5,admissions59,Risk!$A29,FALSE)","v":1.376602564102563},{"$f":"HLOOKUP($Z$5,admissions59highrisk,Risk!$A29,FALSE)","v":0.87425149700598814},{"$f":"HLOOKUP($AA$5,admission10plus,Risk!$A29,FALSE)","v":1.8831908831908832},{"$f":"HLOOKUP($AB$5,admission10plushighrisk,Risk!$A29,FALSE)","v":1.2430555555555556},{"$f":"HLOOKUP($AC$5,admissions59,Risk!$A29,FALSE)","v":1.376602564102563},{"$f":"HLOOKUP($AC$5,admissions59highrisk,Risk!$A29,FALSE)","v":0.87425149700598814},null,{"$f":"Admissions!E34","v":0},{"$f":"Admissions!F34","v":0},{"$f":"Admissions!G34","v":0},{"$f":"Admissions!H34","v":0},0,0,0,0,null,0,0,0,0,0,0,0,0,null,null,1.8831908831908832,1.2430555555555556,1.376602564102563,0.87425149700598814,1.8831908831908832,1.2430555555555556,1.376602564102563,0.87425149700598814,null,null,0,0,0,0,0,0,0,0]
[null,null,null,null,null,null,null,23,"Y23",{"$f":"'risk stratification'!BB29","v":0},{"$f":"'risk stratification'!BC29","v":0},{"$f":"'risk stratification'!BD29","v":0},{"$f":"'risk stratification'!BE29","v":0},{"$f":"'risk stratification'!BF29","v":0},{"$f":"'risk stratification'!BG29","v":0},{"$f":"'risk stratification'!BH29","v":0},{"$f":"'risk stratification'!BI29","v":0},{"$f":"'population lookup'!P27","v":0},null,28,null,null,{"$f":"HLOOKUP($W$5,admission10plus,Risk!$A30,FALSE)","v":2.4380952380952374},{"$f":"HLOOKUP($X$5,admission10plushighrisk,Risk!$A30,FALSE)","v":1.3595505617977528},{"$f":"HLOOKUP($Y$5,admissions59,Risk!$A30,FALSE)","v":1.6069651741293542},{"$f":"HLOOKUP($Z$5,admissions59highrisk,Risk!$A30,FALSE)","v":0.89696969696969697},{"$f":"HLOOKUP($AA$5,admission10plus,Risk!$A30,FALSE)","v":2.4380952380952374},{"$f":"HLOOKUP($AB$5,admission10plushighrisk,Risk!$A30,FALSE)","v":1.3595505617977528},{"$f":"HLOOKUP($AC$5,admissions59,Risk!$A30,FALSE)","v":1.6069651741293542},{"$f":"HLOOKUP($AC$5,admissions59highrisk,Risk!$A30,FALSE)","v":0.89696969696969697},null,{"$f":"Admissions!E35","v":0},{"$f":"Admissions!F35","v":0},{"$f":"Admissions!G35","v":0},{"$f":"Admissions!H35","v":0},0,0,0,0,null,0,0,0,0,0,0,0,0,null,null,2.4380952380952374,1.3595505617977528,1.6069651741293542,0.89696969696969697,2.4380952380952374,1.3595505617977528,1.6069651741293542,0.89696969696969697,null,null,0,0,0,0,0,0,0,0]
[null,null,null,null,null,null,null,24,"Y24",{"$f":"'risk stratification'!BB30","v":0},{"$f":"'risk stratification'!BC30","v":0},{"$f":"'risk stratification'!BD30","v":0},{"$f":"'risk stratification'!BE30","v":0},{"$f":"'risk stratification'!BF30","v":0},{"$f":"'risk stratification'!BG30","v":0},{"$f":"'risk stratification'!BH30","v":0},{"$f":"'risk stratification'!BI30","v":0},{"$f":"'population lookup'!P28","v":0},null,29,null,null,{"$f":"HLOOKUP($W$5,admission10plus,Risk!$A31,FALSE)","v":2.3566666666666669},{"$f":"HLOOKUP($X$5,admission10plushighrisk,Risk!$A31,FALSE)","v":1.273684210526316},{"$f":"HLOOKUP($Y$5,admissions59,Risk!$A31,FALSE)","v":1.4587628865979383},{"$f":"HLOOKUP($Z$5,admissions59highrisk,Risk!$A31,FALSE)","v":0.79441117764471081},{"$f":"HLOOKUP($AA$5,admission10plus,Risk!$A31,FALSE)","v":2.3566666666666669},{"$f":"HLOOKUP($AB$5,admission10plushighrisk,Risk!$A31,FALSE)","v":1.273684210526316},{"$f":"HLOOKUP($AC$5,admissions59,Risk!$A31,FALSE)","v":1.4587628865979383},{"$f":"HLOOKUP($AC$5,admissions59highrisk,Risk!$A31,FALSE)","v":0.79441117764471081},null,{"$f":"Admissions!E36","v":0},{"$f":"Admissions!F36","v":0},{"$f":"Admissions!G36","v":0},{"$f":"Admissions!H36","v":0},0,0,0,0,null,0,0,0,0,0,0,0,0,null,null,2.3566666666666669,1.273684210526316,1.4587628865979383,0.79441117764471081,2.3566666666666669,1.273684210526316,1.4587628865979383,0.79441117764471081,null,null,0,0,0,0,0,0,0,0]
[null,null,null,null,null,null,null,25,"Y25",{"$f":"'risk stratification'!BB31","v":0},{"$f":"'risk stratification'!BC31","v":0},{"$f":"'risk stratification'!BD31","v":0},{"$f":"'risk stratification'!BE31","v":0},{"$f":"'risk stratification'!BF31","v":0},{"$f":"'risk stratification'!BG31","v":0},{"$f":"'risk stratification'!BH31","v":0},{"$f":"'risk stratification'!BI31","v":0},{"$f":"'population lookup'!P29","v":0},null,30,null,null,{"$f":"HLOOKUP($W$5,admission10plus,Risk!$A32,FALSE)","v":2.1327683615819213},{"$f":"HLOOKUP($X$5,admission10plushighrisk,Risk!$A32,FALSE)","v":1.2987421383647804},{"$f":"HLOOKUP($Y$5,admissions59,Risk!$A32,FALSE)","v":1.3646322378716746},{"$f":"HLOOKUP($Z$5,admissions59highrisk,Risk!$A32,FALSE)","v":0.84408602150537637},{"$f":"HLOOKUP($AA$5,admission10plus,Risk!$A32,FALSE)","v":2.1327683615819213},{"$f":"HLOOKUP($AB$5,admission10plushighrisk,Risk!$A32,FALSE)","v":1.2987421383647804},{"$f":"HLOOKUP($AC$5,admissions59,Risk!$A32,FALSE)","v":1.3646322378716746},{"$f":"HLOOKUP($AC$5,admissions59highrisk,Risk!$A32,FALSE)","v":0.84408602150537637},null,{"$f":"Admissions!E37","v":0},{"$f":"Admissions!F37","v":0},{"$f":"Admissions!G37","v":0},{"$f":"Admissions!H37","v":0},0,0,0,0,null,0,0,0,0,0,0,0,0,null,null,2.1327683615819213,1.2987421383647804,1.3646322378716746,0.84408602150537637,2.1327683615819213,1.2987421383647804,1.3646322378716746,0.84408602150537637,null,null,0,0,0,0,0,0,0,0]
[null,null,null,null,null,null,null,26,"Y26",{"$f":"'risk stratification'!BB32","v":0},{"$f":"'risk stratification'!BC32","v":0},{"$f":"'risk stratification'!BD32","v":0},{"$f":"'risk stratification'!BE32","v":0},{"$f":"'risk stratification'!BF32","v":0},{"$f":"'risk stratification'!BG32","v":0},{"$f":"'risk stratification'!BH32","v":0},{"$f":"'risk stratification'!BI32","v":0},{"$f":"'population lookup'!P30","v":0},null,31,null,null,{"$f":"HLOOKUP($W$5,admission10plus,Risk!$A33,FALSE)","v":2.0050125313283202},{"$f":"HLOOKUP($X$5,admission10plushighrisk,Risk!$A33,FALSE)","v":1.3278688524590168},{"$f":"HLOOKUP($Y$5,admissions59,Risk!$A33,FALSE)","v":1.3946188340807169},{"$f":"HLOOKUP($Z$5,admissions59highrisk,Risk!$A33,FALSE)","v":0.90524534686971236},{"$f":"HLOOKUP($AA$5,admission10plus,Risk!$A33,FALSE)","v":2.0050125313283202},{"$f":"HLOOKUP($AB$5,admission10plushighrisk,Risk!$A33,FALSE)","v":1.3278688524590168},{"$f":"HLOOKUP($AC$5,admissions59,Risk!$A33,FALSE)","v":1.3946188340807169},{"$f":"HLOOKUP($AC$5,admissions59highrisk,Risk!$A33,FALSE)","v":0.90524534686971236},null,{"$f":"Admissions!E38","v":0},{"$f":"Admissions!F38","v":0},{"$f":"Admissions!G38","v":0},{"$f":"Admissions!H38","v":0},0,0,0,0,null,0,0,0,0,0,0,0,0,null,null,2.0050125313283202,1.3278688524590168,1.3946188340807169,0.90524534686971236,2.0050125313283202,1.3278688524590168,1.3946188340807169,0.90524534686971236,null,null,0,0,0,0,0,0,0,0]
[null,null,null,null,null,null,null,27,"Y27",{"$f":"'risk stratification'!BB33","v":0},{"$f":"'risk stratification'!BC33","v":0},{"$f":"'risk stratification'!BD33","v":0},{"$f":"'risk stratification'!BE33","v":0},{"$f":"'risk stratification'!BF33","v":0},{"$f":"'risk stratification'!BG33","v":0},{"$f":"'risk stratification'!BH33","v":0},{"$f":"'risk stratification'!BI33","v":0},{"$f":"'population lookup'!P31","v":0},null,32,null,null,{"$f":"HLOOKUP($W$5,admission10plus,Risk!$A34,FALSE)","v":2.0858585858585843},{"$f":"HLOOKUP($X$5,admission10plushighrisk,Risk!$A34,FALSE)","v":1.398305084745763},{"$f":"HLOOKUP($Y$5,admissions59,Risk!$A34,FALSE)","v":1.4312865497076039},{"$f":"HLOOKUP($Z$5,admissions59highrisk,Risk!$A34,FALSE)","v":0.93197278911564629},{"$f":"HLOOKUP($AA$5,admission10plus,Risk!$A34,FALSE)","v":2.0858585858585843},{"$f":"HLOOKUP($AB$5,admission10plushighrisk,Risk!$A34,FALSE)","v":1.398305084745763},{"$f":"HLOOKUP($AC$5,admissions59,Risk!$A34,FALSE)","v":1.4312865497076039},{"$f":"HLOOKUP($AC$5,admissions59highrisk,Risk!$A34,FALSE)","v":0.93197278911564629},null,{"$f":"Admissions!E39","v":0},{"$f":"Admissions!F39","v":0},{"$f":"Admissions!G39","v":0},{"$f":"Admissions!H39","v":0},0,0,0,0,null,0,0,0,0,0,0,0,0,null,null,2.0858585858585843,1.398305084745763,1.4312865497076039,0.93197278911564629,2.0858585858585843,1.398305084745763,1.4312865497076039,0.93197278911564629,null,null,0,0,0,0,0,0,0,0]
[null,null,null,null,null,null,null,28,"Y28",{"$f":"'risk stratification'!BB34","v":0},{"$f":"'risk stratification'!BC34","v":0},{"$f":"'risk stratification'!BD34","v":0},{"$f":"'risk stratification'!BE34","v":0},{"$f":"'risk stratification'!BF34","v":0},{"$f":"'risk stratification'!BG34","v":0},{"$f":"'risk stratification'!BH34","v":0},{"$f":"'risk stratification'!BI34","v":0},{"$f":"'population lookup'!P32","v":0},null,33,null,null,{"$f":"HLOOKUP($W$5,admission10plus,Risk!$A35,FALSE)","v":2.0401891252955084},{"$f":"HLOOKUP($X$5,admission10plushighrisk,Risk!$A35,FALSE)","v":1.2213740458015272},{"$f":"HLOOKUP($Y$5,admissions59,Risk!$A35,FALSE)","v":1.3641231593038821},{"$f":"HLOOKUP($Z$5,admissions59highrisk,Risk!$A35,FALSE)","v":0.79379844961240309},{"$f":"HLOOKUP($AA$5,admission10plus,Risk!$A35,FALSE)","v":2.0401891252955084},{"$f":"HLOOKUP($AB$5,admission10plushighrisk,Risk!$A35,FALSE)","v":1.2213740458015272},{"$f":"HLOOKUP($AC$5,admissions59,Risk!$A35,FALSE)","v":1.3641231593038821},{"$f":"HLOOKUP($AC$5,admissions59highrisk,Risk!$A35,FALSE)","v":0.79379844961240309},null,{"$f":"Admissions!E40","v":0},{"$f":"Admissions!F40","v":0},{"$f":"Admissions!G40","v":0},{"$f":"Admissions!H40","v":0},0,0,0,0,null,0,0,0,0,0,0,0,0,null,null,2.0401891252955084,1.2213740458015272,1.3641231593038821,0.79379844961240309,2.0401891252955084,1.2213740458015272,1.3641231593038821,0.79379844961240309,null,null,0,0,0,0,0,0,0,0]
[null,null,null,null,null,null,null,29,"Y29",{"$f":"'risk stratification'!BB35","v":0},{"$f":"'risk stratification'!BC35","v":0},{"$f":"'risk stratification'!BD35","v":0},{"$f":"'risk stratification'!BE35","v":0},{"$f":"'risk stratification'!BF35","v":0},{"$f":"'risk stratification'!BG35","v":0},{"$f":"'risk stratification'!BH35","v":0},{"$f":"'risk stratification'!BI35","v":0},{"$f":"'population lookup'!P33","v":0},null,34,null,null,{"$f":"HLOOKUP($W$5,admission10plus,Risk!$A36,FALSE)","v":2.1155555555555554},{"$f":"HLOOKUP($X$5,admission10plushighrisk,Risk!$A36,FALSE)","v":1.3454987834549883},{"$f":"HLOOKUP($Y$5,admissions59,Risk!$A36,FALSE)","v":1.3540051679586567},{"$f":"HLOOKUP($Z$5,admissions59highrisk,Risk!$A36,FALSE)","v":0.85470085470085477},{"$f":"HLOOKUP($AA$5,admission10plus,Risk!$A36,FALSE)","v":2.1155555555555554},{"$f":"HLOOKUP($AB$5,admission10plushighrisk,Risk!$A36,FALSE)","v":1.3454987834549883},{"$f":"HLOOKUP($AC$5,admissions59,Risk!$A36,FALSE)","v":1.3540051679586567},{"$f":"HLOOKUP($AC$5,admissions59highrisk,Risk!$A36,FALSE)","v":0.85470085470085477},null,{"$f":"Admissions!E41","v":0},{"$f":"Admissions!F41","v":0},{"$f":"Admissions!G41","v":0},{"$f":"Admissions!H41","v":0},0,0,0,0,null,0,0,0,0,0,0,0,0,null,null,2.1155555555555554,1.3454987834549883,1.3540051679586567,0.85470085470085477,2.1155555555555554,1.3454987834549883,1.3540051679586567,0.85470085470085477,null,null,0,0,0,0,0,0,0,0]
[null,null,null,null,null,null,null,30,"Y30",{"$f":"'risk stratification'!BB36","v":0},{"$f":"'risk stratification'!BC36","v":0},{"$f":"'risk stratification'!BD36","v":0},{"$f":"'risk stratification'!BE36","v":0},{"$f":"'risk stratification'!BF36","v":0},{"$f":"'risk stratification'!BG36","v":0},{"$f":"'risk stratification'!BH36","v":0},{"$f":"'risk stratification'!BI36","v":0},{"$f":"'population lookup'!P34","v":0},null,35,null,null,{"$f":"HLOOKUP($W$5,admission10plus,Risk!$A37,FALSE)","v":1.9956709956709953},{"$f":"HLOOKUP($X$5,admission10plushighrisk,Risk!$A37,FALSE)","v":1.1471264367816092},{"$f":"HLOOKUP($Y$5,admissions59,Risk!$A37,FALSE)","v":1.2832722832722838},{"$f":"HLOOKUP($Z$5,admissions59highrisk,Risk!$A37,FALSE)","v":0.71836734693877558},{"$f":"HLOOKUP($AA$5,admission10plus,Risk!$A37,FALSE)","v":1.9956709956709953},{"$f":"HLOOKUP($AB$5,admission10plushighrisk,Risk!$A37,FALSE)","v":1.1471264367816092},{"$f":"HLOOKUP($AC$5,admissions59,Risk!$A37,FALSE)","v":1.2832722832722838},{"$f":"HLOOKUP($AC$5,admissions59highrisk,Risk!$A37,FALSE)","v":0.71836734693877558},null,{"$f":"Admissions!E42","v":0},{"$f":"Admissions!F42","v":0},{"$f":"Admissions!G42","v":0},{"$f":"Admissions!H42","v":0},0,0,0,0,null,0,0,0,0,0,0,0,0,null,null,{"$f":"HLOOKUP(AY$2,$W$2:$AV$106,$T36,FALSE)","v":1.9956709956709953},1.1471264367816092,1.2832722832722838,0.71836734693877558,1.9956709956709953,1.1471264367816092,1.2832722832722838,0.71836734693877558,null,null,0,0,0,0,0,0,0,0]
[null,null,null,null,null,null,null,31,"Y31",{"$f":"'risk stratification'!BB37","v":0},{"$f":"'risk stratification'!BC37","v":0},{"$f":"'risk stratification'!BD37","v":0},{"$f":"'risk stratification'!BE37","v":0},{"$f":"'risk stratification'!BF37","v":0},{"$f":"'risk stratification'!BG37","v":0},{"$f":"'risk stratification'!BH37","v":0},{"$f":"'risk stratification'!BI37","v":0},{"$f":"'population lookup'!P35","v":0},null,36,null,null,{"$f":"HLOOKUP($W$5,admission10plus,Risk!$A38,FALSE)","v":2.0382165605095541},{"$f":"HLOOKUP($X$5,admission10plushighrisk,Risk!$A38,FALSE)","v":1.1755555555555564},{"$f":"HLOOKUP($Y$5,admissions59,Risk!$A38,FALSE)","v":1.377525252525251},{"$f":"HLOOKUP($Z$5,admissions59highrisk,Risk!$A38,FALSE)","v":0.78199718706047827},{"$f":"HLOOKUP($AA$5,admission10plus,Risk!$A38,FALSE)","v":2.0382165605095541},{"$f":"HLOOKUP($AB$5,admission10plushighrisk,Risk!$A38,FALSE)","v":1.1755555555555564},{"$f":"HLOOKUP($AC$5,admissions59,Risk!$A38,FALSE)","v":1.377525252525251},{"$f":"HLOOKUP($AC$5,admissions59highrisk,Risk!$A38,FALSE)","v":0.78199718706047827},null,{"$f":"Admissions!E43","v":0},{"$f":"Admissions!F43","v":0},{"$f":"Admissions!G43","v":0},{"$f":"Admissions!H43","v":0},0,0,0,0,null,0,0,0,0,0,0,0,0,null,null,2.0382165605095541,1.1755555555555564,1.377525252525251,0.78199718706047827,2.0382165605095541,1.1755555555555564,1.377525252525251,0.78199718706047827,null,null,0,0,0,0,0,0,0,0]
[null,null,null,null,null,null,null,32,"Y32",{"$f":"'risk stratification'!BB38","v":0},{"$f":"'risk stratification'!BC38","v":0},{"$f":"'risk stratification'!BD38","v":0},{"$f":"'risk stratification'!BE38","v":0},{"$f":"'risk stratification'!BF38","v":0},{"$f":"'risk stratification'!BG38","v":0},{"$f":"'risk stratification'!BH38","v":0},{"$f":"'risk stratification'!BI38","v":0},{"$f":"'population lookup'!P36","v":0},null,37,null,null,{"$f":"HLOOKUP($W$5,admission10plus,Risk!$A39,FALSE)","v":1.9634146341463421},{"$f":"HLOOKUP($X$5,admission10plushighrisk,Risk!$A39,FALSE)","v":1.2039473684210527},{"$f":"HLOOKUP($Y$5,admissions59,Risk!$A39,FALSE)","v":1.3491484184914853},{"$f":"HLOOKUP($Z$5,admissions59highrisk,Risk!$A39,FALSE)","v":0.81978319783197806},{"$f":"HLOOKUP($AA$5,admission10plus,Risk!$A39,FALSE)","v":1.9634146341463421},{"$f":"HLOOKUP($AB$5,admission10plushighrisk,Risk!$A39,FALSE)","v":1.2039473684210527},{"$f":"HLOOKUP($AC$5,admissions59,Risk!$A39,FALSE)","v":1.3491484184914853},{"$f":"HLOOKUP($AC$5,admissions59highrisk,Risk!$A39,FALSE)","v":0.81978319783197806},null,{"$f":"Admissions!E44","v":0},{"$f":"Admissions!F44","v":0},{"$f":"Admissions!G44","v":0},{"$f":"Admissions!H44","v":0},0,0,0,0,null,0,0,0,0,0,0,0,0,null,null,1.9634146341463421,1.2039473684210527,1.3491484184914853,0.81978319783197806,1.9634146341463421,1.2039473684210527,1.3491484184914853,0.81978319783197806,null,null,{"$f":"IF(ISERROR(J38*AY38),\"\",(J38*AY38))","v":0},{"$f":"IF(ISERROR(K38*AZ38),\"\",(K38*AZ38))","v":0},{"$f":"IF(ISERROR(L38*BA38),\"\",(L38*BA38))","v":0},{"$f":"IF(ISERROR(M38*BB38),\"\",(M38*BB38))","v":0},{"$f":"IF(ISERROR(N38*BC38),\"\",(N38*BC38))","v":0},{"$f":"IF(ISERROR(O38*BD38),\"\",(O38*BD38))","v":0},{"$f":"IF(ISERROR(P38*BE38),\"\",(P38*BE38))","v":0},{"$f":"IF(ISERROR(Q38*BF38),\"\",(Q38*BF38))","v":0}]
[null,null,null,null,null,null,null,33,"Y33",{"$f":"'risk stratification'!BB39","v":0},{"$f":"'risk stratification'!BC39","v":0},{"$f":"'risk stratification'!BD39","v":0},{"$f":"'risk stratification'!BE39","v":0},{"$f":"'risk stratification'!BF39","v":0},{"$f":"'risk stratification'!BG39","v":0},{"$f":"'risk stratification'!BH39","v":0},{"$f":"'risk stratification'!BI39","v":0},{"$f":"'population lookup'!P37","v":0},null,38,null,null,{"$f":"HLOOKUP($W$5,admission10plus,Risk!$A40,FALSE)","v":1.9692982456140344},{"$f":"HLOOKUP($X$5,admission10plushighrisk,Risk!$A40,FALSE)","v":1.1173708920187793},{"$f":"HLOOKUP($Y$5,admissions59,Risk!$A40,FALSE)","v":1.3133583021223476},{"$f":"HLOOKUP($Z$5,admissions59highrisk,Risk!$A40,FALSE)","v":0.72740112994350292},{"$f":"HLOOKUP($AA$5,admission10plus,Risk!$A40,FALSE)","v":1.9692982456140344},{"$f":"HLOOKUP($AB$5,admission10plushighrisk,Risk!$A40,FALSE)","v":1.1173708920187793},{"$f":"HLOOKUP($AC$5,admissions59,Risk!$A40,FALSE)","v":1.3133583021223476},{"$f":"HLOOKUP($AC$5,admissions59highrisk,Risk!$A40,FALSE)","v":0.72740112994350292},null,{"$f":"Admissions!E45","v":0},{"$f":"Admissions!F45","v":0},{"$f":"Admissions!G45","v":0},{"$f":"Admissions!H45","v":0},0,0,0,0,null,0,0,0,0,0,0,0,0,null,null,1.9692982456140344,1.1173708920187793,1.3133583021223476,0.72740112994350292,1.9692982456140344,1.1173708920187793,1.3133583021223476,0.72740112994350292,null,null,0,0,0,0,0,0,0,0]
[null,null,null,null,null,null,null,34,"Y34",{"$f":"'risk stratification'!BB40","v":0},{"$f":"'risk stratification'!BC40","v":0},{"$f":"'risk stratification'!BD40","v":0},{"$f":"'risk stratification'!BE40","v":0},{"$f":"'risk stratification'!BF40","v":0},{"$f":"'risk stratification'!BG40","v":0},{"$f":"'risk stratification'!BH40","v":0},{"$f":"'risk stratification'!BI40","v":0},{"$f":"'population lookup'!P38","v":0},null,39,null,null,{"$f":"HLOOKUP($W$5,admission10plus,Risk!$A41,FALSE)","v":1.8003766478342744},{"$f":"HLOOKUP($X$5,admission10plushighrisk,Risk!$A41,FALSE)","v":1.1117647058823534},{"$f":"HLOOKUP($Y$5,admissions59,Risk!$A41,FALSE)","v":1.195205479452055},{"$f":"HLOOKUP($Z$5,admissions59highrisk,Risk!$A41,FALSE)","v":0.72962962962962974},{"$f":"HLOOKUP($AA$5,admission10plus,Risk!$A41,FALSE)","v":1.8003766478342744},{"$f":"HLOOKUP($AB$5,admission10plushighrisk,Risk!$A41,FALSE)","v":1.1117647058823534},{"$f":"HLOOKUP($AC$5,admissions59,Risk!$A41,FALSE)","v":1.195205479452055},{"$f":"HLOOKUP($AC$5,admissions59highrisk,Risk!$A41,FALSE)","v":0.72962962962962974},null,{"$f":"Admissions!E46","v":0},{"$f":"Admissions!F46","v":0},{"$f":"Admissions!G46","v":0},{"$f":"Admissions!H46","v":0},0,0,0,0,null,0,0,0,0,0,0,0,0,null,null,1.8003766478342744,1.1117647058823534,1.195205479452055,0.72962962962962974,1.8003766478342744,1.1117647058823534,1.195205479452055,0.72962962962962974,null,null,0,0,0,0,0,0,0,0]
[null,null,null,null,null,null,null,35,"Y35",{"$f":"'risk stratification'!BB41","v":0},{"$f":"'risk stratification'!BC41","v":0},{"$f":"'risk stratification'!BD41","v":0},{"$f":"'risk stratification'!BE41","v":0},{"$f":"'risk stratification'!BF41","v":0},{"$f":"'risk stratification'!BG41","v":0},{"$f":"'risk stratification'!BH41","v":0},{"$f":"'risk stratification'!BI41","v":0},{"$f":"'population lookup'!P39","v":0},null,40,null,null,{"$f":"HLOOKUP($W$5,admission10plus,Risk!$A42,FALSE)","v":1.737654320987654},{"$f":"HLOOKUP($X$5,admission10plushighrisk,Risk!$A42,FALSE)","v":1.233502538071066},{"$f":"HLOOKUP($Y$5,admissions59,Risk!$A42,FALSE)","v":1.2830769230769234},{"$f":"HLOOKUP($Z$5,admissions59highrisk,Risk!$A42,FALSE)","v":0.89943502824858756},{"$f":"HLOOKUP($AA$5,admission10plus,Risk!$A42,FALSE)","v":1.737654320987654},{"$f":"HLOOKUP($AB$5,admission10plushighrisk,Risk!$A42,FALSE)","v":1.233502538071066},{"$f":"HLOOKUP($AC$5,admissions59,Risk!$A42,FALSE)","v":1.2830769230769234},{"$f":"HLOOKUP($AC$5,admissions59highrisk,Risk!$A42,FALSE)","v":0.89943502824858756},null,{"$f":"Admissions!E47","v":0},{"$f":"Admissions!F47","v":0},{"$f":"Admissions!G47","v":0},{"$f":"Admissions!H47","v":0},0,0,0,0,null,0,0,0,0,0,0,0,0,null,null,1.737654320987654,1.233502538071066,1.2830769230769234,0.89943502824858756,1.737654320987654,1.233502538071066,1.2830769230769234,0.89943502824858756,null,null,0,0,0,0,0,0,0,0]
[null,null,null,null,null,null,null,36,"Y36",{"$f":"'risk stratification'!BB42","v":0},{"$f":"'risk stratification'!BC42","v":0},{"$f":"'risk stratification'!BD42","v":0},{"$f":"'risk stratification'!BE42","v":0},{"$f":"'risk stratification'!BF42","v":0},{"$f":"'risk stratification'!BG42","v":0},{"$f":"'risk stratification'!BH42","v":0},{"$f":"'risk stratification'!BI42","v":0},{"$f":"'population lookup'!P40","v":0},null,41,null,null,{"$f":"HLOOKUP($W$5,admission10plus,Risk!$A43,FALSE)","v":1.7969543147208125},{"$f":"HLOOKUP($X$5,admission10plushighrisk,Risk!$A43,FALSE)","v":1.2292768959435627},{"$f":"HLOOKUP($Y$5,admissions59,Risk!$A43,FALSE)","v":1.2529474812433017},{"$f":"HLOOKUP($Z$5,admissions59highrisk,Risk!$A43,FALSE)","v":0.84615384615384615},{"$f":"HLOOKUP($AA$5,admission10plus,Risk!$A43,FALSE)","v":1.7969543147208125},{"$f":"HLOOKUP($AB$5,admission10plushighrisk,Risk!$A43,FALSE)","v":1.2292768959435627},{"$f":"HLOOKUP($AC$5,admissions59,Risk!$A43,FALSE)","v":1.2529474812433017},{"$f":"HLOOKUP($AC$5,admissions59highrisk,Risk!$A43,FALSE)","v":0.84615384615384615},null,{"$f":"Admissions!E48","v":0},{"$f":"Admissions!F48","v":0},{"$f":"Admissions!G48","v":0},{"$f":"Admissions!H48","v":0},0,0,0,0,null,0,0,0,0,0,0,0,0,null,null,1.7969543147208125,1.2292768959435627,1.2529474812433017,0.84615384615384615,1.7969543147208125,1.2292768959435627,1.2529474812433017,0.84615384615384615,null,null,0,0,0,0,0,0,0,0]
[null,null,null,null,null,null,null,37,"Y37",{"$f":"'risk stratification'!BB43","v":0},{"$f":"'risk stratification'!BC43","v":0},{"$f":"'risk stratification'!BD43","v":0},{"$f":"'risk stratification'!BE43","v":0},{"$f":"'risk stratification'!BF43","v":0},{"$f":"'risk stratification'!BG43","v":0},{"$f":"'risk stratification'!BH43","v":0},{"$f":"'risk stratification'!BI43","v":0},{"$f":"'population lookup'!P41","v":0},null,42,null,null,{"$f":"HLOOKUP($W$5,admission10plus,Risk!$A44,FALSE)","v":1.7085346215780994},{"$f":"HLOOKUP($X$5,admission10plushighrisk,Risk!$A44,FALSE)","v":1.1275510204081634},{"$f":"HLOOKUP($Y$5,admissions59,Risk!$A44,FALSE)","v":1.2197916666666659},{"$f":"HLOOKUP($Z$5,admissions59highrisk,Risk!$A44,FALSE)","v":0.79435028248587602},{"$f":"HLOOKUP($AA$5,admission10plus,Risk!$A44,FALSE)","v":1.7085346215780994},{"$f":"HLOOKUP($AB$5,admission10plushighrisk,Risk!$A44,FALSE)","v":1.1275510204081634},{"$f":"HLOOKUP($AC$5,admissions59,Risk!$A44,FALSE)","v":1.2197916666666659},{"$f":"HLOOKUP($AC$5,admissions59highrisk,Risk!$A44,FALSE)","v":0.79435028248587602},null,{"$f":"Admissions!E49","v":0},{"$f":"Admissions!F49","v":0},{"$f":"Admissions!G49","v":0},{"$f":"Admissions!H49","v":0},0,0,0,0,null,0,0,0,0,0,0,0,0,null,null,1.7085346215780994,1.1275510204081634,1.2197916666666659,0.79435028248587602,1.7085346215780994,1.1275510204081634,1.2197916666666659,0.79435028248587602,null,null,0,0,0,0,0,0,0,0]
[null,null,null,null,null,null,null,38,"Y38",{"$f":"'risk stratification'!BB44","v":0},{"$f":"'risk stratification'!BC44","v":0},{"$f":"'risk stratification'!BD44","v":0},{"$f":"'risk stratification'!BE44","v":0},{"$f":"'risk stratification'!BF44","v":0},{"$f":"'risk stratification'!BG44","v":0},{"$f":"'risk stratification'!BH44","v":0},{"$f":"'risk stratification'!BI44","v":0},{"$f":"'population lookup'!P42","v":0},null,43,null,null,{"$f":"HLOOKUP($W$5,admission10plus,Risk!$A45,FALSE)","v":1.6245791245791252},{"$f":"HLOOKUP($X$5,admission10plushighrisk,Risk!$A45,FALSE)","v":1.063492063492063},{"$f":"HLOOKUP($Y$5,admissions59,Risk!$A45,FALSE)","v":1.1607717041800638},{"$f":"HLOOKUP($Z$5,admissions59highrisk,Risk!$A45,FALSE)","v":0.75789473684210529},{"$f":"HLOOKUP($AA$5,admission10plus,Risk!$A45,FALSE)","v":1.6245791245791252},{"$f":"HLOOKUP($AB$5,admission10plushighrisk,Risk!$A45,FALSE)","v":1.063492063492063},{"$f":"HLOOKUP($AC$5,admissions59,Risk!$A45,FALSE)","v":1.1607717041800638},{"$f":"HLOOKUP($AC$5,admissions59highrisk,Risk!$A45,FALSE)","v":0.75789473684210529},null,{"$f":"Admissions!E50","v":0},{"$f":"Admissions!F50","v":0},{"$f":"Admissions!G50","v":0},{"$f":"Admissions!H50","v":0},0,0,0,0,null,0,0,0,0,0,0,0,0,null,null,1.6245791245791252,1.063492063492063,1.1607717041800638,0.75789473684210529,1.6245791245791252,1.063492063492063,1.1607717041800638,0.75789473684210529,null,null,0,0,0,0,0,0,0,0]
[null,null,null,null,null,null,null,39,"Y39",{"$f":"'risk stratification'!BB45","v":0},{"$f":"'risk stratification'!BC45","v":0},{"$f":"'risk stratification'!BD45","v":0},{"$f":"'risk stratification'!BE45","v":0},{"$f":"'risk stratification'!BF45","v":0},{"$f":"'risk stratification'!BG45","v":0},{"$f":"'risk stratification'!BH45","v":0},{"$f":"'risk stratification'!BI45","v":0},{"$f":"'population lookup'!P43","v":0},null,44,null,null,{"$f":"HLOOKUP($W$5,admission10plus,Risk!$A46,FALSE)","v":1.6076190476190479},{"$f":"HLOOKUP($X$5,admission10plushighrisk,Risk!$A46,FALSE)","v":1.0449897750511248},{"$f":"HLOOKUP($Y$5,admissions59,Risk!$A46,FALSE)","v":1.1321212121212116},{"$f":"HLOOKUP($Z$5,admissions59highrisk,Risk!$A46,FALSE)","v":0.73015873015873023},{"$f":"HLOOKUP($AA$5,admission10plus,Risk!$A46,FALSE)","v":1.6076190476190479},{"$f":"HLOOKUP($AB$5,admission10plushighrisk,Risk!$A46,FALSE)","v":1.0449897750511248},{"$f":"HLOOKUP($AC$5,admissions59,Risk!$A46,FALSE)","v":1.1321212121212116},{"$f":"HLOOKUP($AC$5,admissions59highrisk,Risk!$A46,FALSE)","v":0.73015873015873023},null,{"$f":"Admissions!E51","v":0},{"$f":"Admissions!F51","v":0},{"$f":"Admissions!G51","v":0},{"$f":"Admissions!H51","v":0},0,0,0,0,null,0,0,0,0,0,0,0,0,null,null,1.6076190476190479,1.0449897750511248,1.1321212121212116,0.73015873015873023,1.6076190476190479,1.0449897750511248,1.1321212121212116,0.73015873015873023,null,null,0,0,0,0,0,0,0,0]
[null,null,null,null,null,null,null,40,"Y40",{"$f":"'risk stratification'!BB46","v":0},{"$f":"'risk stratification'!BC46","v":0},{"$f":"'risk stratification'!BD46","v":0},{"$f":"'risk stratification'!BE46","v":0},{"$f":"'risk stratification'!BF46","v":0},{"$f":"'risk stratification'!BG46","v":0},{"$f":"'risk stratification'!BH46","v":0},{"$f":"'risk stratification'!BI46","v":0},{"$f":"'population lookup'!P44","v":0},null,45,null,null,{"$f":"HLOOKUP($W$5,admission10plus,Risk!$A47,FALSE)","v":1.7702702702702702},{"$f":"HLOOKUP($X$5,admission10plushighrisk,Risk!$A47,FALSE)","v":1.1582181259600608},{"$f":"HLOOKUP($Y$5,admissions59,Risk!$A47,FALSE)","v":1.175740210124165},{"$f":"HLOOKUP($Z$5,admissions59highrisk,Risk!$A47,FALSE)","v":0.76576576576576549},{"$f":"HLOOKUP($AA$5,admission10plus,Risk!$A47,FALSE)","v":1.7702702702702702},{"$f":"HLOOKUP($AB$5,admission10plushighrisk,Risk!$A47,FALSE)","v":1.1582181259600608},{"$f":"HLOOKUP($AC$5,admissions59,Risk!$A47,FALSE)","v":1.175740210124165},{"$f":"HLOOKUP($AC$5,admissions59highrisk,Risk!$A47,FALSE)","v":0.76576576576576549},null,{"$f":"Admissions!E52","v":0},{"$f":"Admissions!F52","v":0},{"$f":"Admissions!G52","v":0},{"$f":"Admissions!H52","v":0},0,0,0,0,null,{"$f":"admissionunioverride","v":0},0,0,0,0,0,0,0,null,null,{"$f":"HLOOKUP(AY$2,$W$2:$AV$106,$T46,FALSE)","v":1.7702702702702702},1.1582181259600608,1.175740210124165,0.76576576576576549,1.7702702702702702,1.1582181259600608,1.175740210124165,0.76576576576576549,null,null,0,0,0,0,0,0,0,0]
[null,null,null,null,null,null,null,41,"Y41",{"$f":"'risk stratification'!BB47","v":0},{"$f":"'risk stratification'!BC47","v":0},{"$f":"'risk stratification'!BD47","v":0},{"$f":"'risk stratification'!BE47","v":0},{"$f":"'risk stratification'!BF47","v":0},{"$f":"'risk stratification'!BG47","v":0},{"$f":"'risk stratification'!BH47","v":0},{"$f":"'risk stratification'!BI47","v":0},{"$f":"'population lookup'!P45","v":0},null,46,null,null,{"$f":"HLOOKUP($W$5,admission10plus,Risk!$A48,FALSE)","v":1.4166666666666663},{"$f":"HLOOKUP($X$5,admission10plushighrisk,Risk!$A48,FALSE)","v":1.024739583333333},{"$f":"HLOOKUP($Y$5,admissions59,Risk!$A48,FALSE)","v":1.0770562770562775},{"$f":"HLOOKUP($Z$5,admissions59highrisk,Risk!$A48,FALSE)","v":0.77558685446009401},{"$f":"HLOOKUP($AA$5,admission10plus,Risk!$A48,FALSE)","v":1.4166666666666663},{"$f":"HLOOKUP($AB$5,admission10plushighrisk,Risk!$A48,FALSE)","v":1.024739583333333},{"$f":"HLOOKUP($AC$5,admissions59,Risk!$A48,FALSE)","v":1.0770562770562775},{"$f":"HLOOKUP($AC$5,admissions59highrisk,Risk!$A48,FALSE)","v":0.77558685446009401},null,{"$f":"Admissions!E53","v":0},{"$f":"Admissions!F53","v":0},{"$f":"Admissions!G53","v":0},{"$f":"Admissions!H53","v":0},0,0,0,0,null,0,0,0,0,0,0,0,0,null,null,1.4166666666666663,1.024739583333333,1.0770562770562775,0.77558685446009401,1.4166666666666663,1.024739583333333,1.0770562770562775,0.77558685446009401,null,null,0,0,0,0,0,0,0,0]
[null,null,null,null,null,null,null,42,"Y42",{"$f":"'risk stratification'!BB48","v":0},{"$f":"'risk stratification'!BC48","v":0},{"$f":"'risk stratification'!BD48","v":0},{"$f":"'risk stratification'!BE48","v":0},{"$f":"'risk stratification'!BF48","v":0},{"$f":"'risk stratification'!BG48","v":0},{"$f":"'risk stratification'!BH48","v":0},{"$f":"'risk stratification'!BI48","v":0},{"$f":"'population lookup'!P46","v":0},null,47,null,null,{"$f":"HLOOKUP($W$5,admission10plus,Risk!$A49,FALSE)","v":1.5729166666666672},{"$f":"HLOOKUP($X$5,admission10plushighrisk,Risk!$A49,FALSE)","v":1.0406212664277181},{"$f":"HLOOKUP($Y$5,admissions59,Risk!$A49,FALSE)","v":1.0915331807780326},{"$f":"HLOOKUP($Z$5,admissions59highrisk,Risk!$A49,FALSE)","v":0.72208835341365474},{"$f":"HLOOKUP($AA$5,admission10plus,Risk!$A49,FALSE)","v":1.5729166666666672},{"$f":"HLOOKUP($AB$5,admission10plushighrisk,Risk!$A49,FALSE)","v":1.0406212664277181},{"$f":"HLOOKUP($AC$5,admissions59,Risk!$A49,FALSE)","v":1.0915331807780326},{"$f":"HLOOKUP($AC$5,admissions59highrisk,Risk!$A49,FALSE)","v":0.72208835341365474},null,{"$f":"Admissions!E54","v":0},{"$f":"Admissions!F54","v":0},{"$f":"Admissions!G54","v":0},{"$f":"Admissions!H54","v":0},0,0,0,0,null,0,0,0,0,0,0,0,0,null,null,1.5729166666666672,1.0406212664277181,1.0915331807780326,0.72208835341365474,1.5729166666666672,1.0406212664277181,1.0915331807780326,0.72208835341365474,null,null,0,0,0,0,0,0,0,0]
[null,null,null,null,null,null,null,43,"Y43",{"$f":"'risk stratification'!BB49","v":0},{"$f":"'risk stratification'!BC49","v":0},{"$f":"'risk stratification'!BD49","v":0},{"$f":"'risk stratification'!BE49","v":0},{"$f":"'risk stratification'!BF49","v":0},{"$f":"'risk stratification'!BG49","v":0},{"$f":"'risk stratification'!BH49","v":0},{"$f":"'risk stratification'!BI49","v":0},{"$f":"'population lookup'!P47","v":0},null,48,null,null,{"$f":"HLOOKUP($W$5,admission10plus,Risk!$A50,FALSE)","v":1.5405092592592589},{"$f":"HLOOKUP($X$5,admission10plushighrisk,Risk!$A50,FALSE)","v":0.99283154121863859},{"$f":"HLOOKUP($Y$5,admissions59,Risk!$A50,FALSE)","v":1.1249042145593866},{"$f":"HLOOKUP($Z$5,admissions59highrisk,Risk!$A50,FALSE)","v":0.70771756978653466},{"$f":"HLOOKUP($AA$5,admission10plus,Risk!$A50,FALSE)","v":1.5405092592592589},{"$f":"HLOOKUP($AB$5,admission10plushighrisk,Risk!$A50,FALSE)","v":0.99283154121863859},{"$f":"HLOOKUP($AC$5,admissions59,Risk!$A50,FALSE)","v":1.1249042145593866},{"$f":"HLOOKUP($AC$5,admissions59highrisk,Risk!$A50,FALSE)","v":0.70771756978653466},null,{"$f":"Admissions!E55","v":0},{"$f":"Admissions!F55","v":0},{"$f":"Admissions!G55","v":0},{"$f":"Admissions!H55","v":0},0,0,0,0,null,0,0,0,0,0,0,0,0,null,null,1.5405092592592589,0.99283154121863859,1.1249042145593866,0.70771756978653466,1.5405092592592589,0.99283154121863859,1.1249042145593866,0.70771756978653466,null,null,0,0,0,0,0,0,0,0]
[null,null,null,null,null,null,null,44,"Y44",{"$f":"'risk stratification'!BB50","v":0},{"$f":"'risk stratification'!BC50","v":0},{"$f":"'risk stratification'!BD50","v":0},{"$f":"'risk stratification'!BE50","v":0},{"$f":"'risk stratification'!BF50","v":0},{"$f":"'risk stratification'!BG50","v":0},{"$f":"'risk stratification'!BH50","v":0},{"$f":"'risk stratification'!BI50","v":0},{"$f":"'population lookup'!P48","v":0},null,49,null,null,{"$f":"HLOOKUP($W$5,admission10plus,Risk!$A51,FALSE)","v":1.4700374531835205},{"$f":"HLOOKUP($X$5,admission10plushighrisk,Risk!$A51,FALSE)","v":1.0748299319727888},{"$f":"HLOOKUP($Y$5,admissions59,Risk!$A51,FALSE)","v":1.1191919191919193},{"$f":"HLOOKUP($Z$5,admissions59highrisk,Risk!$A51,FALSE)","v":0.816239316239316},{"$f":"HLOOKUP($AA$5,admission10plus,Risk!$A51,FALSE)","v":1.4700374531835205},{"$f":"HLOOKUP($AB$5,admission10plushighrisk,Risk!$A51,FALSE)","v":1.0748299319727888},{"$f":"HLOOKUP($AC$5,admissions59,Risk!$A51,FALSE)","v":1.1191919191919193},{"$f":"HLOOKUP($AC$5,admissions59highrisk,Risk!$A51,FALSE)","v":0.816239316239316},null,{"$f":"Admissions!E56","v":0},{"$f":"Admissions!F56","v":0},{"$f":"Admissions!G56","v":0},{"$f":"Admissions!H56","v":0},0,0,0,0,null,0,0,0,0,0,0,0,0,null,null,1.4700374531835205,1.0748299319727888,1.1191919191919193,0.816239316239316,1.4700374531835205,1.0748299319727888,1.1191919191919193,0.816239316239316,null,null,0,0,0,0,0,0,0,0]
[null,null,null,null,null,null,null,45,"Y45",{"$f":"'risk stratification'!BB51","v":0},{"$f":"'risk stratification'!BC51","v":0},{"$f":"'risk stratification'!BD51","v":0},{"$f":"'risk stratification'!BE51","v":0},{"$f":"'risk stratification'!BF51","v":0},{"$f":"'risk stratification'!BG51","v":0},{"$f":"'risk stratification'!BH51","v":0},{"$f":"'risk stratification'!BI51","v":0},{"$f":"'population lookup'!P49","v":0},null,50,null,null,{"$f":"HLOOKUP($W$5,admission10plus,Risk!$A52,FALSE)","v":1.4460093896713617},{"$f":"HLOOKUP($X$5,admission10plushighrisk,Risk!$A52,FALSE)","v":1.0492753623188411},{"$f":"HLOOKUP($Y$5,admissions59,Risk!$A52,FALSE)","v":1.118213058419244},{"$f":"HLOOKUP($Z$5,admissions59highrisk,Risk!$A52,FALSE)","v":0.80952380952380942},{"$f":"HLOOKUP($AA$5,admission10plus,Risk!$A52,FALSE)","v":1.4460093896713617},{"$f":"HLOOKUP($AB$5,admission10plushighrisk,Risk!$A52,FALSE)","v":1.0492753623188411},{"$f":"HLOOKUP($AC$5,admissions59,Risk!$A52,FALSE)","v":1.118213058419244},{"$f":"HLOOKUP($AC$5,admissions59highrisk,Risk!$A52,FALSE)","v":0.80952380952380942},null,{"$f":"Admissions!E57","v":0},{"$f":"Admissions!F57","v":0},{"$f":"Admissions!G57","v":0},{"$f":"Admissions!H57","v":0},0,0,0,0,null,0,0,0,0,0,0,0,0,null,null,1.4460093896713617,1.0492753623188411,1.118213058419244,0.80952380952380942,1.4460093896713617,1.0492753623188411,1.118213058419244,0.80952380952380942,null,null,0,0,0,0,0,0,0,0]
[null,null,null,null,null,null,null,46,"Y46",{"$f":"'risk stratification'!BB52","v":0},{"$f":"'risk stratification'!BC52","v":0},{"$f":"'risk stratification'!BD52","v":0},{"$f":"'risk stratification'!BE52","v":0},{"$f":"'risk stratification'!BF52","v":0},{"$f":"'risk stratification'!BG52","v":0},{"$f":"'risk stratification'!BH52","v":0},{"$f":"'risk stratification'!BI52","v":0},{"$f":"'population lookup'!P50","v":0},null,51,null,null,{"$f":"HLOOKUP($W$5,admission10plus,Risk!$A53,FALSE)","v":1.496240601503759},{"$f":"HLOOKUP($X$5,admission10plushighrisk,Risk!$A53,FALSE)","v":1.0493197278911561},{"$f":"HLOOKUP($Y$5,admissions59,Risk!$A53,FALSE)","v":1.1190476190476188},{"$f":"HLOOKUP($Z$5,admissions59highrisk,Risk!$A53,FALSE)","v":0.78006230529595044},{"$f":"HLOOKUP($AA$5,admission10plus,Risk!$A53,FALSE)","v":1.496240601503759},{"$f":"HLOOKUP($AB$5,admission10plushighrisk,Risk!$A53,FALSE)","v":1.0493197278911561},{"$f":"HLOOKUP($AC$5,admissions59,Risk!$A53,FALSE)","v":1.1190476190476188},{"$f":"HLOOKUP($AC$5,admissions59highrisk,Risk!$A53,FALSE)","v":0.78006230529595044},null,{"$f":"Admissions!E58","v":0},{"$f":"Admissions!F58","v":0},{"$f":"Admissions!G58","v":0},{"$f":"Admissions!H58","v":0},0,0,0,0,null,0,0,0,0,0,0,0,0,null,null,1.496240601503759,1.0493197278911561,1.1190476190476188,0.78006230529595044,1.496240601503759,1.0493197278911561,1.1190476190476188,0.78006230529595044,null,null,0,0,0,0,0,0,0,0]
[null,null,null,null,null,null,null,47,"Y47",{"$f":"'risk stratification'!BB53","v":0},{"$f":"'risk stratification'!BC53","v":0},{"$f":"'risk stratification'!BD53","v":0},{"$f":"'risk stratification'!BE53","v":0},{"$f":"'risk stratification'!BF53","v":0},{"$f":"'risk stratification'!BG53","v":0},{"$f":"'risk stratification'!BH53","v":0},{"$f":"'risk stratification'!BI53","v":0},{"$f":"'population lookup'!P51","v":0},null,52,null,null,{"$f":"HLOOKUP($W$5,admission10plus,Risk!$A54,FALSE)","v":1.5266040688575886},{"$f":"HLOOKUP($X$5,admission10plushighrisk,Risk!$A54,FALSE)","v":1.0720064724919085},{"$f":"HLOOKUP($Y$5,admissions59,Risk!$A54,FALSE)","v":1.1527777777777772},{"$f":"HLOOKUP($Z$5,admissions59highrisk,Risk!$A54,FALSE)","v":0.80223004694835709},{"$f":"HLOOKUP($AA$5,admission10plus,Risk!$A54,FALSE)","v":1.5266040688575886},{"$f":"HLOOKUP($AB$5,admission10plushighrisk,Risk!$A54,FALSE)","v":1.0720064724919085},{"$f":"HLOOKUP($AC$5,admissions59,Risk!$A54,FALSE)","v":1.1527777777777772},{"$f":"HLOOKUP($AC$5,admissions59highrisk,Risk!$A54,FALSE)","v":0.80223004694835709},null,{"$f":"Admissions!E59","v":0},{"$f":"Admissions!F59","v":0},{"$f":"Admissions!G59","v":0},{"$f":"Admissions!H59","v":0},0,0,0,0,null,0,0,0,0,0,0,0,0,null,null,1.5266040688575886,1.0720064724919085,1.1527777777777772,0.80223004694835709,1.5266040688575886,1.0720064724919085,1.1527777777777772,0.80223004694835709,null,null,0,0,0,0,0,0,0,0]
[null,null,null,null,null,null,null,48,"Y48",{"$f":"'risk stratification'!BB54","v":0},{"$f":"'risk stratification'!BC54","v":0},{"$f":"'risk stratification'!BD54","v":0},{"$f":"'risk stratification'!BE54","v":0},{"$f":"'risk stratification'!BF54","v":0},{"$f":"'risk stratification'!BG54","v":0},{"$f":"'risk stratification'!BH54","v":0},{"$f":"'risk stratification'!BI54","v":0},{"$f":"'population lookup'!P52","v":0},null,53,null,null,{"$f":"HLOOKUP($W$5,admission10plus,Risk!$A55,FALSE)","v":1.4153132250580029},{"$f":"HLOOKUP($X$5,admission10plushighrisk,Risk!$A55,FALSE)","v":1.0270485282418453},{"$f":"HLOOKUP($Y$5,admissions59,Risk!$A55,FALSE)","v":1.0901502504173626},{"$f":"HLOOKUP($Z$5,admissions59highrisk,Risk!$A55,FALSE)","v":0.79240806642941874},{"$f":"HLOOKUP($AA$5,admission10plus,Risk!$A55,FALSE)","v":1.4153132250580029},{"$f":"HLOOKUP($AB$5,admission10plushighrisk,Risk!$A55,FALSE)","v":1.0270485282418453},{"$f":"HLOOKUP($AC$5,admissions59,Risk!$A55,FALSE)","v":1.0901502504173626},{"$f":"HLOOKUP($AC$5,admissions59highrisk,Risk!$A55,FALSE)","v":0.79240806642941874},null,{"$f":"Admissions!E60","v":0},{"$f":"Admissions!F60","v":0},{"$f":"Admissions!G60","v":0},{"$f":"Admissions!H60","v":0},0,0,0,0,null,0,0,0,0,0,0,0,0,null,null,1.4153132250580029,1.0270485282418453,1.0901502504173626,0.79240806642941874,1.4153132250580029,1.0270485282418453,1.0901502504173626,0.79240806642941874,null,null,0,0,0,0,0,0,0,0]
[null,null,null,null,null,null,null,49,"Y49",{"$f":"'risk stratification'!BB55","v":0},{"$f":"'risk stratification'!BC55","v":0},{"$f":"'risk stratification'!BD55","v":0},{"$f":"'risk stratification'!BE55","v":0},{"$f":"'risk stratification'!BF55","v":0},{"$f":"'risk stratification'!BG55","v":0},{"$f":"'risk stratification'!BH55","v":0},{"$f":"'risk stratification'!BI55","v":0},{"$f":"'population lookup'!P53","v":0},null,54,null,null,{"$f":"HLOOKUP($W$5,admission10plus,Risk!$A56,FALSE)","v":1.4223602484472042},{"$f":"HLOOKUP($X$5,admission10plushighrisk,Risk!$A56,FALSE)","v":1.0086206896551722},{"$f":"HLOOKUP($Y$5,admissions59,Risk!$A56,FALSE)","v":1.072378138847857},{"$f":"HLOOKUP($Z$5,admissions59highrisk,Risk!$A56,FALSE)","v":0.76332288401253934},{"$f":"HLOOKUP($AA$5,admission10plus,Risk!$A56,FALSE)","v":1.4223602484472042},{"$f":"HLOOKUP($AB$5,admission10plushighrisk,Risk!$A56,FALSE)","v":1.0086206896551722},{"$f":"HLOOKUP($AC$5,admissions59,Risk!$A56,FALSE)","v":1.072378138847857},{"$f":"HLOOKUP($AC$5,admissions59highrisk,Risk!$A56,FALSE)","v":0.76332288401253934},null,{"$f":"Admissions!E61","v":0},{"$f":"Admissions!F61","v":0},{"$f":"Admissions!G61","v":0},{"$f":"Admissions!H61","v":0},0,0,0,0,null,0,0,0,0,0,0,0,0,null,null,1.4223602484472042,1.0086206896551722,1.072378138847857,0.76332288401253934,1.4223602484472042,1.0086206896551722,1.072378138847857,0.76332288401253934,null,null,0,0,0,0,0,0,0,0]
[null,null,null,null,null,null,null,50,"Y50",{"$f":"'risk stratification'!BB56","v":0},{"$f":"'risk stratification'!BC56","v":0},{"$f":"'risk stratification'!BD56","v":0},{"$f":"'risk stratification'!BE56","v":0},{"$f":"'risk stratification'!BF56","v":0},{"$f":"'risk stratification'!BG56","v":0},{"$f":"'risk stratification'!BH56","v":0},{"$f":"'risk stratification'!BI56","v":0},{"$f":"'population lookup'!P54","v":0},null,55,null,null,{"$f":"HLOOKUP($W$5,admission10plus,Risk!$A57,FALSE)","v":1.3209393346379643},{"$f":"HLOOKUP($X$5,admission10plushighrisk,Risk!$A57,FALSE)","v":1.0006761325219735},{"$f":"HLOOKUP($Y$5,admissions59,Risk!$A57,FALSE)","v":1.0805105547373586},{"$f":"HLOOKUP($Z$5,admissions59highrisk,Risk!$A57,FALSE)","v":0.81322751322751419},{"$f":"HLOOKUP($AA$5,admission10plus,Risk!$A57,FALSE)","v":1.3209393346379643},{"$f":"HLOOKUP($AB$5,admission10plushighrisk,Risk!$A57,FALSE)","v":1.0006761325219735},{"$f":"HLOOKUP($AC$5,admissions59,Risk!$A57,FALSE)","v":1.0805105547373586},{"$f":"HLOOKUP($AC$5,admissions59highrisk,Risk!$A57,FALSE)","v":0.81322751322751419},null,{"$f":"Admissions!E62","v":0},{"$f":"Admissions!F62","v":0},{"$f":"Admissions!G62","v":0},{"$f":"Admissions!H62","v":0},0,0,0,0,null,0,0,0,0,0,0,0,0,null,null,{"$f":"HLOOKUP(AY$2,$W$2:$AV$106,$T56,FALSE)","v":1.3209393346379643},1.0006761325219735,1.0805105547373586,0.81322751322751419,1.3209393346379643,1.0006761325219735,1.0805105547373586,0.81322751322751419,null,null,0,0,0,0,0,0,0,0]
[null,null,null,null,null,null,null,51,"Y51",{"$f":"'risk stratification'!BB57","v":0},{"$f":"'risk stratification'!BC57","v":0},{"$f":"'risk stratification'!BD57","v":0},{"$f":"'risk stratification'!BE57","v":0},{"$f":"'risk stratification'!BF57","v":0},{"$f":"'risk stratification'!BG57","v":0},{"$f":"'risk stratification'!BH57","v":0},{"$f":"'risk stratification'!BI57","v":0},{"$f":"'population lookup'!P55","v":0},null,56,null,null,{"$f":"HLOOKUP($W$5,admission10plus,Risk!$A58,FALSE)","v":1.4352030947775629},{"$f":"HLOOKUP($X$5,admission10plushighrisk,Risk!$A58,FALSE)","v":1.0544488711819389},{"$f":"HLOOKUP($Y$5,admissions59,Risk!$A58,FALSE)","v":1.1173104434907015},{"$f":"HLOOKUP($Z$5,admissions59highrisk,Risk!$A58,FALSE)","v":0.81881881881881891},{"$f":"HLOOKUP($AA$5,admission10plus,Risk!$A58,FALSE)","v":1.4352030947775629},{"$f":"HLOOKUP($AB$5,admission10plushighrisk,Risk!$A58,FALSE)","v":1.0544488711819389},{"$f":"HLOOKUP($AC$5,admissions59,Risk!$A58,FALSE)","v":1.1173104434907015},{"$f":"HLOOKUP($AC$5,admissions59highrisk,Risk!$A58,FALSE)","v":0.81881881881881891},null,{"$f":"Admissions!E63","v":0},{"$f":"Admissions!F63","v":0},{"$f":"Admissions!G63","v":0},{"$f":"Admissions!H63","v":0},0,0,0,0,null,0,0,0,0,0,0,0,0,null,null,1.4352030947775629,1.0544488711819389,1.1173104434907015,0.81881881881881891,1.4352030947775629,1.0544488711819389,1.1173104434907015,0.81881881881881891,null,null,0,0,0,0,0,0,0,0]
[null,null,null,null,null,null,null,52,"Y52",{"$f":"'risk stratification'!BB58","v":0},{"$f":"'risk stratification'!BC58","v":0},{"$f":"'risk stratification'!BD58","v":0},{"$f":"'risk stratification'!BE58","v":0},{"$f":"'risk stratification'!BF58","v":0},{"$f":"'risk stratification'!BG58","v":0},{"$f":"'risk stratification'!BH58","v":0},{"$f":"'risk stratification'!BI58","v":0},{"$f":"'population lookup'!P56","v":0},null,57,null,null,{"$f":"HLOOKUP($W$5,admission10plus,Risk!$A59,FALSE)","v":1.2212741751990879},{"$f":"HLOOKUP($X$5,admission10plushighrisk,Risk!$A59,FALSE)","v":0.95454545454545381},{"$f":"HLOOKUP($Y$5,admissions59,Risk!$A59,FALSE)","v":1.0167992926613609},{"$f":"HLOOKUP($Z$5,admissions59highrisk,Risk!$A59,FALSE)","v":0.78745318352059879},{"$f":"HLOOKUP($AA$5,admission10plus,Risk!$A59,FALSE)","v":1.2212741751990879},{"$f":"HLOOKUP($AB$5,admission10plushighrisk,Risk!$A59,FALSE)","v":0.95454545454545381},{"$f":"HLOOKUP($AC$5,admissions59,Risk!$A59,FALSE)","v":1.0167992926613609},{"$f":"HLOOKUP($AC$5,admissions59highrisk,Risk!$A59,FALSE)","v":0.78745318352059879},null,{"$f":"Admissions!E64","v":0},{"$f":"Admissions!F64","v":0},{"$f":"Admissions!G64","v":0},{"$f":"Admissions!H64","v":0},0,0,0,0,null,0,0,0,0,0,0,0,0,null,null,1.2212741751990879,0.95454545454545381,1.0167992926613609,0.78745318352059879,1.2212741751990879,0.95454545454545381,1.0167992926613609,0.78745318352059879,null,null,0,0,0,0,0,0,0,0]
[null,null,null,null,null,null,null,53,"Y53",{"$f":"'risk stratification'!BB59","v":0},{"$f":"'risk stratification'!BC59","v":0},{"$f":"'risk stratification'!BD59","v":0},{"$f":"'risk stratification'!BE59","v":0},{"$f":"'risk stratification'!BF59","v":0},{"$f":"'risk stratification'!BG59","v":0},{"$f":"'risk stratification'!BH59","v":0},{"$f":"'risk stratification'!BI59","v":0},{"$f":"'population lookup'!P57","v":0},null,58,null,null,{"$f":"HLOOKUP($W$5,admission10plus,Risk!$A60,FALSE)","v":1.2442188381274673},{"$f":"HLOOKUP($X$5,admission10plushighrisk,Risk!$A60,FALSE)","v":0.95504962054874454},{"$f":"HLOOKUP($Y$5,admissions59,Risk!$A60,FALSE)","v":1.0086021505376346},{"$f":"HLOOKUP($Z$5,admissions59highrisk,Risk!$A60,FALSE)","v":0.77382580939352497},{"$f":"HLOOKUP($AA$5,admission10plus,Risk!$A60,FALSE)","v":1.2442188381274673},{"$f":"HLOOKUP($AB$5,admission10plushighrisk,Risk!$A60,FALSE)","v":0.95504962054874454},{"$f":"HLOOKUP($AC$5,admissions59,Risk!$A60,FALSE)","v":1.0086021505376346},{"$f":"HLOOKUP($AC$5,admissions59highrisk,Risk!$A60,FALSE)","v":0.77382580939352497},null,{"$f":"Admissions!E65","v":0},{"$f":"Admissions!F65","v":0},{"$f":"Admissions!G65","v":0},{"$f":"Admissions!H65","v":0},0,0,0,0,null,0,0,0,0,0,0,0,0,null,null,1.2442188381274673,0.95504962054874454,1.0086021505376346,0.77382580939352497,1.2442188381274673,0.95504962054874454,1.0086021505376346,0.77382580939352497,null,null,0,0,0,0,0,0,0,0]
[null,null,null,null,null,null,null,54,"Y54",{"$f":"'risk stratification'!BB60","v":0},{"$f":"'risk stratification'!BC60","v":0},{"$f":"'risk stratification'!BD60","v":0},{"$f":"'risk stratification'!BE60","v":0},{"$f":"'risk stratification'!BF60","v":0},{"$f":"'risk stratification'!BG60","v":0},{"$f":"'risk stratification'!BH60","v":0},{"$f":"'risk stratification'!BI60","v":0},{"$f":"'population lookup'!P58","v":0},null,59,null,null,{"$f":"HLOOKUP($W$5,admission10plus,Risk!$A61,FALSE)","v":1.3255425709515849},{"$f":"HLOOKUP($X$5,admission10plushighrisk,Risk!$A61,FALSE)","v":0.98974358974358934},{"$f":"HLOOKUP($Y$5,admissions59,Risk!$A61,FALSE)","v":1.0563146997929616},{"$f":"HLOOKUP($Z$5,admissions59highrisk,Risk!$A61,FALSE)","v":0.77981651376146888},{"$f":"HLOOKUP($AA$5,admission10plus,Risk!$A61,FALSE)","v":1.3255425709515849},{"$f":"HLOOKUP($AB$5,admission10plushighrisk,Risk!$A61,FALSE)","v":0.98974358974358934},{"$f":"HLOOKUP($AC$5,admissions59,Risk!$A61,FALSE)","v":1.0563146997929616},{"$f":"HLOOKUP($AC$5,admissions59highrisk,Risk!$A61,FALSE)","v":0.77981651376146888},null,{"$f":"Admissions!E66","v":0},{"$f":"Admissions!F66","v":0},{"$f":"Admissions!G66","v":0},{"$f":"Admissions!H66","v":0},0,0,0,0,null,0,0,0,0,0,0,0,0,null,null,1.3255425709515849,0.98974358974358934,1.0563146997929616,0.77981651376146888,1.3255425709515849,0.98974358974358934,1.0563146997929616,0.77981651376146888,null,null,0,0,0,0,0,0,0,0]
[null,null,null,null,null,null,null,55,"Y55",{"$f":"'risk stratification'!BB61","v":0},{"$f":"'risk stratification'!BC61","v":0},{"$f":"'risk stratification'!BD61","v":0},{"$f":"'risk stratification'!BE61","v":0},{"$f":"'risk stratification'!BF61","v":0},{"$f":"'risk stratification'!BG61","v":0},{"$f":"'risk stratification'!BH61","v":0},{"$f":"'risk stratification'!BI61","v":0},{"$f":"'population lookup'!P59","v":0},null,60,null,null,{"$f":"HLOOKUP($W$5,admission10plus,Risk!$A62,FALSE)","v":1.2155717761557179},{"$f":"HLOOKUP($X$5,admission10plushighrisk,Risk!$A62,FALSE)","v":0.98100949525237413},{"$f":"HLOOKUP($Y$5,admissions59,Risk!$A62,FALSE)","v":1.0365616491637495},{"$f":"HLOOKUP($Z$5,admissions59highrisk,Risk!$A62,FALSE)","v":0.82879537953795379},{"$f":"HLOOKUP($AA$5,admission10plus,Risk!$A62,FALSE)","v":1.2155717761557179},{"$f":"HLOOKUP($AB$5,admission10plushighrisk,Risk!$A62,FALSE)","v":0.98100949525237413},{"$f":"HLOOKUP($AC$5,admissions59,Risk!$A62,FALSE)","v":1.0365616491637495},{"$f":"HLOOKUP($AC$5,admissions59highrisk,Risk!$A62,FALSE)","v":0.82879537953795379},null,{"$f":"Admissions!E67","v":0},{"$f":"Admissions!F67","v":0},{"$f":"Admissions!G67","v":0},{"$f":"Admissions!H67","v":0},0,0,0,0,null,0,0,0,0,0,0,0,0,null,null,1.2155717761557179,0.98100949525237413,1.0365616491637495,0.82879537953795379,1.2155717761557179,0.98100949525237413,1.0365616491637495,0.82879537953795379,null,null,0,0,0,0,0,0,0,0]
[null,null,null,null,null,null,null,56,"Y56",{"$f":"'risk stratification'!BB62","v":0},{"$f":"'risk stratification'!BC62","v":0},{"$f":"'risk stratification'!BD62","v":0},{"$f":"'risk stratification'!BE62","v":0},{"$f":"'risk stratification'!BF62","v":0},{"$f":"'risk stratification'!BG62","v":0},{"$f":"'risk stratification'!BH62","v":0},{"$f":"'risk stratification'!BI62","v":0},{"$f":"'population lookup'!P60","v":0},null,61,null,null,{"$f":"HLOOKUP($W$5,admission10plus,Risk!$A63,FALSE)","v":1.2958918356734286},{"$f":"HLOOKUP($X$5,admission10plushighrisk,Risk!$A63,FALSE)","v":1.0290791599353797},{"$f":"HLOOKUP($Y$5,admissions59,Risk!$A63,FALSE)","v":1.0794238683127573},{"$f":"HLOOKUP($Z$5,admissions59highrisk,Risk!$A63,FALSE)","v":0.85646346735841006},{"$f":"HLOOKUP($AA$5,admission10plus,Risk!$A63,FALSE)","v":1.2958918356734286},{"$f":"HLOOKUP($AB$5,admission10plushighrisk,Risk!$A63,FALSE)","v":1.0290791599353797},{"$f":"HLOOKUP($AC$5,admissions59,Risk!$A63,FALSE)","v":1.0794238683127573},{"$f":"HLOOKUP($AC$5,admissions59highrisk,Risk!$A63,FALSE)","v":0.85646346735841006},null,{"$f":"Admissions!E68","v":0},{"$f":"Admissions!F68","v":0},{"$f":"Admissions!G68","v":0},{"$f":"Admissions!H68","v":0},0,0,0,0,null,0,0,0,0,0,0,0,0,null,null,1.2958918356734286,1.0290791599353797,1.0794238683127573,0.85646346735841006,1.2958918356734286,1.0290791599353797,1.0794238683127573,0.85646346735841006,null,null,0,0,0,0,0,0,0,0]
[null,null,null,null,null,null,null,57,"Y57",{"$f":"'risk stratification'!BB63","v":0},{"$f":"'risk stratification'!BC63","v":0},{"$f":"'risk stratification'!BD63","v":0},{"$f":"'risk stratification'!BE63","v":0},{"$f":"'risk stratification'!BF63","v":0},{"$f":"'risk stratification'!BG63","v":0},{"$f":"'risk stratification'!BH63","v":0},{"$f":"'risk stratification'!BI63","v":0},{"$f":"'population lookup'!P61","v":0},null,62,null,null,{"$f":"HLOOKUP($W$5,admission10plus,Risk!$A64,FALSE)","v":1.2165281625115429},{"$f":"HLOOKUP($X$5,admission10plushighrisk,Risk!$A64,FALSE)","v":1.0099999999999993},{"$f":"HLOOKUP($Y$5,admissions59,Risk!$A64,FALSE)","v":1.0562476406191019},{"$f":"HLOOKUP($Z$5,admissions59highrisk,Risk!$A64,FALSE)","v":0.86531585220500595},{"$f":"HLOOKUP($AA$5,admission10plus,Risk!$A64,FALSE)","v":1.2165281625115429},{"$f":"HLOOKUP($AB$5,admission10plushighrisk,Risk!$A64,FALSE)","v":1.0099999999999993},{"$f":"HLOOKUP($AC$5,admissions59,Risk!$A64,FALSE)","v":1.0562476406191019},{"$f":"HLOOKUP($AC$5,admissions59highrisk,Risk!$A64,FALSE)","v":0.86531585220500595},null,{"$f":"Admissions!E69","v":0},{"$f":"Admissions!F69","v":0},{"$f":"Admissions!G69","v":0},{"$f":"Admissions!H69","v":0},0,0,0,0,null,0,0,0,0,0,0,0,0,null,null,1.2165281625115429,1.0099999999999993,1.0562476406191019,0.86531585220500595,1.2165281625115429,1.0099999999999993,1.0562476406191019,0.86531585220500595,null,null,0,0,0,0,0,0,0,0]
[null,null,null,null,null,null,null,58,"Y58",{"$f":"'risk stratification'!BB64","v":0},{"$f":"'risk stratification'!BC64","v":0},{"$f":"'risk stratification'!BD64","v":0},{"$f":"'risk stratification'!BE64","v":0},{"$f":"'risk stratification'!BF64","v":0},{"$f":"'risk stratification'!BG64","v":0},{"$f":"'risk stratification'!BH64","v":0},{"$f":"'risk stratification'!BI64","v":0},{"$f":"'population lookup'!P62","v":0},null,63,null,null,{"$f":"HLOOKUP($W$5,admission10plus,Risk!$A65,FALSE)","v":1.212212212212213},{"$f":"HLOOKUP($X$5,admission10plushighrisk,Risk!$A65,FALSE)","v":0.98519652884124553},{"$f":"HLOOKUP($Y$5,admissions59,Risk!$A65,FALSE)","v":1.0437956204379557},{"$f":"HLOOKUP($Z$5,admissions59highrisk,Risk!$A65,FALSE)","v":0.83290816326530581},{"$f":"HLOOKUP($AA$5,admission10plus,Risk!$A65,FALSE)","v":1.212212212212213},{"$f":"HLOOKUP($AB$5,admission10plushighrisk,Risk!$A65,FALSE)","v":0.98519652884124553},{"$f":"HLOOKUP($AC$5,admissions59,Risk!$A65,FALSE)","v":1.0437956204379557},{"$f":"HLOOKUP($AC$5,admissions59highrisk,Risk!$A65,FALSE)","v":0.83290816326530581},null,{"$f":"Admissions!E70","v":0},{"$f":"Admissions!F70","v":0},{"$f":"Admissions!G70","v":0},{"$f":"Admissions!H70","v":0},0,0,0,0,null,0,0,0,0,0,0,0,0,null,null,1.212212212212213,0.98519652884124553,1.0437956204379557,0.83290816326530581,1.212212212212213,0.98519652884124553,1.0437956204379557,0.83290816326530581,null,null,0,0,0,0,0,0,0,0]
[null,null,null,null,null,null,null,59,"Y59",{"$f":"'risk stratification'!BB65","v":0},{"$f":"'risk stratification'!BC65","v":0},{"$f":"'risk stratification'!BD65","v":0},{"$f":"'risk stratification'!BE65","v":0},{"$f":"'risk stratification'!BF65","v":0},{"$f":"'risk stratification'!BG65","v":0},{"$f":"'risk stratification'!BH65","v":0},{"$f":"'risk stratification'!BI65","v":0},{"$f":"'population lookup'!P63","v":0},null,64,null,null,{"$f":"HLOOKUP($W$5,admission10plus,Risk!$A66,FALSE)","v":1.1808650065530808},{"$f":"HLOOKUP($X$5,admission10plushighrisk,Risk!$A66,FALSE)","v":0.99048913043478259},{"$f":"HLOOKUP($Y$5,admissions59,Risk!$A66,FALSE)","v":1.0626373626373626},{"$f":"HLOOKUP($Z$5,admissions59highrisk,Risk!$A66,FALSE)","v":0.88463027487417689},{"$f":"HLOOKUP($AA$5,admission10plus,Risk!$A66,FALSE)","v":1.1808650065530808},{"$f":"HLOOKUP($AB$5,admission10plushighrisk,Risk!$A66,FALSE)","v":0.99048913043478259},{"$f":"HLOOKUP($AC$5,admissions59,Risk!$A66,FALSE)","v":1.0626373626373626},{"$f":"HLOOKUP($AC$5,admissions59highrisk,Risk!$A66,FALSE)","v":0.88463027487417689},null,{"$f":"Admissions!E71","v":0},{"$f":"Admissions!F71","v":0},{"$f":"Admissions!G71","v":0},{"$f":"Admissions!H71","v":0},0,0,0,0,null,0,0,0,0,0,0,0,0,null,null,1.1808650065530808,0.99048913043478259,1.0626373626373626,0.88463027487417689,1.1808650065530808,0.99048913043478259,1.0626373626373626,0.88463027487417689,null,null,0,0,0,0,0,0,0,0]
[null,null,null,null,null,null,null,60,"Y60",{"$f":"'risk stratification'!BB66","v":0},{"$f":"'risk stratification'!BC66","v":0},{"$f":"'risk stratification'!BD66","v":0},{"$f":"'risk stratification'!BE66","v":0},{"$f":"'risk stratification'!BF66","v":0},{"$f":"'risk stratification'!BG66","v":0},{"$f":"'risk stratification'!BH66","v":0},{"$f":"'risk stratification'!BI66","v":0},{"$f":"'population lookup'!P64","v":0},null,65,null,null,{"$f":"HLOOKUP($W$5,admission10plus,Risk!$A67,FALSE)","v":1.1644144144144142},{"$f":"HLOOKUP($X$5,admission10plushighrisk,Risk!$A67,FALSE)","v":0.95792426367461436},{"$f":"HLOOKUP($Y$5,admissions59,Risk!$A67,FALSE)","v":1.0225925925925912},{"$f":"HLOOKUP($Z$5,admissions59highrisk,Risk!$A67,FALSE)","v":0.83822953388170784},{"$f":"HLOOKUP($AA$5,admission10plus,Risk!$A67,FALSE)","v":1.1644144144144142},{"$f":"HLOOKUP($AB$5,admission10plushighrisk,Risk!$A67,FALSE)","v":0.95792426367461436},{"$f":"HLOOKUP($AC$5,admissions59,Risk!$A67,FALSE)","v":1.0225925925925912},{"$f":"HLOOKUP($AC$5,admissions59highrisk,Risk!$A67,FALSE)","v":0.83822953388170784},null,{"$f":"Admissions!E72","v":0},{"$f":"Admissions!F72","v":0},{"$f":"Admissions!G72","v":0},{"$f":"Admissions!H72","v":0},0,0,0,0,null,{"$f":"admissionunioverride","v":0},0,0,0,0,0,0,0,null,null,{"$f":"HLOOKUP(AY$2,$W$2:$AV$106,$T66,FALSE)","v":1.1644144144144142},0.95792426367461436,1.0225925925925912,0.83822953388170784,1.1644144144144142,0.95792426367461436,1.0225925925925912,0.83822953388170784,null,null,0,0,0,0,0,0,0,0]
[null,null,null,null,null,null,null,61,"Y61",{"$f":"'risk stratification'!BB67","v":0},{"$f":"'risk stratification'!BC67","v":0},{"$f":"'risk stratification'!BD67","v":0},{"$f":"'risk stratification'!BE67","v":0},{"$f":"'risk stratification'!BF67","v":0},{"$f":"'risk stratification'!BG67","v":0},{"$f":"'risk stratification'!BH67","v":0},{"$f":"'risk stratification'!BI67","v":0},{"$f":"'population lookup'!P65","v":0},null,66,null,null,{"$f":"HLOOKUP($W$5,admission10plus,Risk!$A68,FALSE)","v":1.1472366148531945},{"$f":"HLOOKUP($X$5,admission10plushighrisk,Risk!$A68,FALSE)","v":0.96688741721854321},{"$f":"HLOOKUP($Y$5,admissions59,Risk!$A68,FALSE)","v":1.0142543859649138},{"$f":"HLOOKUP($Z$5,admissions59highrisk,Risk!$A68,FALSE)","v":0.85223367697594543},{"$f":"HLOOKUP($AA$5,admission10plus,Risk!$A68,FALSE)","v":1.1472366148531945},{"$f":"HLOOKUP($AB$5,admission10plushighrisk,Risk!$A68,FALSE)","v":0.96688741721854321},{"$f":"HLOOKUP($AC$5,admissions59,Risk!$A68,FALSE)","v":1.0142543859649138},{"$f":"HLOOKUP($AC$5,admissions59highrisk,Risk!$A68,FALSE)","v":0.85223367697594543},null,{"$f":"Admissions!E73","v":0},{"$f":"Admissions!F73","v":0},{"$f":"Admissions!G73","v":0},{"$f":"Admissions!H73","v":0},0,0,0,0,null,0,0,0,0,0,0,0,0,null,null,1.1472366148531945,0.96688741721854321,1.0142543859649138,0.85223367697594543,1.1472366148531945,0.96688741721854321,1.0142543859649138,0.85223367697594543,null,null,0,0,0,0,0,0,0,0]
[null,null,null,null,null,null,null,62,"Y62",{"$f":"'risk stratification'!BB68","v":0},{"$f":"'risk stratification'!BC68","v":0},{"$f":"'risk stratification'!BD68","v":0},{"$f":"'risk stratification'!BE68","v":0},{"$f":"'risk stratification'!BF68","v":0},{"$f":"'risk stratification'!BG68","v":0},{"$f":"'risk stratification'!BH68","v":0},{"$f":"'risk stratification'!BI68","v":0},{"$f":"'population lookup'!P66","v":0},null,67,null,null,{"$f":"HLOOKUP($W$5,admission10plus,Risk!$A69,FALSE)","v":1.1727909011373576},{"$f":"HLOOKUP($X$5,admission10plushighrisk,Risk!$A69,FALSE)","v":0.99061662198391509},{"$f":"HLOOKUP($Y$5,admissions59,Risk!$A69,FALSE)","v":1.0427255985267041},{"$f":"HLOOKUP($Z$5,admissions59highrisk,Risk!$A69,FALSE)","v":0.87605850654349549},{"$f":"HLOOKUP($AA$5,admission10plus,Risk!$A69,FALSE)","v":1.1727909011373576},{"$f":"HLOOKUP($AB$5,admission10plushighrisk,Risk!$A69,FALSE)","v":0.99061662198391509},{"$f":"HLOOKUP($AC$5,admissions59,Risk!$A69,FALSE)","v":1.0427255985267041},{"$f":"HLOOKUP($AC$5,admissions59highrisk,Risk!$A69,FALSE)","v":0.87605850654349549},null,{"$f":"Admissions!E74","v":0},{"$f":"Admissions!F74","v":0},{"$f":"Admissions!G74","v":0},{"$f":"Admissions!H74","v":0},0,0,0,0,null,0,0,0,0,0,0,0,0,null,null,1.1727909011373576,0.99061662198391509,1.0427255985267041,0.87605850654349549,1.1727909011373576,0.99061662198391509,1.0427255985267041,0.87605850654349549,null,null,0,0,0,0,0,0,0,0]
[null,null,null,null,null,null,null,63,"Y63",{"$f":"'risk stratification'!BB69","v":0},{"$f":"'risk stratification'!BC69","v":0},{"$f":"'risk stratification'!BD69","v":0},{"$f":"'risk stratification'!BE69","v":0},{"$f":"'risk stratification'!BF69","v":0},{"$f":"'risk stratification'!BG69","v":0},{"$f":"'risk stratification'!BH69","v":0},{"$f":"'risk stratification'!BI69","v":0},{"$f":"'population lookup'!P67","v":0},null,68,null,null,{"$f":"HLOOKUP($W$5,admission10plus,Risk!$A70,FALSE)","v":1.0801094177413046},{"$f":"HLOOKUP($X$5,admission10plushighrisk,Risk!$A70,FALSE)","v":0.94464794464794366},{"$f":"HLOOKUP($Y$5,admissions59,Risk!$A70,FALSE)","v":0.99830451000339249},{"$f":"HLOOKUP($Z$5,admissions59highrisk,Risk!$A70,FALSE)","v":0.87044967880085522},{"$f":"HLOOKUP($AA$5,admission10plus,Risk!$A70,FALSE)","v":1.0801094177413046},{"$f":"HLOOKUP($AB$5,admission10plushighrisk,Risk!$A70,FALSE)","v":0.94464794464794366},{"$f":"HLOOKUP($AC$5,admissions59,Risk!$A70,FALSE)","v":0.99830451000339249},{"$f":"HLOOKUP($AC$5,admissions59highrisk,Risk!$A70,FALSE)","v":0.87044967880085522},null,{"$f":"Admissions!E75","v":0},{"$f":"Admissions!F75","v":0},{"$f":"Admissions!G75","v":0},{"$f":"Admissions!H75","v":0},0,0,0,0,null,0,0,0,0,0,0,0,0,null,null,1.0801094177413046,0.94464794464794366,0.99830451000339249,0.87044967880085522,1.0801094177413046,0.94464794464794366,0.99830451000339249,0.87044967880085522,null,null,0,0,0,0,0,0,0,0]
[null,null,null,null,null,null,null,64,"Y64",{"$f":"'risk stratification'!BB70","v":0},{"$f":"'risk stratification'!BC70","v":0},{"$f":"'risk stratification'!BD70","v":0},{"$f":"'risk stratification'!BE70","v":0},{"$f":"'risk stratification'!BF70","v":0},{"$f":"'risk stratification'!BG70","v":0},{"$f":"'risk stratification'!BH70","v":0},{"$f":"'risk stratification'!BI70","v":0},{"$f":"'population lookup'!P68","v":0},null,69,null,null,{"$f":"HLOOKUP($W$5,admission10plus,Risk!$A71,FALSE)","v":1.1475796930342377},{"$f":"HLOOKUP($X$5,admission10plushighrisk,Risk!$A71,FALSE)","v":0.99676767676767752},{"$f":"HLOOKUP($Y$5,admissions59,Risk!$A71,FALSE)","v":1.032726045883942},{"$f":"HLOOKUP($Z$5,admissions59highrisk,Risk!$A71,FALSE)","v":0.89241622574955926},{"$f":"HLOOKUP($AA$5,admission10plus,Risk!$A71,FALSE)","v":1.1475796930342377},{"$f":"HLOOKUP($AB$5,admission10plushighrisk,Risk!$A71,FALSE)","v":0.99676767676767752},{"$f":"HLOOKUP($AC$5,admissions59,Risk!$A71,FALSE)","v":1.032726045883942},{"$f":"HLOOKUP($AC$5,admissions59highrisk,Risk!$A71,FALSE)","v":0.89241622574955926},null,{"$f":"Admissions!E76","v":0},{"$f":"Admissions!F76","v":0},{"$f":"Admissions!G76","v":0},{"$f":"Admissions!H76","v":0},0,0,0,0,null,0,0,0,0,0,0,0,0,null,null,1.1475796930342377,0.99676767676767752,1.032726045883942,0.89241622574955926,1.1475796930342377,0.99676767676767752,1.032726045883942,0.89241622574955926,null,null,{"$f":"IF(ISERROR(J70*AY70),\"\",(J70*AY70))","v":0},{"$f":"IF(ISERROR(K70*AZ70),\"\",(K70*AZ70))","v":0},{"$f":"IF(ISERROR(L70*BA70),\"\",(L70*BA70))","v":0},{"$f":"IF(ISERROR(M70*BB70),\"\",(M70*BB70))","v":0},{"$f":"IF(ISERROR(N70*BC70),\"\",(N70*BC70))","v":0},{"$f":"IF(ISERROR(O70*BD70),\"\",(O70*BD70))","v":0},{"$f":"IF(ISERROR(P70*BE70),\"\",(P70*BE70))","v":0},{"$f":"IF(ISERROR(Q70*BF70),\"\",(Q70*BF70))","v":0}]
[null,null,null,null,null,null,null,65,"Y65",{"$f":"'risk stratification'!BB71","v":0},{"$f":"'risk stratification'!BC71","v":0},{"$f":"'risk stratification'!BD71","v":0},{"$f":"'risk stratification'!BE71","v":0},{"$f":"'risk stratification'!BF71","v":0},{"$f":"'risk stratification'!BG71","v":0},{"$f":"'risk stratification'!BH71","v":0},{"$f":"'risk stratification'!BI71","v":0},{"$f":"'population lookup'!P69","v":0},null,70,null,null,{"$f":"HLOOKUP($W$5,admission10plus,Risk!$A72,FALSE)","v":1.0891861761426982},{"$f":"HLOOKUP($X$5,admission10plushighrisk,Risk!$A72,FALSE)","v":0.96927803379416166},{"$f":"HLOOKUP($Y$5,admissions59,Risk!$A72,FALSE)","v":1.0077369439071575},{"$f":"HLOOKUP($Z$5,admissions59highrisk,Risk!$A72,FALSE)","v":0.89194699286442403},{"$f":"HLOOKUP($AA$5,admission10plus,Risk!$A72,FALSE)","v":1.0891861761426982},{"$f":"HLOOKUP($AB$5,admission10plushighrisk,Risk!$A72,FALSE)","v":0.96927803379416166},{"$f":"HLOOKUP($AC$5,admissions59,Risk!$A72,FALSE)","v":1.0077369439071575},{"$f":"HLOOKUP($AC$5,admissions59highrisk,Risk!$A72,FALSE)","v":0.89194699286442403},null,{"$f":"Admissions!E77","v":0},{"$f":"Admissions!F77","v":0},{"$f":"Admissions!G77","v":0},{"$f":"Admissions!H77","v":0},{"$f":"AF71","v":0},{"$f":"AG71","v":0},{"$f":"AH71","v":0},{"$f":"AI71","v":0},null,0,0,0,0,0,0,0,0,null,null,1.0891861761426982,0.96927803379416166,1.0077369439071575,0.89194699286442403,1.0891861761426982,0.96927803379416166,1.0077369439071575,0.89194699286442403,null,null,0,0,0,0,0,0,0,0]
[null,null,null,null,null,null,null,66,"Y66",{"$f":"'risk stratification'!BB72","v":19223.521160364318},{"$f":"'risk stratification'!BC72","v":18705.613300259414},{"$f":"'risk stratification'!BD72","v":22285.270568631535},{"$f":"'risk stratification'!BE72","v":21310.385184904662},{"$f":"'risk stratification'!BF72","v":141723.88324402113},{"$f":"'risk stratification'!BG72","v":137905.64867167824},{"$f":"'risk stratification'!BH72","v":164296.38762757758},{"$f":"'risk stratification'!BI72","v":157109.12255022628},{"$f":"'population lookup'!P70","v":5930729},null,71,null,null,{"$f":"HLOOKUP($W$5,admission10plus,Risk!$A73,FALSE)","v":1.128623188405796},{"$f":"HLOOKUP($X$5,admission10plushighrisk,Risk!$A73,FALSE)","v":0.98621973929236517},{"$f":"HLOOKUP($Y$5,admissions59,Risk!$A73,FALSE)","v":1.0232924142272588},{"$f":"HLOOKUP($Z$5,admissions59highrisk,Risk!$A73,FALSE)","v":0.89041994750656084},{"$f":"HLOOKUP($AA$5,admission10plus,Risk!$A73,FALSE)","v":1.128623188405796},{"$f":"HLOOKUP($AB$5,admission10plushighrisk,Risk!$A73,FALSE)","v":0.98621973929236517},{"$f":"HLOOKUP($AC$5,admissions59,Risk!$A73,FALSE)","v":1.0232924142272588},{"$f":"HLOOKUP($AC$5,admissions59highrisk,Risk!$A73,FALSE)","v":0.89041994750656084},null,{"$f":"Admissions!E78","v":0},{"$f":"Admissions!F78","v":0},{"$f":"Admissions!G78","v":0},{"$f":"Admissions!H78","v":0},0,0,0,0,null,0,0,0,0,0,0,0,0,null,null,1.128623188405796,0.98621973929236517,1.0232924142272588,0.89041994750656084,1.128623188405796,0.98621973929236517,1.0232924142272588,0.89041994750656084,null,null,21696.111744396665,18447.84507228564,22804.34832188264,18975.1920576874,159952.8609801179,136005.27287992701,168123.24714424141,139893.09665397432]
[null,null,null,null,null,null,null,67,"Y67",{"$f":"'risk stratification'!BB73","v":18131.698592571684},{"$f":"'risk stratification'!BC73","v":17624.961164657016},{"$f":"'risk stratification'!BD73","v":20602.043553655683},{"$f":"'risk stratification'!BE73","v":19651.910876315684},{"$f":"'risk stratification'!BF73","v":132887.96951244102},{"$f":"'risk stratification'!BG73","v":129174.06992781385},{"$f":"'risk stratification'!BH73","v":150993.22998749849},{"$f":"'risk stratification'!BI73","v":144029.66826632252},{"$f":"'population lookup'!P71","v":5755848},null,72,null,null,{"$f":"HLOOKUP($W$5,admission10plus,Risk!$A74,FALSE)","v":1.1012491781722555},{"$f":"HLOOKUP($X$5,admission10plushighrisk,Risk!$A74,FALSE)","v":0.95238095238095311},{"$f":"HLOOKUP($Y$5,admissions59,Risk!$A74,FALSE)","v":1.0081851538244437},{"$f":"HLOOKUP($Z$5,admissions59highrisk,Risk!$A74,FALSE)","v":0.86547619047618962},{"$f":"HLOOKUP($AA$5,admission10plus,Risk!$A74,FALSE)","v":1.1012491781722555},{"$f":"HLOOKUP($AB$5,admission10plushighrisk,Risk!$A74,FALSE)","v":0.95238095238095311},{"$f":"HLOOKUP($AC$5,admissions59,Risk!$A74,FALSE)","v":1.0081851538244437},{"$f":"HLOOKUP($AC$5,admissions59highrisk,Risk!$A74,FALSE)","v":0.86547619047618962},null,{"$f":"Admissions!E79","v":0},{"$f":"Admissions!F79","v":0},{"$f":"Admissions!G79","v":0},{"$f":"Admissions!H79","v":0},0,0,0,0,null,0,0,0,0,0,0,0,0,null,null,1.1012491781722555,0.95238095238095311,1.0081851538244437,0.86547619047618962,1.1012491781722555,0.95238095238095311,1.0081851538244437,0.86547619047618962,null,null,19967.518173936609,16785.67729967336,20770.674449240243,17008.260960811294,146342.76721455541,123022.92374077519,152229.13280139578,124654.24860668616]
[null,null,null,null,null,null,null,68,"Y68",{"$f":"'risk stratification'!BB74","v":16327.576802507838},{"$f":"'risk stratification'!BC74","v":15958.508610769413},{"$f":"'risk stratification'!BD74","v":18409.121403912541},{"$f":"'risk stratification'!BE74","v":17700.510475774772},{"$f":"'risk stratification'!BF74","v":118811.43887147335},{"$f":"'risk stratification'!BG74","v":116125.82768540931},{"$f":"'risk stratification'!BH74","v":133958.28596087455},{"$f":"'risk stratification'!BI74","v":128801.9124836316},{"$f":"'population lookup'!P72","v":5414407},null,73,null,null,{"$f":"HLOOKUP($W$5,admission10plus,Risk!$A75,FALSE)","v":1.1025402726146218},{"$f":"HLOOKUP($X$5,admission10plushighrisk,Risk!$A75,FALSE)","v":0.99257825104872632},{"$f":"HLOOKUP($Y$5,admissions59,Risk!$A75,FALSE)","v":1.0373376623376618},{"$f":"HLOOKUP($Z$5,admissions59highrisk,Risk!$A75,FALSE)","v":0.92048401037164973},{"$f":"HLOOKUP($AA$5,admission10plus,Risk!$A75,FALSE)","v":1.1025402726146218},{"$f":"HLOOKUP($AB$5,admission10plushighrisk,Risk!$A75,FALSE)","v":0.99257825104872632},{"$f":"HLOOKUP($AC$5,admissions59,Risk!$A75,FALSE)","v":1.0373376623376618},{"$f":"HLOOKUP($AC$5,admissions59highrisk,Risk!$A75,FALSE)","v":0.92048401037164973},null,{"$f":"Admissions!E80","v":0},{"$f":"Admissions!F80","v":0},{"$f":"Admissions!G80","v":0},{"$f":"Admissions!H80","v":0},0,0,0,0,null,0,0,0,0,0,0,0,0,null,null,1.1025402726146218,0.99257825104872632,1.0373376623376618,0.92048401037164973,1.1025402726146218,0.99257825104872632,1.0373376623376618,0.92048401037164973,null,null,18001.810978973168,15840.068566223543,19096.47496282485,16293.03686836656,130994.39620308971,115263.97094556934,138959.97520941362,118560.10094647147]
[null,null,null,null,null,null,null,69,"Y69",{"$f":"'risk stratification'!BB75","v":13956.466661118855},{"$f":"'risk stratification'!BC75","v":13606.680529261239},{"$f":"'risk stratification'!BD75","v":15775.354546778455},{"$f":"'risk stratification'!BE75","v":15239.015811263445},{"$f":"'risk stratification'!BF75","v":113239.48218112219},{"$f":"'risk stratification'!BG75","v":110401.39992094369},{"$f":"'risk stratification'!BH75","v":127997.50993405038},{"$f":"'risk stratification'!BI75","v":123645.78380177669},{"$f":"'population lookup'!P73","v":4547270},null,74,null,null,{"$f":"HLOOKUP($W$5,admission10plus,Risk!$A76,FALSE)","v":1.1014263074484949},{"$f":"HLOOKUP($X$5,admission10plushighrisk,Risk!$A76,FALSE)","v":0.95276872964169357},{"$f":"HLOOKUP($Y$5,admissions59,Risk!$A76,FALSE)","v":0.99681020733652215},{"$f":"HLOOKUP($Z$5,admissions59highrisk,Risk!$A76,FALSE)","v":0.85847033595425248},{"$f":"HLOOKUP($AA$5,admission10plus,Risk!$A76,FALSE)","v":1.1014263074484949},{"$f":"HLOOKUP($AB$5,admission10plushighrisk,Risk!$A76,FALSE)","v":0.95276872964169357},{"$f":"HLOOKUP($AC$5,admissions59,Risk!$A76,FALSE)","v":0.99681020733652215},{"$f":"HLOOKUP($AC$5,admissions59highrisk,Risk!$A76,FALSE)","v":0.85847033595425248},null,{"$f":"Admissions!E81","v":0},{"$f":"Admissions!F81","v":0},{"$f":"Admissions!G81","v":0},{"$f":"Admissions!H81","v":0},0,0,0,0,null,0,0,0,0,0,0,0,0,null,null,1.1014263074484949,0.95276872964169357,0.99681020733652215,0.85847033595425248,1.1014263074484949,0.95276872964169357,0.99681020733652215,0.85847033595425248,null,null,15372.019539584166,12964.019722504598,15725.03443658138,13082.243023107496,124724.94471613305,105187.00155334208,127589.22441591931,106146.2375596381]
[null,null,null,null,null,null,null,70,"Y70",{"$f":"'risk stratification'!BB76","v":16118.854120597287},{"$f":"'risk stratification'!BC76","v":15633.796010486722},{"$f":"'risk stratification'!BD76","v":18394.896021885332},{"$f":"'risk stratification'!BE76","v":17636.215388122648},{"$f":"'risk stratification'!BF76","v":139208.77711159238},{"$f":"'risk stratification'!BG76","v":135019.62409666021},{"$f":"'risk stratification'!BH76","v":158865.57202781262},{"$f":"'risk stratification'!BI76","v":152313.30705573919},{"$f":"'population lookup'!P74","v":4711723},null,75,null,null,{"$f":"HLOOKUP($W$5,admission10plus,Risk!$A77,FALSE)","v":1.0791848617176136},{"$f":"HLOOKUP($X$5,admission10plushighrisk,Risk!$A77,FALSE)","v":0.97005091344714012},{"$f":"HLOOKUP($Y$5,admissions59,Risk!$A77,FALSE)","v":1.0099923136049183},{"$f":"HLOOKUP($Z$5,admissions59highrisk,Risk!$A77,FALSE)","v":0.89632017190437885},{"$f":"HLOOKUP($AA$5,admission10plus,Risk!$A77,FALSE)","v":1.0791848617176136},{"$f":"HLOOKUP($AB$5,admission10plushighrisk,Risk!$A77,FALSE)","v":0.97005091344714012},{"$f":"HLOOKUP($AC$5,admissions59,Risk!$A77,FALSE)","v":1.0099923136049183},{"$f":"HLOOKUP($AC$5,admissions59highrisk,Risk!$A77,FALSE)","v":0.89632017190437885},null,{"$f":"Admissions!E82","v":0},{"$f":"Admissions!F82","v":0},{"$f":"Admissions!G82","v":0},{"$f":"Admissions!H82","v":0},0,0,0,0,null,0,0,0,0,0,0,0,0,null,null,{"$f":"HLOOKUP(AY$2,$W$2:$AV$106,$T76,FALSE)","v":1.0791848617176136},0.97005091344714012,1.0099923136049183,0.89632017190437885,1.0791848617176136,0.97005091344714012,1.0099923136049183,0.89632017190437885,null,null,17395.22335518317,15165.578100618899,18578.703591665871,15807.695608424743,150232.00487705192,130975.90968825472,160453.00664453924,136521.48956352458]
[null,null,null,null,null,null,null,71,"Y71",{"$f":"'risk stratification'!BB77","v":16436.988514282886},{"$f":"'risk stratification'!BC77","v":16058.075424525965},{"$f":"'risk stratification'!BD77","v":18605.939303925938},{"$f":"'risk stratification'!BE77","v":17913.442967473635},{"$f":"'risk stratification'!BF77","v":142231.28986583496},{"$f":"'risk stratification'!BG77","v":138952.50814396751},{"$f":"'risk stratification'!BH77","v":160999.48868755877},{"$f":"'risk stratification'!BI77","v":155007.23243724936},{"$f":"'population lookup'!P75","v":4567456},null,76,null,null,{"$f":"HLOOKUP($W$5,admission10plus,Risk!$A78,FALSE)","v":1.0437010247136835},{"$f":"HLOOKUP($X$5,admission10plushighrisk,Risk!$A78,FALSE)","v":0.937403638606228},{"$f":"HLOOKUP($Y$5,admissions59,Risk!$A78,FALSE)","v":0.9746057203956161},{"$f":"HLOOKUP($Z$5,admissions59highrisk,Risk!$A78,FALSE)","v":0.867111481790381},{"$f":"HLOOKUP($AA$5,admission10plus,Risk!$A78,FALSE)","v":1.0437010247136835},{"$f":"HLOOKUP($AB$5,admission10plushighrisk,Risk!$A78,FALSE)","v":0.937403638606228},{"$f":"HLOOKUP($AC$5,admissions59,Risk!$A78,FALSE)","v":0.9746057203956161},{"$f":"HLOOKUP($AC$5,admissions59highrisk,Risk!$A78,FALSE)","v":0.867111481790381},null,{"$f":"Admissions!E83","v":0},{"$f":"Admissions!F83","v":0},{"$f":"Admissions!G83","v":0},{"$f":"Admissions!H83","v":0},0,0,0,0,null,0,0,0,0,0,0,0,0,null,null,1.0437010247136835,0.937403638606228,0.9746057203956161,0.867111481790381,1.0437010247136835,0.937403638606228,0.9746057203956161,0.867111481790381,null,null,17155.301755564094,15052.898331963888,18133.454878939847,15532.952075493544,148446.94297932091,130254.58672761667,156911.02265566407,134408.55100688929]
[null,null,null,null,null,null,null,72,"Y72",{"$f":"'risk stratification'!BB78","v":21266.55},{"$f":"'risk stratification'!BC78","v":20776.702500000003},{"$f":"'risk stratification'!BD78","v":24050.317500000001},{"$f":"'risk stratification'!BE78","v":23166.202499999999},{"$f":"'risk stratification'!BF78","v":187121.40931372548},{"$f":"'risk stratification'!BG78","v":182811.30943627452},{"$f":"'risk stratification'!BH78","v":211615.39154411765},{"$f":"'risk stratification'!BI78","v":203836.18688725491},{"$f":"'population lookup'!P76","v":4289075},null,77,null,null,{"$f":"HLOOKUP($W$5,admission10plus,Risk!$A79,FALSE)","v":1.1099972152603723},{"$f":"HLOOKUP($X$5,admission10plushighrisk,Risk!$A79,FALSE)","v":0.98400457012282105},{"$f":"HLOOKUP($Y$5,admissions59,Risk!$A79,FALSE)","v":1.0182310914018224},{"$f":"HLOOKUP($Z$5,admissions59highrisk,Risk!$A79,FALSE)","v":0.90308594746238313},{"$f":"HLOOKUP($AA$5,admission10plus,Risk!$A79,FALSE)","v":1.1099972152603723},{"$f":"HLOOKUP($AB$5,admission10plushighrisk,Risk!$A79,FALSE)","v":0.98400457012282105},{"$f":"HLOOKUP($AC$5,admissions59,Risk!$A79,FALSE)","v":1.0182310914018224},{"$f":"HLOOKUP($AC$5,admissions59highrisk,Risk!$A79,FALSE)","v":0.90308594746238313},null,{"$f":"Admissions!E84","v":0},{"$f":"Admissions!F84","v":0},{"$f":"Admissions!G84","v":0},{"$f":"Admissions!H84","v":0},0,0,0,0,null,0,0,0,0,0,0,0,0,null,null,1.1099972152603723,0.98400457012282105,1.0182310914018224,0.90308594746238313,1.1099972152603723,0.98400457012282105,1.0182310914018224,0.90308594746238313,null,null,23605.81127819547,20444.370212082245,24488.781036585351,20921.07193381793,207704.24325383158,179887.16395543132,215473.37108939092,184081.59596219601]
[null,null,null,null,null,null,null,73,"Y73",{"$f":"'risk stratification'!BB79","v":20172.580713743359},{"$f":"'risk stratification'!BC79","v":19712.619589977221},{"$f":"'risk stratification'!BD79","v":22494.289243229563},{"$f":"'risk stratification'!BE79","v":21705.784459630475},{"$f":"'risk stratification'!BF79","v":199783.85148063782},{"$f":"'risk stratification'!BG79","v":195228.51936218681},{"$f":"'risk stratification'!BH79","v":222777.43264996205},{"$f":"'risk stratification'!BI79","v":214968.29187547456},{"$f":"'population lookup'!P77","v":4285266},null,78,null,null,{"$f":"HLOOKUP($W$5,admission10plus,Risk!$A80,FALSE)","v":1.1021090534979412},{"$f":"HLOOKUP($X$5,admission10plushighrisk,Risk!$A80,FALSE)","v":0.97533810660302278},{"$f":"HLOOKUP($Y$5,admissions59,Risk!$A80,FALSE)","v":1.008564345278341},{"$f":"HLOOKUP($Z$5,admissions59highrisk,Risk!$A80,FALSE)","v":0.89186647860836832},{"$f":"HLOOKUP($AA$5,admission10plus,Risk!$A80,FALSE)","v":1.1021090534979412},{"$f":"HLOOKUP($AB$5,admission10plushighrisk,Risk!$A80,FALSE)","v":0.97533810660302278},{"$f":"HLOOKUP($AC$5,admissions59,Risk!$A80,FALSE)","v":1.008564345278341},{"$f":"HLOOKUP($AC$5,admissions59highrisk,Risk!$A80,FALSE)","v":0.89186647860836832},null,{"$f":"Admissions!E85","v":0},{"$f":"Admissions!F85","v":0},{"$f":"Admissions!G85","v":0},{"$f":"Admissions!H85","v":0},0,0,0,0,null,0,0,0,0,0,0,0,0,null,null,1.1021090534979412,0.97533810660302278,1.008564345278341,0.89186647860836832,1.1021090534979412,0.97533810660302278,1.008564345278341,0.89186647860836832,null,null,22232.383837034515,19226.469067074038,22686.938103099455,19358.661551442878,220183.591459499,190413.81442962686,224685.37550339868,191723.01348743541]
[null,null,null,null,null,null,null,74,"Y74",{"$f":"'risk stratification'!BB80","v":23945.979393652298},{"$f":"'risk stratification'!BC80","v":23472.972393283857},{"$f":"'risk stratification'!BD80","v":26831.322095899784},{"$f":"'risk stratification'!BE80","v":25944.433970208956},{"$f":"'risk stratification'!BF80","v":236114.85078162007},{"$f":"'risk stratification'!BG80","v":231450.85372914365},{"$f":"'risk stratification'!BH80","v":264565.23280172638},{"$f":"'risk stratification'!BI80","v":255820.23832833304},{"$f":"'population lookup'!P78","v":4430564},null,79,null,null,{"$f":"HLOOKUP($W$5,admission10plus,Risk!$A81,FALSE)","v":1.066507684154743},{"$f":"HLOOKUP($X$5,admission10plushighrisk,Risk!$A81,FALSE)","v":0.9525359370762132},{"$f":"HLOOKUP($Y$5,admissions59,Risk!$A81,FALSE)","v":0.98642322097378343},{"$f":"HLOOKUP($Z$5,admissions59highrisk,Risk!$A81,FALSE)","v":0.87551665451009086},{"$f":"HLOOKUP($AA$5,admission10plus,Risk!$A81,FALSE)","v":1.066507684154743},{"$f":"HLOOKUP($AB$5,admission10plushighrisk,Risk!$A81,FALSE)","v":0.9525359370762132},{"$f":"HLOOKUP($AC$5,admissions59,Risk!$A81,FALSE)","v":0.98642322097378343},{"$f":"HLOOKUP($AC$5,admissions59highrisk,Risk!$A81,FALSE)","v":0.87551665451009086},null,{"$f":"Admissions!E86","v":0},{"$f":"Admissions!F86","v":0},{"$f":"Admissions!G86","v":0},{"$f":"Admissions!H86","v":0},0,0,0,0,null,0,0,0,0,0,0,0,0,null,null,1.066507684154743,0.9525359370762132,0.98642322097378343,0.87551665451009086,1.066507684154743,0.9525359370762132,0.98642322097378343,0.87551665451009086,null,null,25538.571027941307,22358.84975460072,26467.039164822512,22714.784032755299,251818.30270164832,220465.25584397939,260973.28909795781,223974.87921719626]
[null,null,null,null,null,null,null,75,"Y75",{"$f":"'risk stratification'!BB81","v":26035.551855295409},{"$f":"'risk stratification'!BC81","v":25471.841518045814},{"$f":"'risk stratification'!BD81","v":29522.690220606884},{"$f":"'risk stratification'!BE81","v":28526.364973375032},{"$f":"'risk stratification'!BF81","v":236592.23091877272},{"$f":"'risk stratification'!BG81","v":231469.63981630182},{"$f":"'risk stratification'!BH81","v":268280.81773870904},{"$f":"'risk stratification'!BI81","v":259226.93579015581},{"$f":"'population lookup'!P79","v":4228282},null,80,null,null,{"$f":"HLOOKUP($W$5,admission10plus,Risk!$A82,FALSE)","v":0.9689138576779005},{"$f":"HLOOKUP($X$5,admission10plushighrisk,Risk!$A82,FALSE)","v":0.85853939045428429},{"$f":"HLOOKUP($Y$5,admissions59,Risk!$A82,FALSE)","v":0.89617486338797969},{"$f":"HLOOKUP($Z$5,admissions59highrisk,Risk!$A82,FALSE)","v":0.79078562833075539},{"$f":"HLOOKUP($AA$5,admission10plus,Risk!$A82,FALSE)","v":0.9689138576779005},{"$f":"HLOOKUP($AB$5,admission10plushighrisk,Risk!$A82,FALSE)","v":0.85853939045428429},{"$f":"HLOOKUP($AC$5,admissions59,Risk!$A82,FALSE)","v":0.89617486338797969},{"$f":"HLOOKUP($AC$5,admissions59highrisk,Risk!$A82,FALSE)","v":0.79078562833075539},null,{"$f":"Admissions!E87","v":0},{"$f":"Admissions!F87","v":0},{"$f":"Admissions!G87","v":0},{"$f":"Admissions!H87","v":0},0,0,0,0,null,0,0,0,0,0,0,0,0,null,null,0.9689138576779005,0.85853939045428429,0.89617486338797969,0.79078562833075539,0.9689138576779005,0.85853939045428429,0.89617486338797969,0.79078562833075539,null,null,25226.206984887296,21868.579290651185,26457.492875298019,22558.239449462828,229237.49115612873,198725.80347656048,240426.52518660304,204992.93529907474]
[null,null,null,null,null,null,null,76,"Y76",{"$f":"'risk stratification'!BB82","v":27210.603233830843},{"$f":"'risk stratification'!BC82","v":26618.190298507463},{"$f":"'risk stratification'!BD82","v":30468.874378109449},{"$f":"'risk stratification'!BE82","v":29553.327114427859},{"$f":"'risk stratification'!BF82","v":242218.05896114663},{"$f":"'risk stratification'!BG82","v":236944.63264036959},{"$f":"'risk stratification'!BH82","v":271221.90372542047},{"$f":"'risk stratification'!BI82","v":263072.06304785598},{"$f":"'population lookup'!P80","v":4047115},null,81,null,null,{"$f":"HLOOKUP($W$5,admission10plus,Risk!$A83,FALSE)","v":0.95077813970322234},{"$f":"HLOOKUP($X$5,admission10plushighrisk,Risk!$A83,FALSE)","v":0.85629629629629689},{"$f":"HLOOKUP($Y$5,admissions59,Risk!$A83,FALSE)","v":0.89094449853943491},{"$f":"HLOOKUP($Z$5,admissions59highrisk,Risk!$A83,FALSE)","v":0.80053817692566442},{"$f":"HLOOKUP($AA$5,admission10plus,Risk!$A83,FALSE)","v":0.95077813970322234},{"$f":"HLOOKUP($AB$5,admission10plushighrisk,Risk!$A83,FALSE)","v":0.85629629629629689},{"$f":"HLOOKUP($AC$5,admissions59,Risk!$A83,FALSE)","v":0.89094449853943491},{"$f":"HLOOKUP($AC$5,admissions59highrisk,Risk!$A83,FALSE)","v":0.80053817692566442},null,{"$f":"Admissions!E88","v":0},{"$f":"Admissions!F88","v":0},{"$f":"Admissions!G88","v":0},{"$f":"Admissions!H88","v":0},0,0,0,0,null,0,0,0,0,0,0,0,0,null,null,0.95077813970322234,0.85629629629629689,0.89094449853943491,0.80053817692566442,0.95077813970322234,0.85629629629629689,0.89094449853943491,0.80053817692566442,null,null,25871.246722864176,22793.057766721962,27146.076003865761,23658.566610271886,230295.63550160441,202894.81135723513,241643.66300755565,210599.22975240406]
[null,null,null,null,null,null,null,77,"Y77",{"$f":"'risk stratification'!BB83","v":35954.002573307494},{"$f":"'risk stratification'!BC83","v":35058.301458207578},{"$f":"'risk stratification'!BD83","v":41132.274644978876},{"$f":"'risk stratification'!BE83","v":39690.755662864955},{"$f":"'risk stratification'!BF83","v":312713.33481589728},{"$f":"'risk stratification'!BG83","v":304922.88972900849},{"$f":"'risk stratification'!BH83","v":357751.84547447343},{"$f":"'risk stratification'!BI83","v":345214.09791276173},{"$f":"'population lookup'!P81","v":3831560},null,82,null,null,{"$f":"HLOOKUP($W$5,admission10plus,Risk!$A84,FALSE)","v":0.97382716049382811},{"$f":"HLOOKUP($X$5,admission10plushighrisk,Risk!$A84,FALSE)","v":0.87556675062972245},{"$f":"HLOOKUP($Y$5,admissions59,Risk!$A84,FALSE)","v":0.90289407962391666},{"$f":"HLOOKUP($Z$5,admissions59highrisk,Risk!$A84,FALSE)","v":0.81130355515041019},{"$f":"HLOOKUP($AA$5,admission10plus,Risk!$A84,FALSE)","v":0.97382716049382811},{"$f":"HLOOKUP($AB$5,admission10plushighrisk,Risk!$A84,FALSE)","v":0.87556675062972245},{"$f":"HLOOKUP($AC$5,admissions59,Risk!$A84,FALSE)","v":0.90289407962391666},{"$f":"HLOOKUP($AC$5,admissions59highrisk,Risk!$A84,FALSE)","v":0.81130355515041019},null,{"$f":"Admissions!E89","v":0},{"$f":"Admissions!F89","v":0},{"$f":"Admissions!G89","v":0},{"$f":"Admissions!H89","v":0},0,0,0,0,null,0,0,0,0,0,0,0,0,null,null,0.97382716049382811,0.87556675062972245,0.90289407962391666,0.81130355515041019,0.97382716049382811,0.87556675062972245,0.90289407962391666,0.81130355515041019,null,null,35012.984234351825,30695.883090360068,37138.087258416366,32201.251175888614,304528.73889232101,266980.34375265311,323012.02325343236,280073.42492466536]
[null,null,null,null,null,null,null,78,"Y78",{"$f":"'risk stratification'!BB84","v":39376.418200090098},{"$f":"'risk stratification'!BC84","v":38547.282288526185},{"$f":"'risk stratification'!BD84","v":44878.865613196103},{"$f":"'risk stratification'!BE84","v":43265.819385244482},{"$f":"'risk stratification'!BF84","v":332982.07214887202},{"$f":"'risk stratification'!BG84","v":325970.58134941262},{"$f":"'risk stratification'!BH84","v":379512.87472710258},{"$f":"'risk stratification'!BI84","v":365872.33808088157},{"$f":"'population lookup'!P82","v":3678738},null,83,null,null,{"$f":"HLOOKUP($W$5,admission10plus,Risk!$A85,FALSE)","v":0.99513259483047989},{"$f":"HLOOKUP($X$5,admission10plushighrisk,Risk!$A85,FALSE)","v":0.87768056270372308},{"$f":"HLOOKUP($Y$5,admissions59,Risk!$A85,FALSE)","v":0.91459443457667167},{"$f":"HLOOKUP($Z$5,admissions59highrisk,Risk!$A85,FALSE)","v":0.80376838235294079},{"$f":"HLOOKUP($AA$5,admission10plus,Risk!$A85,FALSE)","v":0.99513259483047989},{"$f":"HLOOKUP($AB$5,admission10plushighrisk,Risk!$A85,FALSE)","v":0.87768056270372308},{"$f":"HLOOKUP($AC$5,admissions59,Risk!$A85,FALSE)","v":0.91459443457667167},{"$f":"HLOOKUP($AC$5,admissions59highrisk,Risk!$A85,FALSE)","v":0.80376838235294079},null,{"$f":"Admissions!E90","v":0},{"$f":"Admissions!F90","v":0},{"$f":"Admissions!G90","v":0},{"$f":"Admissions!H90","v":0},0,0,0,0,null,0,0,0,0,0,0,0,0,null,null,0.99513259483047989,0.87768056270372308,0.91459443457667167,0.80376838235294079,0.99513259483047989,0.87768056270372308,0.91459443457667167,0.80376838235294079,null,null,39184.757218585793,33832.200409692923,41045.960719943527,34775.697658452467,331361.3134895371,286098.0432636122,347100.36307560164,294076.61732695845]
[null,null,null,null,null,null,null,79,"Y79",{"$f":"'risk stratification'!BB85","v":39526.628215327502},{"$f":"'risk stratification'!BC85","v":38508.63859529492},{"$f":"'risk stratification'!BD85","v":44664.294578929424},{"$f":"'risk stratification'!BE85","v":43137.310148880555},{"$f":"'risk stratification'!BF85","v":327864.76398833201},{"$f":"'risk stratification'!BG85","v":319420.76201841119},{"$f":"'risk stratification'!BH85","v":370480.58643027616},{"$f":"'risk stratification'!BI85","v":357814.58347539493},{"$f":"'population lookup'!P83","v":3482755},null,84,null,null,{"$f":"HLOOKUP($W$5,admission10plus,Risk!$A86,FALSE)","v":0.96899224806201756},{"$f":"HLOOKUP($X$5,admission10plushighrisk,Risk!$A86,FALSE)","v":0.86477828359467124},{"$f":"HLOOKUP($Y$5,admissions59,Risk!$A86,FALSE)","v":0.89394608926204155},{"$f":"HLOOKUP($Z$5,admissions59highrisk,Risk!$A86,FALSE)","v":0.79574791192103056},{"$f":"HLOOKUP($AA$5,admission10plus,Risk!$A86,FALSE)","v":0.96899224806201756},{"$f":"HLOOKUP($AB$5,admission10plushighrisk,Risk!$A86,FALSE)","v":0.86477828359467124},{"$f":"HLOOKUP($AC$5,admissions59,Risk!$A86,FALSE)","v":0.89394608926204155},{"$f":"HLOOKUP($AC$5,admissions59highrisk,Risk!$A86,FALSE)","v":0.79574791192103056},null,{"$f":"Admissions!E91","v":0},{"$f":"Admissions!F91","v":0},{"$f":"Admissions!G91","v":0},{"$f":"Admissions!H91","v":0},0,0,0,0,null,0,0,0,0,0,0,0,0,null,null,0.96899224806201756,0.86477828359467124,0.89394608926204155,0.79574791192103056,0.96899224806201756,0.86477828359467124,0.89394608926204155,0.79574791192103056,null,null,38300.996332681767,33301.434388006652,39927.471468481759,34326.424476861583,317698.41471737664,276228.13832278358,331189.67138685315,284730.2076554388]
[null,null,null,null,null,null,null,80,"Y80",{"$f":"'risk stratification'!BB86","v":41191.160296225513},{"$f":"'risk stratification'!BC86","v":40346.468227424753},{"$f":"'risk stratification'!BD86","v":47269.630673674154},{"$f":"'risk stratification'!BE86","v":45795.560200668901},{"$f":"'risk stratification'!BF86","v":322580.91172957479},{"$f":"'risk stratification'!BG86","v":315965.86287625419},{"$f":"'risk stratification'!BH86","v":370183.32210543077},{"$f":"'risk stratification'!BI86","v":358639.41332218505},{"$f":"'population lookup'!P84","v":3257717},null,85,null,null,{"$f":"HLOOKUP($W$5,admission10plus,Risk!$A87,FALSE)","v":0.87660568314519594},{"$f":"HLOOKUP($X$5,admission10plushighrisk,Risk!$A87,FALSE)","v":0.77312042581503826},{"$f":"HLOOKUP($Y$5,admissions59,Risk!$A87,FALSE)","v":0.79970511511852072},{"$f":"HLOOKUP($Z$5,admissions59highrisk,Risk!$A87,FALSE)","v":0.70298542548189846},{"$f":"HLOOKUP($AA$5,admission10plus,Risk!$A87,FALSE)","v":0.87660568314519594},{"$f":"HLOOKUP($AB$5,admission10plushighrisk,Risk!$A87,FALSE)","v":0.77312042581503826},{"$f":"HLOOKUP($AC$5,admissions59,Risk!$A87,FALSE)","v":0.79970511511852072},{"$f":"HLOOKUP($AC$5,admissions59highrisk,Risk!$A87,FALSE)","v":0.70298542548189846},null,{"$f":"Admissions!E92","v":0},{"$f":"Admissions!F92","v":0},{"$f":"Admissions!G92","v":0},{"$f":"Admissions!H92","v":0},0,0,0,0,null,{"$f":"admissionunioverride","v":0},0,0,0,0,0,0,0,null,null,{"$f":"HLOOKUP(AY$2,$W$2:$AV$106,$T86,FALSE)","v":0.87660568314519594},0.77312042581503826,0.79970511511852072,0.70298542548189846,0.87660568314519594,0.77312042581503826,0.79970511511852072,0.70298542548189846,null,null,36108.405211016034,31192.678696119536,37801.765439500545,32193.611372849122,282776.26049630408,244279.66244990562,296037.49621927994,252118.2805688747]
[null,null,null,null,null,null,null,81,"Y81",{"$f":"'risk stratification'!BB87","v":0},{"$f":"'risk stratification'!BC87","v":0},{"$f":"'risk stratification'!BD87","v":0},{"$f":"'risk stratification'!BE87","v":0},{"$f":"'risk stratification'!BF87","v":0},{"$f":"'risk stratification'!BG87","v":0},{"$f":"'risk stratification'!BH87","v":0},{"$f":"'risk stratification'!BI87","v":0},{"$f":"'population lookup'!P85","v":0},null,86,null,null,{"$f":"HLOOKUP($W$5,admission10plus,Risk!$A88,FALSE)","v":0.86651352730985076},{"$f":"HLOOKUP($X$5,admission10plushighrisk,Risk!$A88,FALSE)","v":0.77043410246382615},{"$f":"HLOOKUP($Y$5,admissions59,Risk!$A88,FALSE)","v":0.79475982532751077},{"$f":"HLOOKUP($Z$5,admissions59highrisk,Risk!$A88,FALSE)","v":0.70301974448315896},{"$f":"HLOOKUP($AA$5,admission10plus,Risk!$A88,FALSE)","v":0.86651352730985076},{"$f":"HLOOKUP($AB$5,admission10plushighrisk,Risk!$A88,FALSE)","v":0.77043410246382615},{"$f":"HLOOKUP($AC$5,admissions59,Risk!$A88,FALSE)","v":0.79475982532751077},{"$f":"HLOOKUP($AC$5,admissions59highrisk,Risk!$A88,FALSE)","v":0.70301974448315896},null,{"$f":"Admissions!E93","v":0},{"$f":"Admissions!F93","v":0},{"$f":"Admissions!G93","v":0},{"$f":"Admissions!H93","v":0},0,0,0,0,null,0,0,0,0,0,0,0,0,null,null,0.86651352730985076,0.77043410246382615,0.79475982532751077,0.70301974448315896,0.86651352730985076,0.77043410246382615,0.79475982532751077,0.70301974448315896,null,null,0,0,0,0,0,0,0,0]
[null,null,null,null,null,null,null,82,"Y82",{"$f":"'risk stratification'!BB88","v":0},{"$f":"'risk stratification'!BC88","v":0},{"$f":"'risk stratification'!BD88","v":0},{"$f":"'risk stratification'!BE88","v":0},{"$f":"'risk stratification'!BF88","v":0},{"$f":"'risk stratification'!BG88","v":0},{"$f":"'risk stratification'!BH88","v":0},{"$f":"'risk stratification'!BI88","v":0},{"$f":"'population lookup'!P86","v":0},null,87,null,null,{"$f":"HLOOKUP($W$5,admission10plus,Risk!$A89,FALSE)","v":0.87498323272971223},{"$f":"HLOOKUP($X$5,admission10plushighrisk,Risk!$A89,FALSE)","v":0.77874156684565754},{"$f":"HLOOKUP($Y$5,admissions59,Risk!$A89,FALSE)","v":0.80389363722696927},{"$f":"HLOOKUP($Z$5,admissions59highrisk,Risk!$A89,FALSE)","v":0.71324975417895731},{"$f":"HLOOKUP($AA$5,admission10plus,Risk!$A89,FALSE)","v":0.87498323272971223},{"$f":"HLOOKUP($AB$5,admission10plushighrisk,Risk!$A89,FALSE)","v":0.77874156684565754},{"$f":"HLOOKUP($AC$5,admissions59,Risk!$A89,FALSE)","v":0.80389363722696927},{"$f":"HLOOKUP($AC$5,admissions59highrisk,Risk!$A89,FALSE)","v":0.71324975417895731},null,{"$f":"Admissions!E94","v":0},{"$f":"Admissions!F94","v":0},{"$f":"Admissions!G94","v":0},{"$f":"Admissions!H94","v":0},0,0,0,0,null,0,0,0,0,0,0,0,0,null,null,0.87498323272971223,0.77874156684565754,0.80389363722696927,0.71324975417895731,0.87498323272971223,0.77874156684565754,0.80389363722696927,0.71324975417895731,null,null,0,0,0,0,0,0,0,0]
[null,null,null,null,null,null,null,83,"Y83",{"$f":"'risk stratification'!BB89","v":0},{"$f":"'risk stratification'!BC89","v":0},{"$f":"'risk stratification'!BD89","v":0},{"$f":"'risk stratification'!BE89","v":0},{"$f":"'risk stratification'!BF89","v":0},{"$f":"'risk stratification'!BG89","v":0},{"$f":"'risk stratification'!BH89","v":0},{"$f":"'risk stratification'!BI89","v":0},{"$f":"'population lookup'!P87","v":0},null,88,null,null,{"$f":"HLOOKUP($W$5,admission10plus,Risk!$A90,FALSE)","v":0.91797346200241303},{"$f":"HLOOKUP($X$5,admission10plushighrisk,Risk!$A90,FALSE)","v":0.7915982484948012},{"$f":"HLOOKUP($Y$5,admissions59,Risk!$A90,FALSE)","v":0.83099743050689179},{"$f":"HLOOKUP($Z$5,admissions59highrisk,Risk!$A90,FALSE)","v":0.71476793248944936},{"$f":"HLOOKUP($AA$5,admission10plus,Risk!$A90,FALSE)","v":0.91797346200241303},{"$f":"HLOOKUP($AB$5,admission10plushighrisk,Risk!$A90,FALSE)","v":0.7915982484948012},{"$f":"HLOOKUP($AC$5,admissions59,Risk!$A90,FALSE)","v":0.83099743050689179},{"$f":"HLOOKUP($AC$5,admissions59highrisk,Risk!$A90,FALSE)","v":0.71476793248944936},null,{"$f":"Admissions!E95","v":0},{"$f":"Admissions!F95","v":0},{"$f":"Admissions!G95","v":0},{"$f":"Admissions!H95","v":0},0,0,0,0,null,0,0,0,0,0,0,0,0,null,null,0.91797346200241303,0.7915982484948012,0.83099743050689179,0.71476793248944936,0.91797346200241303,0.7915982484948012,0.83099743050689179,0.71476793248944936,null,null,0,0,0,0,0,0,0,0]
[null,null,null,null,null,null,null,84,"Y84",{"$f":"'risk stratification'!BB90","v":0},{"$f":"'risk stratification'!BC90","v":0},{"$f":"'risk stratification'!BD90","v":0},{"$f":"'risk stratification'!BE90","v":0},{"$f":"'risk stratification'!BF90","v":0},{"$f":"'risk stratification'!BG90","v":0},{"$f":"'risk stratification'!BH90","v":0},{"$f":"'risk stratification'!BI90","v":0},{"$f":"'population lookup'!P88","v":0},null,89,null,null,{"$f":"HLOOKUP($W$5,admission10plus,Risk!$A91,FALSE)","v":0.95421405657625991},{"$f":"HLOOKUP($X$5,admission10plushighrisk,Risk!$A91,FALSE)","v":0.81744966442952727},{"$f":"HLOOKUP($Y$5,admissions59,Risk!$A91,FALSE)","v":0.85028142589118305},{"$f":"HLOOKUP($Z$5,admissions59highrisk,Risk!$A91,FALSE)","v":0.72722567287784778},{"$f":"HLOOKUP($AA$5,admission10plus,Risk!$A91,FALSE)","v":0.95421405657625991},{"$f":"HLOOKUP($AB$5,admission10plushighrisk,Risk!$A91,FALSE)","v":0.81744966442952727},{"$f":"HLOOKUP($AC$5,admissions59,Risk!$A91,FALSE)","v":0.85028142589118305},{"$f":"HLOOKUP($AC$5,admissions59highrisk,Risk!$A91,FALSE)","v":0.72722567287784778},null,{"$f":"Admissions!E96","v":0},{"$f":"Admissions!F96","v":0},{"$f":"Admissions!G96","v":0},{"$f":"Admissions!H96","v":0},0,0,0,0,null,0,0,0,0,0,0,0,0,null,null,0.95421405657625991,0.81744966442952727,0.85028142589118305,0.72722567287784778,0.95421405657625991,0.81744966442952727,0.85028142589118305,0.72722567287784778,null,null,0,0,0,0,0,0,0,0]
[null,null,null,null,null,null,null,85,"Y85",{"$f":"'risk stratification'!BB91","v":0},{"$f":"'risk stratification'!BC91","v":0},{"$f":"'risk stratification'!BD91","v":0},{"$f":"'risk stratification'!BE91","v":0},{"$f":"'risk stratification'!BF91","v":0},{"$f":"'risk stratification'!BG91","v":0},{"$f":"'risk stratification'!BH91","v":0},{"$f":"'risk stratification'!BI91","v":0},{"$f":"'population lookup'!P89","v":0},null,90,null,null,{"$f":"HLOOKUP($W$5,admission10plus,Risk!$A92,FALSE)","v":0.83848465335908873},{"$f":"HLOOKUP($X$5,admission10plushighrisk,Risk!$A92,FALSE)","v":0.71223100570926612},{"$f":"HLOOKUP($Y$5,admissions59,Risk!$A92,FALSE)","v":0.74676861460040012},{"$f":"HLOOKUP($Z$5,admissions59highrisk,Risk!$A92,FALSE)","v":0.62939841089670734},{"$f":"HLOOKUP($AA$5,admission10plus,Risk!$A92,FALSE)","v":0.83848465335908873},{"$f":"HLOOKUP($AB$5,admission10plushighrisk,Risk!$A92,FALSE)","v":0.71223100570926612},{"$f":"HLOOKUP($AC$5,admissions59,Risk!$A92,FALSE)","v":0.74676861460040012},{"$f":"HLOOKUP($AC$5,admissions59highrisk,Risk!$A92,FALSE)","v":0.62939841089670734},null,{"$f":"Admissions!E97","v":0},{"$f":"Admissions!F97","v":0},{"$f":"Admissions!G97","v":0},{"$f":"Admissions!H97","v":0},0,0,0,0,null,0,0,0,0,0,0,0,0,null,null,0.83848465335908873,0.71223100570926612,0.74676861460040012,0.62939841089670734,0.83848465335908873,0.71223100570926612,0.74676861460040012,0.62939841089670734,null,null,0,0,0,0,0,0,0,0]
[null,null,null,null,null,null,null,86,"Y86",{"$f":"'risk stratification'!BB92","v":0},{"$f":"'risk stratification'!BC92","v":0},{"$f":"'risk stratification'!BD92","v":0},{"$f":"'risk stratification'!BE92","v":0},{"$f":"'risk stratification'!BF92","v":0},{"$f":"'risk stratification'!BG92","v":0},{"$f":"'risk stratification'!BH92","v":0},{"$f":"'risk stratification'!BI92","v":0},{"$f":"'population lookup'!P90","v":0},null,91,null,null,{"$f":"HLOOKUP($W$5,admission10plus,Risk!$A93,FALSE)","v":0.84629694221602048},{"$f":"HLOOKUP($X$5,admission10plushighrisk,Risk!$A93,FALSE)","v":0.72112507480550658},{"$f":"HLOOKUP($Y$5,admissions59,Risk!$A93,FALSE)","v":0.74990172955974821},{"$f":"HLOOKUP($Z$5,admissions59highrisk,Risk!$A93,FALSE)","v":0.63777026334665521},{"$f":"HLOOKUP($AA$5,admission10plus,Risk!$A93,FALSE)","v":0.84629694221602048},{"$f":"HLOOKUP($AB$5,admission10plushighrisk,Risk!$A93,FALSE)","v":0.72112507480550658},{"$f":"HLOOKUP($AC$5,admissions59,Risk!$A93,FALSE)","v":0.74990172955974821},{"$f":"HLOOKUP($AC$5,admissions59highrisk,Risk!$A93,FALSE)","v":0.63777026334665521},null,{"$f":"Admissions!E98","v":0},{"$f":"Admissions!F98","v":0},{"$f":"Admissions!G98","v":0},{"$f":"Admissions!H98","v":0},0,0,0,0,null,0,0,0,0,0,0,0,0,null,null,0.84629694221602048,0.72112507480550658,0.74990172955974821,0.63777026334665521,0.84629694221602048,0.72112507480550658,0.74990172955974821,0.63777026334665521,null,null,0,0,0,0,0,0,0,0]
[null,null,null,null,null,null,null,87,"Y87",{"$f":"'risk stratification'!BB93","v":0},{"$f":"'risk stratification'!BC93","v":0},{"$f":"'risk stratification'!BD93","v":0},{"$f":"'risk stratification'!BE93","v":0},{"$f":"'risk stratification'!BF93","v":0},{"$f":"'risk stratification'!BG93","v":0},{"$f":"'risk stratification'!BH93","v":0},{"$f":"'risk stratification'!BI93","v":0},{"$f":"'population lookup'!P91","v":0},null,92,null,null,{"$f":"HLOOKUP($W$5,admission10plus,Risk!$A94,FALSE)","v":0.84661693495615797},{"$f":"HLOOKUP($X$5,admission10plushighrisk,Risk!$A94,FALSE)","v":0.72510822510822603},{"$f":"HLOOKUP($Y$5,admissions59,Risk!$A94,FALSE)","v":0.7539105529852389},{"$f":"HLOOKUP($Z$5,admissions59highrisk,Risk!$A94,FALSE)","v":0.64393412201345146},{"$f":"HLOOKUP($AA$5,admission10plus,Risk!$A94,FALSE)","v":0.84661693495615797},{"$f":"HLOOKUP($AB$5,admission10plushighrisk,Risk!$A94,FALSE)","v":0.72510822510822603},{"$f":"HLOOKUP($AC$5,admissions59,Risk!$A94,FALSE)","v":0.7539105529852389},{"$f":"HLOOKUP($AC$5,admissions59highrisk,Risk!$A94,FALSE)","v":0.64393412201345146},null,{"$f":"Admissions!E99","v":0},{"$f":"Admissions!F99","v":0},{"$f":"Admissions!G99","v":0},{"$f":"Admissions!H99","v":0},0,0,0,0,null,0,0,0,0,0,0,0,0,null,null,0.84661693495615797,0.72510822510822603,0.7539105529852389,0.64393412201345146,0.84661693495615797,0.72510822510822603,0.7539105529852389,0.64393412201345146,null,null,0,0,0,0,0,0,0,0]
[null,null,null,null,null,null,null,88,"Y88",{"$f":"'risk stratification'!BB94","v":0},{"$f":"'risk stratification'!BC94","v":0},{"$f":"'risk stratification'!BD94","v":0},{"$f":"'risk stratification'!BE94","v":0},{"$f":"'risk stratification'!BF94","v":0},{"$f":"'risk stratification'!BG94","v":0},{"$f":"'risk stratification'!BH94","v":0},{"$f":"'risk stratification'!BI94","v":0},{"$f":"'population lookup'!P92","v":0},null,93,null,null,{"$f":"HLOOKUP($W$5,admission10plus,Risk!$A95,FALSE)","v":0.89903556359252634},{"$f":"HLOOKUP($X$5,admission10plushighrisk,Risk!$A95,FALSE)","v":0.74523477452347786},{"$f":"HLOOKUP($Y$5,admissions59,Risk!$A95,FALSE)","v":0.78040374199901474},{"$f":"HLOOKUP($Z$5,admissions59highrisk,Risk!$A95,FALSE)","v":0.64618177103591534},{"$f":"HLOOKUP($AA$5,admission10plus,Risk!$A95,FALSE)","v":0.89903556359252634},{"$f":"HLOOKUP($AB$5,admission10plushighrisk,Risk!$A95,FALSE)","v":0.74523477452347786},{"$f":"HLOOKUP($AC$5,admissions59,Risk!$A95,FALSE)","v":0.78040374199901474},{"$f":"HLOOKUP($AC$5,admissions59highrisk,Risk!$A95,FALSE)","v":0.64618177103591534},null,{"$f":"Admissions!E100","v":0},{"$f":"Admissions!F100","v":0},{"$f":"Admissions!G100","v":0},{"$f":"Admissions!H100","v":0},0,0,0,0,null,0,0,0,0,0,0,0,0,null,null,0.89903556359252634,0.74523477452347786,0.78040374199901474,0.64618177103591534,0.89903556359252634,0.74523477452347786,0.78040374199901474,0.64618177103591534,null,null,0,0,0,0,0,0,0,0]
[null,null,null,null,null,null,null,89,"Y89",{"$f":"'risk stratification'!BB95","v":0},{"$f":"'risk stratification'!BC95","v":0},{"$f":"'risk stratification'!BD95","v":0},{"$f":"'risk stratification'!BE95","v":0},{"$f":"'risk stratification'!BF95","v":0},{"$f":"'risk stratification'!BG95","v":0},{"$f":"'risk stratification'!BH95","v":0},{"$f":"'risk stratification'!BI95","v":0},{"$f":"'population lookup'!P93","v":0},null,94,null,null,{"$f":"HLOOKUP($W$5,admission10plus,Risk!$A96,FALSE)","v":0.90547762191048997},{"$f":"HLOOKUP($X$5,admission10plushighrisk,Risk!$A96,FALSE)","v":0.76426970167270281},{"$f":"HLOOKUP($Y$5,admissions59,Risk!$A96,FALSE)","v":0.79635807617458909},{"$f":"HLOOKUP($Z$5,admissions59highrisk,Risk!$A96,FALSE)","v":0.6701723634238993},{"$f":"HLOOKUP($AA$5,admission10plus,Risk!$A96,FALSE)","v":0.90547762191048997},{"$f":"HLOOKUP($AB$5,admission10plushighrisk,Risk!$A96,FALSE)","v":0.76426970167270281},{"$f":"HLOOKUP($AC$5,admissions59,Risk!$A96,FALSE)","v":0.79635807617458909},{"$f":"HLOOKUP($AC$5,admissions59highrisk,Risk!$A96,FALSE)","v":0.6701723634238993},null,{"$f":"Admissions!E101","v":0},{"$f":"Admissions!F101","v":0},{"$f":"Admissions!G101","v":0},{"$f":"Admissions!H101","v":0},0,0,0,0,null,0,0,0,0,0,0,0,0,null,null,0.90547762191048997,0.76426970167270281,0.79635807617458909,0.6701723634238993,0.90547762191048997,0.76426970167270281,0.79635807617458909,0.6701723634238993,null,null,0,0,0,0,0,0,0,0]
[null,null,null,null,null,null,null,90,"Y90",{"$f":"'risk stratification'!BB96","v":0},{"$f":"'risk stratification'!BC96","v":0},{"$f":"'risk stratification'!BD96","v":0},{"$f":"'risk stratification'!BE96","v":0},{"$f":"'risk stratification'!BF96","v":0},{"$f":"'risk stratification'!BG96","v":0},{"$f":"'risk stratification'!BH96","v":0},{"$f":"'risk stratification'!BI96","v":0},{"$f":"'population lookup'!P94","v":0},null,95,null,null,{"$f":"HLOOKUP($W$5,admission10plus,Risk!$A97,FALSE)","v":0},{"$f":"HLOOKUP($X$5,admission10plushighrisk,Risk!$A97,FALSE)","v":0},{"$f":"HLOOKUP($Y$5,admissions59,Risk!$A97,FALSE)","v":0},{"$f":"HLOOKUP($Z$5,admissions59highrisk,Risk!$A97,FALSE)","v":0},{"$f":"HLOOKUP($AA$5,admission10plus,Risk!$A97,FALSE)","v":0},{"$f":"HLOOKUP($AB$5,admission10plushighrisk,Risk!$A97,FALSE)","v":0},{"$f":"HLOOKUP($AC$5,admissions59,Risk!$A97,FALSE)","v":0},{"$f":"HLOOKUP($AC$5,admissions59highrisk,Risk!$A97,FALSE)","v":0},null,{"$f":"Admissions!E102","v":0},{"$f":"Admissions!F102","v":0},{"$f":"Admissions!G102","v":0},{"$f":"Admissions!H102","v":0},0,0,0,0,null,0,0,0,0,0,0,0,0,null,null,{"$f":"HLOOKUP(AY$2,$W$2:$AV$106,$T96,FALSE)","v":0},0,0,0,0,0,0,0,null,null,0,0,0,0,0,0,0,0]
[null,null,null,null,null,null,null,91,"Y91",{"$f":"'risk stratification'!BB97","v":0},{"$f":"'risk stratification'!BC97","v":0},{"$f":"'risk stratification'!BD97","v":0},{"$f":"'risk stratification'!BE97","v":0},{"$f":"'risk stratification'!BF97","v":0},{"$f":"'risk stratification'!BG97","v":0},{"$f":"'risk stratification'!BH97","v":0},{"$f":"'risk stratification'!BI97","v":0},{"$f":"'population lookup'!P95","v":0},null,96,null,null,{"$f":"HLOOKUP($W$5,admission10plus,Risk!$A98,FALSE)","v":0},{"$f":"HLOOKUP($X$5,admission10plushighrisk,Risk!$A98,FALSE)","v":0},{"$f":"HLOOKUP($Y$5,admissions59,Risk!$A98,FALSE)","v":0},{"$f":"HLOOKUP($Z$5,admissions59highrisk,Risk!$A98,FALSE)","v":0},{"$f":"HLOOKUP($AA$5,admission10plus,Risk!$A98,FALSE)","v":0},{"$f":"HLOOKUP($AB$5,admission10plushighrisk,Risk!$A98,FALSE)","v":0},{"$f":"HLOOKUP($AC$5,admissions59,Risk!$A98,FALSE)","v":0},{"$f":"HLOOKUP($AC$5,admissions59highrisk,Risk!$A98,FALSE)","v":0},null,{"$f":"Admissions!E103","v":0},{"$f":"Admissions!F103","v":0},{"$f":"Admissions!G103","v":0},{"$f":"Admissions!H103","v":0},0,0,0,0,null,0,0,0,0,0,0,0,0,null,null,0,0,0,0,0,0,0,0,null,null,0,0,0,0,0,0,0,0]
[null,null,null,null,null,null,null,92,"Y92",{"$f":"'risk stratification'!BB98","v":0},{"$f":"'risk stratification'!BC98","v":0},{"$f":"'risk stratification'!BD98","v":0},{"$f":"'risk stratification'!BE98","v":0},{"$f":"'risk stratification'!BF98","v":0},{"$f":"'risk stratification'!BG98","v":0},{"$f":"'risk stratification'!BH98","v":0},{"$f":"'risk stratification'!BI98","v":0},{"$f":"'population lookup'!P96","v":0},null,97,null,null,{"$f":"HLOOKUP($W$5,admission10plus,Risk!$A99,FALSE)","v":0},{"$f":"HLOOKUP($X$5,admission10plushighrisk,Risk!$A99,FALSE)","v":0},{"$f":"HLOOKUP($Y$5,admissions59,Risk!$A99,FALSE)","v":0},{"$f":"HLOOKUP($Z$5,admissions59highrisk,Risk!$A99,FALSE)","v":0},{"$f":"HLOOKUP($AA$5,admission10plus,Risk!$A99,FALSE)","v":0},{"$f":"HLOOKUP($AB$5,admission10plushighrisk,Risk!$A99,FALSE)","v":0},{"$f":"HLOOKUP($AC$5,admissions59,Risk!$A99,FALSE)","v":0},{"$f":"HLOOKUP($AC$5,admissions59highrisk,Risk!$A99,FALSE)","v":0},null,{"$f":"Admissions!E104","v":0},{"$f":"Admissions!F104","v":0},{"$f":"Admissions!G104","v":0},{"$f":"Admissions!H104","v":0},0,0,0,0,null,0,0,0,0,0,0,0,0,null,null,0,0,0,0,0,0,0,0,null,null,0,0,0,0,0,0,0,0]
[null,null,null,null,null,null,null,93,"Y93",{"$f":"'risk stratification'!BB99","v":0},{"$f":"'risk stratification'!BC99","v":0},{"$f":"'risk stratification'!BD99","v":0},{"$f":"'risk stratification'!BE99","v":0},{"$f":"'risk stratification'!BF99","v":0},{"$f":"'risk stratification'!BG99","v":0},{"$f":"'risk stratification'!BH99","v":0},{"$f":"'risk stratification'!BI99","v":0},{"$f":"'population lookup'!P97","v":0},null,98,null,null,{"$f":"HLOOKUP($W$5,admission10plus,Risk!$A100,FALSE)","v":0},{"$f":"HLOOKUP($X$5,admission10plushighrisk,Risk!$A100,FALSE)","v":0},{"$f":"HLOOKUP($Y$5,admissions59,Risk!$A100,FALSE)","v":0},{"$f":"HLOOKUP($Z$5,admissions59highrisk,Risk!$A100,FALSE)","v":0},{"$f":"HLOOKUP($AA$5,admission10plus,Risk!$A100,FALSE)","v":0},{"$f":"HLOOKUP($AB$5,admission10plushighrisk,Risk!$A100,FALSE)","v":0},{"$f":"HLOOKUP($AC$5,admissions59,Risk!$A100,FALSE)","v":0},{"$f":"HLOOKUP($AC$5,admissions59highrisk,Risk!$A100,FALSE)","v":0},null,{"$f":"Admissions!E105","v":0},{"$f":"Admissions!F105","v":0},{"$f":"Admissions!G105","v":0},{"$f":"Admissions!H105","v":0},0,0,0,0,null,0,0,0,0,0,0,0,0,null,null,0,0,0,0,0,0,0,0,null,null,0,0,0,0,0,0,0,0]
[null,null,null,null,null,null,null,94,"Y94",{"$f":"'risk stratification'!BB100","v":0},{"$f":"'risk stratification'!BC100","v":0},{"$f":"'risk stratification'!BD100","v":0},{"$f":"'risk stratification'!BE100","v":0},{"$f":"'risk stratification'!BF100","v":0},{"$f":"'risk stratification'!BG100","v":0},{"$f":"'risk stratification'!BH100","v":0},{"$f":"'risk stratification'!BI100","v":0},{"$f":"'population lookup'!P98","v":0},null,99,null,null,{"$f":"HLOOKUP($W$5,admission10plus,Risk!$A101,FALSE)","v":0},{"$f":"HLOOKUP($X$5,admission10plushighrisk,Risk!$A101,FALSE)","v":0},{"$f":"HLOOKUP($Y$5,admissions59,Risk!$A101,FALSE)","v":0},{"$f":"HLOOKUP($Z$5,admissions59highrisk,Risk!$A101,FALSE)","v":0},{"$f":"HLOOKUP($AA$5,admission10plus,Risk!$A101,FALSE)","v":0},{"$f":"HLOOKUP($AB$5,admission10plushighrisk,Risk!$A101,FALSE)","v":0},{"$f":"HLOOKUP($AC$5,admissions59,Risk!$A101,FALSE)","v":0},{"$f":"HLOOKUP($AC$5,admissions59highrisk,Risk!$A101,FALSE)","v":0},null,{"$f":"Admissions!E106","v":0},{"$f":"Admissions!F106","v":0},{"$f":"Admissions!G106","v":0},{"$f":"Admissions!H106","v":0},0,0,0,0,null,0,0,0,0,0,0,0,0,null,null,0,0,0,0,0,0,0,0,null,null,0,0,0,0,0,0,0,0]
[null,null,null,null,null,null,null,95,"Y95",{"$f":"'risk stratification'!BB101","v":0},{"$f":"'risk stratification'!BC101","v":0},{"$f":"'risk stratification'!BD101","v":0},{"$f":"'risk stratification'!BE101","v":0},{"$f":"'risk stratification'!BF101","v":0},{"$f":"'risk stratification'!BG101","v":0},{"$f":"'risk stratification'!BH101","v":0},{"$f":"'risk stratification'!BI101","v":0},{"$f":"'population lookup'!P99","v":0},null,100,null,null,{"$f":"HLOOKUP($W$5,admission10plus,Risk!$A102,FALSE)","v":0},{"$f":"HLOOKUP($X$5,admission10plushighrisk,Risk!$A102,FALSE)","v":0},{"$f":"HLOOKUP($Y$5,admissions59,Risk!$A102,FALSE)","v":0},{"$f":"HLOOKUP($Z$5,admissions59highrisk,Risk!$A102,FALSE)","v":0},{"$f":"HLOOKUP($AA$5,admission10plus,Risk!$A102,FALSE)","v":0},{"$f":"HLOOKUP($AB$5,admission10plushighrisk,Risk!$A102,FALSE)","v":0},{"$f":"HLOOKUP($AC$5,admissions59,Risk!$A102,FALSE)","v":0},{"$f":"HLOOKUP($AC$5,admissions59highrisk,Risk!$A102,FALSE)","v":0},null,{"$f":"Admissions!E107","v":0},{"$f":"Admissions!F107","v":0},{"$f":"Admissions!G107","v":0},{"$f":"Admissions!H107","v":0},0,0,0,0,null,0,0,0,0,0,0,0,0,null,null,0,0,0,0,0,0,0,0,null,null,0,0,0,0,0,0,0,0]
[null,null,null,null,null,null,null,96,"Y96",{"$f":"'risk stratification'!BB102","v":0},{"$f":"'risk stratification'!BC102","v":0},{"$f":"'risk stratification'!BD102","v":0},{"$f":"'risk stratification'!BE102","v":0},{"$f":"'risk stratification'!BF102","v":0},{"$f":"'risk stratification'!BG102","v":0},{"$f":"'risk stratification'!BH102","v":0},{"$f":"'risk stratification'!BI102","v":0},{"$f":"'population lookup'!P100","v":0},null,101,null,null,{"$f":"HLOOKUP($W$5,admission10plus,Risk!$A103,FALSE)","v":0},{"$f":"HLOOKUP($X$5,admission10plushighrisk,Risk!$A103,FALSE)","v":0},{"$f":"HLOOKUP($Y$5,admissions59,Risk!$A103,FALSE)","v":0},{"$f":"HLOOKUP($Z$5,admissions59highrisk,Risk!$A103,FALSE)","v":0},{"$f":"HLOOKUP($AA$5,admission10plus,Risk!$A103,FALSE)","v":0},{"$f":"HLOOKUP($AB$5,admission10plushighrisk,Risk!$A103,FALSE)","v":0},{"$f":"HLOOKUP($AC$5,admissions59,Risk!$A103,FALSE)","v":0},{"$f":"HLOOKUP($AC$5,admissions59highrisk,Risk!$A103,FALSE)","v":0},null,{"$f":"Admissions!E108","v":0},{"$f":"Admissions!F108","v":0},{"$f":"Admissions!G108","v":0},{"$f":"Admissions!H108","v":0},0,0,0,0,null,0,0,0,0,0,0,0,0,null,null,0,0,0,0,0,0,0,0,null,null,0,0,0,0,0,0,0,0]
[null,null,null,null,null,null,null,97,"Y97",{"$f":"'risk stratification'!BB103","v":0},{"$f":"'risk stratification'!BC103","v":0},{"$f":"'risk stratification'!BD103","v":0},{"$f":"'risk stratification'!BE103","v":0},{"$f":"'risk stratification'!BF103","v":0},{"$f":"'risk stratification'!BG103","v":0},{"$f":"'risk stratification'!BH103","v":0},{"$f":"'risk stratification'!BI103","v":0},{"$f":"'population lookup'!P101","v":0},null,102,null,null,{"$f":"HLOOKUP($W$5,admission10plus,Risk!$A104,FALSE)","v":0},{"$f":"HLOOKUP($X$5,admission10plushighrisk,Risk!$A104,FALSE)","v":0},{"$f":"HLOOKUP($Y$5,admissions59,Risk!$A104,FALSE)","v":0},{"$f":"HLOOKUP($Z$5,admissions59highrisk,Risk!$A104,FALSE)","v":0},{"$f":"HLOOKUP($AA$5,admission10plus,Risk!$A104,FALSE)","v":0},{"$f":"HLOOKUP($AB$5,admission10plushighrisk,Risk!$A104,FALSE)","v":0},{"$f":"HLOOKUP($AC$5,admissions59,Risk!$A104,FALSE)","v":0},{"$f":"HLOOKUP($AC$5,admissions59highrisk,Risk!$A104,FALSE)","v":0},null,{"$f":"Admissions!E109","v":0},{"$f":"Admissions!F109","v":0},{"$f":"Admissions!G109","v":0},{"$f":"Admissions!H109","v":0},0,0,0,0,null,0,0,0,0,0,0,0,0,null,null,0,0,0,0,0,0,0,0,null,null,0,0,0,0,0,0,0,0]
[null,null,null,null,null,null,null,98,"Y98",{"$f":"'risk stratification'!BB104","v":0},{"$f":"'risk stratification'!BC104","v":0},{"$f":"'risk stratification'!BD104","v":0},{"$f":"'risk stratification'!BE104","v":0},{"$f":"'risk stratification'!BF104","v":0},{"$f":"'risk stratification'!BG104","v":0},{"$f":"'risk stratification'!BH104","v":0},{"$f":"'risk stratification'!BI104","v":0},{"$f":"'population lookup'!P102","v":0},null,103,null,null,{"$f":"HLOOKUP($W$5,admission10plus,Risk!$A105,FALSE)","v":0},{"$f":"HLOOKUP($X$5,admission10plushighrisk,Risk!$A105,FALSE)","v":0},{"$f":"HLOOKUP($Y$5,admissions59,Risk!$A105,FALSE)","v":0},{"$f":"HLOOKUP($Z$5,admissions59highrisk,Risk!$A105,FALSE)","v":0},{"$f":"HLOOKUP($AA$5,admission10plus,Risk!$A105,FALSE)","v":0},{"$f":"HLOOKUP($AB$5,admission10plushighrisk,Risk!$A105,FALSE)","v":0},{"$f":"HLOOKUP($AC$5,admissions59,Risk!$A105,FALSE)","v":0},{"$f":"HLOOKUP($AC$5,admissions59highrisk,Risk!$A105,FALSE)","v":0},null,{"$f":"Admissions!E110","v":0},{"$f":"Admissions!F110","v":0},{"$f":"Admissions!G110","v":0},{"$f":"Admissions!H110","v":0},0,0,0,0,null,0,0,0,0,0,0,0,0,null,null,0,0,0,0,0,0,0,0,null,null,0,0,0,0,0,0,0,0]
[null,null,null,null,null,null,null,99,"Y99",{"$f":"'risk stratification'!BB105","v":0},{"$f":"'risk stratification'!BC105","v":0},{"$f":"'risk stratification'!BD105","v":0},{"$f":"'risk stratification'!BE105","v":0},{"$f":"'risk stratification'!BF105","v":0},{"$f":"'risk stratification'!BG105","v":0},{"$f":"'risk stratification'!BH105","v":0},{"$f":"'risk stratification'!BI105","v":0},{"$f":"'population lookup'!P103","v":0},null,104,null,null,{"$f":"HLOOKUP($W$5,admission10plus,Risk!$A106,FALSE)","v":0},{"$f":"HLOOKUP($X$5,admission10plushighrisk,Risk!$A106,FALSE)","v":0},{"$f":"HLOOKUP($Y$5,admissions59,Risk!$A106,FALSE)","v":0},{"$f":"HLOOKUP($Z$5,admissions59highrisk,Risk!$A106,FALSE)","v":0},{"$f":"HLOOKUP($AA$5,admission10plus,Risk!$A106,FALSE)","v":0},{"$f":"HLOOKUP($AB$5,admission10plushighrisk,Risk!$A106,FALSE)","v":0},{"$f":"HLOOKUP($AC$5,admissions59,Risk!$A106,FALSE)","v":0},{"$f":"HLOOKUP($AC$5,admissions59highrisk,Risk!$A106,FALSE)","v":0},null,{"$f":"Admissions!E111","v":0},{"$f":"Admissions!F111","v":0},{"$f":"Admissions!G111","v":0},{"$f":"Admissions!H111","v":0},0,0,0,0,null,0,0,0,0,0,0,0,0,null,null,0,0,0,0,0,0,0,0,null,null,0,0,0,0,0,0,0,0]
[null,null,null,null,null,null,null,100,"Y_OPEN",{"$f":"'risk stratification'!BB106","v":0},{"$f":"'risk stratification'!BC106","v":0},{"$f":"'risk stratification'!BD106","v":0},{"$f":"'risk stratification'!BE106","v":0},{"$f":"'risk stratification'!BF106","v":0},{"$f":"'risk stratification'!BG106","v":0},{"$f":"'risk stratification'!BH106","v":0},{"$f":"'risk stratification'!BI106","v":0},{"$f":"'population lookup'!P104","v":0},null,105,null,null,{"$f":"HLOOKUP($W$5,admission10plus,Risk!$A107,FALSE)","v":0.18200757575757578},{"$f":"HLOOKUP($X$5,admission10plushighrisk,Risk!$A107,FALSE)","v":0.15288815087178265},{"$f":"HLOOKUP($Y$5,admissions59,Risk!$A107,FALSE)","v":0.1556083592274414},{"$f":"HLOOKUP($Z$5,admissions59highrisk,Risk!$A107,FALSE)","v":0.1302286308131983},{"$f":"HLOOKUP($AA$5,admission10plus,Risk!$A107,FALSE)","v":0.18200757575757578},{"$f":"HLOOKUP($AB$5,admission10plushighrisk,Risk!$A107,FALSE)","v":0.15288815087178265},{"$f":"HLOOKUP($AC$5,admissions59,Risk!$A107,FALSE)","v":0.1556083592274414},{"$f":"HLOOKUP($AC$5,admissions59highrisk,Risk!$A107,FALSE)","v":0.1302286308131983},null,{"$f":"Admissions!E112","v":0},{"$f":"Admissions!F112","v":0},{"$f":"Admissions!G112","v":0},{"$f":"Admissions!H112","v":0},0,0,0,0,null,0,0,0,0,0,0,0,0,null,null,0.18200757575757578,0.15288815087178265,0.1556083592274414,0.1302286308131983,0.18200757575757578,0.15288815087178265,0.1556083592274414,0.1302286308131983,null,null,0,0,0,0,0,0,0,0]
[]
[null,null,null,null,null,null,null,"Totals",null,{"$f":"SUM(J6:J106)","v":374874.58033291542},{"$f":"SUM(K6:K106)","v":366100.65190922754},425385.18434741371,410237.03911915608,3186074.3249250641,3111764.1294038352,3613499.8814225914,3485371.1753152437,{"$f":"SUM(R6:R106)","v":66458505},null,null,null,null,null,null,null,null,null,null,null,null,null,null,null,null,null,null,null,null,null,null,null,null,null,null,null,null,null,null,null,null,null,null,null,null,null,null,null,null,null,"Totals",{"$f":"IF(AND($A$2=2,$A$4=2),$B$12*BI114,SUM(BI6:BI106))","v":380669.34839519608},{"$f":"IF(AND($A$2=2,$A$4=2),$B$12*BJ114,SUM(BJ6:BJ106))","v":329969.60976857925},398268.30271114816,339407.68885569373,{"$f":"SUM(BM6:BM106)","v":3236297.9086385197},2806682.7023872728,3384807.3866912462,2886553.9085314278]
[]
[null,null,null,null,null,null,null,null,null,{"$f":"AVERAGE(J6:J106)","v":3711.6295082466872},3624.7589297943323,4211.7344984892443,4061.752862565902,31545.290345792713,30809.545835681536,35777.22654873853,34508.625498170732,null,null,null,null,null,null,null,null,null,null,null,null,null,null,null,null,null,null,null,null,null,null,null,null,null,null,null,null,null,null,null,null,"Average admission rate",{"$f":"AVERAGE(AY6:AY106)","v":1.059638102142211},{"$f":"AVERAGE(AZ6:AZ106)","v":0.76369056879828978},0.81606785761218892,0.59561028961413953,1.059638102142211,0.76369056879828978,0.81606785761218892,0.59561028961413953,null,"Average admission rate",{"$f":"BI108/$J$108","v":1.0154578847601097},{"$f":"BJ108/$J$108","v":0.88021334889002789},1.0624041308894763,0.90538998017490402]
[]
[null,null,null,null,null,null,null,null,null,null,null,null,null,null,null,null,null,null,null,null,null,null,null,null,null,null,null,null,null,null,null,null,null,null,null,null,null,null,null,null,null,null,null,null,null,null,null,null,null,null,null,null,null,null,null,null,null,null,null,null,{"$f":"AY110*J108","v":397231.3888453283},{"$f":"AZ110*K108","v":279587.61509398266},{"$f":"BA110*L108","v":347143.17605035997},{"$f":"BB110*M108","v":244341.40168020764}]
[]
[null,null,null,null,null,null,null,null,null,null,null,null,null,null,null,null,null,null,null,null,null,null,null,null,null,null,null,null,null,null,null,null,null,null,null,null,null,null,null,null,null,null,null,null,null,null,null,null,null,null,null,null,null,null,null,null,null,null,null,"average admission rate, Scotland",{"$f":"Admissions!L114","v":1.4269793108848441},{"$f":"Admissions!M114","v":1.0284366326483636},{"$f":"Admissions!N114","v":1.0989713815844144},{"$f":"Admissions!O114","v":0.80208852334704128}]

{"sheet":"Review costs and WTE","index":12,"n_rows":87,"n_cols":25,"rows_kept":87,"cut":false,"hidden":true,"merged":[[77,6,77,7],[39,13,39,14],[48,13,48,14],[54,13,54,14],[32,6,32,7],[39,6,39,7],[48,6,48,7],[54,6,54,7],[65,6,65,7]]}
[]
[null,"hours per review",{"$f":"'input selections'!F18","v":2},{"$f":"'input selections'!G18","v":"Apply Scottish review set-up"}]
[null,null,{"$f":"'input selections'!F3","v":11},{"$f":"'input selections'!I3","v":"FR"}]
[]
[null,null,null,null,null,"Patient review",null,null,null,"Discussion between professional practitioners",null,null,null,"Discussion with patient",null,null,null,"Travel time",null,null,null,"Totals"]
[null,null,null,null,"Minutes spent per review","GPs (Primary Care Doctors)","Other doctors","Pharmacists","Nurses","GPs (Primary Care Doctors)","Other doctors","Pharmacists","Nurses","GPs (Primary Care Doctors)","Other doctors","Pharmacists","Nurses","GPs (Primary Care Doctors)","Other doctors","Pharmacists","Nurses","GPs (Primary Care Doctors)","Other doctors","Pharmacists","Nurses"]
[null,null,null,2,"Apply Scottish review set-up",{"$f":"Staff!E$4","v":0},{"$f":"Staff!F$4","v":0},{"$f":"Staff!G$4","v":60},{"$f":"Staff!H$4","v":0},{"$f":"Staff!I$4","v":15},{"$f":"Staff!J$4","v":0},{"$f":"Staff!K$4","v":15},{"$f":"Staff!L$4","v":0},{"$f":"Staff!M$4","v":15},{"$f":"Staff!N$4","v":0},{"$f":"Staff!O$4","v":0},{"$f":"Staff!P$4","v":0},{"$f":"Staff!Q$4","v":0},{"$f":"Staff!R$4","v":0},{"$f":"Staff!S$4","v":0},{"$f":"Staff!T$4","v":0},{"$f":"F7+J7+N7+R7","v":30},{"$f":"G7+K7+O7+S7","v":0},{"$f":"H7+L7+P7+T7","v":75},{"$f":"I7+M7+Q7+U7","v":0}]
[null,null,null,3,"Apply own estimates of hours allocated to review elements",{"$f":"Staff!E$9","v":0},{"$f":"Staff!F$9","v":0},{"$f":"Staff!G$9","v":0},{"$f":"Staff!H$9","v":0},{"$f":"Staff!I$9","v":0},{"$f":"Staff!J$9","v":0},{"$f":"Staff!K$9","v":0},{"$f":"Staff!L$9","v":0},{"$f":"Staff!M$9","v":0},{"$f":"Staff!N$9","v":0},{"$f":"Staff!O$9","v":0},{"$f":"Staff!P$9","v":0},{"$f":"Staff!Q$9","v":0},{"$f":"Staff!R$9","v":0},{"$f":"Staff!S$9","v":0},{"$f":"Staff!T$9","v":0},0,0,0,0]
[]
[null,null,null,1,2,3,4,5,6,7,8,9,10,11,12,13,14,15,16,17,18,19,20,21,22]
[]
[null,"Staff cost per hour",{"$f":"'input selections'!F21","v":2},{"$f":"'input selections'!G21","v":"Apply Scottish profile for staff cost"}]
[]
[null,null,null,null,null,"GPs (Primary Care Doctors)","Other doctors","Pharmacists","Nurses"]
[null,null,null,2,"Apply Scottish profile for staff cost",{"$f":"'Staff costs'!AA$4","v":1.0253912247474748},{"$f":"'Staff costs'!AB$4","v":1.631},{"$f":"'Staff costs'!AC$4","v":0.63074747474747472},{"$f":"'Staff costs'!AD$4","v":0.40833838383838383}]
[null,null,null,3,"Apply own profile for staff cost",{"$f":"'Staff costs'!AA$8","v":0.85858585858585856},{"$f":"'Staff costs'!AB$8","v":1.4141414141414141},{"$f":"'Staff costs'!AC$8","v":0.50505050505050508},{"$f":"'Staff costs'!AD$8","v":0.35353535353535354}]
[]
[null,null,null,1,2,3,4,5,6]
[]
[]
[null,"Cost per review"]
[null,null,null,null,null,"GPs (Primary Care Doctors)","Other doctors","Pharmacists","Nurses"]
[null,null,null,null,"Minutes",{"$f":"VLOOKUP($C$2,$D$6:$Y$8,V$10,FALSE)","v":30},{"$f":"VLOOKUP($C$2,$D$6:$Y$8,W$10,FALSE)","v":0},{"$f":"VLOOKUP($C$2,$D$6:$Y$8,X$10,FALSE)","v":75},{"$f":"VLOOKUP($C$2,$D$6:$Y$8,Y$10,FALSE)","v":0}]
[null,null,null,null,"Cost",{"$f":"VLOOKUP($C$12,$D$14:$I$16,F$18,FALSE)","v":1.0253912247474748},{"$f":"VLOOKUP($C$12,$D$14:$I$16,G$18,FALSE)","v":1.631},{"$f":"VLOOKUP($C$12,$D$14:$I$16,H$18,FALSE)","v":0.63074747474747472},{"$f":"VLOOKUP($C$12,$D$14:$I$16,I$18,FALSE)","v":0.40833838383838383}]
[]
[null,null,null,null,null,"GPs (Primary Care Doctors)","Other doctors","Pharmacists","Nurses","Total"]
[null,null,null,null,"Cost per review",{"$f":"F23*F24","v":30.761736742424244},{"$f":"G23*G24","v":0},47.306060606060605,0,{"$f":"SUM(F27:I27)","v":78.067797348484845}]
[]
[]
[]
[]
[null,"Population",null,null,"Population summary"]
[null,null,null,null,null,"No risk stratification","Risk stratification"]
[null,null,null,null,null,null,"BNF10+","BNF10+ & High Risk Med","BNF 5-9","BNF 5-9 & High Risk Med"]
[null,null,null,null,{"$f":"'input selections'!G3","v":"FR"},{"$f":"'risk stratification'!B10","v":7968556},{"$f":"'risk stratification'!C10","v":374874.58033291542},{"$f":"'risk stratification'!D10","v":366100.65190922754},{"$f":"'risk stratification'!E10","v":425385.18434741371},{"$f":"'risk stratification'!F10","v":410237.03911915608}]
[null,null,null,null,"EU28",{"$f":"'risk stratification'!B11","v":66458505},{"$f":"'risk stratification'!C11","v":3186074.3249250641},{"$f":"'risk stratification'!D11","v":3111764.1294038352},{"$f":"'risk stratification'!E11","v":3613499.8814225914},{"$f":"'risk stratification'!F11","v":3485371.1753152437}]
[null,null,null,null,null,null,null,null,null,null,null,1000000]
[]
[null,"Total cost of reviews"]
[null,null,null,null,"Total cost of reviews","No risk stratification","Risk stratification",null,null,null,null,"Total cost of reviews","No risk stratification","Risk stratification"]
[null,null,null,null,null,null,"BNF10+","BNF10+ & High Risk Med","BNF 5-9","BNF 5-9 & High Risk Med",null,"€m",null,"BNF10+","BNF10+ & High Risk Med","BNF 5-9","BNF 5-9 & High Risk Med"]
[null,null,null,null,{"$f":"$E$35","v":"FR"},{"$f":"IF(ISERROR($J$27*F35),\"\",($J$27*F35))","v":622087614.96805298},{"$f":"IF(ISERROR($J$27*G35),\"\",($J$27*G35))","v":29265632.768528342},28580671.502397768,{"$f":"IF(ISERROR($J$27*I35),\"\",($J$27*I35))","v":33208884.366681762},32026302.034796726,null,{"$f":"$E$35","v":"FR"},{"$f":"F42/$L$37","v":622.087614968053},{"$f":"G42/$L$37","v":29.265632768528342},28.580671502397767,{"$f":"I42/$L$37","v":33.208884366681765},{"$f":"J42/$L$37","v":32.026302034796728}]
[null,null,null,null,"EU28",{"$f":"IF(ISERROR($J$27*F36),\"\",($J$27*F36))","v":5188269100.4232664},248729804.73546055,242928571.45058298,{"$f":"IF(ISERROR($J$27*I36),\"\",($J$27*I36))","v":282097976.4616729},272095250.5987609,null,"EU28",{"$f":"F43/$L$37","v":5188.2691004232665},{"$f":"G43/$L$37","v":248.72980473546056},{"$f":"H43/$L$37","v":242.92857145058298},282.09797646167289,272.09525059876091]
[]
[]
[]
[null,"Review Charge"]
[null,null,{"$f":"'input selections'!F24","v":1},{"$f":"'input selections'!G24","v":"No charge for reviews"}]
[null,"Review charge reclaimed",null,null,"Review charge reclaimed","No risk stratification","Risk stratification",null,null,null,null,"Review charge reclaimed","No risk stratification","Risk stratification"]
[null,null,null,null,null,null,"BNF10+","BNF10+ & High Risk Med","BNF 5-9","BNF 5-9 & High Risk Med",null,"€m",null,"BNF10+","BNF10+ & High Risk Med","BNF 5-9","BNF 5-9 & High Risk Med"]
[null,null,null,null,{"$f":"$E$35","v":"FR"},{"$f":"IF($C$48=3,('Review charge'!$K$8*F35),IF($C$48=2,(VLOOKUP($D$3,reviewchargexe,2,FALSE)*F35),0))","v":0},{"$f":"IF($C$48=3,('Review charge'!$K$8*G35),IF($C$48=2,(VLOOKUP($D$3,reviewchargexe,2,FALSE)*G35),0))","v":0},{"$f":"IF($C$48=3,('Review charge'!$K$8*H35),IF($C$48=2,(VLOOKUP($D$3,reviewchargexe,2,FALSE)*H35),0))","v":0},{"$f":"IF($C$48=3,('Review charge'!$K$8*I35),IF($C$48=2,(VLOOKUP($D$3,reviewchargexe,2,FALSE)*I35),0))","v":0},{"$f":"IF($C$48=3,('Review charge'!$K$8*J35),IF($C$48=2,(VLOOKUP($D$3,reviewchargexe,2,FALSE)*J35),0))","v":0},null,{"$f":"$E$35","v":"FR"},{"$f":"F51/$L$37","v":0},{"$f":"G51/$L$37","v":0},0,{"$f":"I51/$L$37","v":0},{"$f":"J51/$L$37","v":0}]
[null,null,null,null,"EU28",{"$f":"IF($C$48=3,('Review charge'!$K$8*F36),IF($C$48=2,(VLOOKUP($D$3,reviewchargexe,2,FALSE)*F36),0))","v":0},{"$f":"IF($C$48=3,('Review charge'!$K$8*G36),IF($C$48=2,(VLOOKUP($D$3,reviewchargexe,2,FALSE)*G36),0))","v":0},{"$f":"IF($C$48=3,('Review charge'!$K$8*H36),IF($C$48=2,(VLOOKUP($D$3,reviewchargexe,2,FALSE)*H36),0))","v":0},{"$f":"IF($C$48=3,('Review charge'!$K$8*I36),IF($C$48=2,(VLOOKUP($D$3,reviewchargexe,2,FALSE)*I36),0))","v":0},{"$f":"IF($C$48=3,('Review charge'!$K$8*J36),IF($C$48=2,(VLOOKUP($D$3,reviewchargexe,2,FALSE)*J36),0))","v":0},null,"EU28",{"$f":"F52/$L$37","v":0},{"$f":"G52/$L$37","v":0},{"$f":"H52/$L$37","v":0},0,0]
[]
[]
[null,"Net total cost of reviews",null,null,"Net total cost of reviews","No risk stratification","Risk stratification",null,null,null,null,"Net total cost of reviews","No risk stratification","Risk stratification"]
[null,null,null,null,null,null,"BNF10+","BNF10+ & High Risk Med","BNF 5-9","BNF 5-9 & High Risk Med",null,"€m",null,"BNF10+","BNF10+ & High Risk Med","BNF 5-9","BNF 5-9 & High Risk Med"]
[null,null,null,null,{"$f":"$E$35","v":"FR"},{"$f":"IF(ISERROR(F42-F51),\"\",(F42-F51))","v":622087614.96805298},{"$f":"IF(ISERROR(G42-G51),\"\",(G42-G51))","v":29265632.768528342},28580671.502397768,{"$f":"IF(ISERROR(I42-I51),\"\",(I42-I51))","v":33208884.366681762},32026302.034796726,null,{"$f":"$E$35","v":"FR"},{"$f":"F57/$L$37","v":622.087614968053},{"$f":"G57/$L$37","v":29.265632768528342},28.580671502397767,{"$f":"I57/$L$37","v":33.208884366681765},{"$f":"J57/$L$37","v":32.026302034796728}]
[null,null,null,null,"EU28",{"$f":"IF(ISERROR(F43-F52),\"\",(F43-F52))","v":5188269100.4232664},248729804.73546055,242928571.45058298,{"$f":"IF(ISERROR(I43-I52),\"\",(I43-I52))","v":282097976.4616729},272095250.5987609,null,"EU28",{"$f":"F58/$L$37","v":5188.2691004232665},{"$f":"G58/$L$37","v":248.72980473546056},{"$f":"H58/$L$37","v":242.92857145058298},282.09797646167289,272.09525059876091]
[]
[]
[]
[]
[]
[]
[null,"staff hours required"]
[null,null,null,"staff minutes required",null,"No risk stratification","Risk stratification"]
[null,null,null,null,null,null,"BNF10+","BNF10+ & High Risk Med","BNF 5-9","BNF 5-9 & High Risk Med"]
[null,null,null,"GPs (Primary Care Doctors)",{"$f":"$E$35","v":"FR"},{"$f":"IF(ISERROR(F$35*$F$23),\"\",(F$35*$F$23))","v":239056680},{"$f":"IF(ISERROR(G$35*$F$23),\"\",(G$35*$F$23))","v":11246237.409987463},{"$f":"IF(ISERROR(H$35*$F$23),\"\",(H$35*$F$23))","v":10983019.557276826},{"$f":"IF(ISERROR(I$35*$F$23),\"\",(I$35*$F$23))","v":12761555.530422412},12307111.173574682]
[null,null,null,null,"EU28",{"$f":"IF(ISERROR(F$36*$F$23),\"\",(F$36*$F$23))","v":1993755150},{"$f":"IF(ISERROR(G$36*$F$23),\"\",(G$36*$F$23))","v":95582229.747751921},{"$f":"IF(ISERROR(H$36*$F$23),\"\",(H$36*$F$23))","v":93352923.882115051},{"$f":"IF(ISERROR(I$36*$F$23),\"\",(I$36*$F$23))","v":108404996.44267774},104561135.25945731]
[null,null,null,"Other doctors",{"$f":"$E$35","v":"FR"},{"$f":"IF(ISERROR(F$35*$G$23),\"\",(F$35*$G$23))","v":0},{"$f":"IF(ISERROR(G$35*$G$23),\"\",(G$35*$G$23))","v":0},{"$f":"IF(ISERROR(H$35*$G$23),\"\",(H$35*$G$23))","v":0},{"$f":"IF(ISERROR(I$35*$G$23),\"\",(I$35*$G$23))","v":0},0]
[null,null,null,null,"EU28",{"$f":"IF(ISERROR(F$36*$G$23),\"\",(F$36*$G$23))","v":0},{"$f":"IF(ISERROR(G$36*$G$23),\"\",(G$36*$G$23))","v":0},{"$f":"IF(ISERROR(H$36*$G$23),\"\",(H$36*$G$23))","v":0},{"$f":"IF(ISERROR(I$36*$G$23),\"\",(I$36*$G$23))","v":0},0]
[null,null,null,"Pharmacists",{"$f":"$E$35","v":"FR"},{"$f":"IF(ISERROR(F$35*$H$23),\"\",(F$35*$H$23))","v":597641700},{"$f":"IF(ISERROR(G$35*$H$23),\"\",(G$35*$H$23))","v":28115593.524968658},{"$f":"IF(ISERROR(H$35*$H$23),\"\",(H$35*$H$23))","v":27457548.893192064},{"$f":"IF(ISERROR(I$35*$H$23),\"\",(I$35*$H$23))","v":31903888.82605603},30767777.933936708]
[null,null,null,null,"EU28",{"$f":"IF(ISERROR(F$36*$H$23),\"\",(F$36*$H$23))","v":4984387875},{"$f":"IF(ISERROR(G$36*$H$23),\"\",(G$36*$H$23))","v":238955574.36937982},{"$f":"IF(ISERROR(H$36*$H$23),\"\",(H$36*$H$23))","v":233382309.70528764},{"$f":"IF(ISERROR(I$36*$H$23),\"\",(I$36*$H$23))","v":271012491.10669434},261402838.14864329]
[null,null,null,"Nurses",{"$f":"$E$35","v":"FR"},{"$f":"IF(ISERROR(F$35*$I$23),\"\",(F$35*$I$23))","v":0},{"$f":"IF(ISERROR(G$35*$I$23),\"\",(G$35*$I$23))","v":0},{"$f":"IF(ISERROR(H$35*$I$23),\"\",(H$35*$I$23))","v":0},{"$f":"IF(ISERROR(I$35*$I$23),\"\",(I$35*$I$23))","v":0},0]
[null,null,null,null,"EU28",{"$f":"IF(ISERROR(F$36*$I$23),\"\",(F$36*$I$23))","v":0},{"$f":"IF(ISERROR(G$36*$I$23),\"\",(G$36*$I$23))","v":0},{"$f":"IF(ISERROR(H$36*$I$23),\"\",(H$36*$I$23))","v":0},{"$f":"IF(ISERROR(I$36*$I$23),\"\",(I$36*$I$23))","v":0},0]
[]
[null,"WTE required"]
[null,null,{"$f":"'Staff costs'!L2","v":99000},"WTE required",null,"No risk stratification","Risk stratification"]
[null,null,null,null,null,null,"BNF10+","BNF10+ & High Risk Med","BNF 5-9","BNF 5-9 & High Risk Med"]
[null,null,null,"GPs (Primary Care Doctors)",{"$f":"$E$35","v":"FR"},{"$f":"IF(ISERROR(F68/$C$78),\"\",(F68/$C$78))","v":2414.7139393939392},113.59835767664104,110.93959148764471,{"$f":"IF(ISERROR(I68/$C$78),\"\",(I68/$C$78))","v":128.90460131739809},124.31425427853215]
[null,null,null,null,"EU28",20138.94090909091,965.47706815911033,942.95882709207126,{"$f":"IF(ISERROR(I69/$C$78),\"\",(I69/$C$78))","v":1094.9999640674519},1056.1730834288617]
[null,null,null,"Other doctors",{"$f":"$E$35","v":"FR"},0,0,0,{"$f":"IF(ISERROR(I70/$C$78),\"\",(I70/$C$78))","v":0},0]
[null,null,null,null,"EU28",0,0,0,{"$f":"IF(ISERROR(I71/$C$78),\"\",(I71/$C$78))","v":0},0]
[null,null,null,"Pharmacists",{"$f":"$E$35","v":"FR"},6036.7848484848482,283.99589419160259,277.34897871911176,{"$f":"IF(ISERROR(I72/$C$78),\"\",(I72/$C$78))","v":322.26150329349525},310.78563569633036]
[null,null,null,null,"EU28",50347.352272727272,2413.6926703977761,2357.3970677301782,{"$f":"IF(ISERROR(I73/$C$78),\"\",(I73/$C$78))","v":2737.4999101686299},2640.4327085721543]
[null,null,null,"Nurses",{"$f":"$E$35","v":"FR"},0,0,0,{"$f":"IF(ISERROR(I74/$C$78),\"\",(I74/$C$78))","v":0},0]
[null,null,null,null,"EU28",0,0,0,{"$f":"IF(ISERROR(I75/$C$78),\"\",(I75/$C$78))","v":0},0]

{"sheet":"drugs saved","index":13,"n_rows":40,"n_cols":16,"rows_kept":40,"cut":false,"hidden":true,"merged":[[28,4,28,5],[36,4,36,5],[36,12,36,13]]}
[]
[null,1000000]
[]
[null,null,null,"Number of drugs",{"$f":"'input selections'!F27","v":2},{"$f":"'input selections'!G27","v":"Apply Scottish profile for DDDs stopped / started"}]
[]
[null,null,null,"Number of drugs","average number of drugs stopped/ decreased","average number of drugs started/ increased","average number of repeats per annum","Numbers decreased per review"]
[null,null,2,"Scotland",{"$f":"Drugs!E$4","v":2.1},{"$f":"Drugs!G$4","v":0.4},{"$f":"Drugs!H$4","v":6},{"$f":"(1+G7)*(E7-F7)","v":11.900000000000002}]
[null,null,3,"own",{"$f":"Drugs!E$9","v":2.1},{"$f":"Drugs!G$9","v":0.4},{"$f":"Drugs!H$9","v":0},{"$f":"(1+G8)*(E8-F8)","v":1.7000000000000002}]
[]
[]
[null,null,null,"Drugs cost",2,"Apply Scottish profile for drugs cost"]
[]
[null,null,null,"Number of drugs","Net number of DDDs decreased per review per annum"]
[null,null,2,"Scotland",{"$f":"(E7-F7)","v":1.7000000000000002}]
[null,null,3,"own",{"$f":"(E8-F8)","v":1.7000000000000002}]
[]
[null,null,null,null,"DDDs","Sales value (€m)","Annual cost per DDD"]
[null,null,2,"Scotland",{"$f":"DDDs!$E$4","v":3499074206.0836396},{"$f":"'Sales value'!$F$4","v":442002.39543344668},{"$f":"$B$2*F18/E18","v":126.31981187051204}]
[null,null,3,"own",{"$f":"DDDs!$E$38","v":100000000},{"$f":"'Sales value'!$F$38","v":10000},{"$f":"$B$2*F19/E19","v":100}]
[]
[null,null,null,"Net number of DDDs decreased per review per annum","Annual cost per DDD","Potential savings per review for full year"]
[null,null,null,{"$f":"VLOOKUP($E$4,$C$13:$E$15,3,FALSE)","v":1.7000000000000002},{"$f":"VLOOKUP($E$11,$C$17:$G$19,5,FALSE)","v":126.31981187051204},{"$f":"D22*E22","v":214.74368017987049}]
[]
["Savings per review",null,null,"Total savings for population selected"]
[]
[]
[]
[null,null,"Population summary"]
[null,null,null,"No risk stratification","Risk stratification"]
[null,null,null,null,"BNF10+","BNF10+ & High Risk Med","BNF 5-9","BNF 5-9 & High Risk Med"]
[null,null,{"$f":"'input selections'!G3","v":"FR"},{"$f":"'risk stratification'!B10","v":7968556},{"$f":"'risk stratification'!C10","v":374874.58033291542},{"$f":"'risk stratification'!D10","v":366100.65190922754},{"$f":"'risk stratification'!E10","v":425385.18434741371},{"$f":"'risk stratification'!F10","v":410237.03911915608}]
[null,null,"EU28",{"$f":"'risk stratification'!B11","v":66458505},{"$f":"'risk stratification'!C11","v":3186074.3249250641},{"$f":"'risk stratification'!D11","v":3111764.1294038352},{"$f":"'risk stratification'!E11","v":3613499.8814225914},{"$f":"'risk stratification'!F11","v":3485371.1753152437}]
[]
[null,null,null,null,null,null,null,null,null,null,1000000]
[]
[null,null,"Total savings for population selected"]
[null,null,null,"No risk stratification","Risk stratification",null,null,null,null,null,null,"No risk stratification","Risk stratification"]
[null,null,null,null,"BNF10+","BNF10+ & High Risk Med","BNF 5-9","BNF 5-9 & High Risk Med",null,null,"€m",null,"BNF10+","BNF10+ & High Risk Med","BNF 5-9","BNF 5-9 & High Risk Med"]
[null,null,{"$f":"'input selections'!G3","v":"FR"},{"$f":"IF(ISERROR($F$22*D31),\"\",($F$22*D31))","v":1711197041.1593881},{"$f":"IF(ISERROR($F$22*E31),\"\",($F$22*E31))","v":80501946.986574754},78617801.307237253,91348779.980756268,88095811.526541069,null,null,{"$f":"C39","v":"FR"},{"$f":"D39/$K$34","v":1711.1970411593882},{"$f":"E39/$K$34","v":80.501946986574751},78.617801307237258,{"$f":"G39/$K$34","v":91.348779980756262},{"$f":"H39/$K$34","v":88.09581152654107}]
[null,null,"EU28",14271543942.952324,684189325.86100471,668231680.99989033,775976262.86621296,748461432.98003602,null,null,"EU28",{"$f":"D40/$K$34","v":14271.543942952323},{"$f":"E40/$K$34","v":684.1893258610047},{"$f":"F40/$K$34","v":668.23168099989027},775.97626286621301,748.46143298003597]

{"sheet":"Indirect Impacts","index":14,"n_rows":131,"n_cols":31,"rows_kept":131,"cut":false,"hidden":true,"merged":[[104,27,104,28],[119,27,119,28],[70,6,70,7],[89,6,89,7],[104,6,104,7],[119,6,119,7],[89,17,89,18],[104,17,104,18],[119,17,119,18],[25,6,25,7],[31,6,31,7],[40,6,40,7],[55,6,55,7],[89,27,89,28]]}
["Indirect Impacts"]
[]
[null,null,null,null,null,null,null,null,null,"http://stats.stackexchange.com/questions/62916/confidence-interval-for-the-product-of-two-parameters"]
[]
[null,null,null,"95% conf interval","central estimate","95% conf interval",null,null,null,"standard errors",null,null,null,"covariance"]
[null,null,null,"min","avge","max",null,null,null,"SE",3.92,"Var","Covar","ADR hosp adm","bed days"]
[null,"Pirmohamed et al (2004)","Adverse drug events  accounting for % of hospital admissions",6.2E-2,6.5000000000000002E-2,6.9000000000000006E-2,"% of admissions",null,null,{"$f":"(F7-D7)/$K$6","v":1.7857142857142874E-3},null,{"$f":"J7^2","v":3.1887755102040877E-6}]
[null,"Pirmohamed M., Sally James, Shaun Meakin, Chris Green, Andrew K Breckenridge Scott, Thomas J Walley, Keith Farrar, B Kevin Park and Alasdair M Breckenridge (2004) Adverse drug reactions as cause of admission to hospital: prospective analysis of 18 820 patients, BMJ 2004;329;15-19 doi:10.1136/bmj.329.7456.15","ADR directly leading to the admission in % of cases",0.78,0.8,0.82,"% of cases",null,null,1.0204081632653041E-2,null,1.0412328196584716E-4]
[null,"http://www.anticoagulation.org.uk/pdfs/resources/BMJ%202004;%20329%2015-19.pdf","identified through screening",0.18,0.2,0.22,"% of cases",null,null,1.0204081632653064E-2,null,1.0412328196584762E-4]
[null,null,"% of ADRs unavoidable",0.25,0.28000000000000003,0.3,null,null,null,1.2755102040816323E-2,null,1.6269262807163673E-4]
[null,null,"% of ADRs definitely avoidable",7.0000000000000007E-2,0.09,0.1,null,null,null,7.6530612244897957E-3,null,5.8569346105789253E-5]
[null,null,"% of ADRs possibly avoidable",0.6,0.63,0.66,null,null,null,1.5306122448979605E-2,null,2.3427738442315744E-4]
[null,null,"median bed day",4,8,18,"bed days, interquartile range","not in use"]
[null,null,"% of hospital bed capacity",null,0.04,null,null,"not in use"]
[null,null,"projected annual cost (NHS england)",null,466,null,"£m","not in use"]
[null,null,"overall fatality ",1E-3,1.5E-3,2E-3,"% of admissions","not in use",null,{"$f":"(F16-D16)/$K$6","v":2.5510204081632655E-4},null,{"$f":"J16^2","v":6.5077051228654738E-8},"can't get this without original raw data!"]
[]
[]
[null,"Additional assumptions"]
[null,null,"average length of stay (median bed day)",null,3.1,null,"days","ISD, Inpatient emergency admissions into General Medicine, 2015/16"]
[null,null,null,null,null,null,null,"http://www.isdscotland.org/Health-Topics/Hospital-Care/Inpatient-and-Day-Case-Activity/"]
[null,null,"Assumed % of avoidable ADRs avoided through PPH",null,{"$f":"'manual data input'!$AO$6","v":0.6}]
[]
[]
[]
[null,null,null,null,"Population summary","No risk stratification","Risk stratification"]
[null,null,null,null,null,null,"BNF10+","BNF10+ & High Risk Med","BNF 5-9","BNF 5-9 & High Risk Med"]
[null,null,null,null,{"$f":"'input selections'!$G$3","v":"FR"},{"$f":"'risk stratification'!B10","v":7968556},{"$f":"'risk stratification'!C10","v":374874.58033291542},{"$f":"'risk stratification'!D10","v":366100.65190922754},{"$f":"'risk stratification'!E10","v":425385.18434741371},{"$f":"'risk stratification'!F10","v":410237.03911915608}]
[null,{"$f":"'input selections'!F42","v":2},{"$f":"'input selections'!G42","v":"Apply Scottish profile for admission rates"},null,"EU28",{"$f":"'risk stratification'!B11","v":66458505},{"$f":"'risk stratification'!C11","v":3186074.3249250641},{"$f":"'risk stratification'!D11","v":3111764.1294038352},{"$f":"'risk stratification'!E11","v":3613499.8814225914},{"$f":"'risk stratification'!F11","v":3485371.1753152437}]
[]
[null,"Costs per bed days"]
[null,{"$f":"'input selections'!$F$38","v":2},"Apply Scottish profile for cost per bed day",null,"Admissions associated with patients","No risk stratification","Risk stratification"]
[null,null,"General Medicine Gross direct cost per bed day",null,null,null,"BNF10+","BNF10+ & High Risk Med","BNF 5-9","BNF 5-9 & High Risk Med"]
[null,{"$f":"'input selections'!G3","v":"FR"},{"$f":"IF($B$32=2,'Bed days'!$K$18,'Bed days'!$K$22)","v":374.01019787830961},null,{"$f":"'input selections'!$G$3","v":"FR"},{"$f":"'admission rate var'!B12","v":2331091.7129276688},{"$f":"'admission rate var'!C12","v":380669.34839519608},{"$f":"'admission rate var'!D12","v":329969.60976857925},{"$f":"'admission rate var'!E12","v":398268.30271114816},{"$f":"'admission rate var'!F12","v":339407.68885569373}]
[null,"EU28",{"$f":"C34","v":374.01019787830961},null,"EU28",{"$f":"'admission rate var'!B13","v":19441523.691251218},{"$f":"'admission rate var'!C13","v":3236297.9086385197},{"$f":"'admission rate var'!D13","v":2806682.7023872728},{"$f":"'admission rate var'!E13","v":3384807.3866912462},{"$f":"'admission rate var'!F13","v":2886553.9085314278}]
[", "]
["("]
[")"]
["%"]
["€"]
[null,null,"Hospital admissions associated with ADRs",null,null,"No risk stratification","Risk stratification"]
[null,null,null,null,null,null,"BNF10+","BNF10+ & High Risk Med","BNF 5-9","BNF 5-9 & High Risk Med"]
[null,null,null,"min 95% conf interval",{"$f":"D7","v":6.2E-2},{"$f":"IF(ISERROR($E43*F$34),\"\",($E43*F$34))","v":144527.68620151546},{"$f":"IF(ISERROR($E43*G$34),\"\",($E43*G$34))","v":23601.499600502157},{"$f":"IF(ISERROR($E43*H$34),\"\",($E43*H$34))","v":20458.115805651913},24692.634768091186,21043.276709053011]
[null,null,{"$f":"'input selections'!$G$3","v":"FR"},"central estimate",{"$f":"E7","v":6.5000000000000002E-2},151520.96134029847,24743.507645687747,21448.024634957652,25887.439676224632,22061.499775620094]
[null,null,null,"max 95% conf interval",{"$f":"F7","v":6.9000000000000006E-2},160845.32819200915,26266.18503926853,22767.903074031969,27480.512887069224,23419.130531042869]
[null,null,null,"95% confidene interval",{"$f":"CONCATENATE($A$37,100*E43,$A$39,$A$36,100*E45,$A$39,$A$38)","v":"(6.2%, 6.9%)"},{"$f":"IF(ISERROR(CONCATENATE($A$37,ROUND(F43,0),$A$36,ROUND(F45,0),$A$38)),\"\",CONCATENATE($A$37,ROUND(F43,0),$A$36,ROUND(F45,0),$A$38))","v":"(144528, 160845)"},{"$f":"CONCATENATE($A$37,ROUND(G43,0),$A$36,ROUND(G45,0),$A$38)","v":"(23601, 26266)"},{"$f":"CONCATENATE($A$37,ROUND(H43,0),$A$36,ROUND(H45,0),$A$38)","v":"(20458, 22768)"},{"$f":"CONCATENATE($A$37,ROUND(I43,0),$A$36,ROUND(I45,0),$A$38)","v":"(24693, 27481)"},"(21043, 23419)"]
[]
[]
[null,null,"EU28","min 95% conf interval",{"$f":"D7","v":6.2E-2},{"$f":"IF(ISERROR($E49*F$35),\"\",($E43*F$35))","v":1205374.4688575754},{"$f":"IF(ISERROR($E49*G$35),\"\",($E43*G$35))","v":200650.47033558821},174014.32754801092,{"$f":"IF(ISERROR($E49*I$35),\"\",($E43*I$35))","v":209858.05797485725},178966.34232894852]
[null,null,null,"central estimate",{"$f":"E7","v":6.5000000000000002E-2},1263699.0399313292,210359.36406150379,182434.37565517274,{"$f":"IF(ISERROR($E50*I$35),\"\",($E44*I$35))","v":220012.48013493101},187626.00405454281]
[null,null,null,"max 95% conf interval",{"$f":"F7","v":6.9000000000000006E-2},1341465.1346963341,223304.55569605788,193661.10646472184,{"$f":"IF(ISERROR($E51*I$35),\"\",($E45*I$35))","v":233551.709681696},199172.21968866853]
[null,null,null,"95% confidene interval",{"$f":"CONCATENATE($A$37,100*E49,$A$39,$A$36,100*E51,$A$39,$A$38)","v":"(6.2%, 6.9%)"},{"$f":"IF(ISERROR(CONCATENATE($A$37,ROUND(F49,0),$A$36,ROUND(F51,0),$A$38)),\"\",CONCATENATE($A$37,ROUND(F49,0),$A$36,ROUND(F51,0),$A$38))","v":"(1205374, 1341465)"},{"$f":"CONCATENATE($A$37,ROUND(G49,0),$A$36,ROUND(G51,0),$A$38)","v":"(200650, 223305)"},{"$f":"CONCATENATE($A$37,ROUND(H49,0),$A$36,ROUND(H51,0),$A$38)","v":"(174014, 193661)"},{"$f":"CONCATENATE($A$37,ROUND(I49,0),$A$36,ROUND(I51,0),$A$38)","v":"(209858, 233552)"},"(178966, 199172)"]
[]
[]
[]
[null,"this needs to be revised with Pirmohamed data!","Proportion of ADRs definitely avoidable through PPH, based on central admission estimate",null,null,"No risk stratification","Risk stratification"]
[null,null,null,null,null,null,"BNF10+","BNF10+ & High Risk Med","BNF 5-9","BNF 5-9 & High Risk Med"]
[null,null,null,"min 95% conf interval",{"$f":"D11","v":7.0000000000000007E-2},{"$f":"IF(ISERROR($E$22*$E58*F$44),\"\",($E$22*$E58*F$44))","v":6363.8803762925363},{"$f":"IF(ISERROR($E$22*$E58*G$44),\"\",($E$22*$E58*G$44))","v":1039.2273211188854},900.81703466822148,1087.2724664014347,926.58299057604404]
[null,null,{"$f":"'input selections'!$G$3","v":"FR"},"central estimate",{"$f":"E11","v":0.09},{"$f":"IF(ISERROR($E$22*$E59*F$44),\"\",($E$22*$E59*F$44))","v":8182.1319123761168},1336.1494128671384,1158.1933302877133,1397.9217425161301,1191.320987883485]
[null,null,null,"max 95% conf interval",{"$f":"F11","v":0.1},9091.257680417908,1484.6104587412647,1286.881478097459,1553.2463805734778,1323.6899865372056]
[null,null,null,"95% confidene interval",{"$f":"CONCATENATE($A$37,100*E58,$A$39,$A$36,100*E60,$A$39,$A$38)","v":"(7%, 10%)"},{"$f":"IF(ISERROR(CONCATENATE($A$37,ROUND(F58,0),$A$36,ROUND(F60,0),$A$38)),\"\",CONCATENATE($A$37,ROUND(F58,0),$A$36,ROUND(F60,0),$A$38))","v":"(6364, 9091)"},{"$f":"CONCATENATE($A$37,ROUND(G58,0),$A$36,ROUND(G60,0),$A$38)","v":"(1039, 1485)"},{"$f":"CONCATENATE($A$37,ROUND(H58,0),$A$36,ROUND(H60,0),$A$38)","v":"(901, 1287)"},{"$f":"CONCATENATE($A$37,ROUND(I58,0),$A$36,ROUND(I60,0),$A$38)","v":"(1087, 1553)"},"(927, 1324)"]
[]
[]
[null,null,"EU28","min 95% conf interval",{"$f":"D11","v":7.0000000000000007E-2},{"$f":"IF(ISERROR($E$22*$E64*F$50),\"\",($E$22*$E64*F$50))","v":53075.359677115826},{"$f":"IF(ISERROR($E$22*$E64*G$50),\"\",($E$22*$E64*G$50))","v":8835.0932905831596},7662.2437775172557,9240.5241656671024,7880.2921702907979]
[null,null,null,"central estimate",{"$f":"E11","v":0.09},{"$f":"IF(ISERROR($E$22*$E65*F$50),\"\",($E$22*$E65*F$50))","v":68239.748156291782},11359.405659321204,9851.4562853793286,11880.673927286274,10131.804218945312]
[null,null,null,"max 95% conf interval",{"$f":"F11","v":0.1},75821.942395879756,12621.561843690226,10946.062539310364,13200.748808095861,11257.560243272568]
[null,null,null,"95% confidene interval",{"$f":"CONCATENATE($A$37,100*E64,$A$39,$A$36,100*E66,$A$39,$A$38)","v":"(7%, 10%)"},{"$f":"IF(ISERROR(CONCATENATE($A$37,ROUND(F64,0),$A$36,ROUND(F66,0),$A$38)),\"\",CONCATENATE($A$37,ROUND(F64,0),$A$36,ROUND(F66,0),$A$38))","v":"(53075, 75822)"},{"$f":"CONCATENATE($A$37,ROUND(G64,0),$A$36,ROUND(G66,0),$A$38)","v":"(8835, 12622)"},{"$f":"CONCATENATE($A$37,ROUND(H64,0),$A$36,ROUND(H66,0),$A$38)","v":"(7662, 10946)"},{"$f":"CONCATENATE($A$37,ROUND(I64,0),$A$36,ROUND(I66,0),$A$38)","v":"(9241, 13201)"},"(7880, 11258)"]
[]
[]
[]
[null,"this needs to be revised with Pirmohamed data!","Proportion of ADRs possibly avoidable through PPH, based on central admission estimate",null,null,"No risk stratification","Risk stratification"]
[null,null,null,null,null,null,"BNF10+","BNF10+ & High Risk Med","BNF 5-9","BNF 5-9 & High Risk Med"]
[null,null,null,"min 95% conf interval",{"$f":"D12","v":0.6},{"$f":"IF(ISERROR($E$22*$E73*F$44),\"\",($E$22*$E73*F$44))","v":54547.546082507448},{"$f":"IF(ISERROR($E$22*$E73*G$44),\"\",($E$22*$E73*G$44))","v":8907.662752447588},7721.2888685847547,9319.478283440867,7942.1399192232338]
[null,null,{"$f":"'input selections'!$G$3","v":"FR"},"central estimate",{"$f":"E12","v":0.63},{"$f":"IF(ISERROR($E$22*$E74*F$44),\"\",($E$22*$E74*F$44))","v":57274.923386632821},9353.0458900699687,8107.3533120139928,9785.4521976129108,8339.2469151843961]
[null,null,null,"max 95% conf interval",{"$f":"F12","v":0.66},60002.300690758195,9798.4290276923475,8493.4177554432299,10251.426111784955,8736.3539111455575]
[null,null,null,"95% confidene interval",{"$f":"CONCATENATE($A$37,100*E73,$A$39,$A$36,100*E75,$A$39,$A$38)","v":"(60%, 66%)"},{"$f":"IF(ISERROR(CONCATENATE($A$37,ROUND(F73,0),$A$36,ROUND(F75,0),$A$38)),\"\",CONCATENATE($A$37,ROUND(F73,0),$A$36,ROUND(F75,0),$A$38))","v":"(54548, 60002)"},{"$f":"CONCATENATE($A$37,ROUND(G73,0),$A$36,ROUND(G75,0),$A$38)","v":"(8908, 9798)"},{"$f":"CONCATENATE($A$37,ROUND(H73,0),$A$36,ROUND(H75,0),$A$38)","v":"(7721, 8493)"},{"$f":"CONCATENATE($A$37,ROUND(I73,0),$A$36,ROUND(I75,0),$A$38)","v":"(9319, 10251)"},"(7942, 8736)"]
[]
[]
[null,null,"EU28","min 95% conf interval",{"$f":"D12","v":0.6},{"$f":"IF(ISERROR($E$22*$E79*F$50),\"\",($E$22*$E79*F$50))","v":454931.65437527851},{"$f":"IF(ISERROR($E$22*$E79*G$50),\"\",($E$22*$E79*G$50))","v":75729.371062141363},65676.375235862186,79204.492848575159,67545.361459635402]
[null,null,null,"central estimate",{"$f":"E12","v":0.63},{"$f":"IF(ISERROR($E$22*$E80*F$50),\"\",($E$22*$E80*F$50))","v":477678.23709404242},79515.839615248435,68960.193997655297,83164.717491003918,70922.629532617182]
[null,null,null,"max 95% conf interval",{"$f":"F12","v":0.66},500424.81981280638,83302.308168355506,72244.012759448407,87124.942133432691,74299.897605598948]
[null,null,null,"95% confidene interval",{"$f":"CONCATENATE($A$37,100*E79,$A$39,$A$36,100*E81,$A$39,$A$38)","v":"(60%, 66%)"},{"$f":"IF(ISERROR(CONCATENATE($A$37,ROUND(F79,0),$A$36,ROUND(F81,0),$A$38)),\"\",CONCATENATE($A$37,ROUND(F79,0),$A$36,ROUND(F81,0),$A$38))","v":"(454932, 500425)"},{"$f":"CONCATENATE($A$37,ROUND(G79,0),$A$36,ROUND(G81,0),$A$38)","v":"(75729, 83302)"},{"$f":"CONCATENATE($A$37,ROUND(H79,0),$A$36,ROUND(H81,0),$A$38)","v":"(65676, 72244)"},{"$f":"CONCATENATE($A$37,ROUND(I79,0),$A$36,ROUND(I81,0),$A$38)","v":"(79204, 87125)"},"(67545, 74300)"]
[]
[]
[]
[]
[null,null,null,null,null,null,null,null,null,null,null,null,null,null,null,null,null,null,null,null,null,null,null,1000000]
[]
[]
[null,null,"Bed days associated with ADR related hospital admissions, based on central admission estimate",null,null,"No risk stratification","Risk stratification",null,null,null,null,null,null,"Cost of Bed days associated with ADR related hospital admissions, based on central admission estimate",null,null,"No risk stratification","Risk stratification",null,null,null,null,null,"Cost of Bed days associated with ADR related hospital admissions, based on central admission estimate",null,null,"No risk stratification","Risk stratification"]
[null,null,null,null,null,null,"BNF10+","BNF10+ & High Risk Med","BNF 5-9","BNF 5-9 & High Risk Med",null,null,null,null,null,null,null,"BNF10+","BNF10+ & High Risk Med","BNF 5-9","BNF 5-9 & High Risk Med",null,null,"€m",null,null,null,"BNF10+","BNF10+ & High Risk Med","BNF 5-9","BNF 5-9 & High Risk Med"]
[]
[null,null,{"$f":"'input selections'!$G$3","v":"FR"},"central estimate",{"$f":"E20","v":3.1},{"$f":"IF(ISERROR($E93*F$44),\"\",($E93*F$44))","v":469714.98015492526},{"$f":"IF(ISERROR($E93*G$44),\"\",($E93*G$44))","v":76704.873701632023},66488.876368368728,80251.062996296358,68390.649304422288,null,null,null,{"$f":"'input selections'!$G$3","v":"FR"},"central estimate",null,{"$f":"IF(ISERROR($C$34*F93),\"\",$C$34*F93)","v":175678192.67414987},{"$f":"$C$34*G93","v":28688404.99137814},24867517.80724005,30014715.951189492,25578800.279373057,null,null,{"$f":"'input selections'!$G$3","v":"FR"},"central estimate",null,{"$f":"Q93/$X$87","v":175.67819267414987},{"$f":"R93/$X$87","v":28.688404991378139},24.867517807240052,{"$f":"T93/$X$87","v":30.014715951189491},25.578800279373056]
[]
["using updated bed day estimate instead of Pirmohamed",null,null,"interquartile range",{"$f":"CONCATENATE($A$37,E92,$A$36,E94,$A$38)","v":"(, )"},{"$f":"IF(ISERROR(CONCATENATE($A$37,ROUND(F92,0),$A$36,ROUND(F94,0),$A$38)),\"\",CONCATENATE($A$37,ROUND(F92,0),$A$36,ROUND(F94,0),$A$38))","v":"(0, 0)"},{"$f":"CONCATENATE($A$37,ROUND(G92,0),$A$36,ROUND(G94,0),$A$38)","v":"(0, 0)"},{"$f":"CONCATENATE($A$37,ROUND(H92,0),$A$36,ROUND(H94,0),$A$38)","v":"(0, 0)"},{"$f":"CONCATENATE($A$37,ROUND(I92,0),$A$36,ROUND(I94,0),$A$38)","v":"(0, 0)"},"(0, 0)",null,null,null,null,"interquartile range",null,null,null,null,null,null,null,null,null,"interquartile range",null,{"$f":"CONCATENATE($A$37,$A$40,ROUND(AA92,1),$A$36,$A$40,ROUND(AA94,1),$A$38)","v":"(€0, €0)"},{"$f":"CONCATENATE($A$37,$A$40,ROUND(AB92,1),$A$36,$A$40,ROUND(AB94,1),$A$38)","v":"(€0, €0)"},"(€0, €0)",{"$f":"CONCATENATE($A$37,$A$40,ROUND(AD92,1),$A$36,$A$40,ROUND(AD94,1),$A$38)","v":"(€0, €0)"},"(€0, €0)"]
[]
[]
[null,null,"EU28"]
[null,null,null,"central estimate",{"$f":"E20","v":3.1},{"$f":"IF(ISERROR($E99*F$50),\"\",($E99*F$50))","v":3917467.0237871208},{"$f":"IF(ISERROR($E99*G$50),\"\",($E99*G$50))","v":652114.02859066171},565546.56453103549,682038.68841828615,581640.61256908276,null,null,null,null,"central estimate",null,{"$f":"IF(ISERROR($C$34*F99),\"\",$C$34*F99)","v":1465172616.7483737},{"$f":"$C$35*G99","v":243897296.87241504},211520182.50965077,255089424.81598595,217539520.60102385,null,null,null,"central estimate",null,{"$f":"Q99/$X$87","v":1465.1726167483737},{"$f":"R99/$X$87","v":243.89729687241504},211.52018250965077,{"$f":"T99/$X$87","v":255.08942481598595},217.53952060102387]
[]
["using updated bed day estimate instead of Pirmohamed",null,null,"interquartile range",{"$f":"CONCATENATE($A$37,E98,$A$36,E100,$A$38)","v":"(, )"},{"$f":"IF(ISERROR(CONCATENATE($A$37,ROUND(F98,0),$A$36,ROUND(F100,0),$A$38)),\"\",CONCATENATE($A$37,ROUND(F98,0),$A$36,ROUND(F100,0),$A$38))","v":"(0, 0)"},{"$f":"CONCATENATE($A$37,ROUND(G98,0),$A$36,ROUND(G100,0),$A$38)","v":"(0, 0)"},{"$f":"CONCATENATE($A$37,ROUND(H98,0),$A$36,ROUND(H100,0),$A$38)","v":"(0, 0)"},{"$f":"CONCATENATE($A$37,ROUND(I98,0),$A$36,ROUND(I100,0),$A$38)","v":"(0, 0)"},"(0, 0)",null,null,null,null,"interquartile range",null,null,null,null,null,null,null,null,null,"interquartile range",null,{"$f":"CONCATENATE($A$37,$A$40,ROUND(AA98,1),$A$36,$A$40,ROUND(AA100,1),$A$38)","v":"(€0, €0)"},{"$f":"CONCATENATE($A$37,$A$40,ROUND(AB98,1),$A$36,$A$40,ROUND(AB100,1),$A$38)","v":"(€0, €0)"},{"$f":"CONCATENATE($A$37,$A$40,ROUND(AC98,1),$A$36,$A$40,ROUND(AC100,1),$A$38)","v":"(€0, €0)"},"(€0, €0)","(€0, €0)"]
[]
[]
[]
[null,null,"Bed days associated with definitely avoidable ADR related hospital admissions through PPH, based on central admission estimate",null,null,"No risk stratification","Risk stratification",null,null,null,null,null,null,"Cost of Bed days associated with definitely avoidable ADR related hospital admissions, based on central admission estimate",null,null,"No risk stratification","Risk stratification",null,null,null,null,null,"Cost of Bed days associated with definitely avoidable ADR related hospital admissions, based on central admission estimate",null,null,"No risk stratification","Risk stratification"]
[null,null,null,null,null,null,"BNF10+","BNF10+ & High Risk Med","BNF 5-9","BNF 5-9 & High Risk Med",null,null,null,null,null,null,null,"BNF10+","BNF10+ & High Risk Med","BNF 5-9","BNF 5-9 & High Risk Med",null,null,"€m",null,null,null,"BNF10+","BNF10+ & High Risk Med","BNF 5-9","BNF 5-9 & High Risk Med"]
[]
[null,null,{"$f":"'input selections'!$G$3","v":"FR"},"central estimate",{"$f":"E20","v":3.1},{"$f":"IF(ISERROR($E108*F$59),\"\",($E108*F$59))","v":25364.608928365964},{"$f":"IF(ISERROR($E108*G$59),\"\",($E108*G$59))","v":4142.0631798881295},3590.3993238919111,4333.5574018000034,3693.0950624388038,null,null,null,{"$f":"'input selections'!$G$3","v":"FR"},"central estimate",null,{"$f":"IF(ISERROR($C$34*F108),\"\",$C$34*F108)","v":9486622.4044040926},{"$f":"$C$34*G108","v":1549173.8695344196},1342845.9615909627,1620794.6613642327,1381255.2150861451,null,null,{"$f":"'input selections'!$G$3","v":"FR"},"central estimate",null,{"$f":"Q108/$X$87","v":9.486622404404093},{"$f":"R108/$X$87","v":1.5491738695344197},1.3428459615909627,{"$f":"T108/$X$87","v":1.6207946613642326},1.381255215086145]
[]
["using updated bed day estimate instead of Pirmohamed",null,null,"interquartile range",{"$f":"CONCATENATE($A$37,E107,$A$36,E109,$A$38)","v":"(, )"},{"$f":"IF(ISERROR(CONCATENATE($A$37,ROUND(F107,0),$A$36,ROUND(F109,0),$A$38)),\"\",CONCATENATE($A$37,ROUND(F107,0),$A$36,ROUND(F109,0),$A$38))","v":"(0, 0)"},{"$f":"CONCATENATE($A$37,ROUND(G107,0),$A$36,ROUND(G109,0),$A$38)","v":"(0, 0)"},{"$f":"CONCATENATE($A$37,ROUND(H107,0),$A$36,ROUND(H109,0),$A$38)","v":"(0, 0)"},{"$f":"CONCATENATE($A$37,ROUND(I107,0),$A$36,ROUND(I109,0),$A$38)","v":"(0, 0)"},"(0, 0)",null,null,null,null,"interquartile range",null,null,null,null,null,null,null,null,null,"interquartile range",null,{"$f":"CONCATENATE($A$37,$A$40,ROUND(AA107,1),$A$36,$A$40,ROUND(AA109,1),$A$38)","v":"(€0, €0)"},{"$f":"CONCATENATE($A$37,$A$40,ROUND(AB107,1),$A$36,$A$40,ROUND(AB109,1),$A$38)","v":"(€0, €0)"},{"$f":"CONCATENATE($A$37,$A$40,ROUND(AC107,1),$A$36,$A$40,ROUND(AC109,1),$A$38)","v":"(€0, €0)"},"(€0, €0)","(€0, €0)"]
[]
[]
[null,null,"EU28"]
[null,null,null,"central estimate",{"$f":"E20","v":3.1},{"$f":"IF(ISERROR($E114*F$65),\"\",($E114*F$65))","v":211543.21928450454},{"$f":"IF(ISERROR($E114*G$65),\"\",($E114*G$65))","v":35214.157543895737},30539.514484675921,36830.089174587454,31408.593078730468,null,null,null,null,"central estimate",null,{"$f":"IF(ISERROR($C$34*F114),\"\",$C$34*F114)","v":79119321.304412186},{"$f":"$C$35*G114","v":13170454.031110413},11422089.855521144,13774828.940063242,11747134.112455288,null,null,null,"central estimate",null,{"$f":"Q114/$X$87","v":79.119321304412182},{"$f":"R114/$X$87","v":13.170454031110413},11.422089855521145,{"$f":"T114/$X$87","v":13.774828940063243},11.747134112455289]
[]
["using updated bed day estimate instead of Pirmohamed",null,null,"interquartile range",{"$f":"CONCATENATE($A$37,E113,$A$36,E115,$A$38)","v":"(, )"},{"$f":"IF(ISERROR(CONCATENATE($A$37,ROUND(F113,0),$A$36,ROUND(F115,0),$A$38)),\"\",CONCATENATE($A$37,ROUND(F113,0),$A$36,ROUND(F115,0),$A$38))","v":"(0, 0)"},{"$f":"CONCATENATE($A$37,ROUND(G113,0),$A$36,ROUND(G115,0),$A$38)","v":"(0, 0)"},{"$f":"CONCATENATE($A$37,ROUND(H113,0),$A$36,ROUND(H115,0),$A$38)","v":"(0, 0)"},{"$f":"CONCATENATE($A$37,ROUND(I113,0),$A$36,ROUND(I115,0),$A$38)","v":"(0, 0)"},"(0, 0)",null,null,null,null,"interquartile range",null,null,null,null,null,null,null,null,null,"interquartile range",null,{"$f":"CONCATENATE($A$37,$A$40,ROUND(AA113,1),$A$36,$A$40,ROUND(AA115,1),$A$38)","v":"(€0, €0)"},{"$f":"CONCATENATE($A$37,$A$40,ROUND(AB113,1),$A$36,$A$40,ROUND(AB115,1),$A$38)","v":"(€0, €0)"},{"$f":"CONCATENATE($A$37,$A$40,ROUND(AC113,1),$A$36,$A$40,ROUND(AC115,1),$A$38)","v":"(€0, €0)"},"(€0, €0)","(€0, €0)"]
[]
[]
[]
[null,null,"Bed days associated with central estimate of potentially avoidable ADR related hospital admissions through PPH",null,null,"No risk stratification","Risk stratification",null,null,null,null,null,null,"Cost of Bed days associated with central estimate of potentially avoidable ADR related hospital admissions",null,null,"No risk stratification","Risk stratification",null,null,null,null,null,"Cost of Bed days associated with central estimate of potentially avoidable ADR related hospital admissions",null,null,"No risk stratification","Risk stratification"]
[null,null,null,null,null,null,"BNF10+","BNF10+ & High Risk Med","BNF 5-9","BNF 5-9 & High Risk Med",null,null,null,null,null,null,null,"BNF10+","BNF10+ & High Risk Med","BNF 5-9","BNF 5-9 & High Risk Med",null,null,"€m",null,null,null,"BNF10+","BNF10+ & High Risk Med","BNF 5-9","BNF 5-9 & High Risk Med"]
[]
[null,null,{"$f":"'input selections'!$G$3","v":"FR"},"central estimate",{"$f":"E20","v":3.1},{"$f":"IF(ISERROR($E123*F$74),\"\",($E123*F$74))","v":177552.26249856176},{"$f":"IF(ISERROR($E123*G$74),\"\",($E123*G$74))","v":28994.442259216903},25132.795267243378,30334.901812600023,25851.665437071628,null,null,null,{"$f":"'input selections'!$G$3","v":"FR"},"central estimate",null,{"$f":"$C$34*F123","v":66406356.830828652},10844217.086740937,9399921.7311367393,11345562.629549628,9668786.5056030173,null,null,{"$f":"'input selections'!$G$3","v":"FR"},"central estimate",null,{"$f":"Q123/$X$87","v":66.406356830828656},{"$f":"R123/$X$87","v":10.844217086740937},9.3999217311367396,{"$f":"T123/$X$87","v":11.345562629549628},9.668786505603018]
[]
["using updated bed day estimate instead of Pirmohamed",null,null,"interquartile range",{"$f":"CONCATENATE($A$37,E122,$A$36,E124,$A$38)","v":"(, )"},{"$f":"IF(ISERROR(CONCATENATE($A$37,ROUND(F122,0),$A$36,ROUND(F124,0),$A$38)),\"\",CONCATENATE($A$37,ROUND(F122,0),$A$36,ROUND(F124,0),$A$38))","v":"(0, 0)"},{"$f":"CONCATENATE($A$37,ROUND(G122,0),$A$36,ROUND(G124,0),$A$38)","v":"(0, 0)"},{"$f":"CONCATENATE($A$37,ROUND(H122,0),$A$36,ROUND(H124,0),$A$38)","v":"(0, 0)"},{"$f":"CONCATENATE($A$37,ROUND(I122,0),$A$36,ROUND(I124,0),$A$38)","v":"(0, 0)"},"(0, 0)",null,null,null,null,"interquartile range",null,null,null,null,null,null,null,null,null,"interquartile range",null,{"$f":"CONCATENATE($A$37,$A$40,ROUND(AA122,1),$A$36,$A$40,ROUND(AA124,1),$A$38)","v":"(€0, €0)"},{"$f":"CONCATENATE($A$37,$A$40,ROUND(AB122,1),$A$36,$A$40,ROUND(AB124,1),$A$38)","v":"(€0, €0)"},{"$f":"CONCATENATE($A$37,$A$40,ROUND(AC122,1),$A$36,$A$40,ROUND(AC124,1),$A$38)","v":"(€0, €0)"},"(€0, €0)","(€0, €0)"]
[]
[]
[null,null,"EU28"]
[null,null,null,"central estimate",{"$f":"E20","v":3.1},{"$f":"IF(ISERROR($E129*F$80),\"\",($E129*F$80))","v":1480802.5349915316},{"$f":"IF(ISERROR($E129*G$80),\"\",($E129*G$80))","v":246499.10280727016},213776.60139273142,257810.62422211215,219860.15155111326,null,null,null,null,"central estimate",null,{"$f":"$C$35*F129","v":553835249.13088524},92193178.217772901,79954628.988647997,96423802.580442682,82229938.78718701,null,null,null,"central estimate",null,{"$f":"Q129/$X$87","v":553.83524913088524},{"$f":"R129/$X$87","v":92.193178217772896},79.954628988647997,{"$f":"T129/$X$87","v":96.423802580442683},82.22993878718701]
[]
["using updated bed day estimate instead of Pirmohamed",null,null,"interquartile range",{"$f":"CONCATENATE($A$37,E128,$A$36,E130,$A$38)","v":"(, )"},{"$f":"IF(ISERROR(CONCATENATE($A$37,ROUND(F128,0),$A$36,ROUND(F130,0),$A$38)),\"\",CONCATENATE($A$37,ROUND(F128,0),$A$36,ROUND(F130,0),$A$38))","v":"(0, 0)"},{"$f":"CONCATENATE($A$37,ROUND(G128,0),$A$36,ROUND(G130,0),$A$38)","v":"(0, 0)"},{"$f":"CONCATENATE($A$37,ROUND(H128,0),$A$36,ROUND(H130,0),$A$38)","v":"(0, 0)"},{"$f":"CONCATENATE($A$37,ROUND(I128,0),$A$36,ROUND(I130,0),$A$38)","v":"(0, 0)"},"(0, 0)",null,null,null,null,"interquartile range",null,null,null,null,null,null,null,null,null,"interquartile range",null,{"$f":"CONCATENATE($A$37,$A$40,ROUND(AA128,1),$A$36,$A$40,ROUND(AA130,1),$A$38)","v":"(€0, €0)"},{"$f":"CONCATENATE($A$37,$A$40,ROUND(AB128,1),$A$36,$A$40,ROUND(AB130,1),$A$38)","v":"(€0, €0)"},{"$f":"CONCATENATE($A$37,$A$40,ROUND(AC128,1),$A$36,$A$40,ROUND(AC130,1),$A$38)","v":"(€0, €0)"},"(€0, €0)","(€0, €0)"]

{"sheet":"Population EU inc Scot","index":15,"n_rows":17166,"n_cols":36,"rows_kept":2250,"cut":true,"hidden":true,"merged":[],"bounds":{"rows_first":1000,"rows_last":250,"rows_between":1000,"halvings":1}}
["age,sex,geo\\time",2015,2014,2013,2012,2011,2010,2009,2008,2007,2006,2005,2004,2003,2002,2001,2000,1999,1998,1997,1996,1995,1994,1993,1992,1991,1990,1989,1988,1987,1986,1985,1984,1983,1982,1981]
["TOTAL,F,AD",": ",": ",37408,38252,38252,40296,40303,39622,38705,37575,36790,34738,32354,31915,31576,31538,31384,31025,30627,30200,30228,30406,28864,27572,25542,24171,23813,22814,22148,20898,": ",": ",": ",": ",": "]
["TOTAL,F,AL",1431000,1435984,": ",": ",1409931,": ",1600064,1581471,1570306,1580532,1572959,1564816,1556059,1546448,1535822,1526762,": ",": ",": ",": ",": ",": ",": ",": ",": ",": ",": ",": ",": ",": ",": ",": ",": ",": ",": "]
["TOTAL,F,AM",": ",": ",": ",1684000,1679066,1673656,1669711,1667529,1665554,1665123,1665200,1665500,1666700,1670500,1672200,1681200,": ",": ",": ",": ",": ",": ",": ",": ",": ",": ",": ",": ",": ",": ",": ",": ",": ",": ",": "]
["TOTAL,F,AT",4381296,4351253,4328238,4309977,4296293,4285442,4278068,4265500,4252922,4239954,4216493,4189973,4170674,4156906,4139842,4133855,4126432,4122811,4120947,4116117,4112289,4107857,4089274,4052348,4014682,3989903,3971179,3967609,3970653,3972356,3975117,3976213,3981596,3993808,3983154]
["TOTAL,F,AZ",": ",4763571,4707690,4651601,4594023,4542083,4538600,4371800,4327700,4284200,4243600,4207200,4179500,4152600,4126500,4097900,": ",": ",": ",": ",": ",": ",": ",": ",": ",": ",": ",": ",": ",": ",": ",": ",": ",": ",": "]
["TOTAL,F,BA",": ",": ",": ",1963655,1965701,1966011,1965986,1960361,1960449,1959752,1959692,1957082,1953478,1944715,1932756,1914073,": ",": ",1922585,": ",": ",": ",": ",": ",": ",": ",": ",": ",": ",": ",": ",": ",": ",": ",": "]
["TOTAL,F,BE",5722178,5695923,5674206,5643070,5598920,5527684,5484429,5442557,5403126,5367561,5334527,5309245,5288959,5267437,5245395,5233071,5220034,5209592,5198446,5184262,5175903,5160407,5144847,5122765,5106290,5087683,5078668,5053913,5048517,5046712,5046163,5043503,5044878,5042116,5041979]
["TOTAL,F,BG",3700183,3720732,3739479,3760457,3780505,3807808,3831264,3857635,3886094,3914757,3944453,3973019,4003292,4035676,4182045,4199715,4216300,4238235,4263435,4281347,4297452,4308125,4315730,4366016,4399271,4443535,4547303,4538312,4529072,4516402,4514813,4500629,4486480,4471841,4454938]
["TOTAL,F,BY",": ",5066943,5066314,5066857,5073034,5063266,5160289,5168358,5179429,5195244,5216991,5238879,5260849,5284465,5302718,5316268,": ",": ",": ",": ",": ",": ",": ",": ",": ",": ",": ",": ",": ",": ",": ",": ",": ",": ",": "]
["TOTAL,F,CH",4163786,4117540,4070536,4032409,3992708,3955240,3915181,3866480,3829380,3806626,3786406,3762609,3738824,3711304,3684357,3663736,3644848,3631222,3623725,3613512,3590651,3564707,3534043,3501103,3460226,3416313,3391052,3364945,3343502,3324453,3310638,3297473,3288680,3271087,3253278]
["TOTAL,F,CY",435183,440462,444842,443018,430993,419535,407004,395875,386402,379431,373746,368331,363583,359361,354797,350842,346537,342190,337118,331524,325432,318440,310701,302814,294656,287064,282124,279097,276369,273296,270429,267102,263719,262907,258200]
["TOTAL,F,CZ",5361348,5350039,5351776,5347235,5339500,5325922,5309105,5278305,5243638,5233925,5228199,5228205,5230950,5235670,5249667,5277036,5284186,5290395,5297052,5304829,5312697,5314716,5312284,5306546,5303641,5326444,5326892,5323143,5321505,5321474,5319646,5317388,5316340,5310895,5303918]
["TOTAL,F,DE",41362080,41210540,41673725,41637080,41639177,41698651,41818073,41943545,42013740,42098034,42147222,42175657,42191801,42165633,42103004,42072699,42032869,42065068,42057327,41992676,41893638,41819609,41674551,41435461,41253250,32442597,32021988,31818689,31855080,31830458,31869535,32000881,32118246,32189833,32176912]
["TOTAL,F,DE_TOT",41362080,41210540,41673725,41637080,41639177,41698651,41818073,41943545,42013740,42098034,42147222,42175657,42191801,42165633,42103004,42072699,42032869,42065068,42057327,41992676,41893638,41819609,41674551,41435461,41253250,41003093,40723818,40544815,40591343,40592848,40661086,40825410,40958488,41046356,41059485]
["TOTAL,F,DK",2848701,2834956,2823776,2813740,2804046,2791452,2779431,2763125,2750422,2741613,2734113,2727505,2721084,2714208,2704893,2695898,2688156,2679191,2670184,2658805,2642394,2633200,2626020,2617672,2610078,2604812,2601613,2601258,2598774,2595710,2594036,2594188,2595244,2595330,2595764]
["TOTAL,F,EA18",171832210,171366973,171229977,170876470,170493418,170010274,169559351,168854706,167911318,167163744,166384509,165479842,164613498,163756891,162998722,162335969,161781919,161457690,160291798,159937492,159578490,159226689,158766307,158146874,157564465,156909510,156273206,155728690,155445264,155094088,154836370,154614022,": ",154013111,153545537]
["TOTAL,F,EA19",173407215,172954450,172832991,172496600,172138783,171702051,171269855,170579892,169654507,168925116,168177465,167294753,166443897,165597974,164854790,164203742,163660759,163348297,162193970,161851139,161504273,161164613,160714231,160100411,159515457,": ",": ",": ",": ",": ",": ",": ",": ",": ",": "]
["TOTAL,F,EE",698882,700900,704007,707079,709960,712490,714420,716390,718660,722770,727140,730800,735200,739210,743650,748170,742978,750075,756506,765837,776811,790952,807998,828123,834200,836061,834270,830954,825726,820097,815398,810533,805761,800677,795741]
["TOTAL,F,EEA30",260802521,260089795,259801615,259290376,258736316,258049725,257524901,256621458,255653398,254750609,253851746,252859079,251946995,251087710,250683226,249973272,249514313,249132061,247927663,247539194,247118003,246627057,246022058,245279664,244663289,243857891,": ",": ",": ",": ",240599164,": ",": ",": ",": "]
["TOTAL,F,EEA31",262988610,262286856,262007272,261504051,260957421,260277921,259757930,258856437,257890747,256989163,256090326,255095963,254183994,253324177,252914535,252307929,251865963,251488570,250282206,249918743,249537925,249039843,248388417,247659088,247127920,246317869,": ",": ",": ",": ",243019087,": ",": ",": ",": "]
["TOTAL,F,EFTA",6913804,6839585,6764913,6697052,6628873,6562506,6494678,6416432,6353647,6311254,6272656,6233599,6196385,6153649,6114808,6081127,6044631,6015765,5994903,5972195,5937622,5898542,5852908,5805869,5751072,5697035,5663401,5624467,5590592,5561556,5539562,5518274,5500943,5473037,5444478]
["TOTAL,F,EL",5589628,5613568,5637364,5662522,5669948,5658424,5638650,5612990,5593763,5571325,5551450,5534293,5520990,5507229,5505941,5474106,5457870,5429540,5397100,5374260,5347307,5323509,5293502,5261868,5216182,5138914,5109666,5086737,5070561,5050772,5040100,5017620,4992484,4961078,4936482]
["TOTAL,F,ES",23623019,23634738,23710130,23719207,23617694,23504347,23358739,23077456,22665690,22290653,21961051,21622874,21285371,20919754,20645758,20442941,20315766,20230823,20170774,20120808,20074539,20024828,19966061,19900635,19836541,19801722,19758288,19709810,19659516,19603253,19532780,19455562,19370938,19272411,19168975]
["TOTAL,F,EU27",258052503,257367750,257107238,256625733,256100151,255442459,254945404,254071506,253129131,252245981,251365496,250388089,249489434,248645365,248252775,247555881,247114530,246747518,245556485,245180511,244771032,244293222,243703193,242974898,242372443,241577169,": ",": ",": ",": ",238370240,": ",": ",": ",": "]
["TOTAL,F,EU28",260238592,259564811,259312895,258839408,258321256,257670655,257178433,256306485,255366480,254484535,253604076,252624973,251726433,250881832,250484084,249890538,249466180,249104027,247911028,247560060,247190954,246706008,246069552,245354322,244837074,244037147,": ",": ",": ",": ",240790163,": ",": ",": ",": "]
["TOTAL,F,FI",2779890,2770906,2760052,2748733,2736860,2726360,2714661,2703697,2693213,2683230,2674534,2666839,2661379,2657304,2651774,2648276,2643571,2638251,2631724,2625125,2617105,2607716,2597700,2585960,2572274,2561623,2552991,2545734,2539778,2532884,2524520,2512686,2498846,2484677,2472935]
["TOTAL,F,FR",34234992,33970072,33827685,33671600,33515819,33357092,33202247,33026963,32841832,32638535,32387008,32120553,31887488,31645924,31400989,31161369,30944296,30822400,30705968,30592988,30473942,30352301,30227980,30077312,29922325,": ",": ",": ",": ",": ",": ",": ",": ",": ",": "]
["TOTAL,F,FX",": ",": ",32831856,32676801,32516716,32367285,32218275,32050119,31877660,31685322,31443888,31190922,30972368,30745456,30515553,30291274,30090468,29982781,29880271,29780508,29674479,29565565,29453716,29315412,29172305,29033000,28871196,28710511,28556020,28408898,28267183,28117576,27978468,27804800,27647654]
["TOTAL,F,GE",": ",2349126,": ",2353823,2341972,2327477,2304622,2303675,2315157,2317400,2277900,2276200,2290700,2309800,2325600,2342400,": ",": ",": ",": ",": ",": ",": ",": ",": ",": ",": ",": ",": ",": ",": ",": ",": ",": ",": "]
["TOTAL,F,HR",2186089,2197061,2205657,2213675,2221105,2228196,2233029,2234979,2237349,2238554,2238580,2236884,2236999,2236467,2231309,2334657,2351650,2356509,2354543,2379549,2419922,2412786,2366359,2379424,2464631,2459978,2454827,2448230,2439765,2430335,2419923,2409164,2397661,2384760,2374579]
["TOTAL,F,HU",5159792,5173974,5192845,5207259,5241821,5257424,5267925,5275839,5287080,5292002,5304434,5312629,5323906,5337873,5349286,5356450,5369020,5377960,5385291,5392007,5395080,5396582,5398707,5397917,5393320,5389919,5481899,5488096,5494519,5501882,5508088,5515266,5523082,5526399,5524686]
["TOTAL,F,IE",2341866,2327276,2318297,2312918,2301455,2288454,2268664,2231011,2167328,2104707,2062322,2025689,1994964,1961797,1927201,1900701,1878331,1859395,1840254,1822709,1810405,1801045,1793716,1782776,1770102,1763762,1767175,1773085,1775013,1763217,1767300,1756700,1743900,1728700,1708700]
["TOTAL,F,IS",163914,162353,160419,159211,158446,157694,157300,154563,151096,148689,146407,145169,144184,143125,141491,139384,137626,135937,134641,133648,133087,132113,130786,129480,127443,126353,125356,123201,121501,120482,119569,118447,116852,115182,113744]
["TOTAL,F,IT",31294022,31298104,30795630,30667608,30649434,30540758,30430579,30241633,30011510,29925637,29830543,29650299,29471857,29402457,29384366,29360536,29345361,29332801,29309590,29283903,29275445,29266001,29249194,29218960,29196748,29166531,29138062,29113808,29101045,29097656,29087244,29069034,29062838,29036636,28994072]
["TOTAL,F,LI",18813,18729,18591,18433,18263,18125,17998,17908,17825,17701,17550,17413,17232,17088,16825,16650,16387,16113,15967,15823,15731,15535,15332,15011,14567,14533,14389,14187,14004,13833,13602,13520,13376,13228,12696]
["TOTAL,F,LT",1575005,1587477,1603014,1620130,1645365,1691777,1710504,1725186,1743189,1761372,1792956,1814911,1830399,1841083,1856068,1867773,1878840,1890607,1902172,1913647,1925783,1937924,1947924,1953537,1950992,1946235,1935849,1917414,1900433,1882381,1866667,1852487,1837425,1823260,1811955]
["TOTAL,F,LU",280986,274563,268627,263033,257221,252660,248665,244192,240395,236986,233074,230252,227291,225226,222700,219985,217009,214687,212161,209588,206487,203640,200884,198398,196056,193948,192270,190888,189800,188700,188100,187877,187675,187550,186600]
["TOTAL,F,LV",1074889,1084423,1097245,1110001,1126666,1149573,1170186,1184769,1195049,1205816,1217615,1232055,1244563,1254708,1270420,1284827,1293810,1305306,1318111,1330734,1346259,1365402,1386941,1414390,1421705,1427609,1427415,1416322,1402581,1391416,1382940,1375340,1367779,1361170,1356752]
["TOTAL,F,MC",": ",": ",": ",": ",": ",": ",": ",": ",": ",": ",17045,16930,": ",": ",": ",": ",": ",": ",": ",": ",": ",": ",": ",": ",": ",": ",": ",": ",": ",": ",": ",": ",": ",": ",": "]
["TOTAL,F,MD",": ",1846128,1847151,1847816,1848324,1850208,1852581,1855244,1860080,1870568,1875595,1879021,1885004,1890261,1894500,1899612,": ",": ",": ",": ",": ",": ",": ",": ",": ",": ",": ",": ",": ",": ",": ",": ",": ",": ",": "]
["TOTAL,F,ME",314577,314366,314092,313949,313725,313778,313075,312344,312066,310980,311644,311009,309831,308794,307540,306100,": ",": ",": ",": ",": ",": ",": ",": ",": ",": ",": ",": ",": ",": ",": ",": ",": ",": ",": "]
["TOTAL,F,MK",1032654,1030928,1029156,1027868,1026404,1023907,1021815,1019938,1018202,1016116,1014051,1011232,1007766,1019035,1014875,1010106,1005439,1000065,994484,984009,977388,966976,": ",": ",": ",": ",": ",": ",": ",": ",": ",": ",": ",": ",": "]
["TOTAL,F,MT",214609,212960,211484,209851,208584,207824,206319,205098,204097,204161,203088,201768,200460,199278,197726,191612,190829,189849,188639,187824,186613,185199,183550,181858,180128,178535,176872,175267,174138,173032,170529,169276,": ",164086,163269]
["TOTAL,F,NL",8527868,8494904,8472236,8447477,8412317,8371513,8329391,8293326,8269478,8256803,8239547,8212118,8177101,8133318,8077220,8017633,7966954,7914118,7870304,7831600,7796640,7755666,7703914,7648728,7590944,7534092,7488650,7441337,7390802,7344892,7304213,7270437,7236953,7204263,7160112]
["TOTAL,F,NO",2567291,2540963,2515367,2486999,2459456,2431447,2404199,2377481,2355346,2338238,2322293,2308408,2296145,2282132,2272135,2261357,2245770,2232493,2220570,2209212,2198153,2186187,2172747,2160275,2148836,2139836,2132604,2122134,2111585,2102788,2095753,2088834,2082035,2073540,2064760]
["TOTAL,F,PL",19608451,19613892,19636442,19636496,19633018,19610632,19720950,19704140,19698704,19703200,19703582,19704178,19711782,19717034,19716616,19715504,19868726,19858815,19842642,19823369,19802557,19758399,19710130,19647898,19577208,19497908,": ",": ",": ",": ",18989503,": ",": ",": ",": "]
["TOTAL,F,PT",5451156,5469281,5491592,5511961,5519178,5509734,5496775,5483592,5468193,5453175,5440950,5425721,5407252,5375295,5344316,5304872,5274465,5248376,5223673,5203747,5186730,5169497,5158868,5154852,5163888,5176677,5185185,5190484,5195289,5193233,5186083,5165938,5148652,5120752,5088051]
["TOTAL,F,RO",10163573,10201259,10258594,10318889,10366110,10414274,10488417,10586266,10840507,10905183,10965209,11036295,11088602,11169297,11467093,11475444,11487412,11499014,11518907,11548426,11568996,11579217,11587514,11596272,11752489,11760564,11709212,11653750,11599025,11538970,11492093,11444508,11411665,11359888,11288141]
["TOTAL,F,RS",3649994,3666896,3684497,3702229,3720624,3753102,3768404,3784417,3800809,3814931,3830529,3837398,3848217,3854516,3855284,3865866,3876555,": ",": ",": ",": ",": ",": ",": ",": ",": ",": ",": ",": ",": ",": ",": ",": ",": ",": "]
["TOTAL,F,RU",": ",77120043,": ",": ",76809957,76275129,76262345,76291763,76371980,76590007,76871457,77144320,77561598,77727318,77964706,78191815,": ",": ",": ",": ",": ",": ",": ",": ",": ",": ",": ",": ",": ",": ",": ",": ",": ",": ",": "]
["TOTAL,F,SE",4875115,4830507,4789988,4756021,4725326,4691668,4652637,4619006,4589734,4561202,4545081,4529014,4513681,4500683,4490039,4481308,4478703,4475712,4474782,4471425,4460127,4424155,4397428,4373497,4346613,4314958,4283008,4261503,4244004,4231029,4222078,4214437,4210128,4204412,4198127]
["TOTAL,F,SI",1040645,1040211,1039760,1038765,1035626,1032869,1028417,1023736,1023395,1021893,1020538,1019631,1019446,1019024,1017352,1016943,1015117,1016763,1018355,1022192,1025102,1024948,1026965,1028879,1029716,1028125,1027975,1026415,1022076,1001150,996163,991397,985910,978951,982638]
["TOTAL,F,SK",2779021,2776889,2774857,2772570,2767273,2766864,2764064,2762376,2762525,2763073,2763661,2763744,2765119,2767030,2766271,2773531,2769690,2765645,2760498,2754078,2747306,2736408,2723925,2712647,2714798,2701168,2687402,2671904,2656037,2639676,2621022,2601818,2582675,2562173,2540738]
["TOTAL,F,SM",": ",": ",17234,17159,16227,": ",15926,15650,15444,15296,15127,14903,": ",": ",": ",": ",": ",": ",": ",": ",": ",": ",": ",": ",": ",": ",": ",": ",": ",": ",": ",": ",": ",": ",": "]
["TOTAL,F,TR",38711602,38194504,37671216,37191315,36679806,36098842,35615946,35209723,34800258,34369633,33948680,33541375,33153312,32759611,32330652,33100471,32547564,31971594,31390590,30811583,30241536,29677549,29112544,28548541,27989019,27381953,26738340,26129776,25554101,25009333,24493659,23861687,23262258,22693570,22153959]
["TOTAL,F,UA",": ",24327606,24409948,24476570,24565563,24675525,24778427,24894631,25031011,25174503,25346469,25515270,25710574,25924585,26133207,26360288,": ",": ",": ",": ",": ",": ",": ",": ",": ",": ",": ",": ",": ",": ",": ",": ",": ",": ",": "]
["TOTAL,F,UK",32928125,32687941,32481347,32289036,32071042,31841228,31625820,31407298,31178445,30968983,30762960,30582491,30452240,30336950,30238346,30150784,30061268,29979899,29910222,29849164,29787456,29714215,29641149,29568669,29474366,29383284,29306220,29234961,29173506,29103551,29026946,28966475,28935694,28936510,28932214]
["TOTAL,F,XK",": ",": ",": ",": ",889913,1092855,1079251,1065598,1052694,1039500,": ",": ",": ",": ",": ",": ",": ",": ",": ",": ",": ",": ",": ",": ",": ",": ",": ",": ",": ",": ",": ",": ",": ",": ",": "]
["TOTAL,M,AD",": ",": ",38838,39863,39863,43786,44181,43515,42517,40974,40085,37582,34805,34419,34268,34433,34493,34281,33852,33659,34083,34820,32735,31476,28965,26716,26715,25637,24828,23695,": ",": ",": ",": ",": "]
["TOTAL,M,AL",1462005,1459963,": ",": ",1421810,": ",1584637,1588579,1582319,1568611,1562016,1554732,1546722,1537700,1527496,1531735,": ",": ",": ",": ",": ",": ",": ",": ",": ",": ",": ",": ",": ",": ",": ",": ",": ",": ",": "]
["TOTAL,M,AM",": ",": ",": ",1590285,1583584,1575826,1568265,1562557,1557399,1554111,1550600,1546700,1543600,1542400,1543100,1545700,": ",": ",": ",": ",": ",": ",": ",": ",": ",": ",": ",": ",": ",": ",": ",": ",": ",": ",": "]
["TOTAL,M,AT",4194965,4155636,4123622,4098144,4078871,4066201,4056935,4042489,4030062,4014344,3984866,3952600,3929599,3906734,3881104,3868331,3856029,3848305,3844019,3836950,3831200,3820889,3793245,3746551,3696200,3654915,3623136,3608710,3602199,3594380,3588116,3583422,3582589,3590286,3570172]
["TOTAL,M,AZ",": ",4713548,4648793,4583484,4517055,4455503,4358300,4258100,4205000,4152200,4103700,4058500,4023000,3988800,3954500,3918300,": ",": ",": ",": ",": ",": ",": ",": ",": ",": ",": ",": ",": ",": ",": ",": ",": ",": ",": "]
["TOTAL,M,BA",": ",": ",": ",1875610,1877482,1878035,1878012,1883485,1883568,1882898,1882841,1880333,1876871,1868452,1856962,1839012,": ",": ",1804854,": ",": ",": ",": ",": ",": ",": ",": ",": ",": ",": ",": ",": ",": ",": ",": "]
["TOTAL,M,BE",5536256,5508069,5487436,5451780,5401718,5312221,5268651,5224309,5181408,5143821,5111325,5087176,5066885,5042288,5018019,5006014,4993718,4982672,4971780,4958785,4954671,4940224,4923472,4899232,4880685,4860099,4848944,4821803,4816234,4812183,4811558,4809520,4813139,4812473,4821395]
["TOTAL,M,BG",3502015,3524945,3545073,3566767,3588926,3613958,3635855,3660367,3686579,3714614,3744120,3772128,3802214,3833139,3967423,3991161,4014071,4044965,4077501,4103368,4129966,4151638,4169133,4229449,4269998,4323773,4439333,4437943,4437390,4433478,4456401,4449515,4442852,4433740,4421714]
["TOTAL,M,BY",": ",4401211,4397526,4398293,4408159,4416912,4511623,4521412,4535032,4555296,4583082,4610183,4637741,4666476,4687717,4703212,": ",": ",": ",": ",": ",": ",": ",": ",": ",": ",": ",": ",": ",": ",": ",": ",": ",": ",": "]
["TOTAL,M,CH",4073880,4022091,3968524,3922253,3877426,3830566,3786675,3727014,3679359,3652502,3628696,3601539,3575029,3544349,3519698,3500708,3478689,3465243,3457621,3448842,3428368,3403863,3373916,3341665,3296962,3257537,3228921,3201854,3179911,3160381,3145258,3130360,3121033,3101817,3081965]
["TOTAL,M,CY",411825,417538,421036,418993,408758,399605,389926,380458,371514,364582,359321,354562,350137,346178,342752,339655,336325,333025,329195,324809,319967,314504,308530,300255,292485,285591,280569,277487,274519,271309,267968,264416,260904,259938,254100]
["TOTAL,M,CZ",5176927,5162380,5164349,5158210,5147231,5136166,5116678,5065117,5010595,4989652,4970656,4967142,4961699,4965512,4982360,5001062,5005435,5008730,5012085,5016515,5020464,5019297,5013413,5006002,5000966,5035658,5033142,5027374,5022614,5018861,5014254,5009138,5004846,4997570,4988799]
["TOTAL,M,DE",39835457,39556923,40346853,40206663,40112425,40103606,40184283,40274292,40301166,40339961,40353627,40356014,40344879,40274676,40156536,40090776,40004142,39992311,39954835,39824823,39644965,39518484,39300081,38839103,38499977,30236438,29693115,29419390,29285381,29190016,29179721,29305788,29427855,29522856,29481040]
["TOTAL,M,DE_TOT",39835457,39556923,40346853,40206663,40112425,40103606,40184283,40274292,40301166,40339961,40353627,40356014,40344879,40274676,40156536,40090776,40004142,39992311,39954835,39824823,39644965,39518484,39300081,38839103,38499977,38109738,37665917,37354687,37188995,37067685,37048127,37182746,37289919,37371968,37338005]
["TOTAL,M,DK",2811014,2792279,2778852,2766776,2756582,2743286,2732020,2712666,2696662,2685846,2677292,2670135,2662423,2654146,2644319,2634122,2625421,2615669,2604937,2592222,2573324,2563442,2554594,2544454,2536391,2530597,2528165,2527996,2526020,2520563,2517072,2517942,2521220,2523825,2528225]
["TOTAL,M,EA18",163717528,163162939,163343747,162937037,162556120,162114174,161727048,161029464,160043278,159231359,158401719,157435247,156528953,155608108,154772589,154098172,153546984,153223869,152115171,151742142,151354183,151005189,150513162,149703281,148983021,148211556,147439454,146807383,146358027,145939634,145629661,145437536,": ",144925637,144459773]
["TOTAL,M,EA19",165063785,164518934,164712638,164320548,163963343,163564373,163200400,162516883,161550072,160759822,159963983,159019265,158130051,157221662,156403519,155742473,155204545,154895523,153801012,153443707,153071391,152738561,152259167,151456043,150733997,": ",": ",": ",": ",": ",": ",": ",": ",": ",": "]
["TOTAL,M,EE",614389,614919,616167,618138,619700,620800,621320,622050,624260,627930,631710,635450,639990,644300,649070,653080,636259,642999,649490,659355,671264,686000,703305,726755,733549,734538,731392,727183,720578,713979,708088,703214,697982,692408,686506]
["TOTAL,M,EEA30",248955978,248078241,248009886,247351748,246743107,246029769,245409747,244451594,243357821,242348516,241370255,240293315,239313785,238413668,237892733,237149013,236780617,236418261,235292505,234900432,234469519,234022594,233436834,232558298,231918654,231045687,": ",": ",": ",": ",227457289,": ",": ",": ",": "]
["TOTAL,M,EEA31",250995205,250127989,250066369,249414057,248811859,248104420,247486514,246528582,245434002,244422449,243442536,242362156,241382170,240482695,239956830,239312091,238956427,238598564,237470990,237102050,236708490,236254963,235626246,234774739,234236202,233358265,": ",": ",": ",": ",229728349,": ",": ",": ",": "]
["TOTAL,M,EFTA",6856821,6770816,6684117,6599530,6516167,6435023,6361387,6265048,6179066,6122889,6076986,6032870,5992054,5946170,5908907,5873289,5831962,5802000,5780174,5758997,5727414,5690217,5646472,5599646,5540844,5492168,5457358,5415896,5379898,5351744,5329465,5308840,5293198,5265242,5237647]
["TOTAL,M,EL",5268390,5313239,5366251,5423884,5453444,5460865,5456095,5447947,5442245,5433391,5418462,5406076,5394780,5381045,5330048,5301521,5289898,5263710,5232167,5214072,5188666,5166362,5137456,5105295,5056509,4981978,4948437,4929126,4914765,4898328,4879400,4854482,4828668,4796796,4764344]
["TOTAL,M,ES",22826546,22877461,23017760,23099012,23049480,22982272,22880534,22591483,22118976,21719318,21335287,20924577,20542467,20115524,19830965,19606767,19487061,19408565,19354664,19310125,19268561,19222005,19165905,19102889,19038032,19024575,18998360,18965239,18927075,18881389,18820211,18748597,18669761,18572499,18467226]
["TOTAL,M,EU27",246173037,245329516,245294293,244674471,244104366,243425312,242835035,241913560,240858114,239878129,238921965,237861984,236896760,236011847,235503524,234776432,234427344,234081504,232969952,232590277,232170473,231736240,231164278,230300317,229674772,228811056,": ",": ",": ",": ",225273082,": ",": ",": ",": "]
["TOTAL,M,EU28",248212264,247379264,247350776,246736780,246173118,245499963,244911802,243990548,242934295,241952062,240994246,239930825,238965145,238080874,237567621,236939510,236603154,236261807,235148437,234791895,234409444,233968609,233353690,232516758,231992320,231123634,": ",": ",": ",": ",227544142,": ",": ",": ",": "]
["TOTAL,M,FI",2691863,2680364,2666622,2652534,2638416,2625067,2611653,2596787,2583742,2572350,2562077,2552893,2544916,2537597,2529341,2523026,2516075,2509098,2500596,2491701,2481649,2470196,2457282,2443042,2426204,2412760,2401368,2392868,2385866,2377780,2369228,2357172,2342869,2327473,2314843]
["TOTAL,M,FR",32180169,31919076,31772665,31605383,31462902,31301764,31147979,30980230,30803233,30591100,30385862,30171688,29976600,29778112,29578326,29383653,29214237,29112484,29020418,28929309,28841197,28752019,28657949,28527539,28391114,": ",": ",": ",": ",": ",": ",": ",": ",": ",": "]
["TOTAL,M,FX",": ",": ",30866009,30699170,30553628,30397950,30247434,30084747,29917578,29714411,29519376,29314499,29129473,28940443,28751019,28566924,28406145,28316181,28235747,28155451,28078056,27999443,27915445,27795121,27668356,27544000,27398614,27255631,27125760,27002340,26890120,26777278,26671516,26530200,26380976]
["TOTAL,M,GE",": ",2141372,": ",2143794,2127278,2108914,2080807,2078395,2079545,2083892,2043600,2039000,2061900,2061700,2075800,2092800,": ",": ",": ",": ",": ",": ",": ",": ",": ",": ",": ",": ",": ",": ",": ",": ",": ",": ",": "]
["TOTAL,M,HR",2039227,2049748,2056483,2062309,2068752,2074651,2076767,2076988,2076181,2073933,2072281,2068841,2068385,2069027,2064097,2163078,2175810,2180303,2178485,2201618,2238971,2232369,2189412,2216441,2317548,2312578,2307138,2300220,2291276,2281517,2271060,2260423,2249260,2236788,2226890]
["TOTAL,M,HU",4695779,4703391,4715953,4724666,4743901,4756900,4763050,4769562,4779078,4784579,4793115,4804113,4818456,4836980,4851012,4865194,4884396,4901764,4915956,4929222,4941620,4953428,4966328,4975730,4979833,4984904,5106715,5116264,5126602,5138124,5149332,5163504,5177073,5184515,5188095]
["TOTAL,M,IE",2287083,2278225,2272790,2269789,2269426,2260974,2252658,2226754,2172790,2103449,2049350,2003162,1969227,1937905,1905582,1876864,1853675,1833991,1814701,1797356,1787212,1782109,1775651,1764716,1750875,1743208,1747873,1761765,1770250,1770900,1774746,1766100,1754500,1744500,1724100]
["TOTAL,M,IS",165186,163318,161438,160364,160006,159936,162068,160896,156576,151202,147170,145401,144287,143450,141870,139665,138086,136444,135233,134310,133891,132951,131600,130247,128423,127432,126563,124360,122656,121721,121037,119969,118685,117000,115583]
["TOTAL,M,IT",29501590,29484564,28889597,28726599,28715256,28649385,28570007,28411242,28212234,28138577,28044210,27845601,27658649,27585050,27576326,27562988,27563748,27571578,27566774,27560294,27568963,27576391,27572056,27553963,27547371,27527829,27511139,27495567,27493442,27500167,27501075,27496083,27500193,27487428,27485213]
["TOTAL,M,LI",18553,18400,18247,18042,17886,17769,17591,17448,17343,17204,17050,16881,16631,16437,16038,15776,15628,15207,15176,15100,14898,14775,14536,14375,14465,13919,13792,13527,13395,13243,13078,12992,13004,12902,12519]
["TOTAL,M,LT",1346257,1355995,1368891,1383511,1407223,1450199,1473352,1487419,1506794,1528463,1562264,1584018,1601098,1613554,1630930,1644301,1657561,1671654,1685841,1701565,1717208,1733372,1746005,1752762,1750976,1747473,1738953,1717881,1697006,1678007,1662031,1647224,1633248,1620424,1610255]
["TOTAL,M,LU",281972,275117,268412,261820,254619,249406,244835,239607,235792,232100,228156,224708,221009,218824,216300,213615,210341,207363,204689,202012,199163,196560,193866,191202,188344,185352,182630,181112,179700,178510,178102,177917,177775,178050,178250]
["TOTAL,M,LV",911207,917045,926580,934812,947939,970931,992648,1007041,1013791,1022058,1032109,1044465,1054827,1066248,1082964,1096888,1105438,1115483,1126801,1138797,1154321,1175502,1198734,1228610,1236456,1240531,1238355,1224775,1209487,1196300,1187090,1178723,1170179,1163032,1157888]
["TOTAL,M,MC",": ",": ",": ",": ",": ",": ",": ",": ",": ",": ",16040,15898,": ",": ",": ",": ",": ",": ",": ",": ",": ",": ",": ",": ",": ",": ",": ",": ",": ",": ",": ",": ",": ",": ",": "]
["TOTAL,M,MD",": ",1711506,1712346,1711725,1712106,1713487,1714931,1717459,1721030,1719368,1724841,1728414,1733308,1737551,1740612,1744458,": ",": ",": ",": ",": ",": ",": ",": ",": ",": ",": ",": ",": ",": ",": ",": ",": ",": ",": "]
["TOTAL,M,ME",307522,307155,306801,306359,306125,305223,304082,303199,302558,302129,301776,301205,300679,299666,298448,297052,": ",": ",": ",": ",": ",": ",": ",": ",": ",": ",": ",": ",": ",": ",": ",": ",": ",": ",": "]
["TOTAL,M,MK",1036518,1034841,1033138,1031926,1030880,1028815,1026804,1025239,1023739,1022398,1021145,1018660,1015888,1019616,1016237,1011472,1007266,1002275,996914,987678,979877,969765,": ",": ",": ",": ",": ",": ",": ",": ",": ",": ",": ",": ",": "]
["TOTAL,M,MT",214735,212424,209880,207695,206405,206203,204607,202734,201519,200838,199580,198099,196836,195363,193689,188589,187689,186664,185319,183591,182838,181232,179427,177685,175782,173895,172142,170369,169196,167875,161468,159913,": ",155850,154759]
["TOTAL,M,NL",8372858,8334385,8307339,8282871,8243482,8203476,8156396,8112073,8088514,8077407,8065979,8045914,8015471,7971967,7909855,7846317,7793271,7740074,7696803,7662289,7627482,7585887,7535268,7480422,7419501,7358482,7316590,7273611,7224323,7184538,7149620,7124152,7102598,7081566,7048474]
["TOTAL,M,NO",2599202,2567007,2535908,2498871,2460849,2426752,2395053,2359690,2325788,2301981,2284070,2269049,2256107,2241934,2231301,2217140,2199559,2185106,2172144,2160745,2150257,2138628,2126420,2113359,2100994,2093280,2088082,2076155,2063936,2056399,2050092,2045519,2040476,2033523,2027580]
["TOTAL,M,PL",18397163,18403964,18426093,18427296,18429700,18412237,18414926,18411501,18426775,18453855,18470253,18486430,18506749,18525163,18537339,18547799,18798257,18801164,18796699,18786030,18778040,18746308,18707978,18661328,18605952,18540495,": ",": ",": ",": ",18073800,": ",": ",": ",": "]
["TOTAL,M,PT",4923666,4958020,4995697,5030437,5053543,5063745,5066239,5069747,5064395,5058813,5053722,5047329,5037340,5019374,4986458,4944150,4912169,4885382,4860523,4839946,4821929,4804894,4796090,4795177,4806553,4819318,4828820,4834731,4839557,4837388,4830522,4809921,4791219,4762918,4731003]
["TOTAL,M,RO",9707074,9746052,9761480,9777107,9832949,9880409,9951873,10049194,10289996,10351833,10417145,10484847,10538907,10664186,10963364,10980041,11001183,11027079,11062955,11107719,11143398,11168810,11191019,11213763,11439785,11450831,11402309,11350052,11296033,11239654,11195281,11149212,11115570,11064358,10993753]
["TOTAL,M,RS",3464399,3479863,3497008,3514420,3530925,3553575,3566533,3581090,3596842,3610556,3625521,3632865,3642701,3647610,3649455,3662086,3676295,": ",": ",": ",": ",": ",": ",": ",": ",": ",": ",": ",": ",": ",": ",": ",": ",": ",": "]
["TOTAL,M,RU",": ",66546888,": ",": ",66046579,65639380,65641634,65717075,65848988,66163544,66602762,67023885,67605133,67922016,68338905,68698313,": ",": ",": ",": ",": ",": ",": ",": ",": ",": ",": ",": ",": ",": ",": ",": ",": ",": ",": "]
["TOTAL,M,SE",4872240,4814357,4765905,4726834,4690244,4649014,4603710,4563921,4523523,4486550,4466311,4446656,4427107,4408445,4392753,4380118,4375619,4371913,4369717,4366071,4356254,4320954,4294585,4270623,4244017,4212081,4175880,4152586,4137515,4127110,4120555,4116140,4117360,4118626,4119840]
["TOTAL,M,SI",1022229,1020874,1019061,1016731,1014563,1014107,1003945,986533,986982,981465,977052,976802,975587,975002,972742,970812,963217,968160,968634,968074,964375,964460,967119,970033,970229,968252,968350,967651,963410,945292,940676,936072,931263,924544,926928]
["TOTAL,M,SK",2642328,2639060,2635979,2631752,2625173,2623546,2618337,2613688,2610655,2609855,2609024,2608131,2609754,2611921,2612512,2625126,2623692,2622005,2618434,2613712,2608901,2600047,2590230,2583230,2595913,2586495,2576818,2565068,2552671,2539291,2523546,2507808,2491641,2473708,2455591]
["TOTAL,M,SM",": ",": ",16328,16217,15636,": ",15343,16404,14924,14703,14546,14338,": ",": ",": ",": ",": ",": ",": ",": ",": ",": ",": ",": ",": ",": ",": ",": ",": ",": ",": ",": ",": ",": ",": "]
["TOTAL,M,TR",38984302,38473360,37956168,37532954,37043182,36462470,35901154,35376533,34929709,34490906,34061541,33645876,33248539,32843549,32398849,33788954,33238999,32670081,32094071,31526034,30962048,30401511,29846021,29286535,28725032,28112758,27448302,26823810,26237111,25686215,25169299,24540002,23948190,23391938,22869491]
["TOTAL,M,UA",": ",20918288,20962744,20976712,21032616,21107067,21184932,21297678,21434680,21574667,21753993,21926809,22112534,22316317,22530402,22754662,": ",": ",": ",": ",": ",": ",": ",": ",": ",": ",": ",": ",": ",": ",": ",": ",": ",": ",": "]
["TOTAL,M,UK",31947040,31663214,31423950,31206267,30951490,30668969,30416523,30164349,29894834,29651378,29419090,29211268,29049154,28902614,28761435,28634462,28518417,28414697,28329090,28245423,28156016,28073802,28008061,27942925,27863833,27773688,27690230,27625242,27570391,27515344,27454695,27396027,27367500,27387578,27411355]
["TOTAL,M,XK",": ",": ",": ",": ",904267,1115252,1101435,1087541,1074014,1060500,": ",": ",": ",": ",": ",": ",": ",": ",": ",": ",": ",": ",": ",": ",": ",": ",": ",": ",": ",": ",": ",": ",": ",": ",": "]
["TOTAL,T,AD",": ",": ",76246,78115,78115,84082,84484,83137,81222,78549,76875,72320,67159,66334,65844,65971,65877,65306,64479,63859,64311,65226,61599,59048,54507,50887,50528,48451,46976,44593,": ",": ",": ",": ",": "]
["TOTAL,T,AL",2893005,2895947,": ",": ",2831741,": ",3184701,3170050,3152625,3149143,3134975,3119548,3102781,3084148,3063318,3058497,3373445,3354341,3324317,3283000,3248836,3220310,3167478,3190103,3259814,3286500,3169386,3115286,3051923,2993347,2936177,2872681,2815239,2753316,2698795]
["TOTAL,T,AM",": ",": ",": ",3274285,3262650,3249482,3237976,3230086,3222953,3219234,3215800,3212200,3210300,3212900,3215300,3226900,": ",": ",": ",": ",": ",": ",": ",": ",": ",": ",": ",": ",": ",": ",": ",": ",": ",": ",": "]
["TOTAL,T,AT",8576261,8506889,8451860,8408121,8375164,8351643,8335003,8307989,8282984,8254298,8201359,8142573,8100273,8063640,8020946,8002186,7982461,7971116,7964966,7953067,7943489,7928746,7882519,7798899,7710882,7644818,7594315,7576319,7572852,7566736,7563233,7559635,7564185,7584094,7553326]
["TOTAL,T,AZ",": ",9477119,9356483,9235085,9111078,8997586,8896900,8629900,8532700,8436400,8347300,8265700,8202500,8141400,8081000,8016200,": ",": ",": ",": ",": ",": ",": ",": ",": ",": ",": ",": ",": ",": ",": ",": ",": ",": ",": "]
["TOTAL,T,BA",": ",": ",": ",3839265,3843183,3844046,3843998,3843846,3844017,3842650,3842532,3837414,3830349,3813167,3789717,3753085,": ",3549736,3727439,": ",": ",": ",": ",": ",4517921,4499203,4461498,4421373,4379545,4337350,4293863,4248746,4203208,4158361,4114030]
["TOTAL,T,BE",11258434,11203992,11161642,11094850,11000638,10839905,10753080,10666866,10584534,10511382,10445852,10396421,10355844,10309725,10263414,10239085,10213752,10192264,10170226,10143047,10130574,10100631,10068319,10021997,9986975,9947782,9927612,9875716,9864751,9858895,9857721,9853023,9858017,9854589,9863374]
["TOTAL,T,BG",7202198,7245677,7284552,7327224,7369431,7421766,7467119,7518002,7572673,7629371,7688573,7745147,7805506,7868815,8149468,8190876,8230371,8283200,8340936,8384715,8427418,8459763,8484863,8595465,8669269,8767308,8986636,8976255,8966462,8949880,8971214,8950144,8929332,8905581,8876652]
["TOTAL,T,BY",": ",9468154,9463840,9465150,9481193,9480178,9671912,9689770,9714461,9750540,9800073,9849062,9898590,9950941,9990435,10019480,": ",": ",": ",": ",": ",": ",": ",": ",": ",": ",": ",": ",": ",": ",": ",": ",": ",": ",": "]
["TOTAL,T,CH",8237666,8139631,8039060,7954662,7870134,7785806,7701856,7593494,7508739,7459128,7415102,7364148,7313853,7255653,7204055,7164444,7123537,7096465,7081346,7062354,7019019,6968570,6907959,6842768,6757188,6673850,6619973,6566799,6523413,6484834,6455896,6427833,6409713,6372904,6335243]
["TOTAL,T,CY",847008,858000,865878,862011,839751,819140,796930,776333,757916,744013,733067,722893,713720,705539,697549,690497,682862,675215,666313,656333,645399,632944,619231,603069,587141,572655,562693,556584,550888,544605,538397,531518,524623,522845,512300]
["TOTAL,T,CZ",10538275,10512419,10516125,10505445,10486731,10462088,10425783,10343422,10254233,10223577,10198855,10195347,10192649,10201182,10232027,10278098,10289621,10299125,10309137,10321344,10333161,10334013,10325697,10312548,10304607,10362102,10360034,10350517,10344119,10340335,10333900,10326526,10321186,10308465,10292717]
["TOTAL,T,DE",81197537,80767463,82020578,81843743,81751602,81802257,82002356,82217837,82314906,82437995,82500849,82531671,82536680,82440309,82259540,82163475,82037011,82057379,82012162,81817499,81538603,81338093,80974632,80274564,79753227,62679035,61715103,61238079,61140461,61020474,61049256,61306669,61546101,61712689,61657952]
["TOTAL,T,DE_TOT",81197537,80767463,82020578,81843743,81751602,81802257,82002356,82217837,82314906,82437995,82500849,82531671,82536680,82440309,82259540,82163475,82037011,82057379,82012162,81817499,81538603,81338093,80974632,80274564,79753227,79112831,78389735,77899502,77780338,77660533,77709213,78008156,78248407,78418324,78397490]
["TOTAL,T,DK",5659715,5627235,5602628,5580516,5560628,5534738,5511451,5475791,5447084,5427459,5411405,5397640,5383507,5368354,5349212,5330020,5313577,5294860,5275121,5251027,5215718,5196642,5180614,5162126,5146469,5135409,5129778,5129254,5124794,5116273,5111108,5112130,5116464,5119155,5123989]
["TOTAL,T,EA18",335549738,334529912,334573724,333813507,333049538,332124448,331286399,329884170,327954596,326395103,324786228,322915089,321142451,319364999,317771311,316434141,315328903,314681559,312406969,311679634,310932673,310231878,309279469,307850155,306547486,305121066,303712660,302536073,301803291,301033722,300466031,300051558,299620134,298938748,298005310]
["TOTAL,T,EA19",338471000,337473384,337545629,336817148,336102126,335266424,334470255,333096775,331204579,329684938,328141448,326314018,324573948,322819636,321258309,319946215,318865304,318243820,315994982,315294846,314575664,313903174,312973398,311556454,310249454,": ",": ",": ",": ",": ",": ",": ",": ",": ",": "]
["TOTAL,T,EE",1313271,1315819,1320174,1325217,1329660,1333290,1335740,1338440,1342920,1350700,1358850,1366250,1375190,1383510,1392720,1401250,1379237,1393074,1405996,1425192,1448075,1476952,1511303,1554878,1567749,1570599,1565662,1558137,1546304,1534076,1523486,1513747,1503743,1493085,1482247]
["TOTAL,T,EEA30",509758499,508168036,507811501,506642124,505479423,504079494,502934648,501073052,499011219,497099125,495222001,493152394,491260780,489501378,488575959,487122285,486294930,485550322,483220168,482439626,481587522,480649651,479458892,477837962,476581943,474903578,473404824,471747730,470496548,469165195,468056453,467049883,466098941,464925603,463458836]
["TOTAL,T,EEA31",513983815,512414845,512073641,510918108,509769280,508382341,507244444,505385019,503324749,501411612,499532862,497458119,495566164,493806872,492871365,491620020,490822389,490087134,487753196,487020793,486246415,485294806,484014663,482433828,481364122,479676134,478166789,476496180,475227589,473877047,472747436,471719470,470745862,469547151,468060305]
["TOTAL,T,EFTA",13770625,13610401,13449030,13296582,13145040,12997529,12856065,12681480,12532713,12434143,12349642,12266469,12188439,12099819,12023715,11954416,11876593,11817765,11775077,11731192,11665036,11588759,11499380,11405515,11291916,11189203,11120759,11040363,10970490,10913300,10869027,10827114,10794141,10738279,10682125]
["TOTAL,T,EL",10858018,10926807,11003615,11086406,11123392,11119289,11094745,11060937,11036008,11004716,10969912,10940369,10915770,10888274,10835989,10775627,10747768,10693250,10629267,10588332,10535973,10489871,10430958,10367163,10272691,10120892,10058103,10015863,9985326,9949100,9919500,9872102,9821152,9757874,9700826]
["TOTAL,T,ES",46449565,46512199,46727890,46818219,46667174,46486619,46239273,45668939,44784666,44009971,43296338,42547451,41827838,41035278,40476723,40049708,39802827,39639388,39525438,39430933,39343100,39246833,39131966,39003524,38874573,38826297,38756648,38675049,38586591,38484642,38352991,38204159,38040699,37844910,37636201]
["TOTAL,T,EU27",504225540,502697266,502401531,501300204,500204517,498867771,497780439,495985066,493987245,492124110,490287461,488250073,486386194,484657212,483756299,482332313,481541874,480829022,478526437,477770788,476941505,476029462,474867471,473275215,472047215,470388225,468904038,467274166,466049471,464736729,463643322,462650602,461714513,460560228,459111954]
["TOTAL,T,EU28",508450856,506944075,506663671,505576188,504494374,503170618,502090235,500297033,498300775,496436597,494598322,492555798,490691578,488962706,488051705,486830048,486069333,485365834,483059465,482351955,481600398,480674617,479423242,477871081,476829394,475160781,473666003,472022616,470780512,469448581,468334305,467320189,466361434,465181776,463713423]
["TOTAL,T,FI",5471753,5451270,5426674,5401267,5375276,5351427,5326314,5300484,5276955,5255580,5236611,5219732,5206295,5194901,5181115,5171302,5159646,5147349,5132320,5116826,5098754,5077912,5054982,5029002,4998478,4974383,4954359,4938602,4925644,4910664,4893748,4869858,4841715,4812150,4787778]
["TOTAL,T,FR",66415161,65889148,65600350,65276983,64978721,64658856,64350226,64007193,63645065,63229635,62772870,62292241,61864088,61424036,60979315,60545022,60158533,59934884,59726386,59522297,59315139,59104320,58885929,58604851,58313439,": ",": ",": ",": ",": ",": ",": ",": ",": ",": "]
["TOTAL,T,FX",": ",": ",63697865,63375971,63070344,62765235,62465709,62134866,61795238,61399733,60963264,60505421,60101841,59685899,59266572,58858198,58496613,58298962,58116018,57935959,57752535,57565008,57369161,57110533,56840661,56577000,56269810,55966142,55681780,55411238,55157303,54894854,54649984,54335000,54028630]
["TOTAL,T,GE",": ",4490498,": ",4497617,4469250,4436391,4385429,4382070,4394702,4401292,4321500,4315200,4352600,4371500,4401400,4435200,": ",": ",": ",": ",": ",": ",": ",": ",": ",": ",": ",": ",": ",": ",": ",": ",": ",": ",": "]
["TOTAL,T,HR",4225316,4246809,4262140,4275984,4289857,4302847,4309796,4311967,4313530,4312487,4310861,4305725,4305384,4305494,4295406,4497735,4527459,4536812,4533028,4581167,4658893,4645155,4555771,4595866,4782179,4772556,4761965,4748450,4731041,4711852,4690983,4669587,4646921,4621548,4601469]
["TOTAL,T,HU",9855571,9877365,9908798,9931925,9985722,10014324,10030975,10045401,10066158,10076581,10097549,10116742,10142362,10174853,10200298,10221644,10253416,10279724,10301247,10321229,10336700,10350010,10365035,10373647,10373153,10374823,10588614,10604360,10621121,10640006,10657420,10678770,10700155,10710914,10712781]
["TOTAL,T,IE",4628949,4605501,4591087,4582707,4570881,4549428,4521322,4457765,4340118,4208156,4111672,4028851,3964191,3899702,3832783,3777565,3732006,3693386,3654955,3620065,3597617,3583154,3569367,3547492,3520977,3506970,3515048,3534850,3545263,3534117,3542046,3522800,3498400,3473200,3432800]
["TOTAL,T,IS",329100,325671,321857,319575,318452,317630,319368,315459,307672,299891,293577,290570,288471,286575,283361,279049,275712,272381,269874,267958,266978,265064,262386,259727,255866,253785,251919,247561,244157,242203,240606,238416,235537,232182,229327]
["TOTAL,T,IT",60795612,60782668,59685227,59394207,59364690,59190143,59000586,58652875,58223744,58064214,57874753,57495900,57130506,56987507,56960692,56923524,56909109,56904379,56876364,56844197,56844408,56842392,56821250,56772923,56744119,56694360,56649201,56609375,56594487,56597823,56588319,56565117,56563031,56524064,56479285]
["TOTAL,T,LI",37366,37129,36838,36475,36149,35894,35589,35356,35168,34905,34600,34294,33863,33525,32863,32426,32015,31320,31143,30923,30629,30310,29868,29386,29032,28452,28181,27714,27399,27076,26680,26512,26380,26130,25215]
["TOTAL,T,LT",2921262,2943472,2971905,3003641,3052588,3141976,3183856,3212605,3249983,3289835,3355220,3398929,3431497,3454637,3486998,3512074,3536401,3562261,3588013,3615212,3642991,3671296,3693929,3706299,3701968,3693708,3674802,3635295,3597439,3560388,3528698,3499711,3470673,3443684,3422210]
["TOTAL,T,LU",562958,549680,537039,524853,511840,502066,493500,483799,476187,469086,461230,454960,448300,444050,439000,433600,427350,422050,416850,411600,405650,400200,394750,389600,384400,379300,374900,372000,369500,367210,366202,365794,365450,365600,364850]
["TOTAL,T,LV",1986096,2001468,2023825,2044813,2074605,2120504,2162834,2191810,2208840,2227874,2249724,2276520,2299390,2320956,2353384,2381715,2399248,2420789,2444912,2469531,2500580,2540904,2585675,2643000,2658161,2668140,2665770,2641097,2612068,2587716,2570030,2554063,2537958,2524202,2514640]
["TOTAL,T,MC",": ",": ",": ",": ",": ",": ",": ",": ",": ",": ",33085,32828,": ",": ",": ",": ",": ",": ",": ",": ",": ",": ",": ",": ",": ",": ",": ",": ",": ",": ",": ",": ",": ",": ",": "]
["TOTAL,T,MD",": ",3557634,3559497,3559541,3560430,3563695,3567512,3572703,3581110,3589936,3600436,3607435,3618312,3627812,3635112,3644070,": ",": ",": ",": ",": ",": ",": ",": ",": ",": ",": ",": ",": ",": ",": ",": ",": ",": ",": "]
["TOTAL,T,ME",622099,621521,620893,620308,619850,619001,617157,615543,614624,613109,613420,612214,610510,608460,605988,603152,": ",": ",": ",": ",": ",": ",": ",": ",": ",": ",": ",": ",": ",": ",": ",": ",": ",": ",": "]
["TOTAL,T,MK",2069172,2065769,2062294,2059794,2057284,2052722,2048619,2045177,2041941,2038514,2035196,2029892,2023654,2038651,2031112,2021578,2012705,2002340,1991398,1971687,1957265,1936741,2061000,1908941,1890872,1873109,2100246,2077056,2052953,2029175,2004709,1980139,1954972,1928856,1904570]
["TOTAL,T,MT",429344,425384,421364,417546,414989,414027,410926,407832,405616,404999,402668,399867,397296,394641,391415,380201,378518,376513,373958,371415,369451,366431,362977,359543,355910,352430,349014,345636,343334,340907,331997,329189,331859,319936,318028]
["TOTAL,T,NL",16900726,16829289,16779575,16730348,16655799,16574989,16485787,16405399,16357992,16334210,16305526,16258032,16192572,16105285,15987075,15863950,15760225,15654192,15567107,15493889,15424122,15341553,15239182,15129150,15010445,14892574,14805240,14714948,14615125,14529430,14453833,14394589,14339551,14285829,14208586]
["TOTAL,T,NO",5166493,5107970,5051275,4985870,4920305,4858199,4799252,4737171,4681134,4640219,4606363,4577457,4552252,4524066,4503436,4478497,4445329,4417599,4392714,4369957,4348410,4324815,4299167,4273634,4249830,4233116,4220686,4198289,4175521,4159187,4145845,4134353,4122511,4107063,4092340]
["TOTAL,T,PL",38005614,38017856,38062535,38063792,38062718,38022869,38135876,38115641,38125479,38157055,38173835,38190608,38218531,38242197,38253955,38263303,38666983,38659979,38639341,38609399,38580597,38504707,38418108,38309226,38183160,38038403,37884655,37764318,37571771,37340467,37063303,36744964,36398652,36062309,35734865]
["TOTAL,T,PT",10374822,10427301,10487289,10542398,10572721,10573479,10563014,10553339,10532588,10511988,10494672,10473050,10444592,10394669,10330774,10249022,10186634,10133758,10084196,10043693,10008659,9974391,9954958,9950029,9970441,9995995,10014005,10025215,10034846,10030621,10016605,9975859,9939871,9883670,9819054]
["TOTAL,T,RO",19870647,19947311,20020074,20095996,20199059,20294683,20440290,20635460,21130503,21257016,21382354,21521142,21627509,21833483,22430457,22455485,22488595,22526093,22581862,22656145,22712394,22748027,22778533,22810035,23192274,23211395,23111521,23003802,22895058,22778624,22687374,22593720,22527235,22424246,22281894]
["TOTAL,T,RS",7114393,7146759,7181505,7216649,7251549,7306677,7334937,7365507,7397651,7425487,7456050,7470263,7490918,7502126,7504739,7527952,7552850,": ",": ",": ",": ",": ",": ",": ",": ",": ",": ",": ",": ",": ",": ",": ",": ",": ",": "]
["TOTAL,T,RU",": ",143666931,": ",143056383,142856536,141914509,141903979,142008838,142220968,142753551,143474219,144168205,145166731,145649334,146303611,146890128,": ",": ",": ",": ",": ",": ",": ",": ",": ",": ",": ",": ",": ",": ",": ",": ",": ",": ",": "]
["TOTAL,T,SE",9747355,9644864,9555893,9482855,9415570,9340682,9256347,9182927,9113257,9047752,9011392,8975670,8940788,8909128,8882792,8861426,8854322,8847625,8844499,8837496,8816381,8745109,8692013,8644120,8590630,8527039,8458888,8414089,8381519,8358139,8342633,8330577,8327488,8323038,8317967]
["TOTAL,T,SI",2062874,2061085,2058821,2055496,2050189,2046976,2032362,2010269,2010377,2003358,1997590,1996433,1995033,1994026,1990094,1987755,1978334,1984923,1986989,1990266,1989477,1989408,1994084,1998912,1999945,1996377,1996325,1994066,1985486,1946442,1936839,1927469,1917173,1903495,1909566]
["TOTAL,T,SK",5421349,5415949,5410836,5404322,5392446,5390410,5382401,5376064,5373180,5372928,5372685,5371875,5374873,5378951,5378783,5398657,5393382,5387650,5378932,5367790,5356207,5336455,5314155,5295877,5310711,5287663,5264220,5236972,5208708,5178967,5144568,5109626,5074316,5035881,4996329]
["TOTAL,T,SM",": ",": ",33562,33376,31863,": ",31269,32054,30368,29999,29673,29241,": ",": ",": ",": ",": ",": ",": ",": ",": ",": ",": ",": ",": ",": ",": ",": ",": ",": ",": ",": ",": ",": ",": "]
["TOTAL,T,TR",77695904,76667864,75627384,74724269,73722988,72561312,71517100,70586256,69729967,68860539,68010221,67187251,66401851,65603160,64729501,66889425,65786563,64641675,63484661,62337617,61203584,60079060,58958565,57835076,56714051,55494711,54186642,52953586,51791212,50695548,49662958,48401689,47210448,46085508,45023450]
["TOTAL,T,UA",": ",45245894,45372692,45453282,45598179,45782592,45963359,46192309,46465691,46749170,47100462,47442079,47823108,48240902,48663609,49114950,": ",": ",": ",": ",": ",": ",": ",": ",": ",": ",": ",": ",": ",": ",": ",": ",": ",": ",": "]
["TOTAL,T,UK",64875165,64351155,63905297,63495303,63022532,62510197,62042343,61571647,61073279,60620361,60182050,59793759,59501394,59239564,58999781,58785246,58579685,58394596,58239312,58094587,57943472,57788017,57649210,57511594,57338199,57156972,56996450,56860203,56743897,56618895,56481641,56362502,56303194,56324088,56343569]
["TOTAL,T,XK",": ",": ",": ",": ",1794180,2208107,2180686,2153139,2126708,2100000,2041000,2016000,1985000,": ",": ",": ",": ",": ",": ",": ",": ",": ",": ",": ",": ",": ",": ",": ",": ",": ",": ",": ",": ",": ",": "]
["UNK,F,AD",": ",": ",0,0,0,0,0,0,0,0,0,0,0,0,0,0,0,0,0,0,0,0,0,0,0,0,0,0,0,0,": ",": ",": ",": ",": "]
["UNK,F,AL",0,0,": ",": ",": ",": ",": ",": ",0,0,0,0,": ",": ",": ",": ",": ",": ",": ",": ",": ",": ",": ",": ",": ",": ",": ",": ",": ",": ",": ",": ",": ",": ",": "]
["UNK,F,AM",": ",": ",": ",": ",": ",0,0,0,0,0,": ",": ",": ",": ",": ",": ",": ",": ",": ",": ",": ",": ",": ",": ",": ",": ",": ",": ",": ",": ",": ",": ",": ",": ",": "]
["UNK,F,AT",0,0,0,0,0,0,0,0,0,0,0,0,0,0,0,0,0,0,0,0,0,0,0,0,0,0,0,0,0,0,0,0,0,0,0]
["UNK,F,AZ",": ",0,0,0,0,0,0,0,0,0,": ",": ",": ",": ",": ",": ",": ",": ",": ",": ",": ",": ",": ",": ",": ",": ",": ",": ",": ",": ",": ",": ",": ",": ",": "]
["UNK,F,BE",0,0,0,0,0,0,0,0,0,0,0,0,0,0,0,0,0,0,0,0,0,0,0,0,0,0,0,0,0,0,0,0,0,0,0]
["UNK,F,BG",0,0,0,0,0,0,0,0,0,0,0,0,0,0,0,0,0,0,0,0,0,0,0,0,0,0,0,0,0,0,0,0,0,0,0]
["UNK,F,BY",": ",0,0,0,0,": ",0,0,0,0,": ",": ",": ",": ",": ",": ",": ",": ",": ",": ",": ",": ",": ",": ",": ",": ",": ",": ",": ",": ",": ",": ",": ",": ",": "]
["UNK,F,CH",0,0,0,0,0,0,0,0,0,0,0,0,0,0,0,0,0,0,0,0,0,0,0,0,0,0,0,0,0,0,0,0,0,0,0]
["UNK,F,CY",0,0,0,0,0,0,0,0,0,0,0,0,0,0,0,0,0,0,0,0,0,0,0,0,0,0,0,0,0,0,0,0,0,0,": "]
["UNK,F,CZ",0,0,0,0,0,0,0,0,0,0,0,0,0,0,0,0,0,0,0,0,0,0,0,0,0,0,0,0,0,0,0,0,0,0,0]
["UNK,F,DE",0,0,0,0,0,0,0,0,0,0,0,0,0,0,0,0,0,0,0,0,0,0,0,0,0,0,0,0,0,0,0,0,0,0,0]
["UNK,F,DE_TOT",0,0,0,0,0,0,0,0,0,0,0,0,0,0,0,0,0,0,0,0,0,0,0,0,0,0,0,0,0,0,0,0,0,0,0]
["UNK,F,DK",0,0,0,0,0,0,0,0,0,0,0,0,0,0,0,0,0,0,0,0,0,0,0,0,0,0,0,0,0,0,0,0,0,0,0]
["UNK,F,EA18","12:00:00","12:00:00",0,0,0,0,0,0,0,0,0,0,0,0,0,0,0,0,0,0,0,0,0,0,0,0,0,23,41,60,87,108,": ",141,": "]
["UNK,F,EA19","12:00:00","12:00:00",0,0,0,0,0,0,0,0,0,0,0,0,0,0,0,0,0,0,0,0,0,0,0,": ",": ",": ",": ",": ",": ",": ",": ",": ",": "]
["UNK,F,EE",0,0,0,0,0,0,0,0,0,0,0,0,0,0,0,0,0,0,0,0,0,0,0,0,0,0,0,23,41,60,87,108,129,141,164]
["UNK,F,EEA30","12:00:00","12:00:00",0,0,0,0,0,0,0,0,0,0,0,0,0,0,0,0,0,0,0,0,0,0,0,0,": ",": ",": ",": ",87,": ",": ",": ",": "]
["UNK,F,EEA31","12:00:00","12:00:00",0,0,0,3,5,7,9,12,18,23,29,33,42,": ",": ",": ",": ",": ",": ",": ",": ",": ",": ",": ",": ",": ",": ",": ",": ",": ",": ",": ",": "]
["UNK,F,EFTA",0,0,0,0,0,0,0,0,0,0,0,0,0,0,0,0,0,0,0,0,0,0,0,0,0,0,0,0,0,0,0,0,0,0,0]
["UNK,F,EL",0,0,0,0,0,0,0,0,0,0,0,0,0,0,0,0,0,0,0,0,0,0,0,0,0,0,0,0,0,0,0,0,0,0,0]
["UNK,F,ES",0,0,0,0,0,0,0,0,0,0,0,0,0,0,0,0,0,0,0,0,0,0,0,0,0,0,0,0,0,0,0,0,0,0,0]
["UNK,F,EU27","12:00:00","12:00:00",0,0,0,0,0,0,0,0,0,0,0,0,0,0,0,0,0,0,0,0,0,0,0,0,": ",": ",": ",": ",87,": ",": ",": ",": "]
["UNK,F,EU28","12:00:00","12:00:00",0,0,0,3,5,7,9,12,18,23,29,33,42,": ",": ",": ",": ",": ",": ",": ",": ",": ",": ",": ",": ",": ",": ",": ",": ",": ",": ",": ",": "]
["UNK,F,FI",0,0,0,0,0,0,0,0,0,0,0,0,0,0,0,0,0,0,0,0,0,0,0,0,0,0,0,0,0,0,0,0,0,0,0]
["UNK,F,FR","12:00:00","12:00:00",0,0,0,0,0,0,0,0,0,0,0,0,0,0,0,0,0,0,0,0,0,0,0,": ",": ",": ",": ",": ",": ",": ",": ",": ",": "]
["UNK,F,FX",": ",": ",0,0,0,0,0,0,0,0,0,0,0,0,0,0,0,0,0,0,0,0,0,0,0,0,0,0,0,0,0,0,0,0,0]
["UNK,F,GE",": ",0,": ",0,320,361,360,492,978,1225,": ",": ",": ",": ",": ",": ",": ",": ",": ",": ",": ",": ",": ",": ",": ",": ",": ",": ",": ",": ",": ",": ",": ",": ",": "]
["UNK,F,HR",0,0,0,0,0,3,5,7,9,12,18,23,29,33,42,": ",": ",": ",": ",": ",": ",": ",": ",": ",": ",": ",": ",": ",": ",": ",": ",": ",": ",": ",": "]
["UNK,F,HU",0,0,0,0,0,0,0,0,0,0,0,0,0,0,0,0,0,0,0,0,0,0,0,0,0,0,0,0,0,0,0,0,0,0,0]
["UNK,F,IE",0,0,0,0,0,0,0,0,0,0,0,0,0,0,0,0,0,0,0,0,0,0,0,0,0,0,0,0,0,0,0,0,0,0,0]
["UNK,F,IS",0,0,0,0,0,0,0,0,0,0,0,0,0,0,0,0,0,0,0,0,0,0,0,0,0,0,0,0,0,0,0,0,0,0,0]
["UNK,F,IT",0,0,0,0,0,0,0,0,0,0,0,0,0,0,0,0,0,0,0,0,0,0,0,0,0,0,0,0,0,0,0,0,0,0,0]
["UNK,F,LI",0,0,0,0,0,0,0,0,0,0,0,0,0,0,0,0,0,0,0,0,0,0,0,0,0,0,0,0,0,0,0,0,0,0,0]
["UNK,F,LT",0,0,0,0,0,0,0,0,0,0,0,0,0,0,0,0,0,0,0,0,0,0,0,0,0,0,0,0,0,0,0,0,0,0,0]
["UNK,F,LU",0,0,0,0,0,0,0,0,0,0,0,0,0,0,0,0,0,0,0,0,0,0,0,0,0,0,0,0,0,0,0,0,0,0,0]
["UNK,F,LV",0,0,0,0,0,0,0,0,0,0,0,0,0,0,0,0,0,0,0,0,0,0,0,0,0,0,0,0,0,0,0,0,0,0,0]
["UNK,F,MD",": ",0,0,0,0,0,0,0,0,0,": ",": ",": ",": ",": ",": ",": ",": ",": ",": ",": ",": ",": ",": ",": ",": ",": ",": ",": ",": ",": ",": ",": ",": ",": "]
["UNK,F,ME",0,0,0,0,0,0,0,0,0,0,0,0,0,0,0,0,": ",": ",": ",": ",": ",": ",": ",": ",": ",": ",": ",": ",": ",": ",": ",": ",": ",": ",": "]
["UNK,F,MK",256,295,313,338,354,424,474,540,620,674,745,809,867,1418,1497,1600,1710,1802,1896,0,2092,2143,": ",": ",": ",": ",": ",": ",": ",": ",": ",": ",": ",": ",": "]
["UNK,F,MT",0,0,0,0,0,0,0,0,0,0,0,0,0,0,0,0,0,0,0,0,0,0,0,0,0,0,0,0,0,0,0,0,": ",0,0]
["UNK,F,NL",0,0,0,0,0,0,0,0,0,0,0,0,0,0,0,0,0,0,0,0,0,0,0,0,0,0,0,0,0,0,0,0,0,0,0]
["UNK,F,NO",0,0,0,0,0,0,0,0,0,0,0,0,0,0,0,0,0,0,0,0,0,0,0,0,0,0,0,0,0,0,0,0,0,0,0]
["UNK,F,PL",0,0,0,0,0,0,0,0,0,0,0,0,0,0,0,0,0,0,0,0,0,0,0,0,0,0,": ",": ",": ",": ",0,": ",": ",": ",": "]
["UNK,F,PT",0,0,0,0,0,0,0,0,0,0,0,0,0,0,0,0,0,0,0,0,0,0,0,0,0,0,0,0,0,0,0,0,0,0,0]
["UNK,F,RO",0,0,0,0,0,0,0,0,0,0,0,0,0,0,0,0,0,0,0,0,0,0,0,0,0,0,0,0,0,0,0,0,0,0,0]
["UNK,F,RS",0,0,0,0,0,0,0,0,0,0,0,0,0,0,0,0,0,": ",": ",": ",": ",": ",": ",": ",": ",": ",": ",": ",": ",": ",": ",": ",": ",": ",": "]
["UNK,F,RU",": ",0,": ",": ",17523,0,0,0,0,0,": ",": ",": ",": ",": ",": ",": ",": ",": ",": ",": ",": ",": ",": ",": ",": ",": ",": ",": ",": ",": ",": ",": ",": ",": "]
["UNK,F,SE",0,0,0,0,0,0,0,0,0,0,0,0,0,0,0,0,0,0,0,0,0,0,0,0,0,0,0,0,0,0,0,0,0,0,0]
["UNK,F,SI",0,0,0,0,0,0,0,0,0,0,0,0,0,0,0,0,0,0,0,0,0,0,0,0,0,0,0,0,0,0,0,0,0,0,": "]
["UNK,F,SK",0,0,0,0,0,0,0,0,0,0,0,0,0,0,0,0,0,0,0,0,0,0,0,0,0,0,0,0,0,0,0,0,0,0,0]
["UNK,F,SM",": ",": ",0,0,": ",": ",": ",": ",": ",": ",": ",": ",": ",": ",": ",": ",": ",": ",": ",": ",": ",": ",": ",": ",": ",": ",": ",": ",": ",": ",": ",": ",": ",": ",": "]
["UNK,F,TR",0,0,0,0,0,0,0,0,0,0,0,0,0,0,0,0,0,0,0,0,0,0,0,0,0,0,0,0,0,0,0,0,0,0,0]
["UNK,F,UA",": ",0,0,0,0,0,0,0,0,0,": ",": ",": ",": ",": ",": ",": ",": ",": ",": ",": ",": ",": ",": ",": ",": ",": ",": ",": ",": ",": ",": ",": ",": ",": "]
["UNK,F,UK",0,0,0,0,0,0,0,0,0,0,0,0,0,0,0,0,0,0,0,0,0,0,0,0,0,0,0,0,0,0,0,0,0,0,0]
["UNK,M,AD",": ",": ",0,0,0,0,0,0,0,0,0,0,0,0,0,0,0,0,0,0,0,0,0,0,0,0,0,0,0,0,": ",": ",": ",": ",": "]
["UNK,M,AL",0,0,": ",": ",": ",": ",": ",": ",0,0,0,0,": ",": ",": ",": ",": ",": ",": ",": ",": ",": ",": ",": ",": ",": ",": ",": ",": ",": ",": ",": ",": ",": ",": "]
["UNK,M,AM",": ",": ",": ",": ",": ",0,0,0,0,0,": ",": ",": ",": ",": ",": ",": ",": ",": ",": ",": ",": ",": ",": ",": ",": ",": ",": ",": ",": ",": ",": ",": ",": ",": "]
["UNK,M,AT",0,0,0,0,0,0,0,0,0,0,0,0,0,0,0,0,0,0,0,0,0,0,0,0,0,0,0,0,0,0,0,0,0,0,0]
["UNK,M,AZ",": ",0,0,0,0,0,0,0,0,0,": ",": ",": ",": ",": ",": ",": ",": ",": ",": ",": ",": ",": ",": ",": ",": ",": ",": ",": ",": ",": ",": ",": ",": ",": "]
["UNK,M,BE",0,0,0,0,0,0,0,0,0,0,0,0,0,0,0,0,0,0,0,0,0,0,0,0,0,0,0,0,0,0,0,0,0,0,0]
["UNK,M,BG",0,0,0,0,0,0,0,0,0,0,0,0,0,0,0,0,0,0,0,0,0,0,0,0,0,0,0,0,0,0,0,0,0,0,0]
["UNK,M,BY",": ",0,0,0,0,": ",0,0,0,0,": ",": ",": ",": ",": ",": ",": ",": ",": ",": ",": ",": ",": ",": ",": ",": ",": ",": ",": ",": ",": ",": ",": ",": ",": "]
["UNK,M,CH",0,0,0,0,0,0,0,0,0,0,0,0,0,0,0,0,0,0,0,0,0,0,0,0,0,0,0,0,0,0,0,0,0,0,0]
["UNK,M,CY",0,0,0,0,0,0,0,0,0,0,0,0,0,0,0,0,0,0,0,0,0,0,0,0,0,0,0,0,0,0,0,0,0,0,": "]
["UNK,M,CZ",0,0,0,0,0,0,0,0,0,0,0,0,0,0,0,0,0,0,0,0,0,0,0,0,0,0,0,0,0,0,0,0,0,0,0]
["UNK,M,DE",0,0,0,0,0,0,0,0,0,0,0,0,0,0,0,0,0,0,0,0,0,0,0,0,0,0,0,0,0,0,0,0,0,0,0]
["UNK,M,DE_TOT",0,0,0,0,0,0,0,0,0,0,0,0,0,0,0,0,0,0,0,0,0,0,0,0,0,0,0,0,0,0,0,0,0,0,0]
["UNK,M,DK",0,0,0,0,0,0,0,0,0,0,0,0,0,0,0,0,0,0,0,0,0,0,0,0,0,0,0,0,0,0,0,0,0,0,0]
["UNK,M,EA18","12:00:00","12:00:00",0,0,0,0,0,0,0,0,0,0,0,0,0,0,0,0,0,0,0,0,0,0,0,0,0,18,30,40,62,72,": ",93,": "]
["UNK,M,EA19","12:00:00","12:00:00",0,0,0,0,0,0,0,0,0,0,0,0,0,0,0,0,0,0,0,0,0,0,0,": ",": ",": ",": ",": ",": ",": ",": ",": ",": "]
["UNK,M,EE",0,0,0,0,0,0,0,0,0,0,0,0,0,0,0,0,0,0,0,0,0,0,0,0,0,0,0,18,30,40,62,72,87,93,117]
["UNK,M,EEA30","12:00:00","12:00:00",0,0,0,0,0,0,0,0,0,0,0,0,0,0,0,0,0,0,0,0,0,0,0,0,": ",": ",": ",": ",62,": ",": ",": ",": "]
["UNK,M,EEA31","12:00:00","12:00:00",0,0,1,3,9,18,28,41,49,60,68,79,83,": ",": ",": ",": ",": ",": ",": ",": ",": ",": ",": ",": ",": ",": ",": ",": ",": ",": ",": ",": "]
["UNK,M,EFTA",0,0,0,0,0,0,0,0,0,0,0,0,0,0,0,0,0,0,0,0,0,0,0,0,0,0,0,0,0,0,0,0,0,0,0]
["UNK,M,EL",0,0,0,0,0,0,0,0,0,0,0,0,0,0,0,0,0,0,0,0,0,0,0,0,0,0,0,0,0,0,0,0,0,0,0]
["UNK,M,ES",0,0,0,0,0,0,0,0,0,0,0,0,0,0,0,0,0,0,0,0,0,0,0,0,0,0,0,0,0,0,0,0,0,0,0]
["UNK,M,EU27","12:00:00","12:00:00",0,0,0,0,0,0,0,0,0,0,0,0,0,0,0,0,0,0,0,0,0,0,0,0,": ",": ",": ",": ",62,": ",": ",": ",": "]
["UNK,M,EU28","12:00:00","12:00:00",0,0,1,3,9,18,28,41,49,60,68,79,83,": ",": ",": ",": ",": ",": ",": ",": ",": ",": ",": ",": ",": ",": ",": ",": ",": ",": ",": ",": "]
["UNK,M,FI",0,0,0,0,0,0,0,0,0,0,0,0,0,0,0,0,0,0,0,0,0,0,0,0,0,0,0,0,0,0,0,0,0,0,0]
["UNK,M,FR","12:00:00","12:00:00",0,0,0,0,0,0,0,0,0,0,0,0,0,0,0,0,0,0,0,0,0,0,0,": ",": ",": ",": ",": ",": ",": ",": ",": ",": "]
["UNK,M,FX",": ",": ",0,0,0,0,0,0,0,0,0,0,0,0,0,0,0,0,0,0,0,0,0,0,0,0,0,0,0,0,0,0,0,0,0]
["UNK,M,GE",": ",0,": ",0,87,201,200,881,1039,1391,": ",": ",": ",": ",": ",": ",": ",": ",": ",": ",": ",": ",": ",": ",": ",": ",": ",": ",": ",": ",": ",": ",": ",": ",": "]
["UNK,M,HR",0,0,0,0,1,3,9,18,28,41,49,60,68,79,83,": ",": ",": ",": ",": ",": ",": ",": ",": ",": ",": ",": ",": ",": ",": ",": ",": ",": ",": ",": "]
["UNK,M,HU",0,0,0,0,0,0,0,0,0,0,0,0,0,0,0,0,0,0,0,0,0,0,0,0,0,0,0,0,0,0,0,0,0,0,0]
["UNK,M,IE",0,0,0,0,0,0,0,0,0,0,0,0,0,0,0,0,0,0,0,0,0,0,0,0,0,0,0,0,0,0,0,0,0,0,0]
["UNK,M,IS",0,0,0,0,0,0,0,0,0,0,0,0,0,0,0,0,0,0,0,0,0,0,0,0,0,0,0,0,0,0,0,0,0,0,0]
["UNK,M,IT",0,0,0,0,0,0,0,0,0,0,0,0,0,0,0,0,0,0,0,0,0,0,0,0,0,0,0,0,0,0,0,0,0,0,0]
["UNK,M,LI",0,0,0,0,0,0,0,0,0,0,0,0,0,0,0,0,0,0,0,0,0,0,0,0,0,0,0,0,0,0,0,0,0,0,0]
["UNK,M,LT",0,0,0,0,0,0,0,0,0,0,0,0,0,0,0,0,0,0,0,0,0,0,0,0,0,0,0,0,0,0,0,0,0,0,0]
["UNK,M,LU",0,0,0,0,0,0,0,0,0,0,0,0,0,0,0,0,0,0,0,0,0,0,0,0,0,0,0,0,0,0,0,0,0,0,0]
["UNK,M,LV",0,0,0,0,0,0,0,0,0,0,0,0,0,0,0,0,0,0,0,0,0,0,0,0,0,0,0,0,0,0,0,0,0,0,0]
["UNK,M,MD",": ",0,0,0,0,0,0,0,0,0,": ",": ",": ",": ",": ",": ",": ",": ",": ",": ",": ",": ",": ",": ",": ",": ",": ",": ",": ",": ",": ",": ",": ",": ",": "]
["UNK,M,ME",0,0,0,0,0,0,0,0,0,0,0,0,0,0,0,0,": ",": ",": ",": ",": ",": ",": ",": ",": ",": ",": ",": ",": ",": ",": ",": ",": ",": ",": "]
["UNK,M,MK",52,64,79,95,114,135,157,167,206,222,245,273,319,788,820,862,919,985,1052,0,1135,1154,": ",": ",": ",": ",": ",": ",": ",": ",": ",": ",": ",": ",": "]
["UNK,M,MT",0,0,0,0,0,0,0,0,0,0,0,0,0,0,0,0,0,0,0,0,0,0,0,0,0,0,0,0,0,0,0,0,": ",0,0]
["UNK,M,NL",0,0,0,0,0,0,0,0,0,0,0,0,0,0,0,0,0,0,0,0,0,0,0,0,0,0,0,0,0,0,0,0,0,0,0]
["UNK,M,NO",0,0,0,0,0,0,0,0,0,0,0,0,0,0,0,0,0,0,0,0,0,0,0,0,0,0,0,0,0,0,0,0,0,0,0]
["UNK,M,PL",0,0,0,0,0,0,0,0,0,0,0,0,0,0,0,0,0,0,0,0,0,0,0,0,0,0,": ",": ",": ",": ",0,": ",": ",": ",": "]
["UNK,M,PT",0,0,0,0,0,0,0,0,0,0,0,0,0,0,0,0,0,0,0,0,0,0,0,0,0,0,0,0,0,0,0,0,0,0,0]
["UNK,M,RO",0,0,0,0,0,0,0,0,0,0,0,0,0,0,0,0,0,0,0,0,0,0,0,0,0,0,0,0,0,0,0,0,0,0,0]
["UNK,M,RS",0,0,0,0,0,0,0,0,0,0,0,0,0,0,0,0,0,": ",": ",": ",": ",": ",": ",": ",": ",": ",": ",": ",": ",": ",": ",": ",": ",": ",": "]
["UNK,M,RU",": ",0,": ",": ",16786,0,0,0,0,0,": ",": ",": ",": ",": ",": ",": ",": ",": ",": ",": ",": ",": ",": ",": ",": ",": ",": ",": ",": ",": ",": ",": ",": ",": "]
["UNK,M,SE",0,0,0,0,0,0,0,0,0,0,0,0,0,0,0,0,0,0,0,0,0,0,0,0,0,0,0,0,0,0,0,0,0,0,0]
["UNK,M,SI",0,0,0,0,0,0,0,0,0,0,0,0,0,0,0,0,0,0,0,0,0,0,0,0,0,0,0,0,0,0,0,0,0,0,": "]
["UNK,M,SK",0,0,0,0,0,0,0,0,0,0,0,0,0,0,0,0,0,0,0,0,0,0,0,0,0,0,0,0,0,0,0,0,0,0,0]
["UNK,M,SM",": ",": ",0,0,": ",": ",": ",": ",": ",": ",": ",": ",": ",": ",": ",": ",": ",": ",": ",": ",": ",": ",": ",": ",": ",": ",": ",": ",": ",": ",": ",": ",": ",": ",": "]
["UNK,M,TR",0,0,0,0,0,0,0,0,0,0,0,0,0,0,0,0,0,0,0,0,0,0,0,0,0,0,0,0,0,0,0,0,0,0,0]
["UNK,M,UA",": ",0,0,0,0,0,0,0,0,0,": ",": ",": ",": ",": ",": ",": ",": ",": ",": ",": ",": ",": ",": ",": ",": ",": ",": ",": ",": ",": ",": ",": ",": ",": "]
["UNK,M,UK",0,0,0,0,0,0,0,0,0,0,0,0,0,0,0,0,0,0,0,0,0,0,0,0,0,0,0,0,0,0,0,0,0,0,0]
["UNK,T,AD",": ",": ",0,0,0,0,0,0,0,0,0,0,0,0,0,0,0,0,0,0,0,0,0,0,0,0,0,0,0,0,": ",": ",": ",": ",": "]
["UNK,T,AL",0,0,": ",": ",": ",": ",": ",": ",0,0,0,0,": ",": ",": ",": ",": ",": ",": ",": ",": ",": ",": ",": ",": ",": ",": ",": ",": ",": ",": ",": ",": ",": ",": "]
["UNK,T,AM",": ",": ",": ",": ",": ",0,0,0,0,0,": ",": ",": ",": ",": ",": ",": ",": ",": ",": ",": ",": ",": ",": ",": ",": ",": ",": ",": ",": ",": ",": ",": ",": ",": "]
["UNK,T,AT",0,0,0,0,0,0,0,0,0,0,0,0,0,0,0,0,0,0,0,0,0,0,0,0,0,0,0,0,0,0,0,0,0,0,0]
["UNK,T,AZ",": ",0,0,0,0,0,0,0,0,0,": ",": ",": ",": ",": ",": ",": ",": ",": ",": ",": ",": ",": ",": ",": ",": ",": ",": ",": ",": ",": ",": ",": ",": ",": "]
["UNK,T,BE",0,0,0,0,0,0,0,0,0,0,0,0,0,0,0,0,0,0,0,0,0,0,0,0,0,0,0,0,0,0,0,0,0,0,0]
["UNK,T,BG",0,0,0,0,0,0,0,0,0,0,0,0,0,0,0,0,0,0,0,0,0,0,0,0,0,0,0,0,0,0,0,0,0,0,0]
["UNK,T,BY",": ",0,0,0,0,": ",0,0,0,0,": ",": ",": ",": ",": ",": ",": ",": ",": ",": ",": ",": ",": ",": ",": ",": ",": ",": ",": ",": ",": ",": ",": ",": ",": "]
["UNK,T,CH",0,0,0,0,0,0,0,0,0,0,0,0,0,0,0,0,0,0,0,0,0,0,0,0,0,0,0,0,0,0,0,0,0,0,0]
["UNK,T,CY",0,0,0,0,0,0,0,0,0,0,0,0,0,0,0,0,0,0,0,0,0,0,0,0,0,0,0,0,0,0,0,0,0,0,": "]
["UNK,T,CZ",0,0,0,0,0,0,0,0,0,0,0,0,0,0,0,0,0,0,0,0,0,0,0,0,0,0,0,0,0,0,0,0,0,0,0]
["UNK,T,DE",0,0,0,0,0,0,0,0,0,0,0,0,0,0,0,0,0,0,0,0,0,0,0,0,0,0,0,0,0,0,0,0,0,0,0]
["UNK,T,DE_TOT",0,0,0,0,0,0,0,0,0,0,0,0,0,0,0,0,0,0,0,0,0,0,0,0,0,0,0,0,0,0,0,0,0,0,0]
["UNK,T,DK",0,0,0,0,0,0,0,0,0,0,0,0,0,0,0,0,0,0,0,0,0,0,0,0,0,0,0,0,0,0,0,0,0,0,0]
["UNK,T,EA18","12:00:00","12:00:00",0,0,0,0,0,0,0,0,0,0,0,0,0,0,0,0,0,0,0,0,0,0,0,0,0,41,71,100,149,180,": ",234,": "]
["UNK,T,EA19","12:00:00","12:00:00",0,0,0,0,0,0,0,0,0,0,0,0,0,0,0,0,0,0,0,0,0,0,0,": ",": ",": ",": ",": ",": ",": ",": ",": ",": "]
["UNK,T,EE",0,0,0,0,0,0,0,0,0,0,0,0,0,0,0,0,0,0,0,0,0,0,0,0,0,0,0,41,71,100,149,180,216,234,281]
["UNK,T,EEA30","12:00:00","12:00:00",0,0,0,0,0,0,0,0,0,0,0,0,0,0,0,0,0,0,0,0,0,0,0,0,": ",": ",": ",": ",149,": ",": ",": ",": "]
["UNK,T,EEA31","12:00:00","12:00:00",0,0,1,6,14,25,37,53,67,83,97,112,125,": ",": ",": ",": ",": ",": ",": ",": ",": ",": ",": ",": ",": ",": ",": ",": ",": ",": ",": ",": "]
["UNK,T,EFTA",0,0,0,0,0,0,0,0,0,0,0,0,0,0,0,0,0,0,0,0,0,0,0,0,0,0,0,0,0,0,0,0,0,0,0]
["UNK,T,EL",0,0,0,0,0,0,0,0,0,0,0,0,0,0,0,0,0,0,0,0,0,0,0,0,0,0,0,0,0,0,0,0,0,0,0]
["UNK,T,ES",0,0,0,0,0,0,0,0,0,0,0,0,0,0,0,0,0,0,0,0,0,0,0,0,0,0,0,0,0,0,0,0,0,0,0]
["UNK,T,EU27","12:00:00","12:00:00",0,0,0,0,0,0,0,0,0,0,0,0,0,0,0,0,0,0,0,0,0,0,0,0,": ",": ",": ",": ",149,": ",": ",": ",": "]
["UNK,T,EU28","12:00:00","12:00:00",0,0,1,6,14,25,37,53,67,83,97,112,125,": ",": ",": ",": ",": ",": ",": ",": ",": ",": ",": ",": ",": ",": ",": ",": ",": ",": ",": ",": "]
["UNK,T,FI",0,0,0,0,0,0,0,0,0,0,0,0,0,0,0,0,0,0,0,0,0,0,0,0,0,0,0,0,0,0,0,0,0,0,0]
["UNK,T,FR","12:00:00","12:00:00",0,0,0,0,0,0,0,0,0,0,0,0,0,0,0,0,0,0,0,0,0,0,0,": ",": ",": ",": ",": ",": ",": ",": ",": ",": "]
["UNK,T,FX",": ",": ",0,0,0,0,0,0,0,0,0,0,0,0,0,0,0,0,0,0,0,0,0,0,0,0,0,0,0,0,0,0,0,0,0]
["UNK,T,GE",": ",0,": ",0,407,562,560,1373,2017,2616,": ",": ",": ",": ",": ",": ",": ",": ",": ",": ",": ",": ",": ",": ",": ",": ",": ",": ",": ",": ",": ",": ",": ",": ",": "]
["UNK,T,HR",0,0,0,0,1,6,14,25,37,53,67,83,97,112,125,": ",": ",": ",": ",": ",": ",": ",": ",": ",": ",": ",": ",": ",": ",": ",": ",": ",": ",": ",": "]
["UNK,T,HU",0,0,0,0,0,0,0,0,0,0,0,0,0,0,0,0,0,0,0,0,0,0,0,0,0,0,0,0,0,0,0,0,0,0,0]
["UNK,T,IE",0,0,0,0,0,0,0,0,0,0,0,0,0,0,0,0,0,0,0,0,0,0,0,0,0,0,0,0,0,0,0,0,0,0,0]
["UNK,T,IS",0,0,0,0,0,0,0,0,0,0,0,0,0,0,0,0,0,0,0,0,0,0,0,0,0,0,0,0,0,0,0,0,0,0,0]
["UNK,T,IT",0,0,0,0,0,0,0,0,0,0,0,0,0,0,0,0,0,0,0,0,0,0,0,0,0,0,0,0,0,0,0,0,0,0,0]
["UNK,T,LI",0,0,0,0,0,0,0,0,0,0,0,0,0,0,0,0,0,0,0,0,0,0,0,0,0,0,0,0,0,0,0,0,0,0,0]
["UNK,T,LT",0,0,0,0,0,0,0,0,0,0,0,0,0,0,0,0,0,0,0,0,0,0,0,0,0,0,0,0,0,0,0,0,0,0,0]
["UNK,T,LU",0,0,0,0,0,0,0,0,0,0,0,0,0,0,0,0,0,0,0,0,0,0,0,0,0,0,0,0,0,0,0,0,0,0,0]
["UNK,T,LV",0,0,0,0,0,0,0,0,0,0,0,0,0,0,0,0,0,0,0,0,0,0,0,0,0,0,0,0,0,0,0,0,0,0,0]
["UNK,T,MD",": ",0,0,0,0,0,0,0,0,0,": ",": ",": ",": ",": ",": ",": ",": ",": ",": ",": ",": ",": ",": ",": ",": ",": ",": ",": ",": ",": ",": ",": ",": ",": "]
["UNK,T,ME",0,0,0,0,0,0,0,0,0,0,0,0,0,0,0,0,": ",": ",": ",": ",": ",": ",": ",": ",": ",": ",": ",": ",": ",": ",": ",": ",": ",": ",": "]
["UNK,T,MK",308,359,392,433,468,559,631,707,826,896,990,1082,1186,2206,2317,2462,2629,2787,2948,0,3227,3297,": ",": ",": ",": ",": ",": ",": ",": ",": ",": ",": ",": ",": "]
["UNK,T,MT",0,0,0,0,0,0,0,0,0,0,0,0,0,0,0,0,0,0,0,0,0,0,0,0,0,0,0,0,0,0,0,0,": ",0,0]
["UNK,T,NL",0,0,0,0,0,0,0,0,0,0,0,0,0,0,0,0,0,0,0,0,0,0,0,0,0,0,0,0,0,0,0,0,0,0,0]
["UNK,T,NO",0,0,0,0,0,0,0,0,0,0,0,0,0,0,0,0,0,0,0,0,0,0,0,0,0,0,0,0,0,0,0,0,0,0,0]
["UNK,T,PL",0,0,0,0,0,0,0,0,0,0,0,0,0,0,0,0,0,0,0,0,0,0,0,0,0,0,": ",": ",": ",": ",0,": ",": ",": ",": "]
["UNK,T,PT",0,0,0,0,0,0,0,0,0,0,0,0,0,0,0,0,0,0,0,0,0,0,0,0,0,0,0,0,0,0,0,0,0,0,0]
["UNK,T,RO",0,0,0,0,0,0,0,0,0,0,0,0,0,0,0,0,0,0,0,0,0,0,0,0,0,0,0,0,0,0,0,0,0,0,0]
["UNK,T,RS",0,0,0,0,0,0,0,0,0,0,0,0,0,0,0,0,0,": ",": ",": ",": ",": ",": ",": ",": ",": ",": ",": ",": ",": ",": ",": ",": ",": ",": "]
["UNK,T,RU",": ",0,": ",": ",34309,0,0,0,0,0,": ",": ",": ",": ",": ",": ",": ",": ",": ",": ",": ",": ",": ",": ",": ",": ",": ",": ",": ",": ",": ",": ",": ",": ",": "]
["UNK,T,SE",0,0,0,0,0,0,0,0,0,0,0,0,0,0,0,0,0,0,0,0,0,0,0,0,0,0,0,0,0,0,0,0,0,0,0]
["UNK,T,SI",0,0,0,0,0,0,0,0,0,0,0,0,0,0,0,0,0,0,0,0,0,0,0,0,0,0,0,0,0,0,0,0,0,0,": "]
["UNK,T,SK",0,0,0,0,0,0,0,0,0,0,0,0,0,0,0,0,0,0,0,0,0,0,0,0,0,0,0,0,0,0,0,0,0,0,0]
["UNK,T,SM",": ",": ",0,0,": ",": ",": ",": ",": ",": ",": ",": ",": ",": ",": ",": ",": ",": ",": ",": ",": ",": ",": ",": ",": ",": ",": ",": ",": ",": ",": ",": ",": ",": ",": "]
["UNK,T,TR",0,0,0,0,0,0,0,0,0,0,0,0,0,0,0,0,0,0,0,0,0,0,0,0,0,0,0,0,0,0,0,0,0,0,0]
["UNK,T,UA",": ",0,0,0,0,0,0,0,0,0,": ",": ",": ",": ",": ",": ",": ",": ",": ",": ",": ",": ",": ",": ",": ",": ",": ",": ",": ",": ",": ",": ",": ",": ",": "]
["UNK,T,UK",0,0,0,0,0,0,0,0,0,0,0,0,0,0,0,0,0,0,0,0,0,0,0,0,0,0,0,0,0,0,0,0,0,0,0]
["Y1,F,AD",": ",": ",333,349,349,382,334,332,323,367,347,325,307,312,372,357,313,298,305,275,333,342,337,281,291,250,171,205,196,198,": ",": ",": ",": ",": "]
["Y1,F,AL",16519,16624,": ",": ",": ",": ",": ",": ",22343,22960,23352,24011,": ",": ",": ",": ",": ",": ",": ",": ",": ",": ",": ",": ",": ",": ",": ",": ",": ",": ",": ",": ",": ",": ",": "]
["Y1,F,AM",": ",": ",": ",": ",": ",18929,18456,17401,17192,17036,": ",": ",": ",": ",": ",": ",": ",": ",": ",": ",": ",": ",": ",": ",": ",": ",": ",": ",": ",": ",": ",": ",": ",": ",": "]
["Y1,F,AT",39239,38940,38465,39088,37802,38209,37972,38871,38916,39224,38261,39034,37153,38581,38385,39957,41388,43312,43299,45079,46320,46324,46573,45035,43825,43094,42305,42510,42377,43604,43772,46257,45511,44674,41522]
["Y1,F,AZ",": ",80048,80530,75673,69098,69653,72200,67900,64900,59900,": ",": ",": ",": ",": ",": ",": ",": ",": ",": ",": ",": ",": ",": ",": ",": ",": ",": ",": ",": ",": ",": ",": ",": ",": "]
["Y1,F,BE",61633,63141,63551,64437,63241,62366,60949,60355,58389,57077,55637,54732,56009,56409,55779,55963,56700,56966,56322,56415,59110,61159,61731,60803,59409,58534,57186,56637,54913,55781,56219,57780,59222,60144,59022]
["Y1,F,BG",31784,32465,33197,33611,35348,34046,33211,32935,32265,32145,31001,30462,30747,32670,35489,31362,30316,34313,34870,38264,40315,42464,43501,48711,52518,55209,56110,57948,60130,57709,58986,59161,59094,60942,64223]
["Y1,F,BY",": ",56622,53390,52159,52734,": ",49999,46650,43817,43038,": ",": ",": ",": ",": ",": ",": ",": ",": ",": ",": ",": ",": ",": ",": ",": ",": ",": ",": ",": ",": ",": ",": ",": ",": "]
["Y1,F,CH",40560,40057,39399,39918,38440,37310,36733,35461,35447,35628,34908,35074,35159,35038,38097,38459,38995,40042,39850,40204,40422,42052,41373,40633,38881,38718,36970,36912,36408,35809,35582,36420,35620,35816,34519]
["Y1,F,CY",4568,4774,4788,4951,4818,4599,4245,4280,4104,4116,3966,3786,4140,4124,4375,4456,4706,4771,4816,5112,5109,5577,5057,": ",": ",": ",": ",": ",": ",": ",": ",": ",": ",4727,": "]
["Y1,F,CZ",52797,53348,53149,58096,59350,59358,56966,51771,49820,47328,45617,45086,44241,42913,42922,43786,43871,43747,46404,51539,58472,58528,62199,62216,61520,64266,63075,64245,65633,66025,66082,68418,69613,73446,82551]
["Y1,F,DE",338900,333269,326778,334194,326736,335300,334851,328687,335484,344897,345803,352109,359233,376106,375747,384169,395148,388011,375300,376901,390613,399365,410900,446327,435769,338011,312940,303689,287191,283114,285984,298531,301272,300884,283486]
["Y1,F,DE_TOT",338900,333269,326778,334194,326736,335300,334851,328687,335484,344897,345803,352109,359233,376106,375747,384169,395148,388011,375300,376901,390613,399365,410900,446327,435769,440571,421999,411380,396279,392734,398355,413984,414748,419141,395785]
["Y1,F,DK",27684,28448,29316,31314,30951,31993,31678,31925,31746,31780,31766,31401,32215,32982,32651,32365,33070,33132,34313,34415,32967,33052,31549,31038,29961,28601,27322,27120,26591,25447,24982,25775,26099,28077,29042]
["Y1,F,EA18",1576966,1606474,1627822,1658159,1655532,1684303,1654179,1646686,1628671,1631966,1619724,1611700,1615893,1632416,1599420,1594637,1600184,1594490,1564191,1577231,1615130,": ",": ",": ",": ",": ",": ",": ",": ",": ",": ",": ",": ",": ",": "]
["Y1,F,EA19",1591704,1621430,1642442,1673042,1670905,1699268,1668441,1660908,1642676,1646212,1633925,1625831,1630971,1648457,1616759,1612208,1618256,1613333,1583902,1597524,1637658,": ",": ",": ",": ",": ",": ",": ",": ",": ",": ",": ",": ",": ",": "]
["Y1,F,EE",6677,6831,7142,7711,7770,7760,7680,7110,6870,6810,6450,6460,6150,6260,5970,5830,5855,6253,6372,6686,7019,8441,8995,10587,11577,12179,12091,11715,11738,11853,11715,11260,11071,10851,10608]
["Y1,F,EEA30",2494456,2538163,2563979,2621160,2625872,2652037,2589282,2559241,2520834,2507336,2478826,2460377,2467353,2500681,2481836,2489845,2511604,2522118,2508054,2573169,2638274,": ",": ",": ",": ",": ",": ",": ",": ",": ",": ",": ",": ",": ",": "]
["Y1,F,EEA31",2513626,2558232,2583919,2642204,2647499,2673041,2609443,2579091,2541429,2526659,2498021,2479700,2487040,2521426,2503297,": ",": ",": ",": ",": ",": ",": ",": ",": ",": ",": ",": ",": ",": ",": ",": ",": ",": ",": ",": "]
["Y1,F,EFTA",72361,72360,71530,72969,71628,69677,68168,66865,65962,66137,65220,64901,65376,66419,69500,69505,70554,72048,71506,71780,72215,73677,73428,72903,70133,69109,65742,64550,63500,62605,62119,63519,62893,62971,61953]
["Y1,F,EL",45488,48520,51300,53975,56409,55484,52662,53563,51799,51162,51528,52053,52385,52414,48267,48254,48885,48658,48188,49522,48746,49418,49302,51368,50703,51415,53769,55990,58517,61135,63000,65281,67282,70887,69953]
["Y1,F,ES",207092,219473,230560,234151,239057,251934,241422,237407,230217,223669,218070,206412,204166,193282,184536,177464,177684,175338,175522,178361,185054,190425,190032,189798,192547,196280,201952,208514,217389,225041,232098,245006,253100,276727,285969]
["Y1,F,EU27",2462655,2505860,2531848,2588109,2592684,2619670,2557847,2527837,2490319,2476827,2448514,2430550,2437136,2469300,2450433,2458799,2480045,2490112,2476398,2541593,2606481,": ",": ",": ",": ",": ",": ",": ",": ",": ",": ",": ",": ",": ",": "]
["Y1,F,EU28",2481825,2525929,2551788,2609153,2614311,2640674,2578008,2547687,2510914,2496150,2467709,2449873,2456823,2490045,2471894,": ",": ",": ",": ",": ",": ",": ",": ",": ",": ",": ",": ",": ",": ",": ",": ",": ",": ",": ",": "]
["Y1,F,FI",28628,29447,29649,29950,29801,29332,28786,29012,28439,28194,27902,27050,27452,27541,28199,27888,29137,29568,30860,31933,31788,32549,32128,32009,30885,30854,29112,29584,30703,31876,32641,32117,31042,30651,31027]
["Y1,F,FR",384860,383816,388302,394835,390382,391903,387836,392746,383754,379109,377515,378517,384351,386189,370754,367830,359063,363103,361497,353411,352686,368202,375902,377057,379681,": ",": ",": ",": ",": ",": ",": ",": ",": ",": "]
["Y1,F,FX",": ",": ",375114,381379,376561,377672,373136,377964,369068,364719,362576,363189,368656,370226,355748,353706,344561,348855,347254,339111,338305,353442,361165,362443,365377,367711,366405,370554,365417,361077,355314,378662,379267,377283,356357]
["Y1,F,GE",": ",26988,": ",29838,30623,24425,22992,22071,21570,23160,": ",": ",": ",": ",": ",": ",": ",": ",": ",": ",": ",": ",": ",": ",": ",": ",": ",": ",": ",": ",": ",": ",": ",": ",": "]
["Y1,F,HR",19170,20069,19940,21044,21627,21004,20161,19850,20595,19323,19195,19323,19687,20745,21461,": ",": ",": ",": ",": ",": ",": ",": ",": ",": ",": ",": ",": ",": ",": ",": ",": ",": ",": ",": "]
["Y1,F,HU",43623,43844,42708,43975,46647,48078,47191,48649,47000,46141,45407,46602,46427,47587,45313,46742,47753,50571,53887,55436,56342,58420,61179,60705,59185,59323,60353,61637,62196,60150,61123,63613,68708,71038,77290]
["Y1,F,IE",34225,35462,36564,36567,36485,36364,34989,32032,29553,29486,29775,28835,26817,26899,26381,26106,25576,24561,23892,23675,23987,24738,25947,25953,26057,27175,28746,29478,30035,29475,": ",": ",": ",": ",": "]
["Y1,F,IS",2201,2229,2167,2366,2421,2340,2259,2205,2119,2102,2079,2017,2021,2148,2107,2102,2040,2123,2051,2160,2322,2241,2189,2360,2254,2224,1970,1910,1991,1993,2158,2098,2091,2200,2182]
["Y1,F,IT",248844,260757,261637,265049,270239,275583,271941,270428,266980,271346,264687,261552,256309,257271,258000,254461,255967,256424,253591,258026,265953,276723,251203,255186,271753,275248,267871,269412,282784,286271,293225,304067,294978,306064,324799]
["Y1,F,LI",170,174,188,168,181,162,172,177,199,186,167,192,171,194,206,199,220,203,203,161,212,204,207,190,176,179,168,176,194,197,176,185,185,192,179]
["Y1,F,LT",14738,14956,14620,14883,15373,14965,14262,14222,14005,14246,14201,14131,15078,16041,17339,17571,18072,18843,19711,20293,22528,25979,26738,27479,26945,27768,29069,29425,28901,28148,28164,26320,25633,25674,25326]
["Y1,F,LU",3112,3018,2900,2978,2801,2785,2767,2741,2617,2674,2531,2631,2669,2738,2730,2571,2665,2713,2668,2760,2675,2655,2479,2504,2398,2366,2079,2198,1979,1992,2051,2084,2089,2131,2048]
["Y1,F,LV",10193,9632,9143,9289,10540,11643,11535,11079,10572,9838,10108,9712,9590,9810,9264,8988,9060,9462,10319,11712,13040,14973,16507,17969,20626,20676,20567,20652,19714,19873,19649,18342,17816,17291,16854]
["Y1,F,MD",": ",18569,18924,19292,19059,18383,18043,18470,18262,18029,": ",": ",": ",": ",": ",": ",": ",": ",": ",": ",": ",": ",": ",": ",": ",": ",": ",": ",": ",": ",": ",": ",": ",": ",": "]
["Y1,F,ME",3686,3468,3391,3849,3850,3728,3510,3383,3328,3699,3711,3841,3848,3834,3797,3801,": ",": ",": ",": ",": ",": ",": ",": ",": ",": ",": ",": ",": ",": ",": ",": ",": ",": ",": "]
["Y1,F,MK",10936,11217,10923,11573,11220,11011,10806,10818,10868,11051,11294,11082,11801,12406,11839,12629,12668,14815,14938,14921,14106,14650,": ",": ",": ",": ",": ",": ",": ",": ",": ",": ",": ",": ",": "]
["Y1,F,MT",1955,2056,2078,1924,1947,1950,1795,1798,1841,1876,2021,1843,1904,2153,2146,2180,2277,2362,2275,2328,2458,": ",": ",": ",": ",": ",": ",": ",": ",": ",": ",": ",": ",2630,2735]
["Y1,F,NL",83519,85798,87698,90464,90504,90191,88963,89960,91358,94909,98124,98996,100200,102042,99002,98163,94917,92870,93588,95882,95603,95941,96979,96497,92460,91136,90870,90561,87322,85094,83028,83589,87312,88489,85860]
["Y1,F,NO",29430,29900,29776,30517,30586,29865,29004,29022,28197,28221,28066,27618,28025,29039,29090,28745,29299,29680,29402,29255,29259,29180,29659,29720,28822,27988,26634,25552,24907,24606,24203,24816,24997,24763,25073]
["Y1,F,PL",179670,188659,188798,200653,209001,208215,188080,181091,176184,171882,169549,171090,176754,183428,185717,190691,198479,205260,207816,231613,236843,247017,261727,261457,268966,281891,": ",": ",": ",": ",344853,": ",": ",": ",": "]
["Y1,F,PT",40477,43536,46634,49187,47511,50172,49455,51134,52490,52655,53894,54661,54187,55302,54162,53842,53742,52017,50949,51887,54587,55000,55076,53108,54427,54350,56192,58521,61230,67096,67836,71532,72373,71225,77105]
["Y1,F,RO",93705,86688,89713,100921,101965,101686,101833,103132,105437,105098,105652,105902,106190,108537,111403,112932,111800,109940,112332,116363,118708,123679,126552,139385,175280,180901,181892,179317,170484,166831,152232,163677,180171,189007,193112]
["Y1,F,RS",31659,32524,31481,32226,32409,33085,32711,34189,34843,37803,38074,37967,36835,34355,33474,34783,35738,": ",": ",": ",": ",": ",": ",": ",": ",": ",": ",": ",": ",": ",": ",": ",": ",": ",": "]
["Y1,F,RU",": ",917146,": ",": ",816650,827708,775391,712993,701222,722070,": ",": ",": ",": ",": ",": ",": ",": ",": ",": ",": ",": ",": ",": ",": ",": ",": ",": ",": ",": ",": ",": ",": ",": ",": "]
["Y1,F,SE",56083,55884,55393,57043,55057,53714,53001,52289,50183,49715,48821,47392,45055,44441,43589,43599,44201,46664,50196,54988,57473,59771,60232,60820,56804,54752,51558,50033,48058,45859,44752,45325,46207,47633,47166]
["Y1,F,SI",10346,10694,10776,10933,10605,10889,9872,9312,8916,8911,8402,8634,8557,8923,8524,8705,8907,9157,9249,9642,9549,9560,10373,10874,11283,12176,12565,12280,12557,12753,13157,13868,14088,14486,": "]
["Y1,F,SK",27210,27310,29857,28476,28884,27839,26459,26171,26372,26013,25050,24683,24621,26372,27199,27810,28507,28944,29727,32199,35214,35966,37794,37555,38612,40100,40526,41756,43157,43580,43936,44205,44743,45073,47947]
["Y1,F,SM",": ",": ",180,165,": ",": ",": ",": ",": ",": ",": ",": ",": ",": ",": ",": ",": ",": ",": ",": ",": ",": ",": ",": ",": ",": ",": ",": ",": ",": ",": ",": ",": ",": ",": "]
["Y1,F,TR",618085,614730,593192,597792,597705,606733,596540,576644,": ",": ",": ",": ",": ",": ",": ",703514,702492,704497,706492,696563,679530,666541,650049,630060,616514,480674,478335,476008,473691,471387,469093,477050,485142,493372,501740]
["Y1,F,UA",": ",250262,241404,239066,245647,244938,227251,222135,204542,205498,": ",": ",": ",": ",": ",": ",": ",": ",": ",": ",": ",": ",": ",": ",": ",": ",": ",": ",": ",": ",": ",": ",": ",": ",": "]
["Y1,F,UK",385605,395094,397132,389454,383460,383312,377446,365137,355008,346526,336776,326784,324536,328285,336590,345114,352299,353152,352678,361451,367703,374924,383900,381846,376453,377461,374045,366140,362966,354766,347827,347430,350116,355099,350199]
["Y1,M,AD",": ",": ",366,366,366,388,367,389,397,382,362,361,324,333,372,337,387,341,348,358,344,347,330,316,306,251,225,220,205,209,": ",": ",": ",": ",": "]
["Y1,M,AL",17914,17553,": ",": ",": ",": ",": ",": ",24455,24720,25142,25851,": ",": ",": ",": ",": ",": ",": ",": ",": ",": ",": ",": ",": ",": ",": ",": ",": ",": ",": ",": ",": ",": ",": "]
["Y1,M,AM",": ",": ",": ",": ",": ",21783,21184,19723,19839,20022,": ",": ",": ",": ",": ",": ",": ",": ",": ",": ",": ",": ",": ",": ",": ",": ",": ",": ",": ",": ",": ",": ",": ",": ",": "]
["Y1,M,AT",41729,41673,41142,40992,39704,40722,39738,40416,40605,41418,40399,40885,39661,40688,40365,42080,43235,45529,45395,47255,48436,49152,49098,47463,45953,45891,44428,44581,44981,45372,45805,47610,47489,47099,43714]
["Y1,M,AZ",": ",92559,93666,88098,81202,80915,82400,79300,75200,70000,": ",": ",": ",": ",": ",": ",": ",": ",": ",": ",": ",": ",": ",": ",": ",": ",": ",": ",": ",": ",": ",": ",": ",": ",": "]
["Y1,M,BE",64646,65781,66589,67337,66339,65716,63726,62850,61406,60194,57866,57493,58256,59025,57885,58613,59344,59192,58902,59503,61651,63803,64615,63778,62263,61676,60336,60095,57847,58561,59480,60933,62580,62812,62668]
["Y1,M,BG",33131,34594,35329,35482,36800,36257,35486,34991,34120,33956,32803,32792,32641,34370,37154,33113,32673,36416,36308,39776,42645,45004,46153,51195,55030,58390,58736,60254,63384,61158,61760,62514,62692,64408,68204]
["Y1,M,BY",": ",60100,56453,55471,56070,": ",53088,49511,45979,45301,": ",": ",": ",": ",": ",": ",": ",": ",": ",": ",": ",": ",": ",": ",": ",": ",": ",": ",": ",": ",": ",": ",": ",": ",": "]
["Y1,M,CH",42934,42793,41786,41745,40911,39763,38536,37718,37557,37389,36832,37374,37223,37231,40304,40358,40936,42273,41770,42308,42669,44009,43853,42540,40883,40557,38776,38249,37380,38007,37679,37957,37741,37388,36195]
["Y1,M,CY",4666,5209,4936,5161,5021,4843,4610,4668,4310,4308,4207,4146,4285,4401,4431,4705,4813,5075,5209,5361,5440,5787,5622,": ",": ",": ",": ",": ",": ",": ",": ",": ",": ",5200,": "]
["Y1,M,CZ",55476,55790,55997,61293,61777,62348,59297,55061,52422,50175,48124,47725,46686,46077,45028,46350,46316,46145,48970,54250,61510,62028,65953,65336,64321,67130,66504,67720,68786,69226,69642,71392,72835,78088,86771]
["Y1,M,DE",357015,351068,344113,350635,343878,352496,353354,347455,353014,363116,364243,370736,380314,396041,397193,404736,416653,410057,395214,398620,412203,419481,432906,470884,457857,356675,332030,319472,300769,298478,301066,314498,316659,316072,297062]
["Y1,M,DE_TOT",357015,351068,344113,350635,343878,352496,353354,347455,353014,363116,364243,370736,380314,396041,397193,404736,416653,410057,395214,398620,412203,419481,432906,470884,457857,464885,446781,432011,416228,413825,419541,436268,434667,439114,416504]
["Y1,M,DK",29064,30273,30402,32854,32714,33984,33212,33797,33019,33275,33326,33148,33652,34580,34084,34238,34913,34998,36262,36007,34747,34953,33107,32691,31454,30353,29062,28584,27615,26603,25993,27040,27032,29217,30408]
["Y1,M,EA18",1661306,1695840,1712716,1742266,1744579,1771852,1741356,1736548,1715387,1719564,1703703,1697134,1698392,1720131,1685800,1680988,1686536,1683677,1649031,1662878,1700718,": ",": ",": ",": ",": ",": ",": ",": ",": ",": ",": ",": ",": ",": "]
["Y1,M,EA19",1676581,1711470,1728337,1757917,1760744,1787641,1756309,1751144,1730027,1734260,1718883,1712141,1714085,1737371,1704250,1699907,1705706,1703311,1669794,1684059,1724580,": ",": ",": ",": ",": ",": ",": ",": ",": ",": ",": ",": ",": ",": "]
["Y1,M,EE",6940,7230,7583,8234,8030,8240,8060,7740,7440,7150,6630,6660,6550,6800,6270,6210,6323,6586,6681,6916,7570,8891,9511,11254,12281,12363,12797,12274,12008,12201,12246,11801,11758,11409,11366]
["Y1,M,EEA30",2627861,2679082,2699305,2754951,2763119,2789679,2724562,2697246,2653479,2641766,2610463,2592522,2592237,2633694,2613793,2623231,2649388,2662443,2644362,2709237,2776134,": ",": ",": ",": ",": ",": ",": ",": ",": ",": ",": ",": ",": ",": "]
["Y1,M,EEA31",2648540,2700733,2720345,2777257,2785638,2811844,2745748,2718486,2675086,2662462,2630698,2612792,2612945,2655711,2636354,": ",": ",": ",": ",": ",": ",": ",": ",": ",": ",": ",": ",": ",": ",": ",": ",": ",": ",": ",": "]
["Y1,M,EFTA",75949,76826,75968,76407,76028,74116,71592,70716,69492,69307,68487,68304,68837,70219,73205,72844,74219,76260,75297,75749,75822,77881,77837,76392,73734,72620,68724,67516,65674,66065,65761,66749,65969,66195,65016]
["Y1,M,EL",48177,51432,54501,56553,58640,57572,55495,56077,54581,53874,54162,54608,54844,54819,51531,51482,52204,51060,52126,53168,51850,53513,52133,54105,53725,54441,56584,59223,62023,64979,67800,69812,71526,75713,75018]
["Y1,M,ES",219379,233543,245056,249398,255870,268851,256772,252739,243405,237895,230517,219087,213649,204828,195268,188275,188226,185648,186315,189746,197382,202512,203149,200345,203383,208389,215073,221789,231415,241457,247971,264258,274101,292097,303162]
["Y1,M,EU27",2594846,2645049,2665123,2720289,2728002,2755326,2691506,2664248,2621544,2609848,2578808,2561592,2560623,2600706,2580892,2590745,2616105,2628456,2610835,2675796,2742981,": ",": ",": ",": ",": ",": ",": ",": ",": ",": ",": ",": ",": ",": "]
["Y1,M,EU28",2615525,2666700,2686163,2742595,2750521,2777491,2712692,2685488,2643151,2630544,2599043,2581862,2581331,2622723,2603453,": ",": ",": ",": ",": ",": ",": ",": ",": ",": ",": ",": ",": ",": ",": ",": ",": ",": ",": ",": "]
["Y1,M,FI",30176,30647,30806,31554,30992,30593,30310,30222,29482,29695,28889,28601,28646,29213,29378,29021,30070,31069,32145,33043,32886,34091,33172,33538,32296,32208,30481,30965,31895,33172,34135,34006,32443,32208,31999]
["Y1,M,FR",404006,404190,404414,414022,409290,408920,405378,411596,400697,397839,394139,396126,401576,405710,390107,385657,378233,381458,377715,369037,368294,385808,393558,396236,395626,": ",": ",": ",": ",": ",": ",": ",": ",": ",": "]
["Y1,M,FX",": ",": ",391106,400171,394476,393576,389836,396099,385454,382521,378646,380313,385314,389128,374169,370551,363034,366648,362948,354153,353397,370510,378380,381174,380963,384572,382199,387673,382246,376985,371170,396931,397284,395575,374084]
["Y1,M,GE",": ",29444,": ",32136,31926,31182,25449,24780,24325,25587,": ",": ",": ",": ",": ",": ",": ",": ",": ",": ",": ",": ",": ",": ",": ",": ",": ",": ",": ",": ",": ",": ",": ",": ",": "]
["Y1,M,HR",20679,21651,21040,22306,22519,22165,21186,21240,21607,20696,20235,20270,20708,22017,22561,": ",": ",": ",": ",": ",": ",": ",": ",": ",": ",": ",": ",": ",": ",": ",": ",": ",": ",": ",": "]
["Y1,M,HU",46053,46884,45224,45931,49214,50515,49608,50907,50132,48497,48364,49156,49378,49536,47551,49005,50924,53519,56752,58391,59076,61470,63975,63196,62034,62497,63287,64074,65328,62562,63671,67222,71161,74105,82386]
["Y1,M,IE",35912,37219,37991,37988,38425,38032,36233,33589,31331,31224,31436,30422,27995,28203,27860,27716,27203,26223,25448,25076,25580,26353,27311,27564,27285,28239,29999,31399,31511,31900,": ",": ",": ",": ",": "]
["Y1,M,IS",2151,2327,2321,2493,2507,2460,2401,2294,2238,2190,2121,2085,2128,2227,2055,2175,2174,2237,2234,2293,2321,2394,2359,2426,2268,2403,2222,2007,1885,2096,2170,2263,2259,2301,2275]
["Y1,M,IT",262950,275357,276785,279765,285931,290245,288161,287156,284033,286257,279519,275726,269702,271974,271686,269376,270301,271549,268728,273119,280911,292378,264589,267914,286125,291257,284000,284969,297482,301968,310140,320216,311328,323094,342782]
["Y1,M,LI",187,188,208,165,235,196,189,185,190,193,188,204,217,212,191,177,199,192,215,195,202,170,215,192,196,226,195,168,179,194,168,196,189,203,188]
["Y1,M,LT",15275,15630,15621,15651,16165,15789,14953,14596,14640,14696,15180,15007,15693,17240,18450,18919,19170,19634,20763,21181,23862,27054,28171,28752,28325,28928,30155,30888,29932,29645,29257,27473,27093,26959,26368]
["Y1,M,LU",3268,3169,3084,3071,2993,2942,2815,2876,2837,2890,2847,2800,2801,2962,2877,2827,2845,2992,2827,2845,2908,2736,2648,2748,2473,2405,2165,2292,2129,2177,2107,2150,2286,2134,2176]
["Y1,M,LV",10616,10337,9601,10044,10904,12115,11976,11421,11036,10487,10813,10196,9835,10231,9765,9273,9555,10067,10932,12191,13290,15605,17170,18984,21463,21489,21425,21471,20514,20651,20675,19413,18635,18385,17902]
["Y1,M,MD",": ",19874,19956,20315,20971,19527,19326,19258,19292,19311,": ",": ",": ",": ",": ",": ",": ",": ",": ",": ",": ",": ",": ",": ",": ",": ",": ",": ",": ",": ",": ",": ",": ",": ",": "]
["Y1,M,ME",3961,3774,3666,4092,4314,4052,3909,3771,3718,3902,3934,4215,4234,4220,4177,4183,": ",": ",": ",": ",": ",": ",": ",": ",": ",": ",": ",": ",": ",": ",": ",": ",": ",": ",": "]
["Y1,M,MK",11958,12112,11646,12505,12162,11692,11628,11460,11248,11993,11977,11862,12542,13474,12734,13513,13694,16057,16530,15759,14970,15495,": ",": ",": ",": ",": ",": ",": ",": ",": ",": ",": ",": ",": "]
["Y1,M,MT",2155,2211,2143,2024,2085,2109,1996,1992,1936,1965,2022,2060,2023,2132,2192,2301,2531,2535,2464,2456,2651,": ",": ",": ",": ",": ",": ",": ",": ",": ",": ",": ",": ",2872,2985]
["Y1,M,NL",88068,90184,92368,94277,94784,95024,92606,94737,95879,99050,103198,104067,104951,106511,104153,102854,98860,98321,97879,100437,99816,100738,101481,101472,96023,95236,95581,93612,90944,89342,86652,87546,90576,92861,89832]
["Y1,M,NO",30677,31518,31653,32004,32375,31697,30466,30519,29507,29535,29346,28641,29269,30549,30655,30134,30910,31558,31078,30953,30630,31308,31410,31234,30387,29434,27531,27092,26230,25768,25744,26333,25780,26303,26358]
["Y1,M,PL",189704,199897,200026,212183,219532,218553,198501,191558,186258,182341,179469,181325,185774,193162,195201,201419,210069,217776,219376,242225,249292,259114,275917,275429,284890,296251,": ",": ",": ",": ",362364,": ",": ",": ",": "]
["Y1,M,PT",42224,46104,49029,50332,49484,52839,51884,53491,56062,55495,57467,58498,57832,59539,57433,57274,56703,56214,55008,55554,57351,57632,58406,55564,57126,57114,59565,61965,64926,71516,72778,75637,76598,74163,80584]
["Y1,M,RO",99470,91563,94738,106320,107291,107352,107073,108540,110978,110968,111073,111377,111591,114577,117989,118182,118980,115675,118489,123425,124709,129991,133028,145259,182474,188278,189797,186870,178451,174193,160823,170953,188777,197268,203699]
["Y1,M,RS",33453,34300,33742,33942,34744,35576,34951,36306,36852,40178,40583,40117,38562,35745,35481,36089,37504,": ",": ",": ",": ",": ",": ",": ",": ",": ",": ",": ",": ",": ",": ",": ",": ",": ",": "]
["Y1,M,RU",": ",970024,": ",": ",859562,872672,820394,752485,740117,762446,": ",": ",": ",": ",": ",": ",": ",": ",": ",": ",": ",": ",": ",": ",": ",": ",": ",": ",": ",": ",": ",": ",": ",": ",": "]
["Y1,M,SE",59489,59039,58059,60199,58366,57188,56162,55242,52730,52476,51460,49687,47631,47187,45641,46291,46514,48628,53175,57319,60098,63200,63810,63840,59978,58123,53779,52594,50965,48540,47478,47879,48234,49944,49485]
["Y1,M,SI",10842,11407,11341,11643,11392,11324,10403,9917,9456,9181,8967,9134,9167,9502,9075,9334,9358,9797,9775,9984,10095,10242,10990,11352,12031,12922,13094,12818,13266,13290,13778,14752,14920,15449,": "]
["Y1,M,SK",28537,29079,31234,29236,30817,29269,27839,27606,27877,27526,26382,25889,26305,27552,28331,29254,30079,30305,31035,33451,37301,37669,39573,39738,40291,41771,41962,43691,45142,45404,46056,46404,46368,47395,49429]
["Y1,M,SM",": ",": ",159,189,": ",": ",": ",": ",": ",": ",": ",": ",": ",": ",": ",": ",": ",": ",": ",": ",": ",": ",": ",": ",": ",": ",": ",": ",": ",": ",": ",": ",": ",": ",": "]
["Y1,M,TR",652951,647661,626549,631210,632923,640045,631846,609485,": ",": ",": ",": ",": ",": ",": ",731514,729995,731000,732492,722066,705027,693038,677547,659552,647514,510450,508338,506235,504142,502055,499978,508492,517152,525959,534915]
["Y1,M,UA",": ",266548,256967,254290,262195,260723,240239,233499,217030,217384,": ",": ",": ",": ",": ",": ",": ",": ",": ",": ",": ",": ",": ",": ",": ",": ",": ",": ",": ",": ",": ",": ",": ",": ",": "]
["Y1,M,UK",405878,415539,417011,408110,401564,401488,395858,383008,371858,363900,355306,344241,339185,343846,353994,362240,370010,371988,371709,380344,386324,393500,401117,397780,392967,394735,391379,383909,381112,371863,364995,364972,367483,372840,368642]
["Y1,T,AD",": ",": ",699,715,715,770,701,721,720,749,709,686,631,645,744,694,700,639,653,633,677,689,667,597,597,501,396,425,401,407,": ",": ",": ",": ",": "]
["Y1,T,AL",34433,34177,": ",": ",": ",": ",": ",": ",46797,47680,48494,49862,": ",": ",": ",": ",": ",": ",": ",": ",": ",": ",": ",": ",": ",": ",": ",": ",": ",": ",": ",": ",": ",": ",": "]
["Y1,T,AM",": ",": ",": ",": ",": ",40712,39640,37124,37031,37058,": ",": ",": ",": ",": ",": ",": ",": ",": ",": ",": ",": ",": ",": ",": ",": ",": ",": ",": ",": ",": ",": ",": ",": ",": "]
["Y1,T,AT",80968,80613,79607,80080,77506,78931,77710,79287,79521,80642,78660,79919,76814,79269,78750,82037,84623,88841,88694,92334,94756,95476,95671,92498,89778,88985,86733,87091,87358,88976,89577,93867,93000,91773,85236]
["Y1,T,AZ",": ",172607,174196,163771,150300,150568,154600,147200,140100,129900,": ",": ",": ",": ",": ",": ",": ",": ",": ",": ",": ",": ",": ",": ",": ",": ",": ",": ",": ",": ",": ",": ",": ",": ",": "]
["Y1,T,BE",126279,128922,130140,131774,129580,128082,124675,123205,119795,117271,113503,112225,114265,115434,113664,114576,116044,116158,115224,115918,120761,124962,126346,124581,121672,120210,117522,116732,112760,114342,115699,118713,121802,122956,121690]
["Y1,T,BG",64915,67059,68526,69093,72148,70303,68697,67926,66385,66101,63804,63254,63388,67040,72643,64475,62989,70729,71178,78040,82960,87468,89654,99906,107548,113599,114846,118202,123514,118867,120746,121675,121786,125350,132427]
["Y1,T,BY",": ",116722,109843,107630,108804,": ",103087,96161,89796,88339,": ",": ",": ",": ",": ",": ",": ",": ",": ",": ",": ",": ",": ",": ",": ",": ",": ",": ",": ",": ",": ",": ",": ",": ",": "]
["Y1,T,CH",83494,82850,81185,81663,79351,77073,75269,73179,73004,73017,71740,72448,72382,72269,78401,78817,79931,82315,81620,82512,83091,86061,85226,83173,79764,79275,75746,75161,73788,73816,73261,74377,73361,73204,70714]
["Y1,T,CY",9234,9983,9724,10112,9839,9442,8855,8948,8414,8424,8173,7932,8425,8525,8806,9161,9519,9846,10025,10473,10549,11364,10679,": ",": ",": ",": ",": ",": ",": ",": ",": ",": ",9927,": "]
["Y1,T,CZ",108273,109138,109146,119389,121127,121706,116263,106832,102242,97503,93741,92811,90927,88990,87950,90136,90187,89892,95374,105789,119982,120556,128152,127552,125841,131396,129579,131965,134419,135251,135724,139810,142448,151534,169322]
["Y1,T,DE",695915,684337,670891,684829,670614,687796,688205,676142,688498,708013,710046,722845,739547,772147,772940,788905,811801,798068,770514,775521,802816,818846,843806,917211,893626,694686,644970,623161,587960,581592,587050,613029,617931,616956,580548]
["Y1,T,DE_TOT",695915,684337,670891,684829,670614,687796,688205,676142,688498,708013,710046,722845,739547,772147,772940,788905,811801,798068,770514,775521,802816,818846,843806,917211,893626,905456,868780,843391,812507,806559,817896,850252,849415,858255,812289]
["Y1,T,DK",56748,58721,59718,64168,63665,65977,64890,65722,64765,65055,65092,64549,65867,67562,66735,66603,67983,68130,70575,70422,67714,68005,64656,63729,61415,58954,56384,55704,54206,52050,50975,52815,53131,57294,59450]
["Y1,T,EA18",3238272,3302314,3340538,3400425,3400111,3456155,3395535,3383234,3344058,3351530,3323427,3308834,3314285,3352547,3285220,3275625,3286720,3278167,3213222,3240109,3315848,": ",": ",": ",": ",": ",": ",": ",": ",": ",": ",": ",": ",": ",": "]
["Y1,T,EA19",3268285,3332900,3370779,3430959,3431649,3486909,3424750,3412052,3372703,3380472,3352808,3337972,3345056,3385828,3321009,3312115,3323962,3316644,3253696,3281583,3362238,": ",": ",": ",": ",": ",": ",": ",": ",": ",": ",": ",": ",": ",": "]
["Y1,T,EE",13617,14061,14725,15945,15800,16000,15740,14850,14310,13960,13080,13120,12700,13060,12240,12040,12178,12839,13053,13602,14589,17332,18506,21841,23858,24542,24888,23989,23746,24054,23961,23061,22829,22260,21974]
["Y1,T,EEA30",5122317,5217245,5263284,5376111,5388991,5441716,5313844,5256487,5174313,5149102,5089289,5052899,5059590,5134375,5095629,5113077,5160992,5184561,5152416,5282406,5414408,": ",": ",": ",": ",": ",": ",": ",": ",": ",": ",": ",": ",": ",": "]
["Y1,T,EEA31",5162166,5258965,5304264,5419461,5433137,5484885,5355191,5297577,5216515,5189121,5128719,5092492,5099985,5177137,5139651,": ",": ",": ",": ",": ",": ",": ",": ",": ",": ",": ",": ",": ",": ",": ",": ",": ",": ",": ",": "]
["Y1,T,EFTA",148310,149186,147498,149376,147656,143793,139760,137581,135454,135444,133707,133205,134213,136638,142705,142349,144773,148308,146803,147529,148037,151558,151265,149295,143867,141729,134466,132066,129174,128670,127880,130268,128862,129166,126969]
["Y1,T,EL",93665,99952,105801,110528,115049,113056,108157,109640,106380,105036,105690,106661,107229,107233,99798,99736,101089,99718,100314,102690,100596,102931,101435,105473,104428,105856,110353,115213,120540,126114,130800,135093,138808,146600,144971]
["Y1,T,ES",426471,453016,475616,483549,494927,520785,498194,490146,473622,461564,448587,425499,417815,398110,379804,365739,365910,360986,361837,368107,382436,392937,393181,390143,395930,404669,417025,430303,448804,466498,480069,509264,527201,568824,589131]
["Y1,T,EU27",5057501,5150909,5196971,5308398,5320686,5374996,5249353,5192085,5111863,5086675,5027322,4992142,4997759,5070006,5031325,5049545,5096150,5118568,5087233,5217389,5349462,": ",": ",": ",": ",": ",": ",": ",": ",": ",": ",": ",": ",": ",": "]
["Y1,T,EU28",5097350,5192629,5237951,5351748,5364832,5418165,5290700,5233175,5154065,5126694,5066752,5031735,5038154,5112768,5075347,": ",": ",": ",": ",": ",": ",": ",": ",": ",": ",": ",": ",": ",": ",": ",": ",": ",": ",": ",": "]
["Y1,T,FI",58804,60094,60455,61504,60793,59925,59096,59234,57921,57889,56791,55651,56098,56754,57577,56909,59207,60637,63005,64976,64674,66640,65300,65547,63181,63062,59593,60549,62598,65048,66776,66123,63485,62859,63026]
["Y1,T,FR",788866,788006,792716,808857,799672,800823,793214,804342,784451,776948,771654,774643,785927,791899,760861,753487,737296,744561,739212,722448,720980,754010,769460,773293,775307,": ",": ",": ",": ",": ",": ",": ",": ",": ",": "]
["Y1,T,FX",": ",": ",766220,781550,771037,771248,762972,774063,754522,747240,741222,743502,753970,759354,729917,724257,707595,715503,710202,693264,691702,723952,739545,743617,746340,752283,748604,758227,747663,738062,726484,775593,776551,772858,730441]
["Y1,T,GE",": ",56432,": ",61974,62549,55607,48441,46851,45895,48747,": ",": ",": ",": ",": ",": ",": ",": ",": ",": ",": ",": ",": ",": ",": ",": ",": ",": ",": ",": ",": ",": ",": ",": ",": "]
["Y1,T,HR",39849,41720,40980,43350,44146,43169,41347,41090,42202,40019,39430,39593,40395,42762,44022,": ",": ",": ",": ",": ",": ",": ",": ",": ",": ",": ",": ",": ",": ",": ",": ",": ",": ",": ",": "]
["Y1,T,HU",89676,90728,87932,89906,95861,98593,96799,99556,97132,94638,93771,95758,95805,97123,92864,95748,98677,104090,110639,113827,115418,119890,125154,123901,121219,121820,123640,125711,127524,122712,124794,130835,139869,145143,159676]
["Y1,T,IE",70137,72681,74555,74555,74910,74396,71222,65621,60884,60710,61211,59257,54812,55102,54241,53822,52779,50784,49340,48751,49567,51091,53258,53517,53342,55414,58745,60877,61546,61375,": ",": ",": ",": ",": "]
["Y1,T,IS",4352,4556,4488,4859,4928,4800,4660,4499,4357,4292,4200,4102,4149,4375,4162,4277,4214,4360,4285,4453,4643,4635,4548,4786,4522,4627,4192,3917,3876,4089,4328,4361,4350,4501,4457]
["Y1,T,IT",511794,536114,538422,544814,556170,565828,560102,557584,551013,557603,544206,537278,526011,529245,529686,523837,526268,527973,522319,531145,546864,569101,515792,523100,557878,566505,551871,554381,580266,588239,603365,624283,606306,629158,667581]
["Y1,T,LI",357,362,396,333,416,358,361,362,389,379,355,396,388,406,397,376,419,395,418,356,414,374,422,382,372,405,363,344,373,391,344,381,374,395,367]
["Y1,T,LT",30013,30586,30241,30534,31538,30754,29215,28818,28645,28942,29381,29138,30771,33281,35789,36490,37242,38477,40474,41474,46390,53033,54909,56231,55270,56696,59224,60313,58833,57793,57421,53793,52726,52633,51694]
["Y1,T,LU",6380,6187,5984,6049,5794,5727,5582,5617,5454,5564,5378,5431,5470,5700,5607,5398,5510,5705,5495,5605,5583,5391,5127,5252,4871,4771,4244,4490,4108,4169,4158,4234,4375,4265,4224]
["Y1,T,LV",20809,19969,18744,19333,21444,23758,23511,22500,21608,20325,20921,19908,19425,20041,19029,18261,18615,19529,21251,23903,26330,30578,33677,36953,42089,42165,41992,42123,40228,40524,40324,37755,36451,35676,34756]
["Y1,T,MD",": ",38443,38880,39607,40030,37910,37369,37728,37554,37340,": ",": ",": ",": ",": ",": ",": ",": ",": ",": ",": ",": ",": ",": ",": ",": ",": ",": ",": ",": ",": ",": ",": ",": ",": "]
["Y1,T,ME",7647,7242,7057,7941,8164,7780,7419,7154,7046,7601,7645,8056,8082,8054,7974,7984,": ",": ",": ",": ",": ",": ",": ",": ",": ",": ",": ",": ",": ",": ",": ",": ",": ",": ",": "]
["Y1,T,MK",22894,23329,22569,24078,23382,22703,22434,22278,22116,23044,23271,22944,24343,25880,24573,26142,26362,30872,31468,30680,29076,30145,": ",": ",": ",": ",": ",": ",": ",": ",": ",": ",": ",": ",": "]
["Y1,T,MT",4110,4267,4221,3948,4032,4059,3791,3790,3777,3841,4043,3903,3927,4285,4338,4481,4808,4897,4739,4784,5109,": ",": ",": ",": ",": ",": ",": ",": ",": ",": ",": ",": ",5502,5720]
["Y1,T,NL",171587,175982,180066,184741,185288,185215,181569,184697,187237,193959,201322,203063,205151,208553,203155,201017,193777,191191,191467,196319,195419,196679,198460,197969,188483,186372,186451,184173,178266,174436,169680,171135,177888,181350,175692]
["Y1,T,NO",60107,61418,61429,62521,62961,61562,59470,59541,57704,57756,57412,56259,57294,59588,59745,58879,60209,61238,60480,60208,59889,60488,61069,60954,59209,57422,54165,52644,51137,50374,49947,51149,50777,51066,51431]
["Y1,T,PL",369374,388556,388824,412836,428533,426768,386581,372649,362442,354223,349018,352415,362528,376590,380918,392110,408548,423036,427192,473838,486135,506131,537644,536886,553856,578142,": ",": ",": ",": ",707217,": ",": ",": ",": "]
["Y1,T,PT",82701,89640,95663,99519,96995,103011,101339,104625,108552,108150,111361,113159,112019,114841,111595,111116,110445,108231,105957,107441,111938,112632,113482,108672,111553,111464,115757,120486,126156,138612,140614,147169,148971,145388,157689]
["Y1,T,RO",193175,178251,184451,207241,209256,209038,208906,211672,216415,216066,216725,217279,217781,223114,229392,231114,230780,225615,230821,239788,243417,253670,259580,284644,357754,369179,371689,366187,348935,341024,313055,334630,368948,386275,396811]
["Y1,T,RS",65112,66824,65223,66168,67153,68661,67662,70495,71695,77981,78657,78084,75397,70100,68955,70872,73242,": ",": ",": ",": ",": ",": ",": ",": ",": ",": ",": ",": ",": ",": ",": ",": ",": ",": "]
["Y1,T,RU",": ",1887170,": ",": ",1676212,1700380,1595785,1465478,1441339,1484516,": ",": ",": ",": ",": ",": ",": ",": ",": ",": ",": ",": ",": ",": ",": ",": ",": ",": ",": ",": ",": ",": ",": ",": ",": "]
["Y1,T,SE",115572,114923,113452,117242,113423,110902,109163,107531,102913,102191,100281,97079,92686,91628,89230,89890,90715,95292,103371,112307,117571,122971,124042,124660,116782,112875,105337,102627,99023,94399,92230,93204,94441,97577,96651]
["Y1,T,SI",21188,22101,22117,22576,21997,22213,20275,19229,18372,18092,17369,17768,17724,18425,17599,18039,18265,18954,19024,19626,19644,19802,21363,22226,23314,25098,25659,25098,25823,26043,26935,28620,29008,29935,": "]
["Y1,T,SK",55747,56389,61091,57712,59701,57108,54298,53777,54249,53539,51432,50572,50926,53924,55530,57064,58586,59249,60762,65650,72515,73635,77367,77293,78903,81871,82488,85447,88299,88984,89992,90609,91111,92468,97376]
["Y1,T,SM",": ",": ",339,354,": ",": ",": ",": ",": ",": ",": ",": ",": ",": ",": ",": ",": ",": ",": ",": ",": ",": ",": ",": ",": ",": ",": ",": ",": ",": ",": ",": ",": ",": ",": "]
["Y1,T,TR",1271036,1262391,1219741,1229002,1230628,1246778,1228386,1186129,": ",": ",": ",": ",": ",": ",": ",1435028,1432487,1435497,1438984,1418629,1384557,1359579,1327596,1289612,1264028,991124,986673,982243,977833,973442,969071,985542,1002294,1019331,1036655]
["Y1,T,UA",": ",516810,498371,493356,507842,505661,467490,455634,421572,422882,": ",": ",": ",": ",": ",": ",": ",": ",": ",": ",": ",": ",": ",": ",": ",": ",": ",": ",": ",": ",": ",": ",": ",": ",": "]
["Y1,T,UK",791483,810633,814143,797564,785024,784800,773304,748145,726866,710426,692082,671025,663721,672131,690584,707354,722309,725140,724387,741795,754027,768424,785017,779626,769420,772196,765424,750049,744078,726629,712822,712402,717599,727939,718841]
["Y10,F,AD",": ",": ",383,407,407,458,427,391,370,348,318,347,352,351,329,335,321,277,305,313,289,339,371,331,365,329,334,351,320,342,": ",": ",": ",": ",": "]
["Y10,F,AL",15220,18160,": ",": ",": ",": ",": ",": ",27672,29467,28041,28064,": ",": ",": ",": ",": ",": ",": ",": ",": ",": ",": ",": ",": ",": ",": ",": ",": ",": ",": ",": ",": ",": ",": "]
["Y10,F,AM",": ",": ",": ",": ",": ",18316,19378,20937,21935,22863,": ",": ",": ",": ",": ",": ",": ",": ",": ",": ",": ",": ",": ",": ",": ",": ",": ",": ",": ",": ",": ",": ",": ",": ",": "]
["Y10,F,AT",40486,39603,40607,39022,40534,40408,41933,43384,45185,44975,46224,47362,47324,47850,46576,46374,45601,45157,45344,44992,46050,45887,47728,46893,44723,41429,40872,41130,41830,44364,45817,46166,49912,52816,53986]
["Y10,F,AZ",": ",61775,59424,57884,60757,63043,52600,58200,69800,74500,": ",": ",": ",": ",": ",": ",": ",": ",": ",": ",": ",": ",": ",": ",": ",": ",": ",": ",": ",": ",": ",": ",": ",": ",": "]
["Y10,F,BE",61021,59438,58804,59716,59965,58672,58583,59265,59103,58170,57937,60509,62379,63018,62233,60766,60025,58623,58186,56802,57656,57866,59239,60667,61034,59750,59861,59230,58687,57984,60052,62815,65699,68491,69278]
["Y10,F,BG",31568,30417,29836,30059,32131,32674,29470,27989,31717,32214,35159,37861,39970,42155,47360,49944,50992,51072,53038,52202,53789,54068,54488,56154,57762,61816,63828,65840,67296,67269,65916,63613,60708,62645,63252]
["Y10,F,BY",": ",42200,42769,43277,44671,": ",44389,43148,45379,47922,": ",": ",": ",": ",": ",": ",": ",": ",": ",": ",": ",": ",": ",": ",": ",": ",": ",": ",": ",": ",": ",": ",": ",": ",": "]
["Y10,F,CH",39006,37941,37816,37683,39722,39219,39496,39775,40703,40307,40975,41321,43074,42820,42508,41560,41482,39908,40108,39815,39004,38335,38733,37473,37489,36297,35495,35612,35852,35982,37664,38567,40471,42600,43548]
["Y10,F,CY",4388,4257,4166,4529,4445,4512,4585,4855,4985,5009,5297,5398,5715,5121,5487,5128,5383,5225,5267,5201,5377,5323,5095,": ",": ",": ",": ",": ",": ",": ",": ",": ",": ",4136,": "]
["Y10,F,CZ",47687,45890,45444,44512,43766,43496,43700,43942,43843,46490,51822,58685,58745,62071,62999,61602,63641,62393,63620,65161,65388,65492,67869,68877,73074,82469,85835,87245,89831,92084,92664,86206,78075,73778,70963]
["Y10,F,DE",350616,347814,353603,360845,377989,376432,385292,397925,390896,379655,383564,399442,409834,423991,464801,459800,470400,459205,451244,433377,427643,428405,436024,430507,428846,291253,279311,277199,287903,281472,294261,304569,339324,379487,395107]
["Y10,F,DE_TOT",350616,347814,353603,360845,377989,376432,385292,397925,390896,379655,383564,399442,409834,423991,464801,459800,470400,459205,451244,433377,427643,428405,436024,430507,428846,399542,388548,382627,380064,367470,379144,390394,435019,491107,506839]
["Y10,F,DK",32413,32158,31669,32399,33225,32922,32821,33495,33675,34823,35178,33908,34040,32574,32122,31093,29756,28299,28100,27433,26176,25669,26358,26658,28496,29292,30567,30491,31923,35470,34867,34951,36809,36340,34621]
["Y10,F,EA18",1684324,1669486,1660152,1672966,1708434,1673094,1664076,1666052,1656348,1636607,1641504,1674653,1727586,1749592,1789405,1776263,1788215,1770643,1768390,1766642,1778813,1796061,1860285,": ",": ",": ",": ",": ",": ",": ",": ",": ",": ",": ",": "]
["Y10,F,EA19",1697265,1682456,1673061,1686821,1723453,1689490,1680756,1683349,1674572,1655594,1661265,1696916,1753104,1775150,1815800,1801953,1814603,1798269,1796566,1794892,1806490,1823696,1886665,": ",": ",": ",": ",": ",": ",": ",": ",": ",": ",": ",": "]
["Y10,F,EE",6577,6203,6179,5895,6030,5800,5650,5800,6210,6320,6640,6930,8140,8430,9460,10180,10773,10720,10355,10586,11011,11047,10883,11070,11087,10884,11038,10966,11063,10725,10814,10579,11029,10816,10862]
["Y10,F,EEA30",2567625,2535609,2514638,2535079,2589693,2562073,2564353,2587558,2606126,2601704,2643033,2705866,2787953,2838203,2904647,2916041,2937154,2922541,2931354,2937477,2941950,2946436,3019675,": ",": ",": ",": ",": ",": ",": ",": ",": ",": ",": ",": "]
["Y10,F,EEA31",2587038,2555014,2534364,2555221,2610930,2584160,2587638,2611987,2630645,2625349,2666616,2729300,2810563,2862657,2928897,": ",": ",": ",": ",": ",": ",": ",": ",": ",": ",": ",": ",": ",": ",": ",": ",": ",": ",": ",": "]
["Y10,F,EFTA",71442,69982,69099,69347,72447,71838,71714,72394,73843,73000,73491,73976,75579,75676,75600,73549,72517,69236,68294,67572,66489,65553,66435,65268,65144,64203,63202,62874,64398,66058,69489,70866,74379,76928,77158]
["Y10,F,EL",51119,51577,52103,52472,52542,52601,52654,52769,53254,53150,54422,53649,57019,59390,52308,51682,52766,53486,56460,59581,61729,65406,69090,71527,75090,71737,71926,72242,72488,72686,68600,64990,66692,69391,74337]
["Y10,F,ES",232810,230150,221035,220249,217956,213152,204642,202915,196791,193502,192686,197821,202399,196628,199040,199964,201884,206680,212552,221020,230730,241423,252979,264384,278138,289845,302436,312211,319465,321349,323478,322282,320985,319515,319149]
["Y10,F,EU27",2535189,2503568,2483355,2503415,2556968,2529454,2532135,2554939,2572986,2569011,2610517,2673211,2755448,2805347,2871555,2884052,2906119,2893213,2903168,2909720,2914465,2919218,2991973,": ",": ",": ",": ",": ",": ",": ",": ",": ",": ",": ",": "]
["Y10,F,EU28",2554602,2522973,2503081,2523557,2578205,2551541,2555420,2579368,2597505,2592656,2634100,2696645,2778058,2829801,2895805,": ",": ",": ",": ",": ",": ",": ",": ",": ",": ",": ",": ",": ",": ",": ",": ",": ",": ",": ",": "]
["Y10,F,FI",29063,28704,27851,28070,28103,28675,28271,29548,29885,31178,32243,32081,32857,32455,32448,31495,31520,29746,30173,31251,32379,33124,32587,31563,31169,31508,31405,32098,32437,31621,30445,27385,28360,29865,30902]
["Y10,F,FR",403074,396332,397009,402130,408872,389891,385520,377589,381416,377195,367651,365031,379957,385209,387910,390718,388238,388217,393039,387329,384120,376917,400147,403988,405415,": ",": ",": ",": ",": ",": ",": ",": ",": ",": "]
["Y10,F,FX",": ",": ",381671,386578,392714,374496,370506,362215,366254,362018,352229,349862,364146,369273,372014,374744,373232,373709,378466,372720,369574,362982,386438,390610,391965,369834,360520,363730,353285,365230,390054,416540,426269,427523,412905]
["Y10,F,GE",": ",21111,": ",21338,21130,23447,23728,25414,27157,28807,": ",": ",": ",": ",": ",": ",": ",": ",": ",": ",": ",": ",": ",": ",": ",": ",": ",": ",": ",": ",": ",": ",": ",": ",": "]
["Y10,F,HR",19413,19405,19726,20142,21237,22087,23285,24429,24519,23645,23583,23434,22610,24454,24250,": ",": ",": ",": ",": ",": ",": ",": ",": ",": ",": ",": ",": ",": ",": ",": ",": ",": ",": ",": "]
["Y10,F,HU",46025,45804,46945,46936,48239,45973,47194,47859,50787,53917,55143,56359,58409,60962,61296,59542,59914,60401,62624,63832,61015,61484,63619,68094,70718,75749,79997,84195,87104,90972,87079,73914,71747,70738,71372]
["Y10,F,IE",30749,31143,31138,30461,29732,29567,29311,28529,27560,26255,25712,25645,26456,27409,27627,27545,27678,28587,29479,29919,30165,31415,32565,33642,34687,34882,33866,32718,32959,33000,": ",": ",": ",": ",": "]
["Y10,F,IS",2150,2096,2025,2035,2176,2152,2132,2102,2163,2115,2194,2325,2219,2180,2354,2200,2189,1937,1879,1960,1987,2136,2096,2079,2213,2183,2007,1918,1993,2059,1974,2118,2208,1963,1864]
["Y10,F,IT",279578,276625,269746,270751,273624,268833,265785,262841,261813,259619,260546,265478,275461,275166,275820,270075,269525,259759,263240,273210,276510,283123,294026,300206,309457,321285,343142,357365,377279,400342,419716,422339,427304,436369,432280]
["Y10,F,LI",195,167,192,178,195,216,210,220,208,220,182,219,206,201,211,183,199,188,184,197,190,182,201,181,176,171,181,173,164,193,173,209,181,195,208]
["Y10,F,LT",12941,12970,12909,13855,15019,16396,16680,17297,18224,18987,19761,22263,25518,25558,26395,25690,26388,27626,28176,28250,27677,27635,26380,25889,26156,26196,25990,25889,25992,25909,26093,26013,27389,27584,27497]
["Y10,F,LU",2936,2892,2888,2972,3094,3033,2810,2965,2963,2894,2958,2767,2787,2636,2687,2604,2609,2392,2413,2169,2175,2256,2199,2200,2209,2089,2025,2008,1959,1982,1923,1955,2078,2308,2422]
["Y10,F,LV",8994,9239,9060,8974,9343,8923,8636,8669,9107,9944,11073,12340,14652,15544,16861,17339,18537,19121,19447,18958,19362,19335,18297,17884,17202,17250,17230,16861,17229,17340,17200,17147,17537,17946,17272]
["Y10,F,MD",": ",17547,17650,18021,18532,19098,19918,21184,22934,23264,": ",": ",": ",": ",": ",": ",": ",": ",": ",": ",": ",": ",": ",": ",": ",": ",": ",": ",": ",": ",": ",": ",": ",": ",": "]
["Y10,F,ME",3590,3749,3911,3984,3940,3880,4079,4052,4272,4365,4232,4239,4208,4193,4191,4157,": ",": ",": ",": ",": ",": ",": ",": ",": ",": ",": ",": ",": ",": ",": ",": ",": ",": ",": "]
["Y10,F,MK",11020,11269,11051,11759,12345,11613,12404,12492,13414,13699,14710,14557,15198,15398,14992,15247,15865,15894,15931,16265,16316,16138,": ",": ",": ",": ",": ",": ",": ",": ",": ",": ",": ",": ",": "]
["Y10,F,MT",1902,2016,1873,1922,2202,2153,2245,2272,2370,2419,2397,2534,2682,2736,2763,2815,2739,2683,2499,2649,2631,2809,2909,2746,2693,2820,2684,2698,2739,2698,2524,2496,": ",2340,2245]
["Y10,F,NL",95085,97995,98304,99379,101263,98392,97743,95270,93753,94708,97641,97631,98292,99726,99250,95500,93922,93653,93348,90210,87876,85725,86032,89195,89895,87242,87280,86207,87311,88731,93081,98091,107685,113327,119235]
["Y10,F,NO",30091,29778,29066,29451,30354,30251,29876,30297,30769,30358,30140,30111,30080,30475,30527,29606,28647,27203,26123,25600,25308,24900,25405,25535,25266,25552,25519,25171,26389,27824,29678,29972,31519,32170,31538]
["Y10,F,PL",171915,169513,171230,177657,182662,184394,190174,198285,207825,214519,227422,236290,247117,261162,268531,271484,280621,287496,302962,323215,333064,342981,334151,319561,327796,321863,": ",": ",": ",": ",293733,": ",": ",": ",": "]
["Y10,F,PT",50582,51754,52110,51922,56847,55851,53991,54024,52821,52427,52479,55172,55742,55834,55243,55155,54810,54876,56431,58418,61803,63258,66926,68515,72046,74683,75005,79614,84204,85513,84308,83048,85500,83568,84027]
["Y10,F,RO",101524,101783,100957,102561,104094,104212,105158,110607,117639,118575,123619,124701,126077,125124,138454,171669,171074,175006,174271,165633,160754,146835,159833,175116,185361,190035,194343,197295,193446,193239,196034,176556,182055,183744,196109]
["Y10,F,RS",34492,35076,34777,35130,33023,33990,35500,36525,38003,39787,39717,40389,40771,42125,41707,42147,44291,": ",": ",": ",": ",": ",": ",": ",": ",": ",": ",": ",": ",": ",": ",": ",": ",": ",": "]
["Y10,F,RU",": ",711855,": ",": ",649347,611731,637290,623478,647754,680890,": ",": ",": ",": ",": ",": ",": ",": ",": ",": ",": ",": ",": ",": ",": ",": ",": ",": ",": ",": ",": ",": ",": ",": ",": "]
["Y10,F,SE",53364,52180,50220,47615,47101,46035,45870,46243,48413,51557,56121,58413,60720,61652,62314,58685,56838,53935,52493,50745,48609,47047,47269,47740,48785,48015,46203,47330,48654,51389,54319,54061,54928,55520,53744]
["Y10,F,SI",9090,8600,8827,8770,9088,8748,8839,9033,9296,9371,9725,9762,9740,10575,10925,11247,12228,12527,12266,12731,12976,13298,13708,14213,14890,14695,14612,14674,14973,14566,13886,14145,13966,13468,": "]
["Y10,F,SK",26254,25144,24849,24887,26805,27451,27586,28399,28940,29816,32309,35101,36150,37874,37966,37876,39577,39986,41220,42848,43166,43379,43560,44168,44770,47570,47362,46804,46896,46379,46118,43997,41529,39093,37944]
["Y10,F,SM",": ",": ",139,182,": ",": ",": ",": ",": ",": ",": ",": ",": ",": ",": ",": ",": ",": ",": ",": ",": ",": ",": ",": ",": ",": ",": ",": ",": ",": ",": ",": ",": ",": ",": "]
["Y10,F,TR",590944,581136,589513,633164,642152,652821,645771,641556,": ",": ",": ",": ",": ",": ",": ",617547,606016,605984,613973,622481,631470,641973,649984,655486,659492,748624,725924,703912,682567,661869,641800,634974,628220,621538,614927]
["Y10,F,UA",": ",196256,186444,179530,185085,187794,200512,208594,225390,234228,": ",": ",": ",": ",": ",": ",": ",": ",": ",": ",": ",": ",": ",": ",": ",": ",": ",": ",": ",": ",": ",": ",": ",": ",": "]
["Y10,F,UK",353428,343367,333993,334855,342297,350258,356992,363170,364515,361322,364788,370078,377266,384497,382679,378080,378680,376342,369494,366607,359180,351946,351721,355002,359096,352295,331443,315115,319229,332504,344043,361852,386614,412754,423811]
["Y10,M,AD",": ",": ",419,425,425,457,438,463,396,414,395,369,373,330,344,364,342,340,329,316,331,363,375,340,345,393,361,366,373,359,": ",": ",": ",": ",": "]
["Y10,M,AL",17262,19687,": ",": ",": ",": ",": ",": ",29435,31382,29528,29035,": ",": ",": ",": ",": ",": ",": ",": ",": ",": ",": ",": ",": ",": ",": ",": ",": ",": ",": ",": ",": ",": ",": "]
["Y10,M,AM",": ",": ",": ",": ",": ",20891,21989,23523,24141,24479,": ",": ",": ",": ",": ",": ",": ",": ",": ",": ",": ",": ",": ",": ",": ",": ",": ",": ",": ",": ",": ",": ",": ",": ",": "]
["Y10,M,AT",42738,41762,42452,41394,42644,42444,44081,45333,47543,47112,48574,49582,50176,50310,49020,48331,48448,47192,47397,47757,48031,48256,49510,49272,47585,43981,43235,43047,44095,46482,47789,48278,51971,54964,56692]
["Y10,M,AZ",": ",70581,67646,66474,68842,71277,57900,65000,75700,80500,": ",": ",": ",": ",": ",": ",": ",": ",": ",": ",": ",": ",": ",": ",": ",": ",": ",": ",": ",": ",": ",": ",": ",": ",": "]
["Y10,M,BE",64084,62089,61502,62092,62844,61011,61246,61740,61427,60793,61257,63013,65184,65953,65077,63723,63105,61720,61744,59716,60188,60956,62270,63854,63516,63645,62223,61625,61067,60656,63079,66214,68868,71395,71862]
["Y10,M,BG",33373,32181,32144,31920,33724,34153,31203,30036,33742,33699,36783,39689,42481,44576,49841,52404,53569,53395,55431,54763,56919,56781,57864,59808,60855,65280,67112,68776,71023,70636,69732,66534,64217,66366,67581]
["Y10,M,BY",": ",44669,45128,45899,46871,": ",47302,45054,47968,51224,": ",": ",": ",": ",": ",": ",": ",": ",": ",": ",": ",": ",": ",": ",": ",": ",": ",": ",": ",": ",": ",": ",": ",": ",": "]
["Y10,M,CH",40620,39721,40006,39967,42141,41447,41775,42130,43099,42597,43263,43512,45047,45263,45290,44072,43891,41976,42153,41455,41589,40704,40385,39845,39217,37790,37309,37714,36886,37783,39403,40908,42855,44867,46057]
["Y10,M,CY",4542,4506,4522,4712,4762,4590,4927,4963,5268,5439,5545,5662,5867,5657,5709,5632,5663,5469,5634,5664,5740,5631,5458,": ",": ",": ",": ",": ",": ",": ",": ",": ",": ",4369,": "]
["Y10,M,CZ",50619,48475,48013,47047,46964,45693,46230,46229,46198,49116,54616,61638,62170,65754,66052,64403,66258,65811,66900,68174,68526,68957,70695,72182,77447,86600,89670,91155,93807,95702,97219,91290,82001,76928,73897]
["Y10,M,DE",369406,366240,372761,380277,395340,397927,405688,419200,412448,399588,405184,420985,430218,446239,490598,483386,496606,486444,475180,455870,451108,451350,459929,451912,450292,306124,295347,292633,298971,293002,303585,315661,354063,398906,414380]
["Y10,M,DE_TOT",369406,366240,372761,380277,395340,397927,405688,419200,412448,399588,405184,420985,430218,446239,490598,483386,496606,486444,475180,455870,451108,451350,459929,451912,450292,420914,410281,403751,395487,383614,392496,405616,454510,516493,530992]
["Y10,M,DK",33886,33751,33498,33741,34729,34294,34601,35332,35509,36842,36823,35701,36026,34265,33878,32654,31485,30101,29553,28565,27348,26672,27730,27558,29636,30629,32051,31904,33744,36630,36235,36449,38180,38479,36201]
["Y10,M,EA18",1774350,1756264,1747937,1758642,1798095,1760634,1755167,1754620,1747121,1721791,1728144,1760714,1815733,1842361,1885166,1864568,1881899,1862570,1857600,1853882,1866252,1887754,1952735,": ",": ",": ",": ",": ",": ",": ",": ",": ",": ",": ",": "]
["Y10,M,EA19",1787803,1770088,1761685,1773061,1814072,1778042,1773129,1772920,1766100,1741805,1748901,1784128,1842089,1869227,1912582,1891579,1909300,1891063,1887312,1882538,1894952,1916807,1979718,": ",": ",": ",": ",": ",": ",": ",": ",": ",": ",": ",": "]
["Y10,M,EE",6871,6373,6383,6325,6590,6110,6040,6240,6540,6590,6810,7500,8660,8980,10210,11000,11190,11339,10949,10930,11240,11472,11238,11641,11499,11383,11371,11581,11367,11273,11063,11209,11612,11436,11193]
["Y10,M,EEA30",2704652,2667657,2647501,2665140,2725209,2694974,2702517,2723675,2746422,2737155,2778474,2841365,2928549,2987771,3054261,3059507,3085314,3070566,3072803,3076888,3083937,3089444,3166053,": ",": ",": ",": ",": ",": ",": ",": ",": ",": ",": ",": "]
["Y10,M,EEA31",2725411,2688044,2668177,2686319,2747710,2718145,2726816,2749198,2772476,2761974,2802686,2866053,2952419,3013593,3079504,": ",": ",": ",": ",": ",": ",": ",": ",": ",": ",": ",": ",": ",": ",": ",": ",": ",": ",": ",": "]
["Y10,M,EFTA",74553,73062,72359,72974,76450,75560,75418,76652,78206,77282,77661,77482,79804,80077,79981,77786,76635,72533,72114,70486,70383,69492,69758,68721,68529,67073,66479,66282,66813,68924,72176,75162,78344,80733,81558]
["Y10,M,EL",53787,54137,54509,54785,54806,54889,54958,55108,55287,55204,56863,55514,60699,63276,55159,54839,55984,56289,59863,63077,65212,69524,72709,76197,79836,76086,76038,76102,76292,76585,73800,70320,70996,71207,78968]
["Y10,M,ES",247620,242314,233959,231822,232277,224531,217683,213839,206758,204247,203923,209354,213035,208361,210204,211414,213230,217920,223937,232593,242582,253882,266047,277851,292306,304898,318396,328536,336461,338979,341548,341225,340017,338355,337120]
["Y10,M,EU27",2670719,2634316,2615148,2632133,2690900,2660861,2668874,2689153,2711315,2702470,2744076,2807395,2893792,2952957,3019570,3025793,3052570,3040009,3042842,3047857,3055143,3060656,3136680,": ",": ",": ",": ",": ",": ",": ",": ",": ",": ",": ",": "]
["Y10,M,EU28",2691478,2654703,2635824,2653312,2713401,2684032,2693173,2714676,2737369,2727289,2768288,2832083,2917662,2978779,3044813,": ",": ",": ",": ",": ",": ",": ",": ",": ",": ",": ",": ",": ",": ",": ",": ",": ",": ",": ",": "]
["Y10,M,FI",30629,29671,29308,29307,29794,29839,29456,30433,31389,32433,33328,33204,34340,33576,34002,32907,32870,31180,31631,32524,33726,34652,34526,32923,32708,32529,32940,33474,33993,33413,31529,29001,30183,30886,32140]
["Y10,M,FR",422317,415427,417232,420976,428191,409947,405724,399644,401970,394589,384947,382939,399464,404307,408509,408164,406616,405629,410904,405360,401082,394376,419867,423955,424511,": ",": ",": ",": ",": ",": ",": ",": ",": ",": "]
["Y10,M,FX",": ",": ",401243,404812,411521,393672,389594,383823,386097,379098,368694,366898,382523,388120,391940,391935,391032,390746,395845,390386,386169,380020,405851,410312,410856,388008,377751,380835,369113,381453,408994,437620,449042,449953,436203]
["Y10,M,GE",": ",23754,": ",23668,23735,26213,26396,27632,29662,30832,": ",": ",": ",": ",": ",": ",": ",": ",": ",": ",": ",": ",": ",": ",": ",": ",": ",": ",": ",": ",": ",": ",": ",": ",": "]
["Y10,M,HR",20759,20387,20676,21179,22501,23171,24299,25523,26054,24819,24212,24688,23870,25822,25243,": ",": ",": ",": ",": ",": ",": ",": ",": ",": ",": ",": ",": ",": ",": ",": ",": ",": ",": ",": "]
["Y10,M,HU",48658,48276,49438,49713,50196,48232,49264,50870,53720,56737,57891,58737,61296,63824,63849,62492,62953,63361,64806,66462,63245,63910,67223,71121,73825,79108,84765,88242,92389,96304,91866,78435,76475,74766,75588]
["Y10,M,IE",32676,32556,32288,31714,31202,31084,30886,29976,29030,27999,27439,27076,27905,28565,29258,28918,28841,29865,31367,31572,32120,33172,34274,35560,37050,37048,34885,34460,34833,34900,": ",": ",": ",": ",": "]
["Y10,M,IS",2230,2124,2042,2142,2244,2077,2220,2236,2290,2249,2311,2333,2382,2322,2412,2264,2381,2183,1953,1900,2098,2152,2264,2249,2298,2276,2066,1976,2145,2105,2086,2302,2282,2116,1985]
["Y10,M,IT",295734,293158,284761,285992,291290,284244,282536,278607,277478,275365,275433,280240,289801,291140,290480,284025,284707,273896,276998,285485,289499,297623,306476,313202,324159,336238,358661,372918,393972,417575,438656,441170,449897,458573,453879]
["Y10,M,LI",201,182,194,208,206,191,180,219,200,232,206,213,178,237,195,212,236,200,175,205,203,190,201,202,214,182,158,190,200,149,179,204,188,196,241]
["Y10,M,LT",13453,13824,13748,14419,15977,17408,17962,18300,18979,20014,20757,23414,26356,26866,27416,27011,27401,28493,29712,28656,28700,29053,26983,26727,27163,26911,26954,26712,26803,26318,26534,27147,28445,28676,28774]
["Y10,M,LU",3176,3142,3108,3021,3236,3130,3005,3072,3196,3060,2972,2977,2858,2833,2912,2662,2649,2502,2566,2312,2389,2257,2271,2422,2167,2218,2135,2091,2052,2085,2047,2096,2251,2463,2436]
["Y10,M,LV",9590,9927,9512,9228,9651,9371,8971,9279,9815,10584,11589,12635,15200,16109,17401,18272,19321,19712,19873,19665,19590,20034,18933,18435,17551,17587,17503,17443,17918,17914,18041,18054,18597,18405,17980]
["Y10,M,MD",": ",18652,18712,19166,19590,20115,20894,21989,23859,24255,": ",": ",": ",": ",": ",": ",": ",": ",": ",": ",": ",": ",": ",": ",": ",": ",": ",": ",": ",": ",": ",": ",": ",": ",": "]
["Y10,M,ME",3787,4076,4302,4252,4220,4169,4348,4390,4487,4635,4457,4578,4555,4540,4536,4500,": ",": ",": ",": ",": ",": ",": ",": ",": ",": ",": ",": ",": ",": ",": ",": ",": ",": ",": "]
["Y10,M,MK",11962,11935,11807,12493,13164,12462,13189,13355,14332,14820,15355,15344,15984,16388,16193,16214,16869,17233,16620,16899,17146,17099,": ",": ",": ",": ",": ",": ",": ",": ",": ",": ",": ",": ",": "]
["Y10,M,MT",1996,2012,2034,2030,2148,2203,2369,2521,2553,2648,2549,2731,2826,2905,2916,2885,2844,2804,2861,2751,2790,2923,2940,2845,2872,2943,2957,2927,2915,2936,2796,2560,": ",2562,2450]
["Y10,M,NL",99111,102717,103043,103855,105472,103381,102407,98999,99300,99078,102155,101984,103278,104224,104455,99249,98227,98602,96822,93931,92223,89534,90161,92537,94369,91080,91444,90194,92314,92742,97602,102064,111627,119049,124886]
["Y10,M,NO",31502,31035,30117,30657,31859,31845,31243,32067,32617,32204,31881,31424,32197,32255,32084,31238,30127,28174,27833,26926,26493,26446,26908,26425,26800,26825,26946,26402,27582,28887,30508,31748,33019,33554,33275]
["Y10,M,PL",181762,178335,180517,187071,192293,193811,200730,208420,218677,224092,236645,247143,258297,274654,281556,285358,294628,303477,315779,336233,348859,356854,349707,333728,340549,337649,": ",": ",": ",": ",308156,": ",": ",": ",": "]
["Y10,M,PT",52933,54524,55172,55054,59905,58191,56589,56129,56364,55963,56009,57916,58203,59332,57734,57592,57497,57659,59047,61568,65219,67099,69794,71365,75419,77632,78387,82715,87917,89326,87622,86385,88161,87151,87536]
["Y10,M,RO",107474,107820,106394,108516,110119,110379,111165,116661,123685,124548,129822,130721,132321,132117,144020,178365,176947,182373,180988,172859,167393,152863,166061,183401,192996,200041,202075,205844,203606,202536,205231,185705,189965,192418,204750]
["Y10,M,RS",36736,37192,36688,37087,34788,36017,36806,38329,40169,42417,41931,42704,42419,43869,43679,43855,47062,": ",": ",": ",": ",": ",": ",": ",": ",": ",": ",": ",": ",": ",": ",": ",": ",": ",": "]
["Y10,M,RU",": ",747768,": ",": ",683827,642218,667225,651703,678397,709656,": ",": ",": ",": ",": ",": ",": ",": ",": ",": ",": ",": ",": ",": ",": ",": ",": ",": ",": ",": ",": ",": ",": ",": ",": "]
["Y10,M,SE",56538,54901,52588,50400,50016,48339,48790,48776,50436,54481,58481,60944,64210,65488,65588,61972,60372,56233,55415,53850,51525,49872,49941,49942,51213,50306,48430,50023,51060,53608,57005,56445,57639,58405,56021]
["Y10,M,SI",9403,9172,9351,9398,9714,9255,9482,9520,9940,9879,10084,10286,10449,11152,11439,11968,12958,12975,12807,13398,13469,13809,14526,15100,15410,15830,15840,15600,15612,15310,15107,15041,14878,14525,": "]
["Y10,M,SK",27737,26537,26040,26660,28229,28487,29119,30017,30815,31220,33483,37116,37570,39442,40083,39601,41143,41373,43079,44683,44957,45560,45822,45707,47035,48983,49027,49343,49271,47807,48020,45613,43117,40929,39870]
["Y10,M,SM",": ",": ",189,181,": ",": ",": ",": ",": ",": ",": ",": ",": ",": ",": ",": ",": ",": ",": ",": ",": ",": ",": ",": ",": ",": ",": ",": ",": ",": ",": ",": ",": ",": ",": "]
["Y10,M,TR",623700,612868,623620,667425,675384,685124,679994,676527,": ",": ",": ",": ",": ",": ",": ",645541,635514,636481,645470,655475,665967,676973,685978,692486,696989,798201,774154,750832,728212,706273,684996,679041,673138,667285,661484]
["Y10,M,UA",": ",206907,198396,190334,195892,197860,209246,219053,236773,246116,": ",": ",": ",": ",": ",": ",": ",": ",": ",": ",": ",": ",": ",": ",": ",": ",": ",": ",": ",": ",": ",": ",": ",": ",": "]
["Y10,M,UK",370606,360489,350871,350664,358787,367918,373762,379909,383248,381150,384114,388694,394902,403052,402204,396566,397058,394195,386658,384413,376376,367940,367741,371174,375553,369957,348896,332136,336781,350121,362340,382322,408663,435125,446870]
["Y10,T,AD",": ",": ",802,832,832,915,865,854,766,762,713,716,725,681,673,699,663,617,634,629,620,702,746,671,710,722,695,717,693,701,": ",": ",": ",": ",": "]
["Y10,T,AL",32482,37847,": ",": ",": ",": ",": ",": ",57108,60849,57569,57099,": ",": ",": ",": ",": ",": ",": ",": ",": ",": ",": ",": ",": ",": ",": ",": ",": ",": ",": ",": ",": ",": ",": "]
["Y10,T,AM",": ",": ",": ",": ",": ",39207,41367,44460,46076,47342,": ",": ",": ",": ",": ",": ",": ",": ",": ",": ",": ",": ",": ",": ",": ",": ",": ",": ",": ",": ",": ",": ",": ",": ",": "]
["Y10,T,AT",83224,81365,83059,80416,83178,82852,86014,88717,92728,92087,94798,96944,97500,98160,95596,94705,94049,92349,92741,92749,94081,94143,97238,96165,92308,85410,84107,84177,85925,90846,93606,94444,101883,107780,110678]
["Y10,T,AZ",": ",132356,127070,124358,129599,134320,110500,123200,145500,155000,": ",": ",": ",": ",": ",": ",": ",": ",": ",": ",": ",": ",": ",": ",": ",": ",": ",": ",": ",": ",": ",": ",": ",": ",": "]
["Y10,T,BE",125105,121527,120306,121808,122809,119683,119829,121005,120530,118963,119194,123522,127563,128971,127310,124489,123130,120343,119930,116518,117844,118822,121509,124521,124550,123395,122084,120855,119754,118640,123131,129029,134567,139886,141140]
["Y10,T,BG",64941,62598,61980,61979,65855,66827,60673,58025,65459,65913,71942,77550,82451,86731,97201,102348,104561,104467,108469,106965,110708,110849,112352,115962,118617,127096,130940,134616,138319,137905,135648,130147,124925,129011,130833]
["Y10,T,BY",": ",86869,87897,89176,91542,": ",91691,88202,93347,99146,": ",": ",": ",": ",": ",": ",": ",": ",": ",": ",": ",": ",": ",": ",": ",": ",": ",": ",": ",": ",": ",": ",": ",": ",": "]
["Y10,T,CH",79626,77662,77822,77650,81863,80666,81271,81905,83802,82904,84238,84833,88121,88083,87798,85632,85373,81884,82261,81270,80593,79039,79118,77318,76706,74087,72804,73326,72738,73765,77067,79475,83326,87467,89605]
["Y10,T,CY",8930,8763,8688,9241,9207,9102,9512,9818,10253,10448,10842,11060,11582,10778,11196,10760,11046,10694,10901,10865,11117,10954,10553,": ",": ",": ",": ",": ",": ",": ",": ",": ",": ",8505,": "]
["Y10,T,CZ",98306,94365,93457,91559,90730,89189,89930,90171,90041,95606,106438,120323,120915,127825,129051,126005,129899,128204,130520,133335,133914,134449,138564,141059,150521,169069,175505,178400,183638,187786,189883,177496,160076,150706,144860]
["Y10,T,DE",720022,714054,726364,741122,773329,774359,790980,817125,803344,779243,788748,820427,840052,870230,955399,943186,967006,945649,926424,889247,878751,879755,895953,882419,879138,597377,574658,569832,586874,574474,597846,620230,693387,778393,809487]
["Y10,T,DE_TOT",720022,714054,726364,741122,773329,774359,790980,817125,803344,779243,788748,820427,840052,870230,955399,943186,967006,945649,926424,889247,878751,879755,895953,882419,879138,820456,798829,786378,775551,751084,771640,796010,889529,1007600,1037831]
["Y10,T,DK",66299,65909,65167,66140,67954,67216,67422,68827,69184,71665,72001,69609,70066,66839,66000,63747,61241,58400,57653,55998,53524,52341,54088,54216,58132,59921,62618,62395,65667,72100,71102,71400,74989,74819,70822]
["Y10,T,EA18",3458674,3425750,3408089,3431608,3506529,3433728,3419243,3420672,3403469,3358398,3369648,3435367,3543319,3591953,3674571,3640831,3670114,3633213,3625990,3620524,3645065,3683815,3813020,": ",": ",": ",": ",": ",": ",": ",": ",": ",": ",": ",": "]
["Y10,T,EA19",3485068,3452544,3434746,3459882,3537525,3467532,3453885,3456269,3440672,3397399,3410166,3481044,3595193,3644377,3728382,3693532,3723903,3689332,3683878,3677430,3701442,3740503,3866383,": ",": ",": ",": ",": ",": ",": ",": ",": ",": ",": ",": "]
["Y10,T,EE",13448,12576,12562,12220,12620,11910,11690,12040,12750,12910,13450,14430,16800,17410,19670,21180,21963,22059,21304,21516,22251,22519,22121,22711,22586,22267,22409,22547,22430,21998,21877,21788,22641,22252,22055]
["Y10,T,EEA30",5272277,5203266,5162139,5200219,5314902,5257047,5266870,5311233,5352548,5338859,5421507,5547231,5716502,5825974,5958908,5975548,6022468,5993107,6004157,6014365,6025887,6035880,6185728,": ",": ",": ",": ",": ",": ",": ",": ",": ",": ",": ",": "]
["Y10,T,EEA31",5312449,5243058,5202541,5241540,5358640,5302305,5314454,5361185,5403121,5387323,5469302,5595353,5762982,5876250,6008401,": ",": ",": ",": ",": ",": ",": ",": ",": ",": ",": ",": ",": ",": ",": ",": ",": ",": ",": ",": "]
["Y10,T,EFTA",145995,143044,141458,142321,148897,147398,147132,149046,152049,150282,151152,151458,155383,155753,155581,151335,149152,141769,140408,138058,136872,135045,136193,133989,133673,131276,129681,129156,131211,134982,141665,146028,152723,157661,158716]
["Y10,T,EL",104906,105714,106612,107257,107348,107490,107612,107877,108541,108354,111285,109163,117718,122666,107467,106521,108750,109775,116323,122658,126941,134930,141799,147724,154926,147823,147964,148344,148780,149271,142400,135310,137688,140598,153305]
["Y10,T,ES",480430,472464,454994,452071,450233,437683,422325,416754,403549,397749,396609,407175,415434,404989,409244,411378,415114,424600,436489,453613,473312,495305,519026,542235,570444,594743,620832,640747,655926,660328,665026,663507,661002,657870,656269]
["Y10,T,EU27",5205908,5137884,5098503,5135548,5247868,5190315,5201009,5244092,5284301,5271481,5354593,5480606,5649240,5758304,5891125,5909845,5958689,5933222,5946010,5957577,5969608,5979874,6128653,": ",": ",": ",": ",": ",": ",": ",": ",": ",": ",": ",": "]
["Y10,T,EU28",5246080,5177676,5138905,5176869,5291606,5235573,5248593,5294044,5334874,5319945,5402388,5528728,5695720,5808580,5940618,": ",": ",": ",": ",": ",": ",": ",": ",": ",": ",": ",": ",": ",": ",": ",": ",": ",": ",": ",": "]
["Y10,T,FI",59692,58375,57159,57377,57897,58514,57727,59981,61274,63611,65571,65285,67197,66031,66450,64402,64390,60926,61804,63775,66105,67776,67113,64486,63877,64037,64345,65572,66430,65034,61974,56386,58543,60751,63042]
["Y10,T,FR",825391,811759,814241,823106,837063,799838,791244,777233,783386,771784,752598,747970,779421,789516,796419,798882,794854,793846,803943,792689,785202,771293,820014,827943,829926,": ",": ",": ",": ",": ",": ",": ",": ",": ",": "]
["Y10,T,FX",": ",": ",782914,791390,804235,768168,760100,746038,752351,741116,720923,716760,746669,757393,763954,766679,764264,764455,774311,763106,755743,743002,792289,800922,802821,757842,738271,744565,722398,746683,799048,854160,875311,877476,849108]
["Y10,T,GE",": ",44865,": ",45006,44865,49660,50124,53046,56819,59639,": ",": ",": ",": ",": ",": ",": ",": ",": ",": ",": ",": ",": ",": ",": ",": ",": ",": ",": ",": ",": ",": ",": ",": ",": "]
["Y10,T,HR",40172,39792,40402,41321,43738,45258,47584,49952,50573,48464,47795,48122,46480,50276,49493,": ",": ",": ",": ",": ",": ",": ",": ",": ",": ",": ",": ",": ",": ",": ",": ",": ",": ",": ",": "]
["Y10,T,HU",94683,94080,96383,96649,98435,94205,96458,98729,104507,110654,113034,115096,119705,124786,125145,122034,122867,123762,127430,130294,124260,125394,130842,139215,144543,154857,164762,172437,179493,187276,178945,152349,148222,145504,146960]
["Y10,T,IE",63425,63699,63426,62175,60934,60651,60197,58505,56590,54254,53151,52721,54361,55974,56885,56463,56519,58452,60846,61491,62285,64587,66839,69202,71737,71930,68751,67178,67792,67900,": ",": ",": ",": ",": "]
["Y10,T,IS",4380,4220,4067,4177,4420,4229,4352,4338,4453,4364,4505,4658,4601,4502,4766,4464,4570,4120,3832,3860,4085,4288,4360,4328,4511,4459,4073,3894,4138,4164,4060,4420,4490,4079,3849]
["Y10,T,IT",575312,569783,554507,556743,564914,553077,548321,541448,539291,534984,535979,545718,565262,566306,566300,554100,554232,533655,540238,558695,566009,580746,600502,613408,633616,657523,701803,730283,771251,817917,858372,863509,877201,894942,886159]
["Y10,T,LI",396,349,386,386,401,407,390,439,408,452,388,432,384,438,406,395,435,388,359,402,393,372,402,383,390,353,339,363,364,342,352,413,369,391,449]
["Y10,T,LT",26394,26794,26657,28274,30996,33804,34642,35597,37203,39001,40518,45677,51874,52424,53811,52701,53789,56119,57888,56906,56377,56688,53363,52616,53319,53107,52944,52601,52795,52227,52627,53160,55834,56260,56271]
["Y10,T,LU",6112,6034,5996,5993,6330,6163,5815,6037,6159,5954,5930,5744,5645,5469,5599,5266,5258,4894,4979,4481,4564,4513,4470,4622,4376,4307,4160,4099,4011,4067,3970,4051,4329,4771,4858]
["Y10,T,LV",18584,19166,18572,18202,18994,18294,17607,17948,18922,20528,22662,24975,29852,31653,34262,35611,37858,38833,39320,38623,38952,39369,37230,36319,34753,34837,34733,34304,35147,35254,35241,35201,36134,36351,35252]
["Y10,T,MD",": ",36199,36362,37187,38122,39213,40812,43173,46793,47519,": ",": ",": ",": ",": ",": ",": ",": ",": ",": ",": ",": ",": ",": ",": ",": ",": ",": ",": ",": ",": ",": ",": ",": ",": "]
["Y10,T,ME",7377,7825,8213,8236,8160,8049,8427,8442,8759,9000,8689,8817,8763,8733,8727,8657,": ",": ",": ",": ",": ",": ",": ",": ",": ",": ",": ",": ",": ",": ",": ",": ",": ",": ",": "]
["Y10,T,MK",22982,23204,22858,24252,25509,24075,25593,25847,27746,28519,30065,29901,31182,31786,31185,31461,32734,33127,32551,33164,33462,33237,": ",": ",": ",": ",": ",": ",": ",": ",": ",": ",": ",": ",": "]
["Y10,T,MT",3898,4028,3907,3952,4350,4356,4614,4793,4923,5067,4946,5265,5508,5641,5679,5700,5583,5487,5360,5400,5421,5732,5849,5591,5565,5763,5641,5625,5654,5634,5320,5056,": ",4902,4695]
["Y10,T,NL",194196,200712,201347,203234,206735,201773,200150,194269,193053,193786,199796,199615,201570,203950,203705,194749,192149,192255,190170,184141,180099,175259,176193,181732,184264,178322,178724,176401,179625,181473,190683,200155,219312,232376,244121]
["Y10,T,NO",61593,60813,59183,60108,62213,62096,61119,62364,63386,62562,62021,61535,62277,62730,62611,60844,58774,55377,53956,52526,51801,51346,52313,51960,52066,52377,52465,51573,53971,56711,60186,61720,64538,65724,64813]
["Y10,T,PL",353677,347848,351747,364728,374955,378205,390904,406705,426502,438611,464067,483433,505414,535816,550087,556842,575249,590973,618741,659448,681923,699835,683858,653289,668345,659512,": ",": ",": ",": ",601889,": ",": ",": ",": "]
["Y10,T,PT",103515,106278,107282,106976,116752,114042,110580,110153,109185,108390,108488,113088,113945,115166,112977,112747,112307,112535,115478,119986,127022,130357,136720,139880,147465,152315,153392,162329,172121,174839,171930,169433,173661,170719,171563]
["Y10,T,RO",208998,209603,207351,211077,214213,214591,216323,227268,241324,243123,253441,255422,258398,257241,282474,350034,348021,357379,355259,338492,328147,299698,325894,358517,378357,390076,396418,403139,397052,395775,401265,362261,372020,376162,400859]
["Y10,T,RS",71228,72268,71465,72217,67811,70007,72306,74854,78172,82204,81648,83093,83190,85994,85386,86002,91353,": ",": ",": ",": ",": ",": ",": ",": ",": ",": ",": ",": ",": ",": ",": ",": ",": ",": "]
["Y10,T,RU",": ",1459623,": ",": ",1333174,1253949,1304515,1275181,1326151,1390546,": ",": ",": ",": ",": ",": ",": ",": ",": ",": ",": ",": ",": ",": ",": ",": ",": ",": ",": ",": ",": ",": ",": ",": ",": "]
["Y10,T,SE",109902,107081,102808,98015,97117,94374,94660,95019,98849,106038,114602,119357,124930,127140,127902,120657,117210,110168,107908,104595,100134,96919,97210,97682,99998,98321,94633,97353,99714,104997,111324,110506,112567,113925,109765]
["Y10,T,SI",18493,17772,18178,18168,18802,18003,18321,18553,19236,19250,19809,20048,20189,21727,22364,23215,25186,25502,25073,26129,26445,27107,28234,29313,30300,30525,30452,30274,30585,29876,28993,29186,28844,27993,": "]
["Y10,T,SK",53991,51681,50889,51547,55034,55938,56705,58416,59755,61036,65792,72217,73720,77316,78049,77477,80720,81359,84299,87531,88123,88939,89382,89875,91805,96553,96389,96147,96167,94186,94138,89610,84646,80022,77814]
["Y10,T,SM",": ",": ",328,363,": ",": ",": ",": ",": ",": ",": ",": ",": ",": ",": ",": ",": ",": ",": ",": ",": ",": ",": ",": ",": ",": ",": ",": ",": ",": ",": ",": ",": ",": ",": "]
["Y10,T,TR",1214644,1194004,1213133,1300589,1317536,1337945,1325765,1318083,": ",": ",": ",": ",": ",": ",": ",1263088,1241530,1242465,1259443,1277956,1297437,1318946,1335962,1347972,1356481,1546825,1500078,1454744,1410779,1368142,1326796,1314015,1301358,1288823,1276411]
["Y10,T,UA",": ",403163,384840,369864,380977,385654,409758,427647,462163,480344,": ",": ",": ",": ",": ",": ",": ",": ",": ",": ",": ",": ",": ",": ",": ",": ",": ",": ",": ",": ",": ",": ",": ",": ",": "]
["Y10,T,UK",724034,703856,684864,685519,701084,718176,730754,743079,747763,742472,748902,758772,772168,787549,784883,774646,775738,770537,756152,751020,735556,719886,719462,726176,734649,722252,680339,647251,656010,682625,706383,744174,795277,847879,870681]
["Y11,F,AD",": ",": ",400,397,397,422,392,376,347,330,369,366,352,327,332,324,280,303,315,287,332,390,340,369,345,331,360,328,349,364,": ",": ",": ",": ",": "]
["Y11,F,AL",18079,17630,": ",": ",": ",": ",": ",": ",28980,27896,27919,29457,": ",": ",": ",": ",": ",": ",": ",": ",": ",": ",": ",": ",": ",": ",": ",": ",": ",": ",": ",": ",": ",": ",": "]
["Y11,F,AM",": ",": ",": ",": ",": ",19352,20904,21872,22789,23675,": ",": ",": ",": ",": ",": ",": ",": ",": ",": ",": ",": ",": ",": ",": ",": ",": ",": ",": ",": ",": ",": ",": ",": ",": "]
["Y11,F,AT",39854,40803,39207,40659,40554,42067,43521,45416,45134,46494,47651,47629,48040,46837,46476,45761,45262,45397,45059,46301,45983,48025,47488,45199,41706,41214,41249,41877,44416,45904,46245,49949,52795,54508,58566]
["Y11,F,AZ",": ",59410,57880,60758,63038,65780,59800,69700,74500,81200,": ",": ",": ",": ",": ",": ",": ",": ",": ",": ",": ",": ",": ",": ",": ",": ",": ",": ",": ",": ",": ",": ",": ",": ",": "]
["Y11,F,BE",59664,58974,59973,60423,59458,58955,59579,59415,58484,58277,60669,62580,63234,62421,60853,60195,58770,58256,56913,57697,57966,59390,60789,61089,59899,59863,59414,58539,58055,60050,63020,65668,68332,68857,69304]
["Y11,F,BG",30430,29810,30067,32130,32615,29370,27982,31700,32185,35150,37839,39960,42190,45979,49942,50979,51050,53023,52181,53774,54056,54466,55437,57278,61077,62167,65822,67268,67248,69946,63596,60688,62624,63236,65372]
["Y11,F,BY",": ",42792,43305,44683,44383,": ",43153,45404,47934,52343,": ",": ",": ",": ",": ",": ",": ",": ",": ",": ",": ",": ",": ",": ",": ",": ",": ",": ",": ",": ",": ",": ",": ",": ",": "]
["Y11,F,CH",38264,38274,38017,40066,39822,39830,40178,40970,40458,41164,41501,43272,43099,42674,41722,41755,40087,40190,39917,39317,38703,39178,37954,38093,36447,35755,35902,36095,36131,37716,38633,40448,42678,43721,45332]
["Y11,F,CY",4267,4115,4526,4521,4576,4657,4921,5043,5061,5342,5442,5756,5159,5317,5135,5391,5234,5278,5215,5394,5347,5126,4834,": ",": ",": ",": ",": ",": ",": ",": ",": ",": ",4119,": "]
["Y11,F,CZ",45927,45433,44545,43792,43575,43776,44048,43962,46486,51875,58720,58802,62159,62975,62035,63675,62429,63639,65183,65401,65520,67839,68875,73039,81908,85812,87231,89812,92090,92650,86202,78053,73764,70955,67882]
["Y11,F,DE",350910,353805,362242,378922,376939,385436,397755,390731,379605,383894,399815,410507,425454,466367,460727,471886,459359,452387,435969,431157,431500,439882,435564,433433,405006,287180,281119,286043,282996,294794,302576,338381,379646,397142,444399]
["Y11,F,DE_TOT",350910,353805,362242,378922,376939,385436,397755,390731,379605,383894,399815,410507,425454,466367,460727,471886,459359,452387,435969,431157,431500,439882,435564,433433,405006,394032,386225,378007,368773,379434,388186,434035,491164,510264,557581]
["Y11,F,DK",32302,31749,32476,33299,32980,32890,33605,33737,34849,35166,33953,34097,32666,32257,31198,29824,28391,28160,27570,26436,25731,26427,26743,28597,29370,30615,30538,31959,35525,34879,34976,36822,36342,34627,34494]
["Y11,F,EA18",1677711,1666969,1678322,1713778,1677094,1669754,1674435,1664986,1644698,1650031,1682771,1736467,1759137,1806343,1784921,1797265,1775059,1787995,1771814,1785112,1801350,1866276,1891998,": ",": ",": ",": ",": ",": ",": ",": ",": ",": ",": ",": "]
["Y11,F,EA19",1690576,1679746,1692018,1728652,1693234,1686354,1691660,1683119,1663609,1669657,1704907,1761738,1784516,1832520,1810640,1823613,1802658,1816091,1799930,1812589,1828738,1892402,1917625,": ",": ",": ",": ",": ",": ",": ",": ",": ",": ",": ",": "]
["Y11,F,EE",6191,6152,5863,6003,5780,5630,5750,6180,6280,6610,6910,8110,8420,9430,10150,10410,10675,10304,10451,10875,10889,10638,10708,10984,10829,11019,10940,11087,10741,10846,10603,11050,10811,10881,10306]
["Y11,F,EEA30",2546213,2523558,2542251,2599762,2570851,2574113,2595931,2614426,2616382,2653260,2719915,2802961,2856935,2926934,2925344,2945954,2927720,2951428,2943261,2949111,2952666,3026182,3063081,": ",": ",": ",": ",": ",": ",": ",": ",": ",": ",": ",": "]
["Y11,F,EEA31",2565574,2543237,2562367,2621007,2592934,2597415,2620403,2639008,2640091,2676919,2743424,2825618,2881467,2951350,2949687,": ",": ",": ",": ",": ",": ",": ",": ",": ",": ",": ",": ",": ",": ",": ",": ",": ",": ",": ",": "]
["Y11,F,EFTA",70477,69760,69853,72963,72611,72224,73045,74320,73263,73829,74236,75892,76104,75843,73728,72954,69481,68436,67699,66851,65951,67011,65830,65793,64391,63495,63236,64690,66252,69583,70929,74405,77052,77375,80595]
["Y11,F,EL",51369,52035,52389,52554,52578,52672,52828,53299,53198,54492,53715,57047,59406,59685,51838,52822,53613,56598,59647,61836,65481,69203,71649,75275,73326,72161,72292,72619,72776,72949,65300,66589,69691,74391,72153]
["Y11,F,ES",229798,220517,220010,218466,213907,205700,205916,200920,196805,195598,200535,206020,200560,200818,201765,203830,208081,213570,221729,231377,242142,253730,265196,278908,290388,302960,312761,319927,321980,324128,322814,321369,319726,319123,319635]
["Y11,F,EU27",2514000,2492072,2510415,2566865,2538062,2541719,2563064,2581076,2583577,2620595,2687180,2770341,2823930,2893765,2893338,2914755,2898326,2923182,2915479,2921577,2925418,2998349,3035205,": ",": ",": ",": ",": ",": ",": ",": ",": ",": ",": ",": "]
["Y11,F,EU28",2533361,2511751,2530531,2588110,2560145,2565021,2587536,2605658,2607286,2644254,2710689,2792998,2848462,2918181,2917681,": ",": ",": ",": ",": ",": ",": ",": ",": ",": ",": ",": ",": ",": ",": ",": ",": ",": ",": ",": "]
["Y11,F,FI",28797,27943,28170,28165,28740,28346,29619,29951,31210,32274,32130,32908,32496,32476,31512,31565,29788,30214,31268,32418,33160,32684,31628,31278,31555,31435,32106,32442,31632,30472,27410,28416,29934,30975,31646]
["Y11,F,FR",401062,398693,404297,411192,390409,387215,379474,382661,379638,369729,367434,382266,387256,390178,393457,391522,388894,393260,387282,384381,377078,399998,404072,405581,383235,": ",": ",": ",": ",": ",": ",": ",": ",": ",": "]
["Y11,F,FX",": ",": ",388885,395233,375007,372128,364216,367767,364435,354214,352019,366227,371147,374131,377345,376341,374224,378712,372740,369937,363286,386465,390905,392371,370331,361417,364370,353924,365964,390625,416956,426867,428416,412801,409501]
["Y11,F,GE",": ",21403,": ",21148,23462,23763,25355,26951,28738,27786,": ",": ",": ",": ",": ",": ",": ",": ",": ",": ",": ",": ",": ",": ",": ",": ",": ",": ",": ",": ",": ",": ",": ",": ",": "]
["Y11,F,HR",19361,19679,20116,21245,22083,23302,24472,24582,23709,23659,23509,22657,24532,24416,24343,": ",": ",": ",": ",": ",": ",": ",": ",": ",": ",": ",": ",": ",": ",": ",": ",": ",": ",": ",": "]
["Y11,F,HU",45872,47003,46992,47290,46020,47192,47904,50850,53980,55165,56397,58450,61026,61332,59588,59990,60443,62864,64178,61359,61790,63834,68281,70951,75795,79138,84175,87084,90958,87059,73896,71733,70723,71357,71779]
["Y11,F,IE",31172,31046,30503,29787,29557,29341,28710,27895,26620,26087,25891,26591,27600,27742,27718,27809,28743,29618,30038,30485,31660,32719,33732,34710,34585,33503,32346,32748,33111,33225,": ",": ",": ",": ",": "]
["Y11,F,IS",2099,2032,2038,2169,2141,2119,2111,2185,2123,2208,2324,2226,2183,2372,2198,2201,1938,1885,1958,1978,2122,2102,2085,2219,2175,1994,1925,2004,2060,1970,2113,2216,1972,1870,2011]
["Y11,F,IT",276852,274889,272344,274546,269745,267561,265388,264098,261065,262581,267260,276807,276089,278429,272129,271288,261019,265187,274665,277391,283789,294707,300891,305720,321259,343191,357405,377255,400331,419687,422263,427221,436195,433632,448201]
["Y11,F,LI",168,193,180,195,217,211,221,207,219,186,217,207,203,215,185,202,192,188,195,192,183,199,181,187,171,184,176,164,195,177,205,179,194,204,208]
["Y11,F,LT",12865,12777,13696,14874,16140,16600,17225,18133,18911,19626,22136,25271,25379,26177,25719,26348,27599,28096,28116,27477,27388,26126,25627,25987,26045,25927,25923,26020,25904,26128,26096,27353,27744,27591,26688]
["Y11,F,LU",2907,2931,3043,3063,3086,2834,3011,2994,2924,2995,2792,2810,2649,2702,2624,2608,2412,2426,2184,2192,2272,2210,2222,2219,2103,2019,2008,1964,1992,1913,1942,2072,2300,2431,2384]
["Y11,F,LV",9163,8959,8895,9244,8805,8529,8618,9069,9910,11039,12305,14588,15524,16746,17223,17977,18584,18905,18450,18863,18777,17744,17214,17584,16732,16835,16877,17235,17347,17152,17162,17543,18011,17317,16303]
["Y11,F,MD",": ",17648,18017,18529,19087,19881,21170,22925,24370,25021,": ",": ",": ",": ",": ",": ",": ",": ",": ",": ",": ",": ",": ",": ",": ",": ",": ",": ",": ",": ",": ",": ",": ",": ",": "]
["Y11,F,ME",3750,3899,3979,3943,3858,4044,4023,4248,4361,4209,4235,4379,4354,4339,4330,4301,": ",": ",": ",": ",": ",": ",": ",": ",": ",": ",": ",": ",": ",": ",": ",": ",": ",": ",": "]
["Y11,F,MK",11267,11047,11759,12343,11613,12400,12488,13411,13693,14700,14552,15197,15611,14988,15249,15860,15888,15928,16259,16312,16138,16544,": ",": ",": ",": ",": ",": ",": ",": ",": ",": ",": ",": ",": "]
["Y11,F,MT",2034,1886,1932,2202,2158,2246,2281,2372,2413,2515,2538,2688,2739,2767,2859,2741,2684,2501,2692,2633,2812,2913,2748,2705,2826,2688,2701,2736,2696,2511,2492,2424,": ",2244,2133]
["Y11,F,NL",98126,98419,99384,101411,98557,97917,95345,93720,94595,97439,97489,98349,99924,99585,95887,94254,94007,93674,90500,88065,85985,86416,89483,90300,87543,87630,86442,87597,88918,93218,97998,107635,113676,119462,123307]
["Y11,F,NO",29946,29261,29618,30533,30431,30064,30535,30958,30463,30271,30194,30187,30619,30582,29623,28796,27264,26173,25629,25364,24943,25532,25610,25294,25598,25562,25233,26427,27866,29720,29978,31562,32208,31580,33044]
["Y11,F,PL",169388,171004,177544,182576,184319,189435,198167,207695,214381,227366,236247,247052,261091,268486,271377,279821,287370,302831,323037,332805,342790,333933,319412,327582,321707,316778,": ",": ",": ",": ",282304,": ",": ",": ",": "]
["Y11,F,PT",51824,52104,51883,56720,56025,54203,54215,53007,52569,52615,55304,55944,56169,55601,55002,55430,55432,56954,58757,62271,63599,67141,68546,71809,74318,75235,79969,84309,85653,84411,83020,85402,83509,84196,83235]
["Y11,F,RO",101614,100703,102218,107947,106983,107738,108417,114768,122734,123444,129488,131120,132246,143911,171544,170924,174890,174119,165476,160610,146694,159684,175300,187564,189240,194057,197045,193197,193003,195812,176331,181821,183538,195934,211332]
["Y11,F,RS",35105,34946,35126,33008,32795,35534,36562,38046,39870,39767,40476,40838,42390,41870,42342,44560,45353,": ",": ",": ",": ",": ",": ",": ",": ",": ",": ",": ",": ",": ",": ",": ",": ",": ",": "]
["Y11,F,RU",": ",687983,": ",": ",624330,637829,624105,648578,681439,707450,": ",": ",": ",": ",": ",": ",": ",": ",": ",": ",": ",": ",": ",": ",": ",": ",": ",": ",": ",": ",": ",": ",": ",": ",": "]
["Y11,F,SE",52753,50890,48075,47407,46349,46236,46630,48787,51954,56266,58565,60898,61924,62561,58898,56948,54092,52570,50806,48701,47588,47564,47907,49010,48260,46481,47474,48766,51492,54381,54104,54926,55491,53714,52598]
["Y11,F,SI",8592,8839,8774,9097,8761,8854,9077,9308,9383,9744,9769,9749,10577,10948,11297,12201,12511,12249,12674,13054,13304,13702,14224,14853,14698,14582,14662,14981,14741,13901,14145,13968,13494,13329,": "]
["Y11,F,SK",25129,24859,24887,26803,27459,27591,28427,28907,29804,32306,35122,36118,37841,38294,38269,39575,39991,41217,42863,43166,43398,43581,44177,44605,47553,47345,46791,46875,46338,46107,43972,41512,39068,37923,37396]
["Y11,F,SM",": ",": ",181,154,": ",": ",": ",": ",": ",": ",": ",": ",": ",": ",": ",": ",": ",": ",": ",": ",": ",": ",": ",": ",": ",": ",": ",": ",": ",": ",": ",": ",": ",": ",": "]
["Y11,F,TR",581592,590365,633010,642280,654079,645321,641669,618055,": ",": ",": ",": ",": ",": ",": ",606519,605486,613470,622978,632470,642475,650481,655989,660486,664492,599430,588312,577401,566691,556181,545865,527949,510620,493860,477650]
["Y11,F,UA",": ",186433,179524,185080,187763,200479,208561,225359,234191,243402,": ",": ",": ",": ",": ",": ",": ",": ",": ",": ",": ",": ",": ",": ",": ",": ",": ",": ",": ",": ",": ",": ",": ",": ",": "]
["Y11,F,UK",345138,335734,336480,343772,351987,358728,364651,366458,363399,366506,371064,378224,386112,383744,378116,378981,377003,369885,367118,359902,352511,352200,355625,359937,353193,332328,315884,319960,333611,345272,362535,386555,412047,423329,428936]
["Y11,M,AD",": ",": ",418,466,466,432,468,400,427,403,392,392,328,344,357,334,323,331,319,321,358,393,345,353,401,363,380,377,376,390,": ",": ",": ",": ",": "]
["Y11,M,AL",19550,18469,": ",": ",": ",": ",": ",": ",31370,29371,28880,31077,": ",": ",": ",": ",": ",": ",": ",": ",": ",": ",": ",": ",": ",": ",": ",": ",": ",": ",": ",": ",": ",": ",": "]
["Y11,M,AM",": ",": ",": ",": ",": ",21956,23493,24080,24419,25379,": ",": ",": ",": ",": ",": ",": ",": ",": ",": ",": ",": ",": ",": ",": ",": ",": ",": ",": ",": ",": ",": ",": ",": ",": "]
["Y11,M,AT",42029,42688,41589,42798,42596,44208,45465,47704,47305,48828,49895,50464,50545,49234,48474,48696,47327,47453,47842,48211,48387,49798,49917,48122,44374,43646,43184,44147,46559,47880,48342,51991,54930,57193,60808]
["Y11,M,AZ",": ",67640,66458,68828,71258,72813,65600,75700,80500,87800,": ",": ",": ",": ",": ",": ",": ",": ",": ",": ",": ",": ",": ",": ",": ",": ",": ",": ",": ",": ",": ",": ",": ",": ",": "]
["Y11,M,BE",62304,61697,62325,63346,61872,61634,62187,61827,61080,61681,63228,65410,66236,65262,63769,63216,61807,61810,59852,60232,61103,62370,63986,63577,63743,62234,61899,61183,60629,63071,66040,68947,71303,72413,72020]
["Y11,M,BG",32232,32125,31897,33721,34008,31060,30050,33718,33673,36767,39674,42455,44607,48782,52384,53555,53376,55414,54708,56885,56765,57837,59191,60455,64599,65418,68753,70976,70598,73348,66494,64192,66341,67553,68411]
["Y11,M,BY",": ",45160,45914,46880,46779,": ",45066,47980,51245,55026,": ",": ",": ",": ",": ",": ",": ",": ",": ",": ",": ",": ",": ",": ",": ",": ",": ",": ",": ",": ",": ",": ",": ",": ",": "]
["Y11,M,CH",40106,40429,40308,42481,41730,42217,42564,43461,42835,43459,43727,45312,45555,44977,44209,44262,42190,42246,41632,42023,41069,40869,40513,39850,38124,37701,38059,37151,37968,39519,41012,42899,44990,46282,47252]
["Y11,M,CY",4504,4475,4707,4833,4656,4999,5034,5337,5494,5593,5707,5908,5695,5569,5644,5675,5482,5647,5681,5759,5655,5490,5205,": ",": ",": ",": ",": ",": ",": ",": ",": ",": ",4215,": "]
["Y11,M,CZ",48527,48035,47064,47020,45774,46298,46356,46363,49157,54647,61685,62246,65878,65987,64792,66273,65844,66935,68197,68541,68960,70682,72195,77434,86097,89621,91142,93788,95669,97200,91287,81981,76917,73867,71605]
["Y11,M,DE",369612,373361,381776,396406,398450,405875,419004,412363,399472,405460,421559,431053,447799,492255,484274,498212,486661,476533,458709,454923,454717,463995,457404,455260,426963,303534,297109,301145,294624,304013,313174,352564,398800,417102,467660]
["Y11,M,DE_TOT",369612,373361,381776,396406,398450,405875,419004,412363,399472,405460,421559,431053,447799,492255,484274,498212,486661,476533,458709,454923,454717,463995,457404,455260,426963,416076,407795,397450,385091,392632,402896,452949,516277,535388,586225]
["Y11,M,DK",33909,33562,33797,34791,34343,34644,35378,35555,36845,36826,35742,36089,34398,34038,32757,31586,30189,29651,28731,27651,26755,27794,27661,29760,30719,32083,31903,33836,36676,36269,36470,38202,38455,36200,36511]
["Y11,M,EA18",1765041,1756294,1764584,1802934,1764871,1761279,1762493,1756796,1730797,1736164,1769339,1825045,1852334,1903179,1873787,1892950,1867805,1878413,1860034,1873065,1893659,1959329,1984450,": ",": ",": ",": ",": ",": ",": ",": ",": ",": ",": ",": "]
["Y11,M,EA19",1778747,1769894,1778858,1818739,1781996,1779121,1780721,1775680,1750746,1756774,1792615,1851270,1879080,1930264,1900686,1920321,1896260,1908023,1888542,1901568,1922467,1986035,2010915,": ",": ",": ",": ",": ",": ",": ",": ",": ",": ",": ",": "]
["Y11,M,EE",6355,6348,6298,6558,6070,6010,6210,6510,6570,6770,7480,8620,8940,10160,10950,11110,11298,10870,10777,11117,11315,10983,11275,11414,11317,11334,11525,11398,11293,11094,11237,11657,11466,11175,10763]
["Y11,M,EEA30",2678972,2658002,2672755,2735972,2703943,2713043,2731749,2755538,2752378,2788277,2856643,2944124,3005727,3078175,3069712,3095317,3076579,3094221,3083846,3091806,3096164,3172802,3208853,": ",": ",": ",": ",": ",": ",": ",": ",": ",": ",": ",": "]
["Y11,M,EEA31",2699315,2678641,2693927,2758477,2727099,2737352,2757323,2781637,2777251,2812557,2881408,2968078,3031632,3103602,3095127,": ",": ",": ",": ",": ",": ",": ",": ",": ",": ",": ",": ",": ",": ",": ",": ",": ",": ",": ",": "]
["Y11,M,EFTA",73640,73019,73484,76963,76056,76069,77320,78747,77646,77992,77807,80194,80512,79759,78003,77169,72859,72277,70688,70845,69913,70355,69487,69234,67430,66895,66684,67127,69154,72334,75275,78437,80902,81841,84261]
["Y11,M,EL",53979,54487,54758,54844,54823,54953,55105,55298,55219,56959,55592,60766,63363,62538,54984,56059,56423,60026,63181,65317,69630,72855,76345,80086,77707,76429,76204,76370,76588,76898,70300,71119,71196,79006,78058]
["Y11,M,ES",242135,233430,231683,233150,225455,219108,217057,211058,207882,207187,212338,216912,212678,211981,213349,215234,219518,225100,233384,243274,254545,266780,278673,293127,305221,318413,328761,336491,339111,341738,341322,340012,338276,336918,337598]
["Y11,M,EU27",2645438,2625412,2639579,2701490,2669617,2679191,2696993,2720252,2717567,2753744,2822563,2909242,2970770,3043393,3035918,3062410,3045910,3064190,3054790,3062984,3067320,3143316,3179879,": ",": ",": ",": ",": ",": ",": ",": ",": ",": ",": ",": "]
["Y11,M,EU28",2665781,2646051,2660751,2723995,2692773,2703500,2722567,2746351,2742440,2778024,2847328,2933196,2996675,3068820,3061333,": ",": ",": ",": ",": ",": ",": ",": ",": ",": ",": ",": ",": ",": ",": ",": ",": ",": ",": ",": "]
["Y11,M,FI",29763,29412,29401,29887,29907,29544,30508,31435,32490,33398,33248,34380,33620,34070,32924,32899,31223,31676,32569,33771,34711,34611,32996,32803,32580,32980,33495,34001,33410,31550,29063,30222,30958,32188,33228]
["Y11,M,FR",420187,419000,423361,430634,410382,407157,400846,403713,397637,386250,385246,401723,406355,411337,411371,410747,406461,411208,405376,401427,394693,419976,424411,424892,402037,": ",": ",": ",": ",": ",": ",": ",": ",": ",": "]
["Y11,M,FX",": ",": ",407387,413871,394077,390961,385155,387764,382081,370558,369077,384518,390029,394462,395046,394992,391208,395935,390288,386429,380278,405924,410751,411253,388623,378807,381692,370084,382657,410013,438511,450162,451197,437078,432400]
["Y11,M,GE",": ",23744,": ",23764,26235,26443,27554,29604,30749,29384,": ",": ",": ",": ",": ",": ",": ",": ",": ",": ",": ",": ",": ",": ",": ",": ",": ",": ",": ",": ",": ",": ",": ",": ",": "]
["Y11,M,HR",20343,20639,21172,22505,23156,24309,25574,26099,24873,24280,24765,23954,25905,25427,25415,": ",": ",": ",": ",": ",": ",": ",": ",": ",": ",": ",": ",": ",": ",": ",": ",": ",": ",": ",": "]
["Y11,M,HU",48380,49472,49764,50098,48259,49249,50918,53774,56798,57927,58767,61349,63875,63849,62553,63010,63397,65003,66768,63538,64152,67474,71395,74151,79292,83187,88207,92362,96272,91838,78414,76445,74737,75563,76909]
["Y11,M,IE",32592,32224,31676,31350,31014,30870,30101,29314,28155,27440,27103,28008,28806,29459,29087,29011,29930,31494,31830,32371,33385,34490,35789,37134,36525,34334,34005,34532,34971,35500,": ",": ",": ",": ",": "]
["Y11,M,IS",2129,2056,2144,2236,2077,2213,2247,2304,2267,2332,2337,2391,2309,2424,2272,2381,2188,1960,1883,2085,2146,2270,2259,2306,2273,2057,1986,2148,2108,2094,2302,2285,2128,1992,2037]
["Y11,M,IT",293373,290864,287753,290793,285519,284690,281223,280137,277058,277786,282354,291333,291924,293288,286194,286776,275401,279050,287181,290571,298411,307341,313920,319714,336157,358599,372853,393813,417374,438390,440865,449503,458262,454866,468970]
["Y11,M,LI",180,194,207,207,187,178,224,204,233,207,212,181,237,200,218,242,206,180,198,205,188,201,210,212,183,159,189,199,150,180,205,187,201,253,227]
["Y11,M,LT",13706,13600,14274,15805,17125,17842,18228,18884,19949,20610,23276,26225,26746,27085,26899,27371,28455,29610,28508,28503,28808,26706,26465,26994,26736,26847,26676,26800,26315,26488,27226,28530,28856,29014,28238]
["Y11,M,LU",3176,3142,3066,3314,3171,3032,3080,3224,3083,2991,2994,2877,2838,2926,2719,2665,2515,2594,2328,2403,2267,2301,2452,2185,2241,2147,2104,2064,2090,2031,2097,2235,2456,2414,2513]
["Y11,M,LV",9847,9411,9141,9563,9216,8868,9210,9773,10562,11523,12603,15102,16068,17237,18130,19121,19488,19613,19444,19350,19718,18598,17910,18323,17435,17488,17433,17907,17894,17993,18100,18600,18495,18074,17265]
["Y11,M,MD",": ",18720,19168,19583,20113,20905,21982,23856,25261,26529,": ",": ",": ",": ",": ",": ",": ",": ",": ",": ",": ",": ",": ",": ",": ",": ",": ",": ",": ",": ",": ",": ",": ",": ",": "]
["Y11,M,ME",4078,4290,4247,4221,4089,4308,4357,4461,4617,4445,4573,4805,4787,4771,4761,4730,": ",": ",": ",": ",": ",": ",": ",": ",": ",": ",": ",": ",": ",": ",": ",": ",": ",": ",": "]
["Y11,M,MK",11932,11805,12489,13159,12461,13185,13353,14331,14809,15344,15338,15976,16581,16189,16214,16870,17229,16620,16893,17139,17098,17433,": ",": ",": ",": ",": ",": ",": ",": ",": ",": ",": ",": ",": "]
["Y11,M,MT",2033,2050,2038,2160,2210,2370,2523,2555,2645,2601,2736,2831,2909,2919,2947,2844,2806,2864,2866,2791,2926,2945,2846,2881,2948,2961,2926,2914,2934,2783,2550,2548,": ",2452,2391]
["Y11,M,NL",102917,103155,103940,105577,103486,102594,99103,99306,98962,102004,101848,103317,104438,104801,99702,98575,98978,97122,94245,92436,89843,90592,92881,94747,91441,91839,90457,92552,92964,97768,102055,111586,119328,125136,129210]
["Y11,M,NO",31225,30340,30825,32039,32062,31461,32285,32778,32311,31994,31531,32310,32411,32158,31304,30284,28275,27891,26975,26532,26510,27015,26505,26866,26850,26978,26450,27629,28928,30541,31756,33066,33583,33314,34745]
["Y11,M,PL",178181,180332,186966,192191,193735,200135,208303,218535,223921,236578,247079,258218,274552,281509,285259,292731,303307,315584,336010,348567,356582,349443,333493,340302,337448,331080,": ",": ",": ",": ",294309,": ",": ",": ",": "]
["Y11,M,PT",54518,55173,55006,59751,58283,56714,56238,56489,56059,56098,58004,58330,59544,58199,57251,58054,58148,59514,61865,65617,67366,69898,71319,75033,77159,78518,82952,87904,89361,87566,86328,87998,87073,87667,87159]
["Y11,M,RO",107654,106149,108203,114026,112875,113445,114244,120547,128591,129649,135480,137334,138570,149952,178167,176744,182165,180815,172681,167187,152701,165889,183667,195040,199212,201716,205551,203317,202254,204907,185432,189704,192166,204474,220436]
["Y11,M,RS",37227,36920,37062,34773,35228,36855,38375,40239,42491,41975,42803,42482,44172,43880,44078,47310,47857,": ",": ",": ",": ",": ",": ",": ",": ",": ",": ",": ",": ",": ",": ",": ",": ",": ",": "]
["Y11,M,RU",": ",722424,": ",": ",656887,667755,652366,679175,710160,739821,": ",": ",": ",": ",": ",": ",": ",": ",": ",": ",": ",": ",": ",": ",": ",": ",": ",": ",": ",": ",": ",": ",": ",": ",": "]
["Y11,M,SE",55521,53319,50781,50332,48645,49239,49197,50878,54929,58658,61124,64393,65720,65854,62175,60506,56365,55559,53934,51619,50458,50273,50099,51481,50558,48756,50211,51245,53704,57039,56471,57618,58351,55977,55667]
["Y11,M,SI",9190,9357,9413,9736,9266,9509,9545,9941,9898,10112,10297,10457,11166,11460,12043,12924,12965,12774,13302,13540,13812,14520,15104,15366,15831,15810,15581,15614,15209,15106,15048,14894,14533,13755,": "]
["Y11,M,SK",26527,26020,26653,28234,28495,29144,30054,30812,31226,33483,37107,37554,39410,40484,39975,41132,41374,43065,44690,44953,45590,45838,45677,46840,48968,49027,49307,49243,47786,47980,45582,43072,40901,39840,39150]
["Y11,M,SM",": ",": ",183,170,": ",": ",": ",": ",": ",": ",": ",": ",": ",": ",": ",": ",": ",": ",": ",": ",": ",": ",": ",": ",": ",": ",": ",": ",": ",": ",": ",": ",": ",": ",": "]
["Y11,M,TR",613387,624580,667271,675604,686317,679386,677170,652734,": ",": ",": ",": ",": ",": ",": ",636016,635984,644967,655475,665967,677470,686481,692984,697989,701989,642479,631825,621348,611044,600912,590947,574328,558176,542478,527222]
["Y11,M,UA",": ",198396,190341,195858,197828,209214,219022,236681,246055,256226,": ",": ",": ",": ",": ",": ",": ",": ",": ",": ",": ",": ",": ",": ",": ",": ",": ",": ",": ",": ",": ",": ",": ",": ",": "]
["Y11,M,UK",362287,352524,352249,360572,369982,376000,381826,385202,382907,385918,390397,395888,404090,403158,397145,397684,395007,387206,385219,377428,368480,367889,371263,375986,370639,349560,332653,337253,351006,363344,382721,408321,433775,445822,451845]
["Y11,T,AD",": ",": ",818,863,863,854,860,776,774,733,761,758,680,671,689,658,603,634,634,608,690,783,685,722,746,694,740,705,725,754,": ",": ",": ",": ",": "]
["Y11,T,AL",37629,36099,": ",": ",": ",": ",": ",": ",60350,57267,56799,60534,": ",": ",": ",": ",": ",": ",": ",": ",": ",": ",": ",": ",": ",": ",": ",": ",": ",": ",": ",": ",": ",": ",": "]
["Y11,T,AM",": ",": ",": ",": ",": ",41308,44397,45952,47208,49054,": ",": ",": ",": ",": ",": ",": ",": ",": ",": ",": ",": ",": ",": ",": ",": ",": ",": ",": ",": ",": ",": ",": ",": ",": "]
["Y11,T,AT",81883,83491,80796,83457,83150,86275,88986,93120,92439,95322,97546,98093,98585,96071,94950,94457,92589,92850,92901,94512,94370,97823,97405,93321,86080,84860,84433,86024,90975,93784,94587,101940,107725,111701,119374]
["Y11,T,AZ",": ",127050,124338,129586,134296,138593,125400,145400,155000,169000,": ",": ",": ",": ",": ",": ",": ",": ",": ",": ",": ",": ",": ",": ",": ",": ",": ",": ",": ",": ",": ",": ",": ",": ",": "]
["Y11,T,BE",121968,120671,122298,123769,121330,120589,121766,121242,119564,119958,123897,127990,129470,127683,124622,123411,120577,120066,116765,117929,119069,121760,124775,124666,123642,122097,121313,119722,118684,123121,129060,134615,139635,141270,141324]
["Y11,T,BG",62662,61935,61964,65851,66623,60430,58032,65418,65858,71917,77513,82415,86797,94761,102326,104534,104426,108437,106889,110659,110821,112303,114628,117733,125676,127585,134575,138244,137846,143294,130090,124880,128965,130789,133783]
["Y11,T,BY",": ",87952,89219,91563,91162,": ",88219,93384,99179,107369,": ",": ",": ",": ",": ",": ",": ",": ",": ",": ",": ",": ",": ",": ",": ",": ",": ",": ",": ",": ",": ",": ",": ",": ",": "]
["Y11,T,CH",78370,78703,78325,82547,81552,82047,82742,84431,83293,84623,85228,88584,88654,87651,85931,86017,82277,82436,81549,81340,79772,80047,78467,77943,74571,73456,73961,73246,74099,77235,79645,83347,87668,90003,92584]
["Y11,T,CY",8771,8590,9233,9354,9232,9656,9955,10380,10555,10935,11149,11664,10854,10886,10779,11066,10716,10925,10896,11153,11002,10616,10039,": ",": ",": ",": ",": ",": ",": ",": ",": ",": ",8334,": "]
["Y11,T,CZ",94454,93468,91609,90812,89349,90074,90404,90325,95643,106522,120405,121048,128037,128962,126827,129948,128273,130574,133380,133942,134480,138521,141070,150473,168005,175433,178373,183600,187759,189850,177489,160034,150681,144822,139487]
["Y11,T,DE",720522,727166,744018,775328,775389,791311,816759,803094,779077,789354,821374,841560,873253,958622,945001,970098,946020,928920,894678,886080,886217,903877,892968,888693,831969,590714,578228,587188,577620,598807,615750,690945,778446,814244,912059]
["Y11,T,DE_TOT",720522,727166,744018,775328,775389,791311,816759,803094,779077,789354,821374,841560,873253,958622,945001,970098,946020,928920,894678,886080,886217,903877,892968,888693,831969,810108,794020,775457,753864,772066,791082,886984,1007441,1045652,1143806]
["Y11,T,DK",66211,65311,66273,68090,67323,67534,68983,69292,71694,71992,69695,70186,67064,66295,63955,61410,58580,57811,56301,54087,52486,54221,54404,58357,60089,62698,62441,65795,72201,71148,71446,75024,74797,70827,71005]
["Y11,T,EA18",3442752,3423263,3442906,3516712,3441965,3431033,3436928,3421782,3375495,3386195,3452110,3561512,3611471,3709522,3658708,3690215,3642864,3666408,3631848,3658177,3695009,3825605,3876448,": ",": ",": ",": ",": ",": ",": ",": ",": ",": ",": ",": "]
["Y11,T,EA19",3469323,3449640,3470876,3547391,3475230,3465475,3472381,3458799,3414355,3426431,3497522,3613008,3663596,3762784,3711326,3743934,3698918,3724114,3688472,3714157,3751205,3878437,3928540,": ",": ",": ",": ",": ",": ",": ",": ",": ",": ",": ",": "]
["Y11,T,EE",12546,12500,12161,12561,11850,11640,11960,12690,12850,13380,14390,16730,17360,19590,21100,21520,21973,21174,21228,21992,22204,21621,21983,22398,22146,22353,22465,22485,22034,21940,21840,22707,22277,22056,21069]
["Y11,T,EEA30",5225185,5181560,5215006,5335734,5274794,5287156,5327680,5369964,5368760,5441537,5576558,5747085,5862662,6005109,5995056,6041271,6004299,6045649,6027107,6040917,6048830,6198984,6271934,": ",": ",": ",": ",": ",": ",": ",": ",": ",": ",": ",": "]
["Y11,T,EEA31",5264889,5221878,5256294,5379484,5320033,5334767,5377726,5420645,5417342,5489476,5624832,5793696,5913099,6054952,6044814,": ",": ",": ",": ",": ",": ",": ",": ",": ",": ",": ",": ",": ",": ",": ",": ",": ",": ",": ",": "]
["Y11,T,EFTA",144117,142779,143337,149926,148667,148293,150365,153067,150909,151821,152043,156086,156616,155602,151731,150123,142340,140713,138387,137696,135864,137366,135317,135027,131821,130390,129920,131817,135406,141917,146204,152842,157954,159216,164856]
["Y11,T,EL",105348,106522,107147,107398,107401,107625,107933,108597,108417,111451,109307,117813,122769,122223,106822,108881,110036,116624,122828,127153,135111,142058,147994,155361,151033,148590,148496,148989,149364,149847,135600,137708,140887,153397,150211]
["Y11,T,ES",471933,453947,451693,451616,439362,424808,422973,411978,404687,402785,412873,422932,413238,412799,415114,419064,427599,438670,455113,474651,496687,520510,543869,572035,595609,621373,641522,656418,661091,665866,664136,661381,658002,656041,657233]
["Y11,T,EU27",5159438,5117484,5149994,5268355,5207679,5220910,5260057,5301328,5301144,5374339,5509743,5679583,5794700,5937158,5929256,5977165,5944236,5987372,5970269,5984561,5992738,6141665,6215084,": ",": ",": ",": ",": ",": ",": ",": ",": ",": ",": ",": "]
["Y11,T,EU28",5199142,5157802,5191282,5312105,5252918,5268521,5310103,5352009,5349726,5422278,5558017,5726194,5845137,5987001,5979014,": ",": ",": ",": ",": ",": ",": ",": ",": ",": ",": ",": ",": ",": ",": ",": ",": ",": ",": ",": "]
["Y11,T,FI",58560,57355,57571,58052,58647,57890,60127,61386,63700,65672,65378,67288,66116,66546,64436,64464,61011,61890,63837,66189,67871,67295,64624,64081,64135,64415,65601,66443,65042,62022,56473,58638,60892,63163,64874]
["Y11,T,FR",821249,817693,827658,841826,800791,794372,780320,786374,777275,755979,752680,783989,793611,801515,804828,802269,795355,804468,792658,785808,771771,819974,828483,830473,785272,": ",": ",": ",": ",": ",": ",": ",": ",": ",": "]
["Y11,T,FX",": ",": ",796272,809104,769084,763089,749371,755531,746516,724772,721096,750745,761176,768593,772391,771333,765432,774647,763028,756366,743564,792389,801656,803624,758954,740224,746062,724008,748621,800638,855467,877029,879613,849879,841901]
["Y11,T,GE",": ",45147,": ",44912,49697,50206,52909,56555,59487,57170,": ",": ",": ",": ",": ",": ",": ",": ",": ",": ",": ",": ",": ",": ",": ",": ",": ",": ",": ",": ",": ",": ",": ",": ",": "]
["Y11,T,HR",39704,40318,41288,43750,45239,47611,50046,50681,48582,47939,48274,46611,50437,49843,49758,": ",": ",": ",": ",": ",": ",": ",": ",": ",": ",": ",": ",": ",": ",": ",": ",": ",": ",": ",": "]
["Y11,T,HU",94252,96475,96756,97388,94279,96441,98822,104624,110778,113092,115164,119799,124901,125181,122141,123000,123840,127867,130946,124897,125942,131308,139676,145102,155087,162325,172382,179446,187230,178897,152310,148178,145460,146920,148688]
["Y11,T,IE",63764,63270,62179,61137,60571,60211,58811,57209,54775,53527,52994,54599,56406,57201,56805,56820,58673,61112,61868,62856,65045,67209,69521,71844,71110,67837,66351,67280,68082,68725,": ",": ",": ",": ",": "]
["Y11,T,IS",4228,4088,4182,4405,4218,4332,4358,4489,4390,4540,4661,4617,4492,4796,4470,4582,4126,3845,3841,4063,4268,4372,4344,4525,4448,4051,3911,4152,4168,4064,4415,4501,4100,3862,4048]
["Y11,T,IT",570225,565753,560097,565339,555264,552251,546611,544235,538123,540367,549614,568140,568013,571717,558323,558064,536420,544237,561846,567962,582200,602048,614811,625434,657416,701790,730258,771068,817705,858077,863128,876724,894457,888498,917171]
["Y11,T,LI",348,387,387,402,404,389,445,411,452,393,429,388,440,415,403,444,398,368,393,397,371,400,391,399,354,343,365,363,345,357,410,366,395,457,435]
["Y11,T,LT",26571,26377,27970,30679,33265,34442,35453,37017,38860,40236,45412,51496,52125,53262,52618,53719,56054,57706,56624,55980,56196,52832,52092,52981,52781,52774,52599,52820,52219,52616,53322,55883,56600,56605,54926]
["Y11,T,LU",6083,6073,6109,6377,6257,5866,6091,6218,6007,5986,5786,5687,5487,5628,5343,5273,4927,5020,4512,4595,4539,4511,4674,4404,4344,4166,4112,4028,4082,3944,4039,4307,4756,4845,4897]
["Y11,T,LV",19010,18370,18036,18807,18021,17397,17828,18842,20472,22562,24908,29690,31592,33983,35353,37098,38072,38518,37894,38213,38495,36342,35124,35907,34167,34323,34310,35142,35241,35145,35262,36143,36506,35391,33568]
["Y11,T,MD",": ",36368,37185,38112,39200,40786,43152,46781,49631,51550,": ",": ",": ",": ",": ",": ",": ",": ",": ",": ",": ",": ",": ",": ",": ",": ",": ",": ",": ",": ",": ",": ",": ",": ",": "]
["Y11,T,ME",7828,8189,8226,8164,7947,8352,8380,8709,8978,8654,8808,9184,9141,9110,9091,9031,": ",": ",": ",": ",": ",": ",": ",": ",": ",": ",": ",": ",": ",": ",": ",": ",": ",": ",": "]
["Y11,T,MK",23199,22852,24248,25502,24074,25585,25841,27742,28502,30044,29890,31173,32192,31177,31463,32730,33117,32548,33152,33451,33236,33977,": ",": ",": ",": ",": ",": ",": ",": ",": ",": ",": ",": ",": "]
["Y11,T,MT",4067,3936,3970,4362,4368,4616,4804,4927,5058,5116,5274,5519,5648,5686,5806,5585,5490,5365,5558,5424,5738,5858,5594,5586,5774,5649,5627,5650,5630,5294,5042,4972,": ",4696,4524]
["Y11,T,NL",201043,201574,203324,206988,202043,200511,194448,193026,193557,199443,199337,201666,204362,204386,195589,192829,192985,190796,184745,180501,175828,177008,182364,185047,178984,179469,176899,180149,181882,190986,200053,219221,233004,244598,252517]
["Y11,T,NO",61171,59601,60443,62572,62493,61525,62820,63736,62774,62265,61725,62497,63030,62740,60927,59080,55539,54064,52604,51896,51453,52547,52115,52160,52448,52540,51683,54056,56794,60261,61734,64628,65791,64894,67789]
["Y11,T,PL",347569,351336,364510,374767,378054,389570,406470,426230,438302,463944,483326,505270,535643,549995,556636,572552,590677,618415,659047,681372,699372,683376,652905,667884,659155,647858,": ",": ",": ",": ",576613,": ",": ",": ",": "]
["Y11,T,PT",106342,107277,106889,116471,114308,110917,110453,109496,108628,108713,113308,114274,115713,113800,112253,113484,113580,116468,120622,127888,130965,137039,139865,146842,151477,153753,162921,172213,175014,171977,169348,173400,170582,171863,170394]
["Y11,T,RO",209268,206852,210421,221973,219858,221183,222661,235315,251325,253093,264968,268454,270816,293863,349711,347668,357055,354934,338157,327797,299395,325573,358967,382604,388452,395773,402596,396514,395257,400719,361763,371525,375704,400408,431768]
["Y11,T,RS",72332,71866,72188,67781,68023,72389,74937,78285,82361,81742,83279,83320,86562,85750,86420,91870,93210,": ",": ",": ",": ",": ",": ",": ",": ",": ",": ",": ",": ",": ",": ",": ",": ",": ",": "]
["Y11,T,RU",": ",1410407,": ",": ",1281217,1305584,1276471,1327753,1391599,1447271,": ",": ",": ",": ",": ",": ",": ",": ",": ",": ",": ",": ",": ",": ",": ",": ",": ",": ",": ",": ",": ",": ",": ",": ",": "]
["Y11,T,SE",108274,104209,98856,97739,94994,95475,95827,99665,106883,114924,119689,125291,127644,128415,121073,117454,110457,108129,104740,100320,98046,97837,98006,100491,98818,95237,97685,100011,105196,111420,110575,112544,113842,109691,108265]
["Y11,T,SI",17782,18196,18187,18833,18027,18363,18622,19249,19281,19856,20066,20206,21743,22408,23340,25125,25476,25023,25976,26594,27116,28222,29328,30219,30529,30392,30243,30595,29950,29007,29193,28862,28027,27084,": "]
["Y11,T,SK",51656,50879,51540,55037,55954,56735,58481,59719,61030,65789,72229,73672,77251,78778,78244,80707,81365,84282,87553,88119,88988,89419,89854,91445,96521,96372,96098,96118,94124,94087,89554,84584,79969,77763,76546]
["Y11,T,SM",": ",": ",364,324,": ",": ",": ",": ",": ",": ",": ",": ",": ",": ",": ",": ",": ",": ",": ",": ",": ",": ",": ",": ",": ",": ",": ",": ",": ",": ",": ",": ",": ",": ",": "]
["Y11,T,TR",1194979,1214945,1300281,1317884,1340396,1324707,1318839,1270789,": ",": ",": ",": ",": ",": ",": ",1242535,1241470,1258437,1278453,1298437,1319945,1336962,1348973,1358475,1366481,1241909,1220137,1198749,1177735,1157093,1136812,1102277,1068796,1036338,1004872]
["Y11,T,UA",": ",384829,369865,380938,385591,409693,427583,462040,480246,499628,": ",": ",": ",": ",": ",": ",": ",": ",": ",": ",": ",": ",": ",": ",": ",": ",": ",": ",": ",": ",": ",": ",": ",": ",": "]
["Y11,T,UK",707425,688258,688729,704344,721969,734728,746477,751660,746306,752424,761461,774112,790202,786902,775261,776665,772010,757091,752337,737330,720991,720089,726888,735923,723832,681888,648537,657213,684617,708616,745256,794876,845822,869151,880781]
["Y12,F,AD",": ",": ",392,461,461,390,376,354,334,375,382,364,320,334,324,287,311,318,285,333,378,357,364,346,339,363,333,358,376,326,": ",": ",": ",": ",": "]
["Y12,F,AL",17518,21956,": ",": ",": ",": ",": ",": ",27438,27774,29305,31661,": ",": ",": ",": ",": ",": ",": ",": ",": ",": ",": ",": ",": ",": ",": ",": ",": ",": ",": ",": ",": ",": ",": "]
["Y12,F,AM",": ",": ",": ",": ",": ",20873,21841,22737,23627,25868,": ",": ",": ",": ",": ",": ",": ",": ",": ",": ",": ",": ",": ",": ",": ",": ",": ",": ",": ",": ",": ",": ",": ",": ",": "]
["Y12,F,AT",41081,39445,40848,40733,42184,43655,45535,45356,46634,47888,47908,48305,47025,46729,45875,45455,45483,45079,46389,46180,48200,47806,45781,42271,41597,41616,41989,44448,46013,46374,50048,52921,54495,59084,60483]
["Y12,F,AZ",": ",57871,60751,63049,65770,65035,71800,74500,81100,84100,": ",": ",": ",": ",": ",": ",": ",": ",": ",": ",": ",": ",": ",": ",": ",": ",": ",": ",": ",": ",": ",": ",": ",": ",": "]
["Y12,F,BE",59180,60172,60689,59835,59745,59964,59755,58840,58636,61050,62787,63466,62629,61121,60286,58890,58358,56964,57781,58036,59415,60877,61261,60060,59961,59507,58732,57761,60079,63013,65675,68334,68748,69043,69731]
["Y12,F,BG",29829,30035,32134,32615,28988,27975,31640,32097,35126,37767,39886,42202,45986,49266,50954,51038,53010,52158,53741,54046,54457,55423,56825,60814,61615,64259,67258,67227,69929,64279,60674,62607,63218,65354,64508]
["Y12,F,BY",": ",43329,44705,44394,43928,": ",45406,47930,52341,55604,": ",": ",": ",": ",": ",": ",": ",": ",": ",": ",": ",": ",": ",": ",": ",": ",": ",": ",": ",": ",": ",": ",": ",": ",": "]
["Y12,F,CH",38643,38398,40306,40128,40338,40503,41400,40830,41371,41653,43450,43269,43049,42025,41905,40265,40304,39953,39445,38938,39456,38299,38579,36975,35702,36192,36346,36257,37853,38670,40494,42644,43770,45384,47103]
["Y12,F,CY",4145,4478,4517,4646,4746,5017,5132,5144,5411,5505,5817,5217,5370,5064,5489,5333,5378,5319,5499,5456,5243,4956,5009,": ",": ",": ",": ",": ",": ",": ",": ",": ",": ",4175,": "]
["Y12,F,CZ",45494,44545,43825,43613,43847,44097,44083,46614,51877,58729,58883,62202,63038,61952,64074,62464,63673,65206,65416,65529,67847,68867,73068,81890,85046,87180,89799,92063,92651,86195,78052,73761,70955,67859,65285]
["Y12,F,DE",356637,361982,380412,377673,385914,397892,390619,379607,383858,400064,410915,426319,467662,462446,472820,461093,452830,437077,433894,434877,442873,439185,438405,409470,399013,288397,289745,280568,296049,303083,336568,378759,397240,446261,476087]
["Y12,F,DE_TOT",356637,361982,380412,377673,385914,397892,390619,379607,383858,400064,410915,426319,467662,462446,472820,461093,452830,437077,433894,434877,442873,439185,438405,409470,399013,391378,381352,366247,380512,388472,432015,490216,510272,559509,592142]
["Y12,F,DK",31863,32548,33387,33034,32937,33630,33779,34853,35223,33956,34111,32737,32384,31326,29930,28434,28252,27646,26568,25968,26492,26838,28705,29470,30679,30593,31990,35600,34936,35016,36835,36353,34630,34494,35887]
["Y12,F,EA18",1675363,1683754,1718105,1681155,1674566,1680323,1672878,1653365,1658129,1691393,1744544,1767606,1815713,1804757,1807323,1783814,1793856,1791705,1791888,1808143,1871960,1898553,1925752,": ",": ",": ",": ",": ",": ",": ",": ",": ",": ",": ",": "]
["Y12,F,EA19",1688052,1697338,1732845,1697118,1690908,1697484,1690936,1672190,1677685,1713350,1769611,1792740,1841577,1830194,1833504,1811391,1821912,1819727,1819226,1835339,1897839,1923945,1951506,": ",": ",": ",": ",": ",": ",": ",": ",": ",": ",": ",": "]
["Y12,F,EE",6144,5840,5970,5748,5590,5750,6160,6260,6580,6900,8090,8390,9400,10120,10370,10210,10252,10391,10749,10762,10482,10446,10602,10733,10956,10919,11084,10769,10851,10640,11048,10840,10896,10330,10058]
["Y12,F,EEA30",2534474,2549837,2606069,2576775,2580941,2604210,2619112,2630179,2683250,2744609,2840279,2895355,2958094,2940070,2956056,2934751,2957894,2963464,2956347,2959868,3032307,3069959,3133130,": ",": ",": ",": ",": ",": ",": ",": ",": ",": ",": ",": "]
["Y12,F,EEA31",2554112,2569893,2627291,2598866,2604231,2628708,2643728,2653945,2706966,2768172,2863000,2919954,2982616,2964570,2981181,": ",": ",": ",": ",": ",": ",": ",": ",": ",": ",": ",": ",": ",": ",": ",": ",": ",": ",": ",": "]
["Y12,F,EFTA",70327,70421,73390,73061,72898,73561,74973,73822,74170,74518,76157,76360,76375,74113,73175,69830,68641,67788,67011,66193,67313,66281,66366,64965,63491,63547,64996,66425,69740,70988,74440,77019,77447,80683,81996]
["Y12,F,EL",51837,52329,52468,52594,52654,52838,53352,53241,54546,53798,57130,59435,59708,60644,53020,53692,56767,59819,61947,65618,69309,71795,75421,73551,73875,72142,72691,72896,73014,73221,66600,69789,74390,72191,74239]
["Y12,F,ES",220522,219630,218262,214567,206303,207298,203923,200661,198796,203451,208721,204217,204639,205087,206045,209860,215036,222612,232131,242825,254447,265986,279674,291132,303500,313409,320419,322636,324744,323383,321770,319962,319159,319448,322059]
["Y12,F,EU27",2502790,2517814,2572985,2543842,2548381,2571152,2585539,2597187,2650451,2711744,2807572,2862264,2924768,2907982,2924786,2905186,2929557,2935629,2928781,2932613,3004450,3041977,3105343,": ",": ",": ",": ",": ",": ",": ",": ",": ",": ",": ",": "]
["Y12,F,EU28",2522428,2537870,2594207,2565933,2571671,2595650,2610155,2620953,2674167,2735307,2830293,2886863,2949290,2932482,2949911,": ",": ",": ",": ",": ",": ",": ",": ",": ",": ",": ",": ",": ",": ",": ",": ",": ",": ",": ",": "]
["Y12,F,FI",28009,28269,28268,28824,28411,29669,30021,31258,32320,32156,32956,32549,32521,31567,31582,29830,30252,31339,32459,33217,32710,31693,31326,31629,31476,32148,32464,31650,30476,27437,28449,29990,31040,31697,34435]
["Y12,F,FR",403253,405486,412392,391752,388170,380906,384440,380994,372103,369636,384781,389418,392464,396183,394666,391739,393995,387757,385109,377809,400583,405018,406587,384579,375211,": ",": ",": ",": ",": ",": ",": ",": ",": ",": "]
["Y12,F,FX",": ",": ",396482,376445,373066,365567,369666,365864,356455,354210,368523,373133,376277,379973,379375,376998,379520,373201,370566,363835,386789,391508,392963,371192,362044,364847,354403,366459,390942,417007,427079,429017,414200,409871,407381]
["Y12,F,GE",": ",21260,": ",23480,23776,25386,26891,28538,27719,29279,": ",": ",": ",": ",": ",": ",": ",": ",": ",": ",": ",": ",": ",": ",": ",": ",": ",": ",": ",": ",": ",": ",": ",": ",": "]
["Y12,F,HR",19638,20056,21222,22091,23290,24498,24616,23766,23716,23563,22721,24599,24522,24500,25125,": ",": ",": ",": ",": ",": ",": ",": ",": ",": ",": ",": ",": ",": ",": ",": ",": ",": ",": ",": "]
["Y12,F,HU",47095,47035,47384,45798,47210,47873,50891,54039,55195,56432,58481,61090,61381,59624,60059,60485,63096,64531,61696,62092,64050,68468,71187,75845,79143,83649,87069,90944,87042,73887,71717,70708,71339,71763,72408]
["Y12,F,IE",31051,30376,29792,29641,29377,28754,28139,27007,26371,26162,26818,27701,27881,27675,27787,28745,29638,30144,30627,31738,32699,33772,34772,34761,33747,32419,32660,33003,33751,33950,": ",": ",": ",": ",": "]
["Y12,F,IS",2032,2051,2164,2144,2105,2102,2207,2152,2223,2341,2228,2183,2366,2201,2209,1951,1890,1956,1976,2106,2092,2089,2218,2190,1994,1926,2015,2064,1965,2109,2213,1980,1865,2014,1916]
["Y12,F,IT",275257,276894,275889,270367,269027,267173,266188,263313,264203,269342,278365,276987,279180,274003,273151,262284,266993,276325,278710,284638,295520,301474,306516,318337,343286,357508,377271,400394,419725,422250,427172,436106,433330,449150,443389]
["Y12,F,LI",193,178,196,217,211,223,207,216,191,221,211,208,220,185,197,195,188,196,195,184,197,184,190,178,182,173,165,198,180,205,179,192,211,216,244]
["Y12,F,LT",12689,13584,14740,15963,16342,17161,18058,18825,19556,21957,25067,25134,25864,25437,26181,27577,28056,28022,27338,27196,25879,25392,25754,25887,25782,25859,26054,25928,26150,26132,27406,27851,27680,26683,27154]
["Y12,F,LU",2947,3071,3109,2992,2861,3033,3007,2944,3036,2818,2820,2663,2699,2626,2644,2437,2439,2196,2202,2290,2222,2244,2239,2123,2048,2038,2000,2010,1913,1947,2073,2279,2443,2395,2514]
["Y12,F,LV",8902,8815,9166,8702,8361,8541,9015,9867,11019,12266,14484,15439,16751,17079,17878,18831,19088,18617,19004,18855,17702,17072,17264,16979,17102,17178,17244,17391,17192,17160,17590,18038,17345,16253,16285]
["Y12,F,MD",": ",18019,18522,19083,19866,21192,22912,24366,26292,27215,": ",": ",": ",": ",": ",": ",": ",": ",": ",": ",": ",": ",": ",": ",": ",": ",": ",": ",": ",": ",": ",": ",": ",": ",": "]
["Y12,F,ME",3903,3991,3951,3862,4034,4047,4269,4379,4236,4233,4388,4502,4473,4458,4451,4418,": ",": ",": ",": ",": ",": ",": ",": ",": ",": ",": ",": ",": ",": ",": ",": ",": ",": ",": "]
["Y12,F,MK",11043,11755,12341,11612,12392,12487,13411,13689,14689,14540,15190,15610,15299,15246,15858,15888,15925,16261,16309,16137,16538,16348,": ",": ",": ",": ",": ",": ",": ",": ",": ",": ",": ",": ",": "]
["Y12,F,MT",1898,1939,2206,2157,2254,2288,2372,2408,2502,2589,2695,2742,2771,2874,2788,2685,2501,2693,2719,2814,2920,2753,2710,2839,2690,2703,2741,2696,2510,2637,2424,2428,": ",2133,2171]
["Y12,F,NL",98646,99469,101527,98763,98119,95549,93813,94537,97300,97397,98326,99977,99821,96275,94678,94333,94054,90779,88307,86216,86695,89885,90595,87913,87949,86756,87771,89158,93496,98100,107673,113664,119476,123607,118197]
["Y12,F,NO",29459,29794,30724,30572,30244,30733,31159,30624,30385,30303,30268,30700,30740,29702,28864,27419,26259,25683,25395,24965,25568,25709,25379,25622,25613,25256,26470,27906,29742,30004,31554,32203,31601,33069,32733]
["Y12,F,PL",170888,177345,182480,184252,189356,198034,207584,214267,227239,236183,247009,261033,268405,271315,279635,285277,302692,322864,332643,342562,333754,319198,327368,321502,316626,309730,": ",": ",": ",": ",276336,": ",": ",": ",": "]
["Y12,F,PT",52175,51876,56663,55933,54384,54428,53193,52764,52760,55445,56078,56371,55972,55323,56290,55867,57346,59109,62761,63982,67439,68704,71742,73680,75482,80393,84425,85859,84579,83023,85345,83377,84122,83471,83599]
["Y12,F,RO",100538,102018,107645,107281,108245,108668,109568,125609,142855,144066,159686,161254,164702,167021,170797,174777,174000,165342,160437,146553,159549,175146,187371,186841,193285,196746,192978,192757,195603,176126,181607,183319,195732,211128,238464]
["Y12,F,RS",34980,35215,33029,32836,34095,36614,38116,39917,39819,40498,40929,42443,42200,42500,44716,45605,45693,": ",": ",": ",": ",": ",": ",": ",": ",": ",": ",": ",": ",": ",": ",": ",": ",": ",": "]
["Y12,F,RU",": ",644784,": ",": ",647124,624642,649249,682408,708071,706296,": ",": ",": ",": ",": ",": ",": ",": ",": ",": ",": ",": ",": ",": ",": ",": ",": ",": ",": ",": ",": ",": ",": ",": ",": "]
["Y12,F,SE",51450,48649,47861,46598,46500,47085,49159,52318,56659,58713,61093,62145,62781,59100,57149,54201,52692,50878,48758,47675,48055,48174,49164,48460,46704,47721,48909,51604,54448,54135,54940,55470,53716,52581,55735]
["Y12,F,SI",8829,8781,9125,8777,8863,9122,9338,9376,9754,9787,9775,10594,10956,11312,12259,12537,12236,12639,12977,13399,13704,14218,14890,14678,14574,14638,14967,14756,14149,14141,13967,13510,13324,13346,": "]
["Y12,F,SK",24850,24902,26802,27451,27603,28446,28876,29788,32300,35139,36078,37816,38264,38629,39695,39993,41210,42846,43166,43405,43591,44179,44582,47373,47325,46797,46859,46339,46089,43957,41482,39030,37893,37384,35844]
["Y12,F,SM",": ",": ",152,171,": ",": ",": ",": ",": ",": ",": ",": ",": ",": ",": ",": ",": ",": ",": ",": ",": ",": ",": ",": ",": ",": ",": ",": ",": ",": ",": ",": ",": ",": ",": "]
["Y12,F,TR",590828,633622,642548,654056,646733,639361,618222,611377,": ",": ",": ",": ",": ",": ",": ",604989,612967,622978,632470,642973,651481,656989,660989,664989,667000,668388,653176,638311,623785,609589,595716,583111,570773,558696,546874]
["Y12,F,UA",": ",179533,185083,187741,200467,208490,225326,234117,243322,258293,": ",": ",": ",": ",": ",": ",": ",": ",": ",": ",": ",": ",": ",": ",": ",": ",": ",": ",": ",": ",": ",": ",": ",": ",": "]
["Y12,F,UK",337581,338301,345424,353533,360390,366306,367899,365200,368592,372548,378812,386861,384514,378184,378684,377119,370230,367277,360296,352849,352407,355918,360149,353577,332920,316383,320381,333968,345791,363168,386820,411587,422510,428383,438121]
["Y12,M,AD",": ",": ",461,448,448,460,403,430,416,404,417,351,338,358,329,330,322,324,326,360,379,370,356,413,370,379,390,384,403,367,": ",": ",": ",": ",": "]
["Y12,M,AL",18268,24032,": ",": ",": ",": ",": ",": ",29357,28724,30910,33460,": ",": ",": ",": ",": ",": ",": ",": ",": ",": ",": ",": ",": ",": ",": ",": ",": ",": ",": ",": ",": ",": ",": "]
["Y12,M,AM",": ",": ",": ",": ",": ",23450,24031,24353,25299,27238,": ",": ",": ",": ",": ",": ",": ",": ",": ",": ",": ",": ",": ",": ",": ",": ",": ",": ",": ",": ",": ",": ",": ",": ",": "]
["Y12,M,AT",42970,41791,42966,42763,44317,45616,47811,47417,49019,50178,50836,50868,49472,48718,48857,47565,47572,47927,48266,48563,49856,50122,48803,45049,44112,43608,44282,46596,47999,48424,52065,54972,57124,61305,63694]
["Y12,M,AZ",": ",66448,68820,71250,72796,72565,76500,80400,87800,88700,": ",": ",": ",": ",": ",": ",": ",": ",": ",": ",": ",": ",": ",": ",": ",": ",": ",": ",": ",": ",": ",": ",": ",": ",": "]
["Y12,M,BE",61954,62479,63635,62321,62445,62535,62111,61462,61999,63587,65615,66431,65553,64004,63271,61938,61858,59874,60323,61085,62545,64061,63718,63862,62295,61872,61406,60583,63040,66024,68779,71436,72286,72484,72028]
["Y12,M,BG",32127,31892,33716,34002,30728,30114,33662,33615,36746,39648,42384,44635,48800,51756,53517,53363,55392,54692,56881,56744,57815,59168,60246,64523,65023,67295,70947,70565,73316,67253,64163,66322,67526,68380,67564]
["Y12,M,BY",": ",45941,46914,46793,47041,": ",47973,51255,55045,58360,": ",": ",": ",": ",": ",": ",": ",": ",": ",": ",": ",": ",": ",": ",": ",": ",": ",": ",": ",": ",": ",": ",": ",": ",": "]
["Y12,M,CH",40822,40679,42788,42071,42540,42923,43916,43165,43657,43944,45509,45818,45308,44257,44458,42532,42416,41773,42191,41409,41286,41022,40477,38759,37839,38423,37500,38191,39706,41102,42998,44999,46376,47388,49185]
["Y12,M,CY",4495,4663,4829,4717,5084,5121,5424,5580,5662,5771,5969,5751,5620,5581,5748,5555,5721,5756,5838,5736,5579,5299,5427,": ",": ",": ",": ",": ",": ",": ",": ",": ",": ",4354,": "]
["Y12,M,CZ",48094,47072,47063,45814,46340,46439,46522,49301,54678,61721,62297,65936,66046,64672,66767,65873,66970,68218,68563,68960,70687,72178,77432,86071,88986,91102,93775,95662,97197,91248,81954,76890,73837,71598,68028]
["Y12,M,DE",376432,382694,398064,399428,406415,418950,412249,399515,405387,421848,431646,448651,493694,486045,499285,488317,476769,460111,457795,458414,467192,461382,460590,431859,421839,304979,305385,296452,305615,313644,350130,397333,417063,470226,502740]
["Y12,M,DE_TOT",376432,382694,398064,399428,406415,418950,412249,399515,405387,421848,431646,448651,493694,486045,499285,488317,476769,460111,457795,458414,467192,461382,460590,431859,421839,413524,401304,386818,394069,403106,450270,514752,535246,589520,624643]
["Y12,M,DK",33665,33874,34841,34400,34687,35439,35631,36924,36867,35749,36125,34462,34172,32936,31703,30246,29765,28791,27790,27002,27874,27727,29860,30795,32148,31956,33878,36756,36356,36516,38223,38471,36184,36517,38026]
["Y12,M,EA18",1764613,1772466,1808476,1768271,1766150,1768168,1764709,1741194,1744198,1778067,1833739,1861157,1913245,1894152,1904376,1877657,1884055,1880624,1880188,1900634,1965359,1991558,2021454,": ",": ",": ",": ",": ",": ",": ",": ",": ",": ",": ",": "]
["Y12,M,EA19",1778101,1786625,1824130,1785194,1783725,1786292,1783509,1761053,1764703,1801191,1859727,1887589,1939999,1920733,1931629,1906088,1913630,1909044,1908528,1929249,1991852,2017780,2048175,": ",": ",": ",": ",": ",": ",": ",": ",": ",": ",": ",": "]
["Y12,M,EE",6327,6273,6515,6036,5990,6190,6490,6540,6720,7450,8590,8910,10130,10900,11060,11150,10821,10727,10999,11178,10810,11041,11013,11216,11265,11506,11399,11296,11121,11291,11708,11500,11247,10785,10613]
["Y12,M,EEA30",2668834,2682584,2743191,2709918,2720334,2740225,2760893,2767913,2817687,2881521,2982294,3044382,3110496,3084958,3107546,3084498,3100472,3105012,3099731,3103492,3179044,3215748,3281931,": ",": ",": ",": ",": ",": ",": ",": ",": ",": ",": ",": "]
["Y12,M,EEA31",2689442,2703703,2765692,2733078,2744639,2765822,2787033,2792847,2842004,2906349,3006335,3070340,3136004,3110545,3133986,": ",": ",": ",": ",": ",": ",": ",": ",": ",": ",": ",": ",": ",": ",": ",": ",": ",": ",": ",": "]
["Y12,M,EFTA",73579,73989,77476,76598,76588,77881,79405,78185,78321,78156,80467,80884,80272,78104,77410,73359,72506,70906,71053,70290,70823,70087,69930,68144,67093,67086,67532,69473,72557,75402,78555,80916,81978,84428,86089]
["Y12,M,EL",54329,54724,54810,54854,54897,55110,55327,55241,56999,55685,60838,63424,62372,63664,56249,56526,60210,63379,65460,69769,72994,76530,80278,78005,78828,75848,76467,76639,76905,77237,71200,71219,78996,78206,79418]
["Y12,M,ES",233461,231297,233026,226296,220066,218556,214269,211983,210677,215624,219877,216697,216092,216827,217507,221504,226727,234264,244040,255240,267554,279524,293925,306100,318441,329064,336574,339278,341892,341463,340027,338226,336775,337152,339259]
["Y12,M,EU27",2636077,2649274,2708503,2675391,2686286,2705267,2725404,2732893,2783023,2847309,2947336,3009316,3075532,3051111,3074594,3053671,3070382,3075879,3070869,3074611,3149507,3186683,3252478,": ",": ",": ",": ",": ",": ",": ",": ",": ",": ",": ",": "]
["Y12,M,EU28",2656685,2670393,2731004,2698551,2710591,2730864,2751544,2757827,2807340,2872137,2971377,3035274,3101040,3076698,3101034,": ",": ",": ",": ",": ",": ",": ",": ",": ",": ",": ",": ",": ",": ",": ",": ",": ",": ",": ",": "]
["Y12,M,FI",29488,29484,30000,29982,29596,30578,31510,32555,33440,33304,34405,33652,34120,32982,32918,31259,31728,32616,33824,34756,34639,33081,32866,32626,33033,33519,34016,33436,31550,29083,30233,31006,32250,33258,35797]
["Y12,M,FR",423330,424502,432336,411700,407496,401679,404827,400178,388155,386792,404001,408354,414091,414429,414590,409932,411854,405802,402225,395486,420642,425646,426012,403584,393038,": ",": ",": ",": ",": ",": ",": ",": ",": ",": "]
["Y12,M,FX",": ",": ",415720,395615,391442,385722,388984,384626,372521,371160,386671,391893,396906,398032,398732,394696,396800,390717,387147,380901,406335,411648,411953,389671,379559,382456,370917,383644,410743,439069,450914,452134,438809,433247,430262]
["Y12,M,GE",": ",23591,": ",26263,26473,27616,29531,30691,29305,30647,": ",": ",": ",": ",": ",": ",": ",": ",": ",": ",": ",": ",": ",": ",": ",": ",": ",": ",": ",": ",": ",": ",": ",": ",": "]
["Y12,M,HR",20608,21119,22501,23160,24305,25597,26140,24934,24317,24828,24041,25958,25508,25587,26440,": ",": ",": ",": ",": ",": ",": ",": ",": ",": ",": ",": ",": ",": ",": ",": ",": ",": ",": ",": "]
["Y12,M,HU",49580,49811,50189,48484,49275,50883,53821,56836,57957,58820,61400,63923,63924,62595,63063,63430,65195,67083,63831,64387,67719,71669,74478,79474,83222,87689,92340,96248,91822,78390,76421,74712,75542,76889,76497]
["Y12,M,IE",32215,31609,31290,31144,30984,30283,29680,28562,27801,27653,28347,29067,29606,28862,28881,29907,31532,31785,32451,33474,34591,35831,37302,36904,35047,34534,34741,34965,35608,35900,": ",": ",": ",": ",": "]
["Y12,M,IS",2064,2151,2220,2070,2209,2244,2317,2273,2326,2351,2396,2315,2435,2279,2389,2190,1951,1891,2073,2144,2263,2258,2317,2275,2061,1982,2160,2120,2088,2301,2286,2124,1996,2040,2097]
["Y12,M,IT",291089,293508,292680,284887,286436,283504,282727,279623,279596,284573,293196,292878,294022,288214,288884,276864,280996,289045,292133,299422,308262,314535,320499,332506,358577,372799,393641,417208,438141,440561,449110,457953,454156,469932,464392]
["Y12,M,LI",195,207,212,186,180,226,206,229,211,212,178,238,203,222,239,206,183,197,206,188,198,211,214,192,161,192,198,151,181,206,187,199,253,228,213]
["Y12,M,LT",13488,14159,15654,16923,17575,18124,18800,19859,20505,23124,25988,26432,26754,26581,27253,28431,29575,28420,28340,28615,26493,26222,26721,26578,26680,26568,26822,26320,26473,27283,28567,28963,29173,28436,27986]
["Y12,M,LU",3174,3095,3351,3148,3048,3111,3262,3108,3006,3020,2906,2853,2938,2732,2661,2532,2614,2352,2425,2299,2325,2466,2208,2244,2177,2103,2065,2099,2038,2089,2232,2446,2406,2514,2643]
["Y12,M,LV",9370,9070,9509,9156,8734,9108,9696,10523,11504,12558,14980,15970,17172,17953,18998,19525,19618,19411,19321,19636,18389,17668,17897,17647,17874,17919,17894,17869,17961,18113,18640,18552,18125,17336,16811]
["Y12,M,MD",": ",19172,19584,20107,20911,21987,23849,25248,27345,28448,": ",": ",": ",": ",": ",": ",": ",": ",": ",": ",": ",": ",": ",": ",": ",": ",": ",": ",": ",": ",": ",": ",": ",": ",": "]
["Y12,M,ME",4294,4259,4230,4093,4352,4382,4483,4635,4460,4585,4813,4798,4777,4761,4754,4720,": ",": ",": ",": ",": ",": ",": ",": ",": ",": ",": ",": ",": ",": ",": ",": ",": ",": ",": "]
["Y12,M,MK",11805,12487,13157,12458,13175,13351,14327,14806,15338,15327,15971,16577,16299,16209,16862,17223,16613,16886,17136,17096,17430,17242,": ",": ",": ",": ",": ",": ",": ",": ",": ",": ",": ",": ",": "]
["Y12,M,MT",2057,2042,2162,2208,2366,2519,2552,2633,2595,2798,2834,2912,2928,2957,2890,2805,2863,2869,2925,2929,2951,2850,2884,2954,2963,2933,2921,2929,2783,2644,2549,2575,": ",2393,2329]
["Y12,M,NL",103363,104107,105641,103677,102780,99277,99403,98971,101862,101710,103271,104508,105023,100145,99037,99354,97483,94572,92783,90096,90876,93313,95097,91885,92224,90884,92800,93234,97913,102240,111587,119349,125118,129490,123310]
["Y12,M,NO",30498,30952,32256,32271,31659,32488,32966,32518,32127,31649,32384,32513,32326,31346,30324,28431,27956,27045,26583,26549,27076,26596,26922,26918,27032,26489,27674,29011,30582,31793,33084,33594,33353,34772,34594]
["Y12,M,PL",180223,186760,192041,193656,200047,208042,218419,223772,236411,247011,258145,274447,281393,285155,292573,300710,315394,335802,348378,356280,349198,333224,340028,337150,330895,325254,": ",": ",": ",": ",289769,": ",": ",": ",": "]
["Y12,M,PT",55182,55043,59689,58181,56804,56360,56597,56182,56191,58090,58412,59672,58525,57693,59165,58560,59874,62186,66052,67669,70090,71414,74817,76455,78682,83251,87910,89455,87537,86238,87896,86868,87571,87417,86164]
["Y12,M,RO",105991,107913,113726,113208,113912,114453,115242,131383,149244,150250,166253,167910,171433,173417,176587,182040,180637,172510,167006,152525,165728,183454,194905,195085,200856,205203,203006,201956,204667,185169,189425,191905,204193,220205,247490]
["Y12,M,RS",36953,37230,34788,35235,35950,38444,40280,42527,42057,42852,42609,44235,44241,44295,47543,48137,47673,": ",": ",": ",": ",": ",": ",": ",": ",": ",": ",": ",": ",": ",": ",": ",": ",": ",": "]
["Y12,M,RU",": ",677476,": ",": ",678395,652916,679880,711110,740308,737845,": ",": ",": ",": ",": ",": ",": ",": ",": ",": ",": ",": ",": ",": ",": ",": ",": ",": ",": ",": ",": ",": ",": ",": ",": "]
["Y12,M,SE",53958,51412,50768,48971,49552,49596,51329,55344,59025,61303,64585,65920,66135,62407,60765,56490,55737,54074,51697,50536,50824,50405,51673,50790,48979,50499,51458,53830,57149,56530,57665,58336,55943,55656,58311]
["Y12,M,SI",9370,9420,9747,9281,9525,9581,9973,9898,10115,10320,10469,11180,11463,12056,13004,12996,12747,13282,13460,13870,14518,15100,15351,15796,15808,15565,15590,15204,15176,15050,14901,14544,13764,14235,": "]
["Y12,M,SK",26007,26665,28226,28492,29167,30090,30801,31223,33470,37106,37547,39379,40424,40390,41371,41368,43068,44666,44946,45597,45853,45693,46826,48839,49010,49295,49208,47756,47941,45570,43064,40874,39824,39120,37557]
["Y12,M,SM",": ",": ",171,180,": ",": ",": ",": ",": ",": ",": ",": ",": ",": ",": ",": ",": ",": ",": ",": ",": ",": ",": ",": ",": ",": ",": ",": ",": ",": ",": ",": ",": ",": ",": "]
["Y12,M,TR",624999,667927,675939,686604,681417,674832,653222,645168,": ",": ",": ",": ",": ",": ",": ",634984,644464,655475,665967,677470,686978,693486,698486,703486,705503,729182,712308,695824,679722,663993,648628,638138,627817,617663,607674]
["Y12,M,UA",": ",190331,195851,197795,209164,218977,236647,245976,256145,271164,": ",": ",": ",": ",": ",": ",": ",": ",": ",": ",": ",": ",": ",": ",": ",": ",": ",": ",": ",": ",": ",": ",": ",": ",": "]
["Y12,M,UK",354338,353915,362029,371662,378020,384009,387269,384665,387392,391616,396420,404494,403630,397440,397990,395431,387662,385665,378195,368928,367810,371078,375681,370688,349996,332980,337459,351101,363610,383147,408395,432754,444132,451069,460999]
["Y12,T,AD",": ",": ",853,909,909,850,779,784,750,779,799,715,658,692,653,617,633,642,611,693,757,727,720,759,709,742,723,742,779,693,": ",": ",": ",": ",": "]
["Y12,T,AL",35786,45988,": ",": ",": ",": ",": ",": ",56795,56498,60215,65121,": ",": ",": ",": ",": ",": ",": ",": ",": ",": ",": ",": ",": ",": ",": ",": ",": ",": ",": ",": ",": ",": ",": "]
["Y12,T,AM",": ",": ",": ",": ",": ",44323,45872,47090,48926,53106,": ",": ",": ",": ",": ",": ",": ",": ",": ",": ",": ",": ",": ",": ",": ",": ",": ",": ",": ",": ",": ",": ",": ",": ",": "]
["Y12,T,AT",84051,81236,83814,83496,86501,89271,93346,92773,95653,98066,98744,99173,96497,95447,94732,93020,93055,93006,94655,94743,98056,97928,94584,87320,85709,85224,86271,91044,94012,94798,102113,107893,111619,120389,124177]
["Y12,T,AZ",": ",124319,129571,134299,138566,137600,148300,154900,168900,172800,": ",": ",": ",": ",": ",": ",": ",": ",": ",": ",": ",": ",": ",": ",": ",": ",": ",": ",": ",": ",": ",": ",": ",": ",": "]
["Y12,T,BE",121134,122651,124324,122156,122190,122499,121866,120302,120635,124637,128402,129897,128182,125125,123557,120828,120216,116838,118104,119121,121960,124938,124979,123922,122256,121379,120138,118344,123119,129037,134454,139770,141034,141527,141759]
["Y12,T,BG",61956,61927,65850,66617,59716,58089,65302,65712,71872,77415,82270,86837,94786,101022,104471,104401,108402,106850,110622,110790,112272,114591,117071,125337,126638,131554,138205,137792,143245,131532,124837,128929,130744,133734,132072]
["Y12,T,BY",": ",89270,91619,91187,90969,": ",93379,99185,107386,113964,": ",": ",": ",": ",": ",": ",": ",": ",": ",": ",": ",": ",": ",": ",": ",": ",": ",": ",": ",": ",": ",": ",": ",": ",": "]
["Y12,T,CH",79465,79077,83094,82199,82878,83426,85316,83995,85028,85597,88959,89087,88357,86282,86363,82797,82720,81726,81636,80347,80742,79321,79056,75734,73541,74615,73846,74448,77559,79772,83492,87643,90146,92772,96288]
["Y12,T,CY",8640,9141,9346,9363,9830,10138,10556,10724,11073,11276,11786,10968,10990,10645,11237,10888,11099,11075,11337,11192,10822,10255,10436,": ",": ",": ",": ",": ",": ",": ",": ",": ",": ",8529,": "]
["Y12,T,CZ",93588,91617,90888,89427,90187,90536,90605,95915,106555,120450,121180,128138,129084,126624,130841,128337,130643,133424,133979,134489,138534,141045,150500,167961,174032,178282,183574,187725,189848,177443,160006,150651,144792,139457,133313]
["Y12,T,DE",733069,744676,778476,777101,792329,816842,802868,779122,789245,821912,842561,874970,961356,948491,972105,949410,929599,897188,891689,893291,910065,900567,898995,841329,820852,593376,595130,577020,601664,616727,686698,776092,814303,916487,978827]
["Y12,T,DE_TOT",733069,744676,778476,777101,792329,816842,802868,779122,789245,821912,842561,874970,961356,948491,972105,949410,929599,897188,891689,893291,910065,900567,898995,841329,820852,804902,782656,753065,774581,791578,882285,1004968,1045518,1149029,1216785]
["Y12,T,DK",65528,66422,68228,67434,67624,69069,69410,71777,72090,69705,70236,67199,66556,64262,61633,58680,58017,56437,54358,52970,54366,54565,58565,60265,62827,62549,65868,72356,71292,71532,75058,74824,70814,71011,73913]
["Y12,T,EA18",3439976,3456220,3526581,3449426,3440716,3448491,3437587,3394559,3402327,3469460,3578283,3628763,3728958,3698909,3711699,3661471,3677911,3672329,3672076,3708777,3837319,3890111,3947206,": ",": ",": ",": ",": ",": ",": ",": ",": ",": ",": ",": "]
["Y12,T,EA19",3466153,3483963,3556975,3482312,3474633,3483776,3474445,3433243,3442388,3514541,3629338,3680329,3781576,3750927,3765133,3717479,3735542,3728771,3727754,3764588,3889691,3941725,3999681,": ",": ",": ",": ",": ",": ",": ",": ",": ",": ",": ",": "]
["Y12,T,EE",12471,12113,12485,11784,11580,11940,12650,12800,13300,14350,16680,17300,19530,21020,21430,21360,21073,21118,21748,21940,21292,21487,21615,21949,22221,22425,22483,22065,21972,21931,22756,22340,22143,21115,20671]
["Y12,T,EEA30",5203308,5232421,5349260,5286693,5301275,5344435,5380005,5398092,5500937,5626130,5822573,5939737,6068590,6025028,6063602,6019249,6058366,6068476,6056078,6063360,6211351,6285707,6415061,": ",": ",": ",": ",": ",": ",": ",": ",": ",": ",": ",": "]
["Y12,T,EEA31",5243554,5273596,5392983,5331944,5348870,5394530,5430761,5446792,5548970,5674521,5869335,5990294,6118620,6075115,6115167,": ",": ",": ",": ",": ",": ",": ",": ",": ",": ",": ",": ",": ",": ",": ",": ",": ",": ",": ",": "]
["Y12,T,EFTA",143906,144410,150866,149659,149486,151442,154378,152007,152491,152674,156624,157244,156647,152217,150585,143189,141147,138694,138064,136483,138136,136368,136296,133109,130584,130633,132528,135898,142297,146390,152995,157935,159425,165111,168085]
["Y12,T,EL",106166,107053,107278,107448,107551,107948,108679,108482,111545,109483,117968,122859,122080,124308,109269,110218,116977,123198,127407,135387,142303,148325,155699,151556,152703,147990,149158,149535,149919,150458,137800,141008,153386,150397,153657]
["Y12,T,ES",453983,450927,451288,440863,426369,425854,418192,412644,409473,419075,428598,420914,420731,421914,423552,431364,441763,456876,476171,498065,522001,545510,573599,597232,621941,642473,656993,661914,666636,664846,661797,658188,655934,656600,661318]
["Y12,T,EU27",5138867,5167088,5281488,5219233,5234667,5276419,5310943,5330080,5433474,5559053,5754908,5871580,6000300,5959093,5999380,5958857,5999939,6011508,5999650,6007224,6153957,6228660,6357821,": ",": ",": ",": ",": ",": ",": ",": ",": ",": ",": ",": "]
["Y12,T,EU28",5179113,5208263,5325211,5264484,5282262,5326514,5361699,5378780,5481507,5607444,5801670,5922137,6050330,6009180,6050945,": ",": ",": ",": ",": ",": ",": ",": ",": ",": ",": ",": ",": ",": ",": ",": ",": ",": ",": ",": "]
["Y12,T,FI",57497,57753,58268,58806,58007,60247,61531,63813,65760,65460,67361,66201,66641,64549,64500,61089,61980,63955,66283,67973,67349,64774,64192,64255,64509,65667,66480,65086,62026,56520,58682,60996,63290,64955,70232]
["Y12,T,FR",826583,829988,844728,803452,795666,782585,789267,781172,760258,756428,788782,797772,806555,810612,809256,801671,805849,793559,787334,773295,821225,830664,832599,788163,768249,": ",": ",": ",": ",": ",": ",": ",": ",": ",": "]
["Y12,T,FX",": ",": ",812202,772060,764508,751289,758650,750490,728976,725370,755194,765026,773183,778005,778107,771694,776320,763918,757713,744736,793124,803156,804916,760863,741603,747303,725320,750103,801685,856076,877993,881151,853009,843118,837643]
["Y12,T,GE",": ",44851,": ",49743,50249,53002,56422,59229,57024,59926,": ",": ",": ",": ",": ",": ",": ",": ",": ",": ",": ",": ",": ",": ",": ",": ",": ",": ",": ",": ",": ",": ",": ",": ",": "]
["Y12,T,HR",40246,41175,43723,45251,47595,50095,50756,48700,48033,48391,46762,50557,50030,50087,51565,": ",": ",": ",": ",": ",": ",": ",": ",": ",": ",": ",": ",": ",": ",": ",": ",": ",": ",": ",": "]
["Y12,T,HU",96675,96846,97573,94282,96485,98756,104712,110875,113152,115252,119881,125013,125305,122219,123122,123915,128291,131614,125527,126479,131769,140137,145665,155319,162365,171338,179409,187192,178864,152277,148138,145420,146881,148652,148905]
["Y12,T,IE",63266,61985,61082,60785,60361,59037,57819,55569,54172,53815,55165,56768,57487,56537,56668,58652,61170,61929,63078,65212,67290,69603,72074,71665,68794,66953,67401,67968,69359,69850,": ",": ",": ",": ",": "]
["Y12,T,IS",4096,4202,4384,4214,4314,4346,4524,4425,4549,4692,4624,4498,4801,4480,4598,4141,3841,3847,4049,4250,4355,4347,4535,4465,4055,3908,4175,4184,4053,4410,4499,4104,3861,4054,4013]
["Y12,T,IT",566346,570402,568569,555254,555463,550677,548915,542936,543799,553915,571561,569865,573202,562217,562035,539148,547989,565370,570843,584060,603782,616009,627015,650843,701863,730307,770912,817602,857866,862811,876282,894059,887486,919082,907781]
["Y12,T,LI",388,385,408,403,391,449,413,445,402,433,389,446,423,407,436,401,371,393,401,372,395,395,404,370,343,365,363,349,361,411,366,391,464,444,457]
["Y12,T,LT",26177,27743,30394,32886,33917,35285,36858,38684,40061,45081,51055,51566,52618,52018,53434,56008,57631,56442,55678,55811,52372,51614,52475,52465,52462,52427,52876,52248,52623,53415,55973,56814,56853,55119,55140]
["Y12,T,LU",6121,6166,6460,6140,5909,6144,6269,6052,6042,5838,5726,5516,5637,5358,5305,4969,5053,4548,4627,4589,4547,4710,4447,4367,4225,4141,4065,4109,3951,4036,4305,4725,4849,4909,5157]
["Y12,T,LV",18272,17885,18675,17858,17095,17649,18711,20390,22523,24824,29464,31409,33923,35032,36876,38356,38706,38028,38325,38491,36091,34740,35161,34626,34976,35097,35138,35260,35153,35273,36230,36590,35470,33589,33096]
["Y12,T,MD",": ",37191,38106,39190,40777,43179,46761,49614,53637,55663,": ",": ",": ",": ",": ",": ",": ",": ",": ",": ",": ",": ",": ",": ",": ",": ",": ",": ",": ",": ",": ",": ",": ",": ",": "]
["Y12,T,ME",8197,8250,8181,7955,8386,8429,8752,9014,8696,8818,9201,9300,9250,9219,9205,9138,": ",": ",": ",": ",": ",": ",": ",": ",": ",": ",": ",": ",": ",": ",": ",": ",": ",": ",": "]
["Y12,T,MK",22848,24242,25498,24070,25567,25838,27738,28495,30027,29867,31161,32187,31598,31455,32720,33111,32538,33147,33445,33233,33968,33590,": ",": ",": ",": ",": ",": ",": ",": ",": ",": ",": ",": ",": "]
["Y12,T,MT",3955,3981,4368,4365,4620,4807,4924,5041,5097,5387,5529,5654,5699,5831,5678,5490,5364,5562,5644,5743,5871,5603,5594,5793,5653,5636,5662,5625,5293,5281,4973,5003,": ",4526,4500]
["Y12,T,NL",202009,203576,207168,202440,200899,194826,193216,193508,199162,199107,201597,204485,204844,196420,193715,193687,191537,185351,181090,176312,177571,183198,185692,179798,180173,177640,180571,182392,191409,200340,219260,233013,244594,253097,241507]
["Y12,T,NO",59957,60746,62980,62843,61903,63221,64125,63142,62512,61952,62652,63213,63066,61048,59188,55850,54215,52728,51978,51514,52644,52305,52301,52540,52645,51745,54144,56917,60324,61797,64638,65797,64954,67841,67327]
["Y12,T,PL",351111,364105,374521,377908,389403,406076,426003,438039,463650,483194,505154,535480,549798,556470,572208,585987,618086,658666,681021,698842,682952,652422,667396,658652,647521,634984,": ",": ",": ",": ",566105,": ",": ",": ",": "]
["Y12,T,PT",107357,106919,116352,114114,111188,110788,109790,108946,108951,113535,114490,116043,114497,113016,115455,114427,117220,121295,128813,131651,137529,140118,146559,150135,154164,163644,172335,175314,172116,169261,173241,170245,171693,170888,169763]
["Y12,T,RO",206529,209931,221371,220489,222157,223121,224810,256992,292099,294316,325939,329164,336135,340438,347384,356817,354637,337852,327443,299078,325277,358600,382276,381926,394141,401949,395984,394713,400270,361295,371032,375224,399925,431333,485954]
["Y12,T,RS",71933,72445,67817,68071,70045,75058,78396,82444,81876,83350,83538,86678,86441,86795,92259,93742,93366,": ",": ",": ",": ",": ",": ",": ",": ",": ",": ",": ",": ",": ",": ",": ",": ",": ",": "]
["Y12,T,RU",": ",1322260,": ",": ",1325519,1277558,1329129,1393518,1448379,1444141,": ",": ",": ",": ",": ",": ",": ",": ",": ",": ",": ",": ",": ",": ",": ",": ",": ",": ",": ",": ",": ",": ",": ",": ",": "]
["Y12,T,SE",105408,100061,98629,95569,96052,96681,100488,107662,115684,120016,125678,128065,128916,121507,117914,110691,108429,104952,100455,98211,98879,98579,100837,99250,95683,98220,100367,105434,111597,110665,112605,113806,109659,108237,114046]
["Y12,T,SI",18199,18201,18872,18058,18388,18703,19311,19274,19869,20107,20244,21774,22419,23368,25263,25533,24983,25921,26437,27269,28222,29318,30241,30474,30382,30203,30557,29960,29325,29191,28868,28054,27088,27581,": "]
["Y12,T,SK",50857,51567,55028,55943,56770,58536,59677,61011,65770,72245,73625,77195,78688,79019,81066,81361,84278,87512,88112,89002,89444,89872,91408,96212,96335,96092,96067,94095,94030,89527,84546,79904,77717,76504,73401]
["Y12,T,SM",": ",": ",323,351,": ",": ",": ",": ",": ",": ",": ",": ",": ",": ",": ",": ",": ",": ",": ",": ",": ",": ",": ",": ",": ",": ",": ",": ",": ",": ",": ",": ",": ",": ",": "]
["Y12,T,TR",1215827,1301549,1318487,1340660,1328150,1314193,1271444,1256545,": ",": ",": ",": ",": ",": ",": ",1239973,1257431,1278453,1298437,1320443,1338459,1350475,1359475,1368475,1372503,1397570,1365484,1334135,1303507,1273582,1244344,1221249,1198590,1176359,1154548]
["Y12,T,UA",": ",369864,380934,385536,409631,427467,461973,480093,499467,529457,": ",": ",": ",": ",": ",": ",": ",": ",": ",": ",": ",": ",": ",": ",": ",": ",": ",": ",": ",": ",": ",": ",": ",": ",": "]
["Y12,T,UK",691919,692216,707453,725195,738410,750315,755168,749865,755984,764164,775232,791355,788144,775624,776674,772550,757892,752942,738491,721777,720217,726996,735830,724265,682916,649363,657840,685069,709401,746315,795215,844341,866642,879452,899120]
["Y13,F,AD",": ",": ",462,411,411,365,356,332,379,389,369,327,341,328,281,312,318,278,342,375,356,371,347,342,367,335,365,389,338,369,": ",": ",": ",": ",": "]
["Y13,F,FR",409821,413745,392670,389714,382449,386116,383257,373560,370732,386993,391693,394766,398849,397660,394375,396613,388563,385869,378435,400923,405685,407303,385458,376037,378368,": ",": ",": ",": ",": ",": ",": ",": ",": ",": "]
["Y13,F,NO",29974,30938,30756,30397,30897,31338,30804,30545,30423,30374,30791,30829,29809,28885,27484,26434,25749,25420,24991,25610,25761,25506,25661,25647,25293,26485,27951,29775,30042,31586,32211,31632,33090,32778,32298]
["Y13,M,AZ",": ",68805,71239,72783,72545,80288,81200,87800,88700,92700,": ",": ",": ",": ",": ",": ",": ",": ",": ",": ",": ",": ",": ",": ",": ",": ",": ",": ",": ",": ",": ",": ",": ",": ",": "]
["Y13,M,ES",231464,232683,226310,221025,219710,215919,214991,214778,219113,223085,219769,219861,220966,220109,223611,228626,235659,244914,256065,268342,280344,294725,306903,319118,329340,336691,339472,342055,341549,340056,338172,336640,336746,338422,340163]
["Y13,M,ME",4259,4226,4092,4353,4346,4466,4620,4449,4576,4806,4797,4785,4767,4751,4741,4710,": ",": ",": ",": ",": ",": ",": ",": ",": ",": ",": ",": ",": ",": ",": ",": ",": ",": ",": "]
["Y13,T,AD",": ",": ",908,840,840,769,786,755,798,808,735,684,697,658,606,632,645,610,701,751,713,752,767,723,744,719,764,793,712,736,": ",": ",": ",": ",": "]
["Y13,T,AL",45652,48502,": ",": ",": ",": ",": ",": ",56029,59892,64773,66377,": ",": ",": ",": ",": ",": ",": ",": ",": ",": ",": ",": ",": ",": ",": ",": ",": ",": ",": ",": ",": ",": ",": "]
["Y13,T,EEA31",5295876,5411168,5345488,5360727,5409074,5442897,5435412,5536882,5690744,5856495,6004510,6135294,6097146,6155539,6090754,": ",": ",": ",": ",": ",": ",": ",": ",": ",": ",": ",": ",": ",": ",": ",": ",": ",": ",": ",": "]
["Y13,T,LU",6236,6525,6234,6132,6192,6301,6088,6091,5879,5787,5559,5672,5399,5328,5089,5088,4567,4639,4603,4580,4745,4485,4393,4248,4179,4106,4141,3969,4043,4306,4690,4827,4901,5153,5346]
["Y13,T,TR",1302032,1324578,1339816,1327518,1316021,1267969,1256784,1299119,": ",": ",": ",": ",": ",": ",": ",1257431,1279448,1299940,1321443,1338962,1350475,1359972,1369475,1374000,1367038,1327016,1306150,1285613,1265402,1245511,1225934,1177029,1130077,1084993,1041710]
["Y14,F,EA19",1746022,1707488,1700646,1707664,1702043,1685571,1693138,1727942,1785027,1807619,1858008,1848305,1863600,1833540,1841281,1834006,1844442,1860769,1909718,1935181,1962288,1931534,1946492,": ",": ",": ",": ",": ",": ",": ",": ",": ",": ",": ",": "]
["Y14,F,IE",29642,29500,29528,28914,28214,27292,26899,26785,27327,28215,28450,27930,28176,29349,30113,30562,30866,32192,33432,34239,35019,34923,34142,33026,32783,32928,33590,34524,34908,34825,": ",": ",": ",": ",": "]
["Y14,F,RU",": ",622438,": ",": ",664492,683978,709946,707881,817336,897423,": ",": ",": ",": ",": ",": ",": ",": ",": ",": ",": ",": ",": ",": ",": ",": ",": ",": ",": ",": ",": ",": ",": ",": ",": "]
["Y14,M,CY",4826,4676,5140,5279,5661,5817,5898,5986,6158,5931,5786,5731,5794,5447,5810,5845,5930,5831,5685,5413,5567,4895,4757,": ",": ",": ",": ",": ",": ",": ",": ",": ",": ",4500,": "]
["Y14,M,FX",": ",": ",395447,388308,391313,387091,376171,374238,390326,395648,401536,403337,405349,400728,403032,393842,388563,381816,406649,412714,412962,391051,380481,383984,372521,385875,412447,440117,452074,453434,441782,436391,432173,434122,443596]
["Y14,M,PL",191648,193327,199794,207802,216876,222227,236121,246635,257873,274255,281165,284839,292161,300271,315245,338481,347860,355756,348630,332594,339466,336597,330391,324776,328794,318311,": ",": ",": ",": ",268048,": ",": ",": ",": "]
["Y14,T,BE",125152,123063,123520,124909,124147,121605,121928,125798,129754,131030,129036,125963,124460,121416,120644,117237,118398,119356,122124,125156,125309,124222,122658,121685,120324,118817,123671,128797,134436,139454,140895,141288,141342,144999,149604]
["Y14,T,EU27",5321437,5250699,5260825,5301531,5330280,5323013,5401775,5559170,5762443,5876995,6042722,6008547,6067987,6002122,6042271,6047507,6055097,6061305,6180566,6254314,6382314,6329867,6329555,": ",": ",": ",": ",": ",": ",": ",": ",": ",": ",": ",": "]
["Y14,T,MK",25492,24057,25555,25817,27723,28478,30009,29857,31117,32151,31582,31800,33214,33094,32525,33133,33435,33223,33965,33574,33681,33261,": ",": ",": ",": ",": ",": ",": ",": ",": ",": ",": ",": ",": "]
["Y15,F,AL",22961,22115,": ",": ",": ",": ",": ",": ",30812,32267,31013,30967,": ",": ",": ",": ",": ",": ",": ",": ",": ",": ",": ",": ",": ",": ",": ",": ",": ",": ",": ",": ",": ",": ",": "]
["Y15,F,EEA31",2624222,2626735,2647247,2661902,2658524,2700525,2762699,2861292,2934160,2997414,3000615,3028212,2995866,3015199,3016282,": ",": ",": ",": ",": ",": ",": ",": ",": ",": ",": ",": ",": ",": ",": ",": ",": ",": ",": ",": "]
["Y15,F,LU",3118,3077,3129,3123,3015,3092,2900,2889,2721,2759,2675,2685,2515,2502,2382,2233,2324,2251,2291,2299,2174,2069,2090,2001,2064,1944,1962,2102,2254,2417,2367,2502,2588,2686,2754]
["Y15,F,RO",106508,107242,105391,104036,105975,106396,107595,127608,148913,152747,174004,175768,175988,173931,165045,160096,146195,159152,174730,186858,186173,191101,196013,195753,191567,194913,175551,181016,182723,195029,210375,237747,239642,127202,130454]
["Y15,F,TR",650785,644963,638671,616082,610381,632257,618232,592976,": ",": ",": ",": ",": ",": ",": ",634973,644475,652481,657989,661989,665989,668497,666016,658027,647530,621522,614483,607523,600642,593839,587113,577441,567927,558570,549368]
["Y15,M,EA18",1791833,1784529,1784203,1781168,1761994,1770091,1803735,1858467,1884921,1938667,1922719,1946934,1912336,1917961,1903741,1914357,1933983,2000982,2012615,2040863,2008448,2022927,2045264,": ",": ",": ",": ",": ",": ",": ",": ",": ",": ",": ",": "]
["Y15,M,IS",2096,2216,2245,2313,2287,2367,2412,2436,2359,2472,2283,2413,2204,1984,1909,2090,2141,2261,2243,2309,2282,2066,1966,2157,2109,2098,2305,2280,2114,1990,2038,2118,2147,2271,2325]
["Y15,M,SE",51042,51294,51005,52783,56659,60461,62549,65580,66672,66740,63125,61546,57198,56322,54532,52138,50854,51156,51015,52591,51697,49618,51081,52113,54503,57701,57008,58027,58532,56092,55680,58296,62578,63372,63396]
["Y15,T,CZ",89606,90391,90847,91006,96487,107195,120942,121532,128283,129437,126766,130669,128788,131181,134048,134173,134627,138674,141160,150543,167954,173988,177241,182032,187091,189742,177362,159920,150531,144690,139336,133228,133994,136349,142232]
["Y15,T,GE",": ",49841,": ",56718,59296,56872,59371,69824,76001,79450,": ",": ",": ",": ",": ",": ",": ",": ",": ",": ",": ",": ",": ",": ",": ",": ",": ",": ",": ",": ",": ",": ",": ",": ",": "]
["Y15,T,PT",114080,110939,110555,110160,109678,109770,114254,115194,116644,115634,114286,116737,116901,120764,124829,132260,134631,140047,142144,147376,148501,151842,162271,171066,176450,172908,169089,171820,168945,169884,169337,169034,169154,173482,174197]
["Y16,F,BG",28907,27904,31450,31644,34926,37196,39260,42210,45866,48763,49739,50160,51182,51308,53664,53970,54376,55353,56750,59470,60190,61945,63216,63938,67146,62332,60546,62653,62948,65211,64434,56469,56041,58318,58889]
["Y16,F,EU28",2605430,2622902,2634286,2636030,2678688,2744416,2824798,2891539,2964594,2952501,2994215,2963464,2986961,2999285,3002164,": ",": ",": ",": ",": ",": ",": ",": ",": ",": ",": ",": ",": ",": ",": ",": ",": ",": ",": ",": "]
["Y16,F,MT",2284,2308,2379,2404,2495,2607,2690,2771,2759,2944,2810,2760,2567,2751,2774,2798,2952,2775,2771,2854,2704,2717,2755,2716,2524,2642,2521,2437,2304,2244,2241,2465,": ",2359,2531]
["Y16,M,AM",": ",": ",": ",": ",": ",26924,30350,33370,33750,31788,": ",": ",": ",": ",": ",": ",": ",": ",": ",": ",": ",": ",": ",": ",": ",": ",": ",": ",": ",": ",": ",": ",": ",": ",": "]
["Y16,M,ES",220946,220753,218519,218680,220774,228485,234684,231481,229895,231727,231849,232365,234755,241116,249643,259995,271630,283183,297142,309240,321081,330696,337379,339984,342601,341822,339946,337861,336096,335455,335931,336839,340068,341686,339543]
["Y16,M,LU",3283,3345,3411,3136,3090,3121,3006,2949,3007,2815,2702,2623,2623,2504,2545,2332,2402,2536,2278,2307,2266,2172,2177,2142,2098,2154,2259,2449,2394,2491,2622,2728,2722,2797,2889]
["Y16,M,TR",680711,676209,650430,646505,665697,647228,625922,628856,": ",": ",": ",": ",": ",": ",": ",678470,687481,693486,698486,703486,706000,703016,694530,683033,671033,662552,636434,611345,587246,564096,541859,543048,544239,545434,546629]
["Y16,T,EA18",3497524,3497033,3481733,3444359,3469156,3541750,3652523,3700083,3798582,3774892,3814844,3749443,3766666,3746596,3757235,3789752,3921536,3974170,4001346,3936903,3963942,4009749,4043178,": ",": ",": ",": ",": ",": ",": ",": ",": ",": ",": ",": "]
["Y16,T,EA19",3530479,3531029,3517348,3481910,3508226,3585884,3701683,3749812,3847864,3823050,3865029,3803274,3822726,3801878,3812290,3844736,3972894,4024419,4052133,3987469,4014748,4060943,4095176,": ",": ",": ",": ",": ",": ",": ",": ",": ",": ",": ",": "]
["Y16,T,IT",571647,569152,558878,554560,561897,571145,587891,581328,582598,571174,572463,548416,559274,578237,583162,595724,616062,624356,634161,655635,697808,727929,769984,818411,857530,862376,875779,894533,884869,914491,905855,921397,950779,956239,973541]
["Y16,T,SI",18584,18854,19540,19520,20052,20285,20409,21937,22554,23475,25360,25611,25084,25983,26366,27066,28092,29165,30137,30484,30284,30040,30459,29851,29291,29456,29240,28370,27447,27679,28004,28848,29991,29609,": "]
["Y17,F,DE",404406,394253,383436,386684,401771,412361,428229,470763,467093,479431,468695,461934,446076,442416,444429,454414,452601,454619,428642,420036,414131,406276,390779,395610,399399,347146,380983,401668,445913,476255,494604,512555,514827,526276,518423]
["Y17,F,HR",24375,24618,23842,23846,23730,23000,24919,24831,24790,25587,25485,25933,26898,27566,27142,": ",": ",": ",": ",": ",": ",": ",": ",": ",": ",": ",": ",": ",": ",": ",": ",": ",": ",": ",": "]
["Y17,F,RO",104922,103608,106198,111000,112231,113664,114981,130183,147778,149435,160034,161088,161930,159478,146082,158980,174516,186578,185863,190762,195623,195491,195310,197258,174666,180534,182268,194553,209933,237116,239103,126883,130141,132902,134996]
["Y17,M,BY",": ",47739,51895,55943,59466,": ",67297,72575,78066,83152,": ",": ",": ",": ",": ",": ",": ",": ",": ",": ",": ",": ",": ",": ",": ",": ",": ",": ",": ",": ",": ",": ",": ",": ",": "]
["Y17,M,FI",30955,31946,32951,33788,33669,34764,33961,34359,33232,33147,31499,31941,32834,34004,34901,34806,33224,33117,32823,33233,33746,34191,33580,31676,29087,30215,30942,32271,33305,35845,37351,37463,37828,38908,39466]
["Y17,M,LV",8742,9206,10151,10991,12181,14489,15545,16789,17549,18432,18918,19070,18797,18676,19032,18147,17288,17197,16613,16364,16453,17155,17255,17577,19693,19720,19636,18929,17788,17545,17850,17704,17393,18068,18675]
["Y17,T,AM",": ",": ",": ",": ",": ",59218,65395,66554,62125,62430,": ",": ",": ",": ",": ",": ",": ",": ",": ",": ",": ",": ",": ",": ",": ",": ",": ",": ",": ",": ",": ",": ",": ",": ",": "]
["Y17,T,EFTA",157530,160065,157773,157955,158532,161799,161912,160988,156554,154360,147008,144926,142223,141202,139738,141582,139920,140317,138122,136411,135722,138100,141153,146807,149948,156797,161153,161914,167059,169405,170257,173465,174626,175842,171294]
["Y17,T,LV",16951,17788,19555,21581,24033,28410,30539,33232,34314,35909,37291,37618,36654,36852,37416,35474,33810,33667,32599,32354,32408,33690,34175,34552,38141,38247,38140,36586,33759,33564,33702,33911,33317,34999,36116]
["Y17,T,UA",": ",462666,481022,498888,528684,569782,611464,643340,674603,718971,": ",": ",": ",": ",": ",": ",": ",": ",": ",": ",": ",": ",": ",": ",": ",": ",": ",": ",": ",": ",": ",": ",": ",": ",": "]
["Y18,F,EA19",1724230,1702856,1714244,1753520,1820219,1845964,1897761,1889088,1905298,1878379,1888173,1878503,1885125,1895076,1958802,1980637,2006301,1974531,1974442,1996770,2013480,2040279,2102922,": ",": ",": ",": ",": ",": ",": ",": ",": ",": ",": ",": "]
["Y18,F,IT",277181,275370,274891,279998,289865,286417,288009,281920,281815,270623,274229,283171,286204,292875,304528,308668,313136,323400,342919,357719,378092,401880,422874,426877,428770,438113,433130,447893,443156,451568,466164,468644,477441,451477,437015]
["Y18,F,SI",9481,9555,9874,9888,9919,10700,11016,11374,12375,12611,12323,12691,12979,13285,13660,14128,14759,14542,14451,14588,14893,14690,14135,14335,14322,13858,13788,13836,13920,14525,14758,14861,14264,14133,": "]
["Y18,F,SK",28890,29780,32268,35186,35896,37689,38151,38450,39821,40357,41832,43261,43476,43673,43819,44190,44618,47381,47145,46570,46464,46125,45546,43557,41315,38912,37763,37256,35691,36012,37938,39199,40414,40304,38811]
["Y18,M,DE_TOT",426521,408153,413299,427336,435565,452063,497197,491413,506409,497202,488461,472426,471313,473234,483633,480552,482115,457012,450754,444819,435767,423315,427440,427891,471078,525863,545207,592931,628049,648924,676393,687903,706897,705102,681300]
["Y18,M,HU",56741,59704,60925,61570,62045,64634,64395,63195,63474,63795,65826,68060,64937,65543,69109,73230,76306,80471,83293,86626,90748,95703,91858,77100,75465,73070,75257,76586,76191,73504,68371,66384,66222,65864,63595]
["Y18,M,RS",39648,41887,41710,42688,42377,44684,44677,45010,48446,49228,49122,50441,52311,52708,51863,51556,52599,": ",": ",": ",": ",": ",": ",": ",": ",": ",": ",": ",": ",": ",": ",": ",": ",": ",": "]
["Y18,T,DE_TOT",826219,793290,803455,832092,850181,882016,969220,960142,987424,968013,953027,921679,917900,922225,942036,937447,940077,889501,875868,864716,847408,820552,831452,834891,918690,1024954,1064563,1157304,1222443,1265002,1316346,1334917,1372220,1368198,1322460]
["Y18,T,FI",62655,64913,66775,66422,68295,66980,67345,65222,65098,61663,62457,64420,66761,68357,67726,65113,64693,64701,65027,66149,66919,65449,62293,56673,58640,60896,63246,64973,70240,73059,73713,74137,76112,77191,76387]
["Y18,T,NL",197661,197496,202655,201817,203609,205851,205908,197693,195474,196835,196833,192758,189584,183888,184444,188880,191013,184621,185170,182741,186019,188183,197342,205997,224603,237737,248400,255820,243788,243312,245157,250717,256962,254661,250563]
["Y19,F,AT",47748,49069,49988,49866,50805,49829,49552,48871,48368,48446,47895,48735,48056,49575,49030,46952,44463,44012,44254,45201,47757,49937,50397,53254,55314,56368,60139,61878,62692,63438,64229,66132,66585,65698,65127]
["Y19,F,EL",53292,54780,54096,57649,60085,60570,61663,63284,60330,63952,63372,66460,70407,73749,75123,78950,77355,77443,76402,78168,78438,79946,77179,76415,73656,75227,75630,75576,75050,74068,73200,73218,69765,68606,65541]
["Y19,F,MD",": ",26305,27876,28998,30396,32265,33395,35928,36361,37115,": ",": ",": ",": ",": ",": ",": ",": ",": ",": ",": ",": ",": ",": ",": ",": ",": ",": ",": ",": ",": ",": ",": ",": ",": "]
["Y19,F,UK",385452,390448,397531,407514,415434,408700,401110,401128,396322,388924,384854,373568,360156,354106,356824,362644,358095,339414,325168,330225,343458,354845,371900,394085,415898,425107,431649,442592,450780,460089,469126,475130,470073,460230,451011]
["Y19,M,EE",6431,6643,7289,8374,8640,9890,10570,10710,10720,10270,10210,10420,10610,10230,10440,10220,9926,9749,9974,9918,10054,10118,10540,11105,11248,11776,12903,12527,11520,11677,11737,12177,12232,12729,12348]
["Y19,M,LI",235,224,225,192,239,208,236,246,221,197,220,220,193,211,221,225,202,172,220,212,178,198,227,212,228,258,250,236,226,214,231,229,224,218,211]
["Y19,M,SK",31206,33472,37046,37484,39144,40141,39961,41357,41515,43513,44999,45032,45491,46502,46143,46758,48711,48665,48890,48726,47509,47509,44936,42628,40535,39506,38799,37227,37652,39268,40505,42300,42180,40709,42354]
["Y19,T,DE_TOT",815272,814110,845599,861187,890525,975997,965959,994435,974156,960244,930660,927797,934459,955827,947452,950649,898922,885122,876989,861438,832304,846980,858098,937117,1042931,1084632,1170939,1229815,1271335,1320196,1335143,1371102,1368751,1327409,1318118]
["Y19,T,HU",117206,119707,121177,124379,127128,127548,123460,124477,125152,130064,133902,128151,129217,134698,143187,149415,156753,162429,169301,176382,185985,178666,149810,146683,142357,143850,148089,148307,142607,132218,128775,128027,127448,123331,132323]
["Y19,T,PL",432837,461117,481104,500432,530329,542224,552561,567643,580979,612228,657316,677693,692825,666134,636353,647769,652697,642194,629874,638865,619818,597229,571669,561719,539245,522143,": ",": ",": ",": ",509409,": ",": ",": ",": "]
["Y19,T,RS",81085,80888,82792,82890,86051,87402,88238,94105,95998,96227,98845,102863,103187,101931,101447,102995,102415,": ",": ",": ",": ",": ",": ",": ",": ",": ",": ",": ",": ",": ",": ",": ",": ",": ",": "]
["Y2,F,CH",40603,39956,40365,38889,38136,37211,36150,35917,35923,35099,35387,35498,35400,36952,38532,39017,39950,39752,40171,40595,42278,41758,41174,39514,38709,36780,36779,36253,35680,35367,36236,35448,35781,34675,34033]
["Y2,F,FR",389300,390165,396521,392850,393296,389063,394473,385518,380781,378183,380067,385992,388326,372590,369682,360765,364393,362491,354761,353998,369579,377187,378597,381579,383334,": ",": ",": ",": ",": ",": ",": ",": ",": ",": "]
["Y2,F,NO",30253,30136,30995,30948,30213,29333,29375,28592,28510,28361,27823,28195,29290,29193,28891,29548,29929,29567,29366,29402,29299,29884,29858,28909,28014,26670,25668,25034,24680,24282,24906,25081,24863,25192,25201]
["Y2,M,AZ",": ",93595,88032,81095,80805,66817,80000,75000,70000,60600,": ",": ",": ",": ",": ",": ",": ",": ",": ",": ",": ",": ",": ",": ",": ",": ",": ",": ",": ",": ",": ",": ",": ",": ",": "]
["Y2,M,ES",233271,243553,248322,255532,268942,257612,254729,246660,241057,233347,221645,216810,209078,197159,189423,187834,185989,186598,190003,196997,202072,203236,201063,204007,204506,213228,220636,230792,241079,248588,264234,274400,292043,303250,319622]
["Y2,M,ME",3751,3662,4076,4290,4104,3942,3794,3731,3906,3928,4200,4183,4193,4179,4145,4142,": ",": ",": ",": ",": ",": ",": ",": ",": ",": ",": ",": ",": ",": ",": ",": ",": ",": ",": "]
["Y2,T,AD",": ",": ",753,769,769,740,770,777,804,770,765,719,682,764,706,721,652,661,643,687,695,688,631,659,545,432,445,465,469,456,": ",": ",": ",": ",": "]
["Y2,T,EEA30",5252474,5283572,5395793,5408317,5455923,5345709,5278682,5196734,5168692,5105663,5071889,5083891,5161692,5108489,5114164,5165085,5188509,5186257,5288875,5419807,5589448,": ",": ",": ",": ",": ",": ",": ",": ",": ",": ",": ",": ",": ",": "]
["Y2,T,LT",30383,30105,30330,31190,30019,28771,28586,28415,28605,28893,28933,30598,33142,35607,36203,37114,38315,40317,41324,46153,52680,54430,55712,55053,56479,59162,60957,59284,58202,57856,53966,53080,53066,52352,51473]
["Y2,T,SM",": ",": ",362,335,": ",": ",": ",": ",": ",": ",": ",": ",": ",": ",": ",": ",": ",": ",": ",": ",": ",": ",": ",": ",": ",": ",": ",": ",": ",": ",": ",": ",": ",": ",": "]
["Y20,F,AT",50417,51123,51161,51565,50735,50553,50083,49522,49314,49104,50034,49321,50688,49618,47472,45002,44368,44536,45479,48194,50461,51274,54767,56693,57360,61030,62208,62520,63662,64419,66220,66585,65554,65525,62414]
["Y20,F,HU",58769,59405,60645,62741,62831,61115,60859,61430,64454,66229,63346,63820,65572,69959,73046,76183,79151,82758,85702,90441,86953,72864,71378,69391,70349,70125,72194,69167,63921,62440,61853,61650,59813,64404,67586]
["Y20,F,RS",39212,40080,40420,42097,41881,43249,45690,46727,47132,48358,50667,50416,49888,49903,50408,50011,50653,": ",": ",": ",": ",": ",": ",": ",": ",": ",": ",": ",": ",": ",": ",": ",": ",": ",": "]
["Y20,M,CH",47742,48006,49168,49450,48995,47575,47432,45083,44688,43925,44418,43245,43458,43099,43154,41500,41033,41053,40609,41427,42738,43599,45394,47050,48067,48807,50329,51263,52561,53589,53932,52743,51606,49589,47931]
["Y20,M,CY",6242,6535,7061,7111,6977,6849,6803,6310,6249,6174,6088,6064,5692,5713,5811,5167,5070,4908,4693,4384,4570,4469,4671,": ",": ",": ",": ",": ",": ",": ",": ",": ",": ",5041,": "]
["Y20,M,FX",": ",": ",390381,393088,403937,403259,408259,405407,409834,404388,393005,381548,403535,406411,406929,386011,376420,380894,369794,378342,406820,434295,446019,448272,440719,437997,430852,430554,439722,442282,446897,441971,429021,435397,426818]
["Y20,M,PL",234236,245141,255031,270920,276721,278540,288386,295968,311092,334544,344944,351721,339407,323025,328246,324554,326421,320951,324873,314891,304798,290558,286436,275207,266874,254404,": ",": ",": ",": ",268069,": ",": ",": ",": "]
["Y20,T,BE",129975,134049,138590,139669,137649,132606,130829,127376,126481,122201,122795,123239,125709,128228,128104,126947,125299,124342,123114,121634,126329,131601,136784,141537,142514,142355,142558,145216,149647,154927,161233,159678,157823,160725,157863]
["Y20,T,EU27",5569532,5669824,5850611,5978068,6111953,6070190,6151206,6113790,6165038,6197383,6221248,6223643,6320761,6360340,6499557,6428285,6432234,6461520,6513530,6592693,6726399,6704768,6890498,": ",": ",": ",": ",": ",": ",": ",": ",": ",": ",": ",": "]
["Y20,T,MK",29900,29754,31020,32026,31440,31658,33102,33263,32585,33182,33246,33017,33438,33479,33599,33224,32655,32322,33035,32558,31776,31032,": ",": ",": ",": ",": ",": ",": ",": ",": ",": ",": ",": ",": "]
["Y21,F,AL",20335,19977,": ",": ",": ",": ",": ",": ",31449,30161,28703,29102,": ",": ",": ",": ",": ",": ",": ",": ",": ",": ",": ",": ",": ",": ",": ",": ",": ",": ",": ",": ",": ",": ",": "]
["Y21,F,EEA31",2849476,2924323,2999234,3080597,3070643,3109076,3088428,3119469,3139134,3140407,3150159,3199855,3217315,3265980,3232083,": ",": ",": ",": ",": ",": ",": ",": ",": ",": ",": ",": ",": ",": ",": ",": ",": ",": ",": ",": "]
["Y21,F,LT",19862,22028,21885,21746,21296,22475,23851,23997,23994,23877,24704,23259,23280,23090,23259,23412,23632,24265,24608,25154,25942,27442,27984,27683,26324,26821,26861,26613,26525,27767,28174,29524,31272,30419,28885]
["Y21,F,SM",": ",": ",147,153,": ",": ",": ",": ",": ",": ",": ",": ",": ",": ",": ",": ",": ",": ",": ",": ",": ",": ",": ",": ",": ",": ",": ",": ",": ",": ",": ",": ",": ",": ",": "]
["Y21,M,DK",38246,38578,36674,36585,35076,33892,32480,31720,30375,29136,28395,29331,29024,31030,32044,33322,33200,34945,37741,37378,37374,39005,39124,36856,37204,38664,41742,45329,43932,42737,41681,39119,38377,38326,37347]
["Y21,M,IE",23185,24620,26240,28587,28849,30098,32957,35754,35607,32949,31684,32527,33791,34501,34292,31771,31426,30819,31169,30635,30487,31095,30650,30231,28894,27878,28292,29723,30277,30500,": ",": ",": ",": ",": "]
["Y21,M,RU",": ",913625,": ",": ",1187193,1219311,1298646,1303842,1253555,1289480,": ",": ",": ",": ",": ",": ",": ",": ",": ",": ",": ",": ",": ",": ",": ",": ",": ",": ",": ",": ",": ",": ",": ",": ",": "]
["Y21,T,CY",12912,13713,13681,14211,13743,13886,12950,12779,12259,12251,12065,11256,11397,11354,10697,10463,9953,9742,9067,9492,9102,9369,8994,": ",": ",": ",": ",": ",": ",": ",": ",": ",": ",9536,": "]
["Y21,T,FX",": ",": ",766957,780569,780866,789690,787999,796496,788701,776940,756392,797034,801394,802894,757697,738461,745778,724539,744381,797381,852204,875753,881498,862957,856905,847140,844526,864886,869286,880863,872594,846359,859455,844729,853823]
["Y21,T,PL",479942,499071,529394,541265,544874,559820,578729,609117,654410,675861,690922,664084,634374,645691,636542,620875,627806,636926,617753,595010,569582,560054,537531,520533,493723,493499,": ",": ",": ",": ",546642,": ",": ",": ",": "]
["Y21,T,PT",110635,112462,115354,116431,115333,117238,117360,120169,123992,133427,137149,144212,147418,152623,150598,152875,162059,167919,168706,166259,161925,163805,161549,159474,156035,156517,157646,161930,166542,170941,170151,168423,166637,164898,156361]
["Y22,F,BG",38368,41937,45518,47694,48359,47911,49024,48028,48420,49292,49546,50881,52018,55530,59985,61771,63044,62636,64689,59251,55415,57182,58178,61390,59146,52765,53968,56235,57703,58979,61867,61596,61618,59703,60877]
["Y22,F,EU28",2913493,2972890,3062310,3068741,3106389,3079887,3117505,3142757,3148272,3152555,3206097,3219814,3262039,3215358,3213809,": ",": ",": ",": ",": ",": ",": ",": ",": ",": ",": ",": ",": ",": ",": ",": ",": ",": ",": ",": "]
["Y22,F,MT",2867,2930,2880,2994,2916,2811,2646,2746,2751,2862,3050,2889,2909,2978,2834,2788,2815,2752,2544,2685,2554,2474,2336,2259,2270,2343,2275,2461,2500,2570,2668,2786,": ",3116,3001]
["Y22,M,CY",6922,6937,7178,7321,7282,6808,6733,6560,6355,6280,5880,5879,5871,5230,5084,4923,4707,4409,4608,4516,4756,4547,4550,": ",": ",": ",": ",": ",": ",": ",": ",": ",": ",5555,": "]
["Y22,M,EEA31",3076275,3132289,3221852,3211384,3241204,3203507,3233727,3266647,3276423,3280066,3333898,3333968,3379378,3342268,3340015,": ",": ",": ",": ",": ",": ",": ",": ",": ",": ",": ",": ",": ",": ",": ",": ",": ",": ",": ",": "]
["Y22,M,LU",3490,3421,3531,3232,3079,2984,2988,2877,2915,2798,2832,2866,2602,2502,2553,2459,2504,2473,2406,2513,2670,2814,2708,2799,2843,2946,2857,2968,3053,3060,2912,2880,2836,2910,2919]
["Y22,M,TR",628323,627928,627160,642835,641051,638158,638979,635454,": ",": ",": ",": ",": ",": ",": ",699514,691530,680033,668033,654044,635060,612066,587568,561574,537060,489027,480594,472307,464163,456160,448294,429754,411980,394942,378608]
["Y22,T,EA18",3737069,3782861,3918933,3903557,3959167,3916035,3945428,3940465,3946469,3971406,4101303,4133410,4176626,4085272,4090332,4117869,4144949,4194233,4293793,4361343,4520657,4673369,4702279,": ",": ",": ",": ",": ",": ",": ",": ",": ",": ",": ",": "]
["Y22,T,IS",5043,4878,5067,4795,4930,4558,4438,4416,4340,4370,4367,4372,4616,4599,4182,3990,4184,4168,3992,4330,4455,4101,3855,4124,4021,4238,4527,4461,4470,4520,4429,4263,4510,4397,4240]
["Y22,T,SE",135798,137057,137497,129507,126409,118592,115665,111794,106408,103086,103471,103301,105887,103586,100021,102375,104774,110221,116477,115621,117989,118438,114300,112855,118889,126129,126503,126253,126294,116564,110942,108586,106786,109776,110442]
["Y23,F,CZ",64448,65678,65275,67590,66287,67145,68506,67889,67011,68995,69365,73518,81862,84922,86809,89486,92205,92511,85708,78501,73681,70934,67599,64809,64996,66777,69592,73011,70673,63546,62372,61275,61318,67543,73140]
["Y23,F,GE",": ",38565,": ",35061,35506,36241,37450,35325,33922,34071,": ",": ",": ",": ",": ",": ",": ",": ",": ",": ",": ",": ",": ",": ",": ",": ",": ",": ",": ",": ",": ",": ",": ",": ",": "]
["Y23,F,PT",55731,56229,56275,57850,58026,59087,60769,65421,67042,71048,72532,75766,75127,76800,80959,82757,82690,81886,79403,80267,79195,77041,75215,75172,75304,76544,78813,81832,81907,82677,81832,81005,78062,76777,75470]
["Y23,M,BG",44330,48001,50089,51579,50434,51674,50945,52005,52085,52808,53900,54697,58055,57856,64221,66076,65158,66592,59228,58052,60028,61684,62832,60125,54126,54165,57563,59382,60445,61170,65254,64936,61636,62960,63613]
["Y23,M,EU28",3116593,3187535,3185529,3223158,3189379,3207080,3251815,3272272,3274716,3328004,3332022,3375593,3329534,3318854,3338218,": ",": ",": ",": ",": ",": ",": ",": ",": ",": ",": ",": ",": ",": ",": ",": ",": ",": ",": ",": "]
["Y23,M,FR",389280,396437,394623,397644,396681,401221,398823,391861,385194,409753,407887,408981,386072,377514,382514,371565,382956,408666,434759,446574,448955,439944,437373,432611,434436,": ",": ",": ",": ",": ",": ",": ",": ",": ",": "]
["Y23,M,MT",3168,3214,3185,3090,2948,3099,3000,2976,3035,3072,3026,3102,3187,3029,3079,3020,3011,2808,2629,2706,2641,2526,2503,2396,2374,2391,2530,2708,2744,2926,2847,2834,": ",3064,3208]
["Y23,T,AM",": ",": ",": ",": ",": ",64846,64554,62348,59596,58388,": ",": ",": ",": ",": ",": ",": ",": ",": ",": ",": ",": ",": ",": ",": ",": ",": ",": ",": ",": ",": ",": ",": ",": ",": "]
["Y23,T,EFTA",179019,178221,173582,171445,163228,159128,155607,152916,148987,150879,148694,148909,146840,144413,142149,143657,146534,152243,156076,163408,167729,168612,174496,176809,176809,178754,179509,179805,174569,169627,166485,164113,163804,160976,160148]
["Y23,T,LV",26792,28637,29306,30856,32035,33232,33612,34505,34678,32955,31973,31768,31258,31043,31660,32240,32275,32249,31991,33614,37062,36953,35592,36096,36232,36378,36482,38285,39163,40172,40956,41334,41319,40883,39653]
["Y23,T,UA",": ",646632,676892,717141,742327,788135,766169,784918,799456,730541,": ",": ",": ",": ",": ",": ",": ",": ",": ",": ",": ",": ",": ",": ",": ",": ",": ",": ",": ",": ",": ",": ",": ",": ",": "]
["Y24,F,EA19",1967056,1958837,1998352,1979644,1991615,1997691,2018805,2028777,2088394,2106702,2132374,2085542,2085739,2089349,2093336,2110062,2165863,2192751,2259037,2330773,2342614,2402010,2419175,": ",": ",": ",": ",": ",": ",": ",": ",": ",": ",": ",": "]
["Y24,F,IT",313850,313590,312001,304663,301054,308451,310075,310721,317874,322212,329241,338261,351038,364313,384465,407944,426002,428185,434357,444110,439429,453767,448902,456533,466313,467440,475668,448969,436222,431814,417649,409867,395919,396342,392680]
["Y24,F,SI",11372,11815,12803,13011,12660,13102,13240,13458,13919,14390,14983,14700,14595,14581,14848,14654,13968,14167,14195,13840,13694,13979,14329,15441,15832,16079,15508,15529,15447,15400,15172,14971,14833,15786,": "]
["Y24,M,DE",533339,515501,539226,522615,508054,490329,490102,495459,509267,506525,511655,487949,482374,476209,466315,455608,461845,470504,523273,582119,609939,661359,691125,696755,711670,575277,570495,557278,544805,534093,517624,504877,489106,484292,471540]
["Y24,M,HR",25857,26051,27222,27041,27491,28759,30001,29528,29660,29695,30400,30196,29289,29208,28370,": ",": ",": ",": ",": ",": ",": ",": ",": ",": ",": ",": ",": ",": ",": ",": ",": ",": ",": ",": "]
["Y24,M,MK",16137,16246,16919,17162,16523,16876,16920,16940,17148,16822,16729,16628,16258,16452,16739,16682,16112,15936,15862,15627,15069,15556,": ",": ",": ",": ",": ",": ",": ",": ",": ",": ",": ",": ",": "]
["Y24,T,BG",92712,97338,99470,97799,99941,97819,99454,99996,100912,103183,104984,111736,111963,116152,129107,127669,131143,118295,113366,117065,119715,123231,118356,105933,105026,109976,117015,119345,121090,123516,126467,121365,123668,124330,131226]
["Y24,T,EU28",6307635,6280580,6380738,6328758,6370116,6417724,6491359,6522002,6631863,6646278,6743913,6641579,6595520,6595977,6673622,": ",": ",": ",": ",": ",": ",": ",": ",": ",": ",": ",": ",": ",": ",": ",": ",": ",": ",": ",": "]
["Y24,T,MT",6243,6334,6201,5776,5747,5870,5836,5916,6135,5816,6067,6187,5910,5985,5991,5771,5349,5196,5043,5135,4874,4774,4668,4731,4660,4958,5188,5283,5655,5584,5576,5815,": ",6390,5904]
["Y25,F,AM",": ",": ",": ",": ",": ",30480,29458,28724,29187,28247,": ",": ",": ",": ",": ",": ",": ",": ",": ",": ",": ",": ",": ",": ",": ",": ",": ",": ",": ",": ",": ",": ",": ",": ",": "]
["Y25,F,AT",56325,54992,53996,53461,53117,54255,54108,55746,55141,52933,49505,48159,47784,47928,50262,52443,53010,56869,59283,60899,65926,67527,67342,67217,66721,67052,66524,65276,65099,62347,60583,58814,58125,58310,53833]
["Y25,F,EL",60160,62309,60150,64966,65612,69246,73394,76825,79685,81134,80854,79919,78782,80965,84626,85776,83391,82520,80207,82460,81972,84643,83752,78521,76409,72639,71337,70878,70802,70514,70000,71200,68605,69177,66454]
["Y25,F,MD",": ",35587,36054,35420,35273,33619,32531,29777,30086,31576,": ",": ",": ",": ",": ",": ",": ",": ",": ",": ",": ",": ",": ",": ",": ",": ",": ",": ",": ",": ",": ",": ",": ",": ",": "]
["Y25,F,UK",438457,437584,436194,431646,431038,425343,419064,417195,414978,411375,395315,369266,353172,353703,362722,372066,386519,408116,427976,434209,439199,448323,455518,464972,473345,477396,472959,464692,454528,438702,423231,412139,401542,391976,381373]
["Y25,M,EE",10376,10485,10447,10007,9880,10040,10200,9700,9940,9770,9760,9720,10120,10020,10020,9950,9397,9736,9998,9744,9480,9444,9385,10204,10635,11358,11410,12079,12045,12284,12161,12007,12061,12168,12539]
["Y25,M,LI",254,259,230,206,233,232,206,240,230,237,226,188,236,230,195,216,260,230,245,285,256,273,259,253,279,243,243,233,240,257,230,236,269,259,218]
["Y25,M,SK",39883,41185,41474,42948,44571,44712,45172,45850,45629,46614,48351,48054,48220,48427,46671,47271,44708,42207,40075,38912,37757,36057,36401,37808,39434,41088,40924,39461,41144,42168,41474,43669,45331,45803,45614]
["Y25,T,EA19",3995705,4047807,4024002,4048288,4047914,4093641,4136593,4276402,4297830,4355633,4269826,4279657,4287026,4293684,4309561,4407396,4462061,4624401,4747143,4783908,4904112,4946872,4990547,": ",": ",": ",": ",": ",": ",": ",": ",": ",": ",": ",": "]
["Y25,T,HR",50955,53305,53148,54170,56457,58619,58055,58396,58514,59491,59308,57606,57292,56480,55656,": ",": ",": ",": ",": ",": ",": ",": ",": ",": ",": ",": ",": ",": ",": ",": ",": ",": ",": ",": "]
["Y25,T,RO",282542,288960,290008,283342,273618,273508,271310,294571,320870,325582,343138,346220,348600,355037,398734,402971,345681,348920,334156,376520,400418,457036,456283,240506,261062,268712,271725,279846,296055,317368,325022,344232,357049,369452,383423]
["Y26,F,BY",": ",75413,77764,76037,77138,": ",78091,75579,74012,71878,": ",": ",": ",": ",": ",": ",": ",": ",": ",": ",": ",": ",": ",": ",": ",": ",": ",": ",": ",": ",": ",": ",": ",": ",": "]
["Y26,F,FI",33729,31851,32031,32863,33813,34446,33773,32575,32015,32161,32040,32541,32742,31926,30678,27717,28706,30341,31292,31959,34667,35889,36319,36259,36883,37338,36727,36857,36799,36905,35955,37668,38892,38670,39430]
["Y26,F,NL",104283,103709,104055,101569,99453,96808,96922,99537,100358,98017,98827,97924,98547,99818,103937,107763,117111,122216,127546,130821,125667,124514,125016,126841,129212,127408,126064,125846,121832,122330,119385,117799,116193,115152,113618]
["Y26,M,AT",58261,55753,54949,54778,54868,54819,56377,56191,54985,52018,50442,49320,49680,51057,51983,52586,56634,59339,62156,66916,70349,71343,71334,71233,70474,69463,67500,67070,63929,61635,59384,59076,57467,54163,51327]
["Y26,M,EL",62178,59129,65206,69781,74589,81196,84571,87373,89101,89466,88238,86911,88876,86033,94308,95205,93045,87311,89352,86938,88060,86381,80737,77768,71812,70200,69768,69619,69553,69272,65400,58503,67707,72199,68973]
["Y26,M,MD",": ",37314,37172,35764,34861,33218,30956,31227,30726,31645,": ",": ",": ",": ",": ",": ",": ",": ",": ",": ",": ",": ",": ",": ",": ",": ",": ",": ",": ",": ",": ",": ",": ",": ",": "]
["Y26,M,ME",4368,4603,4615,4679,4700,4601,4596,4582,4554,4542,4546,4476,4449,4434,4435,4396,": ",": ",": ",": ",": ",": ",": ",": ",": ",": ",": ",": ",": ",": ",": ",": ",": ",": ",": "]
["Y26,T,AD",": ",": ",902,960,960,1211,1328,1312,1311,1366,1212,1170,937,996,1103,1137,1228,1196,1243,1270,1425,1394,1423,1377,1149,1044,1102,1042,1111,999,": ",": ",": ",": ",": "]
["Y26,T,EEA30",6457698,6382270,6427743,6451358,6499141,6534372,6699790,6736470,6835968,6745804,6720317,6702386,6731297,6768593,6914947,6858399,7046901,7180610,7225104,7352086,7463760,7514213,7410072,": ",": ",": ",": ",": ",": ",": ",": ",": ",": ",": ",": "]
["Y26,T,RO",287390,289487,283329,267829,273118,269861,276121,297370,323967,325587,343935,346805,346808,356322,402458,345322,348505,333340,375474,399003,455910,455177,238858,246487,267262,271028,279170,295324,316609,324210,343456,356402,368584,382608,365485]
["Y26,T,SK",80927,81765,84172,87339,87416,87997,88940,89140,90634,94980,94274,93862,94239,92123,91650,88161,83408,78747,76250,74294,71063,71605,74701,77274,80403,80056,77111,80362,81521,80322,84881,87931,89808,89712,88432]
["Y27,F,DE_TOT",507022,495944,487201,482058,484116,496423,498520,504541,480458,474272,469666,462290,448021,454566,458531,501947,555008,580655,626293,656160,673083,690051,688848,696820,688034,663477,650529,626663,610098,578054,568170,560546,550711,558182,545252]
["Y27,F,HU",58915,59986,60656,58677,65266,67006,71315,74206,77233,79902,83026,85349,88824,85121,71469,71091,69330,71233,70502,71515,68329,62713,60572,59793,59561,58552,64177,67326,69317,72221,75550,86558,93927,98778,90967]
["Y27,F,RS",45179,45291,46266,48525,48633,49992,49974,50657,50191,50803,51308,51564,51300,50049,49648,48268,47983,": ",": ",": ",": ",": ",": ",": ",": ",": ",": ",": ",": ",": ",": ",": ",": ",": ",": "]
["Y27,M,CH",55201,54906,53787,53876,52423,50989,50142,48786,46641,46124,46155,45457,45581,46733,46105,47739,48990,50361,52123,54487,56184,58135,59360,59950,58056,55440,53075,51623,50521,49556,49250,48330,47448,45812,45178]
["Y27,M,FR",390208,392040,390018,384842,379247,402677,404680,408054,385795,377816,382279,370943,380943,404367,428910,441252,442657,431767,429833,426391,429518,443309,447217,452873,448321,": ",": ",": ",": ",": ",": ",": ",": ",": ",": "]
["Y27,M,NO",35351,35071,33602,32473,31894,31553,30317,30220,29244,29052,28275,29391,30692,32231,33135,34347,34671,34191,35713,35660,34861,35476,34979,34539,33066,32705,32712,32069,32375,31917,31732,32128,32008,31237,31410]
["Y27,T,AZ",": ",185669,182904,174913,168194,161469,152000,148100,136000,136900,": ",": ",": ",": ",": ",": ",": ",": ",": ",": ",": ",": ",": ",": ",": ",": ",": ",": ",": ",": ",": ",": ",": ",": ",": "]
["Y27,T,ES",524168,545447,577925,611131,637916,681833,715831,743322,744887,763803,758535,757135,736946,710458,685378,666969,656751,651147,648152,645887,644230,645714,641614,631092,620372,615188,604189,597033,590859,578842,562876,545976,529865,516929,506114]
["Y27,T,ME",9109,8967,9274,9086,9327,9365,9218,9173,9158,9089,9088,8979,8885,8856,8888,8778,": ",": ",": ",": ",": ",": ",": ",": ",": ",": ",": ",": ",": ",": ",": ",": ",": ",": ",": "]
["Y28,F,AD",": ",": ",518,566,566,676,699,707,677,738,685,608,618,546,630,598,647,668,717,665,673,708,669,644,583,487,553,504,484,434,": ",": ",": ",": ",": "]
["Y28,F,BG",47738,46403,46792,47064,46793,47905,48920,52228,52849,55003,56104,57152,58181,56892,55237,56999,57972,60359,58301,51179,50246,52245,53663,55734,57242,58901,61020,60489,61594,61788,63297,64710,63009,64555,64868]
["Y28,F,EEA30",3207340,3209558,3236755,3251026,3322232,3342168,3405083,3370819,3354297,3347412,3372147,3383933,3422032,3409002,3500893,3563511,3584187,3639718,3683707,3707836,3660387,3685870,3732350,": ",": ",": ",": ",": ",": ",": ",": ",": ",": ",": ",": "]
["Y28,F,LT",19117,18665,18551,18809,18332,19546,19764,20325,20841,21293,22105,22442,23188,23603,25155,26020,26339,25443,26171,26391,26678,26580,28148,28758,30294,31870,32150,31155,30897,28624,27002,26556,25354,23911,24353]
["Y28,F,SM",": ",": ",176,190,": ",": ",": ",": ",": ",": ",": ",": ",": ",": ",": ",": ",": ",": ",": ",": ",": ",": ",": ",": ",": ",": ",": ",": ",": ",": ",": ",": ",": ",": ",": "]
["Y28,M,DK",34479,33010,31548,30566,31525,30846,32617,32978,33931,33756,35408,38295,38058,38280,39870,40001,38083,38313,39933,42649,45679,44229,43466,42472,40026,39101,39086,37864,38208,38152,38159,38189,37555,38685,38122]
["Y28,M,IE",30039,31231,32815,34579,37124,38511,41096,41210,38738,35930,33967,32183,31747,30903,30009,28577,27454,25997,25388,24803,24663,24487,24475,24109,24153,24296,25086,24648,24822,25100,": ",": ",": ",": ",": "]
["Y28,M,RU",": ",1258802,": ",": ",1156502,1150360,1161524,1098841,1088878,1075842,": ",": ",": ",": ",": ",": ",": ",": ",": ",": ",": ",": ",": ",": ",": ",": ",": ",": ",": ",": ",": ",": ",": ",": ",": "]
["Y28,T,CY",14574,14563,15174,15263,13968,13783,13349,12001,11461,10722,10594,9301,9943,10515,9932,9709,9709,9315,9777,9697,9669,9657,9677,": ",": ",": ",": ",": ",": ",": ",": ",": ",": ",8292,": "]
["Y28,T,FX",": ",": ",764583,749787,796320,801147,808303,761495,743777,750621,728690,745571,791017,839185,860235,861371,838666,835893,829438,833234,860896,866761,882323,873275,847471,857460,855405,858633,843004,849054,845227,845283,848827,841243,855929]
["Y28,T,PL",588304,621334,640371,658260,637719,611162,637866,629069,613867,606920,611827,593115,573728,551591,536056,514395,514958,488328,488111,478195,483911,495071,512323,524831,535715,552631,": ",": ",": ",": ",679923,": ",": ",": ",": "]
["Y29,F,BE",70921,71506,70942,72111,72233,71936,69626,68353,66999,65545,64077,65989,67835,70349,72441,72395,72339,72433,73246,76235,78060,81304,80129,78442,79553,77970,79314,77401,75992,75622,75148,73517,72055,71989,71753]
["Y29,F,EU27",3190674,3207595,3226932,3307611,3333328,3386987,3359526,3348278,3344327,3361167,3380642,3417978,3399968,3472091,3542270,3556893,3609910,3665676,3677217,3630187,3655835,3704655,3653371,": ",": ",": ",": ",": ",": ",": ",": ",": ",": ",": ",": "]
["Y29,F,LV",13755,14132,14375,13635,13532,13809,14165,14302,14512,14844,15483,15539,15639,15951,16745,16635,15167,15533,15363,15829,15698,17130,18421,19903,20841,21045,21266,20932,20347,19686,19682,19490,18147,18576,18502]
["Y29,M,AD",": ",": ",590,611,611,699,828,802,827,763,731,651,587,588,583,647,647,736,675,761,774,813,807,740,654,609,586,587,610,567,": ",": ",": ",": ",": "]
["Y29,M,EEA30",3286924,3292285,3311467,3392823,3408757,3479963,3462014,3455216,3455923,3476574,3493463,3525702,3506019,3584267,3640363,3677084,3744266,3800394,3815942,3771486,3799100,3847465,3784725,": ",": ",": ",": ",": ",": ",": ",": ",": ",": ",": ",": "]
["Y29,M,LT",19147,19058,19176,17798,18641,19715,20149,20523,20777,21602,21553,22048,23117,24537,25661,26642,26636,25533,26748,27516,27756,29455,29800,30651,32239,32315,31144,30821,28571,26129,26180,25441,23569,24032,24160]
["Y29,M,SM",": ",": ",192,179,": ",": ",": ",": ",": ",": ",": ",": ",": ",": ",": ",": ",": ",": ",": ",": ",": ",": ",": ",": ",": ",": ",": ",": ",": ",": ",": ",": ",": ",": ",": "]
["Y29,M,TR",633586,643089,633386,646949,704702,675645,654519,630413,": ",": ",": ",": ",": ",": ",": ",584568,559071,535060,516541,503530,492033,480530,470027,460027,450027,381331,382982,384639,386304,387977,389656,354451,322427,293296,266797]
["Y29,T,EA18",4073210,4108870,4161466,4318186,4354529,4437582,4382204,4407379,4417650,4432048,4438849,4508699,4514956,4646808,4762294,4782493,4895058,4936511,4963954,5068958,5091875,5153376,5046715,": ",": ",": ",": ",": ",": ",": ",": ",": ",": ",": ",": "]
["Y29,T,IS",4414,4553,4604,4742,4737,4996,5025,4613,4294,4339,4174,4053,4419,4453,4074,3739,3922,3816,4009,4295,4318,4402,4424,4342,4140,4399,4412,4161,4170,4104,4012,3876,3878,3611,3555]
["Y29,T,SE",126511,120978,117478,117117,115392,117605,113621,109086,110001,111280,115808,121274,119866,121606,122220,118213,117369,123485,131172,133161,134056,133364,123503,117741,114298,111763,112678,112593,114179,115400,114410,112700,117072,117344,117581]
["Y3,F,CZ",53328,58183,59501,59967,57913,52432,50015,47396,45574,45073,44252,43095,43022,43314,43577,43798,46462,51534,58492,58558,62244,62216,61518,63537,62355,64246,65650,66053,66130,68444,69591,73439,82517,86004,87335]
["Y3,F,GE",": ",29805,": ",24446,23021,22059,21436,23032,21313,21658,": ",": ",": ",": ",": ",": ",": ",": ",": ",": ",": ",": ",": ",": ",": ",": ",": ",": ",": ",": ",": ",": ",": ",": ",": "]
["Y3,F,PT",46575,49132,47086,48779,48345,50824,52280,52233,53473,54144,53817,55755,54729,52781,52660,52030,50869,51582,54310,54781,54842,53057,53755,52172,53256,56145,59720,64883,66665,70904,71922,71132,77044,74524,78890]
["Y3,M,DE_TOT",349198,353478,348075,355252,354795,348209,353345,363391,364253,371670,380428,396207,399821,406442,418029,410825,395211,401038,416542,424132,438595,480428,469046,476751,460090,444026,421216,415159,421305,434013,430466,435915,414836,412954,411113]
["Y3,M,EU27",2691986,2742130,2747972,2768043,2713127,2683708,2640139,2625331,2593465,2577221,2581021,2623869,2597746,2597810,2616030,2637168,2628821,2694160,2746217,2834464,2876102,": ",": ",": ",": ",": ",": ",": ",": ",": ",": ",": ",": ",": ",": "]
["Y3,M,MK",11639,12495,12153,11683,11614,11443,11238,11980,11958,11849,12534,13205,12502,13505,13679,16038,16506,15739,14949,15532,16414,16225,": ",": ",": ",": ",": ",": ",": ",": ",": ",": ",": ",": ",": "]
["Y3,T,AL",35372,33687,": ",": ",": ",": ",": ",": ",47739,49232,50917,52847,": ",": ",": ",": ",": ",": ",": ",": ",": ",": ",": ",": ",": ",": ",": ",": ",": ",": ",": ",": ",": ",": ",": "]
["Y3,T,EEA31",5357607,5461603,5473335,5511350,5397604,5339489,5254648,5222147,5161013,5125428,5142083,5226609,5178375,5175820,5213311,": ",": ",": ",": ",": ",": ",": ",": ",": ",": ",": ",": ",": ",": ",": ",": ",": ",": ",": ",": "]
["Y3,T,LU",6428,6359,6032,5904,5843,5845,5667,5775,5557,5598,5663,5888,5777,5548,5743,6001,5787,5828,5670,5511,5244,5356,5009,4921,4526,4628,4364,4215,4225,4226,4393,4266,4232,4133,4139]
["Y3,T,TR",1229654,1240578,1245342,1265286,1273837,1230724,1200634,1177092,": ",": ",": ",": ",": ",": ",": ",1404563,1406924,1391661,1349569,1325066,1299574,1271580,1254016,1249010,1242028,1349473,1348637,1347803,1346969,1346136,1345303,1324471,1303961,1283768,1263889]
["Y30,F,EA18",2060460,2071299,2154999,2181016,2213434,2180599,2195108,2204892,2205284,2210088,2251211,2257249,2317420,2368835,2370931,2422583,2437398,2462763,2499479,2507587,2539476,2492506,2433562,": ",": ",": ",": ",": ",": ",": ",": ",": ",": ",": ",": "]
["Y30,F,IS",2226,2291,2266,2240,2395,2331,2224,2138,2135,2102,1997,2122,2229,1975,1854,1969,1885,1998,2154,2089,2224,2170,2154,2051,2117,2107,2101,2018,2000,1968,1854,1845,1725,1811,1682]
["Y30,F,IT",343049,347685,352369,353639,357693,370665,389529,399356,412904,433871,448581,443811,441809,447917,443519,457093,449907,455179,470184,471927,480094,453688,440833,435390,417508,409136,394743,394144,391249,386038,385821,369017,370389,372940,391940]
["Y30,F,SI",13542,13831,14232,14663,15178,14991,14806,14628,15040,14797,14107,14291,14232,13835,13664,13961,14146,15224,15560,16002,15339,15259,15337,15719,15596,15423,15420,16212,16615,16047,16084,16171,16105,15588,": "]
["Y30,M,DE",509925,503255,524795,514919,515577,490330,486059,484351,478862,469159,475363,483232,532633,590072,619147,668471,703267,724467,750189,758611,768415,762377,733150,710023,683422,521779,487614,474593,469593,447721,444339,427357,437859,432003,451435]
["Y30,M,HR",29569,29525,29772,29950,30734,30627,30052,29811,28974,28747,28488,28053,28240,28183,26756,": ",": ",": ",": ",": ",": ",": ",": ",": ",": ",": ",": ",": ",": ",": ",": ",": ",": ",": ",": "]
["Y30,M,PT",61717,63459,66820,68385,72008,73201,75620,82364,84311,84530,82606,79855,80042,79635,76990,74925,74374,73352,73686,73434,73399,71733,70782,70486,72186,70864,71418,72679,68534,69862,68399,65312,65392,65123,65715]
["Y30,T,BG",97189,97389,97314,99071,100434,106874,107350,112028,114629,116034,118399,114288,105882,108710,118997,122502,117600,103555,101912,105186,108226,110517,111860,115994,117663,118179,123809,123709,130313,130074,127134,129031,129248,125233,146183]
["Y30,T,EU28",6551136,6560705,6735924,6798406,6928899,6873995,6871138,6876627,6909934,6938668,7019845,6979657,7113572,7225812,7275293,": ",": ",": ",": ",": ",": ",": ",": ",": ",": ",": ",": ",": ",": ",": ",": ",": ",": ",": ",": "]
["Y30,T,MT",6237,6314,6474,6026,5991,6179,5977,6028,5941,5942,5703,5530,5345,5192,4965,4456,4478,4445,4472,5028,5240,5335,5695,5596,5956,5594,5781,5696,5657,5912,6008,5609,": ",5538,5985]
["Y31,F,AM",": ",": ",": ",": ",": ",24997,24024,24397,23040,21555,": ",": ",": ",": ",": ",": ",": ",": ",": ",": ",": ",": ",": ",": ",": ",": ",": ",": ",": ",": ",": ",": ",": ",": ",": "]
["Y31,F,EFTA",92574,93003,90759,89828,87412,85327,83787,83346,83552,85810,86503,89276,91448,91211,93899,94872,95084,96679,96873,97745,96051,92979,90975,89577,87963,85004,84189,83124,81787,80716,80018,79948,77845,80140,80318]
["Y31,F,LV",13958,13214,13065,13117,13335,13712,14171,14584,15165,15284,15306,15740,16473,16350,15988,16079,15789,16203,15966,17228,18193,19055,20267,21109,20306,20429,20438,19886,19746,19543,18140,18735,18589,18242,19418]
["Y31,F,UA",": ",354149,346882,354788,336321,336573,328136,345935,342130,334687,": ",": ",": ",": ",": ",": ",": ",": ",": ",": ",": ",": ",": ",": ",": ",": ",": ",": ",": ",": ",": ",": ",": ",": ",": "]
["Y31,M,EA19",2116502,2186022,2217820,2266871,2233594,2259375,2288158,2300102,2300500,2339472,2346678,2414839,2465622,2470906,2522362,2536052,2554851,2613518,2618349,2649417,2596451,2536949,2514890,": ",": ",": ",": ",": ",": ",": ",": ",": ",": ",": ",": "]
["Y31,M,IT",354530,363482,355809,362597,368889,390229,404774,422444,439871,459241,456267,455805,454678,448882,463286,457522,461436,476520,477383,486621,456214,442887,438699,423459,413567,396458,396017,391582,386406,383726,369940,368616,371929,389293,396328]
["Y31,M,SI",15046,15722,16405,16368,16900,16929,16248,15907,15508,15317,15159,15034,14694,13994,14522,14869,14890,16117,15939,15448,15203,15533,15662,15429,15832,15908,16353,17415,17624,16725,17292,17232,16690,17176,": "]
["Y31,T,AT",115597,117454,115776,111898,105551,103644,103486,104573,108504,111619,111476,117926,121853,125412,133693,137900,138476,139798,141320,143753,143685,141414,138559,131319,124169,118843,116759,114735,107140,102358,100279,100137,98460,102409,103810]
["Y31,T,DE",1003047,1015149,1025738,1025940,971668,957707,952482,943930,921312,936798,948735,1043319,1154077,1207656,1296851,1362258,1399273,1444642,1459343,1483187,1469776,1421346,1394025,1340894,1292377,970613,934472,898865,873478,873554,841626,856370,843072,878902,877548]
["Y31,T,HR",57591,58279,58744,59830,59816,58932,58454,57741,57006,56502,56145,56226,56000,53415,55513,": ",": ",": ",": ",": ",": ",": ",": ",": ",": ",": ",": ",": ",": ",": ",": ",": ",": ",": ",": "]
["Y31,T,RO",241182,258247,283838,297530,300967,302840,305206,317685,335341,337576,340842,343520,345145,360070,394451,449968,448608,235325,242997,248227,252970,261243,274885,300548,318874,338869,351836,364218,378256,361144,340006,346515,340212,353299,351598]
["Y32,F,BY",": ",70821,70450,69257,68994,": ",69290,68672,68961,67907,": ",": ",": ",": ",": ",": ",": ",": ",": ",": ",": ",": ",": ",": ",": ",": ",": ",": ",": ",": ",": ",": ",": ",": ",": "]
["Y32,F,FI",34887,33634,33032,33027,32725,33246,33172,32306,31120,27912,28931,30448,31455,32013,34714,35760,36333,36413,37104,37705,37201,37308,37245,37265,36111,37804,39093,38928,39661,39120,40616,39426,41171,42525,43999]
["Y32,F,NL",99363,101842,103045,99694,100378,98810,99260,100595,105415,110211,120158,125410,131049,133846,128026,126336,126687,128594,131484,129733,128194,127786,123994,123948,120507,118553,116938,115446,113655,112730,113082,109840,110936,113008,116769]
["Y32,M,AT",59570,58736,56868,53633,52262,51854,52614,54535,55535,55765,59273,61228,63320,67415,70026,70468,71011,72040,73256,72859,72614,71395,68047,64304,60827,59528,57285,53571,51007,50000,50223,49319,51319,52638,54946]
["Y32,M,EL",77006,80793,84004,86031,86588,86159,88556,86028,86437,85148,85931,86788,87376,87428,89012,86968,81675,78930,73414,71168,71381,71664,72859,73054,71874,69368,68573,67726,67195,66716,67900,65204,63591,62702,63920]
["Y32,M,MD",": ",30793,30260,29196,27719,27172,26186,25516,25222,26117,": ",": ",": ",": ",": ",": ",": ",": ",": ",": ",": ",": ",": ",": ",": ",": ",": ",": ",": ",": ",": ",": ",": ",": ",": "]
["Y32,M,UK",432601,432731,435051,428000,405722,388011,386727,390042,395666,408999,425632,438888,443192,446896,453605,460057,464889,467595,469426,463785,454211,446807,436266,421594,411069,400807,391215,382258,379723,381657,376738,377041,387036,401047,424111]
["Y32,T,EE",18340,18327,18122,18030,18070,18620,18740,18620,18780,18880,19530,20000,19730,19430,18840,17960,17441,18026,19062,19437,20909,22117,23006,23755,24039,23952,24041,24652,24340,23015,23312,23332,22532,23673,22612]
["Y32,T,LT",34378,34530,34824,35888,37392,40245,41770,42304,43090,44120,47425,49888,50117,49792,51099,51334,52308,52478,55616,56481,58813,62015,62888,61524,61427,57696,53744,52922,50921,47657,48849,48528,49617,49609,47609]
["Y32,T,SI",29880,31028,31572,31896,31709,31255,31488,30294,29554,29566,29271,28571,27703,28544,29095,30346,31403,31794,30827,30943,30752,31127,30675,31022,31143,32292,33843,34044,33846,33407,33297,32188,33018,30119,": "]
["Y33,F,DE",505079,503081,485021,475873,470337,463573,452010,461615,467249,512006,564530,589176,631977,661912,678694,696616,699097,714275,711283,689698,680596,659886,636528,599700,587480,451611,427519,422984,416376,419879,411030,424775,422245,403438,380693]
["Y33,F,HR",28694,29127,29227,28847,28566,28694,28175,28003,28235,28130,27948,26699,27903,28531,29317,": ",": ",": ",": ",": ",": ",": ",": ",": ",": ",": ",": ",": ",": ",": ",": ",": ",": ",": ",": "]
["Y33,F,RO",138543,146110,149855,153904,154747,154449,154882,168494,179859,181410,193347,196871,200646,214305,220596,114844,119274,121774,124379,128385,134947,148023,151072,161087,171859,178949,186626,177464,166978,170869,166513,174365,172670,145639,133369]
["Y33,F,RS",47996,48705,48650,49291,49780,51698,51422,50024,49905,48609,48220,47016,47732,47905,48355,48108,49178,": ",": ",": ",": ",": ",": ",": ",": ",": ",": ",": ",": ",": ",": ",": ",": ",": ",": "]
["Y33,M,CH",59155,58719,55732,54319,53581,52358,52119,52446,51957,53576,55233,55903,57415,58755,58661,60870,62502,63838,62837,61658,59884,58965,57367,56008,55047,52814,51385,49529,48583,48700,47754,50053,50201,51408,51512]
["Y33,M,FR",416636,421312,396972,389408,392978,383040,395632,417722,441912,452409,451077,443037,437499,433983,433404,446118,446499,455559,451048,438935,444168,444298,445403,435166,436999,": ",": ",": ",": ",": ",": ",": ",": ",": ",": "]
["Y33,M,NO",35199,35385,34482,33611,32098,32672,33285,34269,34397,35453,35546,35316,36628,36418,35622,36014,35426,35078,33373,33013,32794,32470,32957,32568,32234,32647,32508,31730,31725,31491,30641,31349,31609,32517,33264]
["Y33,T,AZ",": ",158990,148553,143428,129935,131359,127100,119200,117700,122500,": ",": ",": ",": ",": ",": ",": ",": ",": ",": ",": ",": ",": ",": ",": ",": ",": ",": ",": ",": ",": ",": ",": ",": ",": "]
["Y33,T,ES",686418,729807,765298,810101,824679,841399,835058,819874,782579,765587,739071,715856,694741,674740,663968,655958,648153,636432,625808,617270,603737,594393,586264,573085,555438,539278,524593,512768,502224,493479,492062,496876,492530,489929,494079]
["Y33,T,ME",8962,9097,8893,8866,8824,8778,8604,8524,8308,8571,8467,8043,8021,7994,7961,7924,": ",": ",": ",": ",": ",": ",": ",": ",": ",": ",": ",": ",": ",": ",": ",": ",": ",": ",": "]
["Y33,T,SI",30935,31539,31892,31705,31177,31836,30792,29552,29682,29382,28604,27709,28537,29193,30375,31642,31582,30763,30893,31143,31075,30501,30770,30961,32156,33624,33865,33730,34471,33219,32077,32994,30060,28980,": "]
["Y34,F,EE",8785,8671,8703,8882,9080,8990,9240,9080,9490,9700,9770,9590,9280,8990,9040,9370,9532,9637,10207,10901,11128,11165,11540,11894,12016,12381,12285,11589,11844,11756,11232,11946,11478,10764,10357]
["Y34,F,LI",246,234,237,225,221,259,244,279,282,265,266,280,338,317,287,278,306,298,283,276,284,279,263,256,257,240,229,228,265,219,221,226,232,225,211]
["Y34,F,SK",42949,45603,45333,44913,44666,44279,44091,42237,39956,37632,36537,36105,34546,34990,36973,38302,39331,39016,37586,39149,39190,38678,40824,42115,43689,43746,42837,42480,42930,42528,40809,37343,37061,35907,31340]
["Y34,M,DE_TOT",516859,487231,493624,485357,475485,464014,471729,479911,529595,587988,618845,667491,701693,719760,741778,751358,764777,762767,740135,726116,705930,683088,648587,629943,610854,587239,570465,550953,564083,553515,565963,555443,518668,492098,438819]
["Y34,M,HU",71599,76924,80571,84796,89840,92882,88478,74277,73941,71955,74167,73137,73302,70210,64355,62389,61171,60773,59239,63473,66857,66825,70728,74163,84404,91165,101349,92177,82188,83198,85787,82638,81286,78654,68894]
["Y34,M,RS",50443,50380,51194,51384,51607,51946,50455,49988,48338,48519,47340,47452,46751,47523,47118,48511,47226,": ",": ",": ",": ",": ",": ",": ",": ",": ",": ",": ",": ",": ",": ",": ",": ",": ",": "]
["Y34,T,CH",117803,112799,109780,108326,106297,106250,107345,106448,108633,112083,113553,116856,119484,120719,122728,124788,126852,124808,121858,118841,117178,114189,110624,109373,106029,102150,99300,97388,97794,95609,99533,99655,102569,102063,103086]
["Y34,T,FR",864814,812284,794081,799604,778108,801275,846168,893646,916527,909275,893117,882974,877534,876186,901421,900563,917917,908392,882362,892831,890732,894407,875446,879292,874984,": ",": ",": ",": ",": ",": ",": ",": ",": ",": "]
["Y34,T,FX",": ",": ",772493,776245,754120,776042,820633,867359,888799,882103,864708,855042,847862,847018,871640,870614,888250,879444,854468,866408,865109,869896,851916,856246,852601,852800,854619,845150,864090,855689,889800,889195,890296,882177,843023]
["Y34,T,PL",618489,616492,601837,598856,602833,584122,568185,546476,531307,509914,498943,479328,474301,469052,474050,484241,506973,519141,529369,545946,592883,619569,658911,669355,669913,678440,": ",": ",": ",": ",633702,": ",": ",": ",": "]
["Y35,F,BE",73761,73114,72009,70553,68945,69859,71152,73664,75128,75067,74516,74118,74522,77184,78724,81809,80685,79213,80197,78526,79918,77970,76554,75820,75247,73532,71872,71343,69620,70445,69514,71306,70773,71201,62213]
["Y35,F,FR",416242,404214,404983,394691,405126,427547,451641,462848,461211,450399,445897,443652,443007,455472,455030,463895,458152,444644,449686,447506,449610,440418,442440,440111,439434,": ",": ",": ",": ",": ",": ",": ",": ",": ",": "]
["Y35,F,ME",4374,4401,4377,4400,4321,4218,4216,4316,4089,4039,4129,4017,4009,3996,3972,3961,": ",": ",": ",": ",": ",": ",": ",": ",": ",": ",": ",": ",": ",": ",": ",": ",": ",": ",": "]
["Y35,M,AD",": ",": ",742,722,722,852,867,889,806,789,774,754,670,714,732,731,731,734,723,721,726,722,693,609,556,489,577,501,445,437,": ",": ",": ",": ",": "]
["Y35,M,EEA30",3489759,3485984,3514593,3540015,3561235,3611543,3598841,3662168,3695094,3703174,3728109,3744584,3757920,3788577,3808114,3842452,3785155,3712241,3688994,3673066,3636799,3592411,3581118,": ",": ",": ",": ",": ",": ",": ",": ",": ",": ",": ",": "]
["Y35,M,LT",17125,17526,18111,18705,19024,20074,20905,22128,23338,23441,23739,24254,24230,24738,25533,26868,27360,28268,29691,29963,29060,29259,27782,25857,25860,25227,23673,24271,23987,24409,24135,22493,20443,19861,20997]
["Y35,M,SM",": ",": ",241,262,": ",": ",": ",": ",": ",": ",": ",": ",": ",": ",": ",": ",": ",": ",": ",": ",": ",": ",": ",": ",": ",": ",": ",": ",": ",": ",": ",": ",": ",": ",": "]
["Y35,T,DK",68267,69729,69096,71720,77639,76310,76356,79420,78426,75202,75079,78021,83919,90117,87239,85427,83772,79258,77241,77141,73941,74339,74235,75142,74362,73416,75146,74154,73144,75685,75490,80018,85536,88776,86932]
["Y35,T,IE",77917,75600,73951,73621,73246,73043,72997,72437,69708,67761,65265,61412,59590,58568,58688,57417,55918,54439,52636,52399,50467,49781,49578,49045,48227,48488,48448,49218,46396,46500,": ",": ",": ",": ",": "]
["Y35,T,RU",": ",2176586,": ",": ",2143113,2066804,1984431,2088341,1975536,2003594,": ",": ",": ",": ",": ",": ",": ",": ",": ",": ",": ",": ",": ",": ",": ",": ",": ",": ",": ",": ",": ",": ",": ",": ",": "]
["Y36,F,CY",6851,6547,7065,6374,6484,6534,6301,5819,5580,5455,5415,5404,5420,5430,5309,5364,5352,5408,5388,5245,5013,4792,4536,": ",": ",": ",": ",": ",": ",": ",": ",": ",": ",3797,": "]
["Y36,F,FX",": ",": ",383428,393003,414697,438887,449905,447089,437732,431977,429509,429278,441189,440525,449327,444397,429868,436100,434078,437313,428483,431238,429245,428693,428504,421880,430225,423544,439704,437286,436150,430758,411561,314901,311349]
["Y36,F,MK",15019,14923,15314,15057,14983,14583,14909,14350,14264,14730,14756,14659,14526,15206,15360,14825,13879,14410,15059,14794,14297,14268,": ",": ",": ",": ",": ",": ",": ",": ",": ",": ",": ",": ",": "]
["Y36,M,AZ",": ",64594,64658,63724,59917,58623,58000,57100,64200,58700,": ",": ",": ",": ",": ",": ",": ",": ",": ",": ",": ",": ",": ",": ",": ",": ",": ",": ",": ",": ",": ",": ",": ",": ",": "]
["Y36,M,BE",74296,73269,72746,71521,73090,73651,75581,76890,77618,76729,76220,77528,79735,81893,84160,83163,81732,81737,81181,81745,80739,79903,78111,77172,76169,74998,75234,71848,73010,73041,73832,73868,74593,63175,63947]
["Y36,M,EU27",3452107,3471198,3505284,3528114,3576516,3560244,3646900,3686415,3675023,3712640,3718686,3731588,3761052,3770578,3806304,3745287,3671595,3660320,3632952,3598028,3553363,3543803,3520515,": ",": ",": ",": ",": ",": ",": ",": ",": ",": ",": ",": "]
["Y36,M,MK",15982,15631,15881,15756,15215,15178,15137,14934,14539,15208,15050,15086,15399,15474,15590,15109,14402,14813,15356,15152,14906,14955,": ",": ",": ",": ",": ",": ",": ",": ",": ",": ",": ",": ",": "]
["Y36,T,AL",34462,33610,": ",": ",": ",": ",": ",": ",41949,41971,44660,41972,": ",": ",": ",": ",": ",": ",": ",": ",": ",": ",": ",": ",": ",": ",": ",": ",": ",": ",": ",": ",": ",": ",": "]
["Y36,T,EEA31",7001451,7021101,7081638,7128556,7230529,7201409,7368305,7446422,7414192,7493730,7509355,7539617,7591921,7609456,7686471,": ",": ",": ",": ",": ",": ",": ",": ",": ",": ",": ",": ",": ",": ",": ",": ",": ",": ",": ",": "]
["Y36,T,LU",8794,8416,8122,7997,7776,7553,7734,7915,7830,7854,7883,8068,8004,7957,8024,7807,7338,7250,7005,6965,6858,6616,6561,6368,6427,6119,6030,5641,5714,5718,5724,5612,5423,4849,4946]
["Y36,T,TR",1248288,1208312,1110724,1059188,1190000,1163762,1106184,1041137,": ",": ",": ",": ",": ",": ",": ",930060,908060,887055,867552,847558,827055,806060,782569,758066,734066,701000,657894,617449,579497,543886,510471,485971,462659,440478,419372]
["Y37,F,EA18",2252369,2263408,2277388,2327771,2337907,2409499,2465531,2470095,2510023,2520137,2539182,2570656,2565854,2600829,2539253,2478769,2460333,2416199,2365269,2291825,2268832,2240044,2204258,": ",": ",": ",": ",": ",": ",": ",": ",": ",": ",": ",": "]
["Y37,F,IS",2090,2113,2118,2029,2201,2286,2062,1935,2042,1958,2064,2197,2117,2268,2182,2126,2036,2110,2102,2083,2008,2029,1983,1890,1857,1739,1858,1695,1640,1689,1547,1431,1463,1350,1366]
["Y37,F,SE",58375,58812,60851,63203,62199,63045,62705,60876,59613,62280,65185,65818,65898,66170,61026,58559,56937,56354,56809,56937,58309,57757,57423,56278,57874,57703,57396,59672,62763,65362,65956,67013,66424,65554,61979]
["Y37,M,AD",": ",": ",742,782,782,883,830,826,801,814,797,753,729,703,704,706,704,718,687,646,731,653,588,549,565,496,465,446,437,470,": ",": ",": ",": ",": "]
["Y37,M,FX",": ",": ",390777,415205,437093,448101,446112,435715,429512,424570,424546,436581,435281,442304,436613,423034,427300,426200,430202,421307,425245,424223,423982,426638,422046,433595,428495,449686,448589,452230,448438,428849,329889,326399,323588]
["Y37,M,PL",302115,303643,294343,285295,274614,265763,255575,250791,240722,238650,235589,238213,243140,249663,255953,260077,273549,295925,309422,329272,334711,333851,338685,327968,328104,326474,": ",": ",": ",": ",274024,": ",": ",": ",": "]
["Y37,T,BE",145905,143985,141758,144926,147920,150851,153451,154250,152332,151412,152614,157464,161475,166566,163702,160905,161744,159580,161544,158427,156298,154001,152546,149635,146937,146423,141394,142292,142278,144677,144363,145397,124137,124130,120071]
["Y37,T,EU27",6902789,6943458,7004481,7111217,7076954,7234403,7361198,7343939,7381230,7422744,7429781,7478046,7491065,7580213,7448849,7294048,7273401,7238724,7143065,7059525,7036526,6995927,6931805,": ",": ",": ",": ",": ",": ",": ",": ",": ",": ",": ",": "]
["Y37,T,MK",30523,31168,30771,30163,29727,30001,29242,28782,29917,29767,29723,29901,30523,30910,29918,28270,29203,30412,29924,29202,29267,29168,": ",": ",": ",": ",": ",": ",": ",": ",": ",": ",": ",": ",": "]
["Y37,T,MT",6182,6095,6022,5760,5560,5399,5306,5152,4886,4953,4764,4755,5090,5266,5351,5522,5599,5856,5841,5897,5827,5805,6021,5426,5341,5407,5436,6052,5704,5932,6184,6000,": ",5232,3681]
["Y38,F,AM",": ",": ",": ",": ",": ",20839,20411,19993,20691,21027,": ",": ",": ",": ",": ",": ",": ",": ",": ",": ",": ",": ",": ",": ",": ",": ",": ",": ",": ",": ",": ",": ",": ",": ",": "]
["Y38,F,EFTA",91624,91442,93111,92830,95200,97384,96628,99173,99293,99236,100191,99686,100237,97688,94514,92530,91381,90087,88285,87610,86789,84795,83453,82304,81825,78901,81170,80975,83112,83509,85012,80009,78892,74749,71291]
["Y38,F,LV",13150,13618,13949,14085,14473,15335,15300,15054,15166,15328,15561,15259,16497,17076,18091,18902,19140,18870,18858,18431,18218,18430,18759,17844,18067,18181,18301,19704,18432,17119,15764,14424,15474,16318,18325]
["Y38,F,UA",": ",337837,330461,322898,335292,332217,330585,307906,314721,313585,": ",": ",": ",": ",": ",": ",": ",": ",": ",": ",": ",": ",": ",": ",": ",": ",": ",": ",": ",": ",": ",": ",": ",": ",": "]
["Y38,M,EA19",2303188,2316690,2377471,2388352,2468610,2530224,2549766,2598194,2604297,2618491,2656502,2658014,2686524,2618050,2547050,2519360,2472874,2437293,2353438,2331318,2295166,2257685,2230585,": ",": ",": ",": ",": ",": ",": ",": ",": ",": ",": ",": "]
["Y38,M,IE",35611,35883,36039,35881,36048,35569,35786,34737,32503,31195,30451,30088,29266,28269,27036,26738,26838,25781,25164,24761,24353,23803,23903,23542,23741,22992,23169,23054,23336,23200,": ",": ",": ",": ",": "]
["Y38,M,SE",61568,63295,65651,64383,65289,65178,62994,62129,64522,68522,69263,69569,69310,64703,61542,59574,58540,59677,59678,60115,61303,59757,58667,60549,60177,59790,62575,64806,67338,68652,70227,70221,69908,65672,60563]
["Y38,T,CZ",187749,190858,193224,181117,164130,154858,148892,142091,134179,134222,135528,141316,147714,142787,128746,126604,124786,123925,135148,146634,153165,155832,157913,160781,165428,169535,168249,164298,172167,179366,175228,143491,150780,148224,131601]
["Y38,T,GE",": ",64309,": ",60999,61312,60814,62392,57759,59810,57220,": ",": ",": ",": ",": ",": ",": ",": ",": ",": ",": ",": ",": ",": ",": ",": ",": ",": ",": ",": ",": ",": ",": ",": ",": "]
["Y38,T,PT",165911,167404,166228,162724,163858,162347,157194,153577,152715,153017,154975,155957,157583,153162,152382,149835,148644,142499,141326,140991,134524,136707,133876,130246,133632,131776,132171,128827,130674,121899,115155,121409,115602,113491,109881]
["Y39,F,BG",54083,55924,52877,49122,50578,52179,54107,53742,47609,46965,48260,50541,51722,52409,56038,56391,55820,56952,57267,59902,60372,59365,60177,61173,59859,69706,68411,67066,63285,67239,61882,55563,55420,55883,54407]
["Y39,F,EU28",3512486,3563729,3539327,3614250,3677264,3680780,3725259,3737725,3742971,3766292,3765473,3811082,3744178,3662670,3659633,": ",": ",": ",": ",": ",": ",": ",": ",": ",": ",": ",": ",": ",": ",": ",": ",": ",": ",": ",": "]
["Y39,F,MT",2892,2787,2721,2653,2605,2504,2357,2455,2397,2395,2557,2614,2688,2808,2858,2908,2941,2880,2922,2846,2967,2708,2692,2710,2722,3002,2832,2970,3181,2947,2877,2864,": ",1646,1604]
["Y39,M,AM",": ",": ",": ",": ",": ",19007,18212,18987,18967,20593,": ",": ",": ",": ",": ",": ",": ",": ",": ",": ",": ",": ",": ",": ",": ",": ",": ",": ",": ",": ",": ",": ",": ",": ",": "]
["Y39,M,EFTA",94939,96868,96731,98814,99532,100007,101865,102191,100802,102932,103161,103586,100229,97524,95162,94258,93124,91705,90909,90501,88277,86231,84748,84893,82149,85027,84933,86616,87107,88977,84352,82953,77916,74250,67942]
["Y39,M,EL",80562,81922,81840,83985,85650,86616,86795,86330,85743,82614,80098,76727,74849,75357,72062,73233,73700,72893,70251,71551,72268,68819,65355,68794,69415,66938,65165,65204,64631,63275,67800,58598,54290,48902,46213]
["Y39,M,MD",": ",24431,23874,23604,22244,22244,21784,22610,22266,21347,": ",": ",": ",": ",": ",": ",": ",": ",": ",": ",": ",": ",": ",": ",": ",": ",": ",": ",": ",": ",": ",": ",": ",": ",": "]
["Y39,T,BG",111505,115300,108381,101821,104810,108232,111037,109698,96950,95884,98088,102385,104454,105486,112398,113021,111360,113195,113030,119291,119296,117895,119574,120843,118927,138940,136748,133558,126422,134490,122842,111380,110712,111802,108869]
["Y39,T,EA19",4623076,4723064,4756724,4909055,5025701,5052578,5154842,5181154,5202119,5272665,5276620,5341499,5210391,5067757,5024137,4926542,4842258,4696157,4627100,4563296,4489986,4438698,4326486,": ",": ",": ",": ",": ",": ",": ",": ",": ",": ",": ",": "]
["Y39,T,IT",925228,963011,935750,938928,948424,939037,964781,950334,946434,967434,964690,969791,908187,879715,868124,841238,823145,789734,786783,781657,772795,770194,739415,740160,738512,772319,782535,827747,817281,829776,649040,674645,691679,698281,708654]
["Y39,T,SI",30857,30113,30187,30068,29406,28468,29150,29383,30690,31772,31844,30835,30926,31066,31343,30731,30437,30670,31562,32929,32795,32561,33360,33293,32168,33105,30503,29290,28661,25375,18884,23213,26029,26235,": "]
["Y4,F,DE",340751,330883,339833,337482,330122,335900,344729,345799,352584,361251,379012,378483,386866,397776,389108,376760,379128,395636,405791,419220,457966,450482,457872,439707,428536,300305,288880,287792,299103,298869,296842,282240,280703,283535,292308]
["Y4,F,HR",20976,21578,20989,20128,19912,20698,19490,19362,19559,19870,20942,21726,22876,23960,23992,": ",": ",": ",": ",": ",": ",": ",": ",": ",": ",": ",": ",": ",": ",": ",": ",": ",": ",": ",": "]
["Y4,F,RO",100530,104052,104542,103032,103255,103318,103117,103553,105422,105882,107071,107350,107995,106831,109065,111368,115439,117876,122786,125766,139328,173223,172721,176472,177286,168991,165446,151055,162428,178765,187611,191797,196070,199068,194974]
["Y4,M,BY",": ",56204,54823,52419,48225,": ",45303,45167,45163,46757,": ",": ",": ",": ",": ",": ",": ",": ",": ",": ",": ",": ",": ",": ",": ",": ",": ",": ",": ",": ",": ",": ",": ",": ",": "]
["Y4,M,FI",31924,31477,31036,30689,30584,29794,30022,29122,28785,28852,29362,29514,29138,30155,31177,32218,33108,32968,34177,33313,33757,32631,32523,30757,31155,32019,33253,34250,34154,32670,32480,32307,32664,33242,33610]
["Y4,M,NL",94447,95058,95481,93255,95260,95998,98630,102303,103110,104215,106100,104412,103497,99849,99598,98864,101290,100466,101508,102416,102571,97518,96377,96775,94756,91932,90285,87501,88317,90872,92801,90007,90747,89789,91966]
["Y4,T,AT",81941,79068,80036,78512,80096,80420,81502,79935,81680,79000,81317,80507,83308,85670,89640,89345,92605,95189,96162,97264,94452,93399,93191,90663,89858,89018,90008,90417,94453,93193,91004,84605,83409,84251,85956]
["Y4,T,EL",109402,114504,112645,108392,110125,107132,105866,106134,106796,107261,107226,107144,107145,107381,100071,100663,103124,101041,103226,101847,105932,105124,107176,108177,114535,118877,124527,130144,135144,139163,146400,144993,142517,140600,143455]
["Y4,T,MD",": ",39962,37825,37389,37664,37480,37503,36198,36407,35726,": ",": ",": ",": ",": ",": ",": ",": ",": ",": ",": ",": ",": ",": ",": ",": ",": ",": ",": ",": ",": ",": ",": ",": ",": "]
["Y4,T,UA",": ",507595,505271,467005,455154,420906,422286,403425,385225,370464,": ",": ",": ",": ",": ",": ",": ",": ",": ",": ",": ",": ",": ",": ",": ",": ",": ",": ",": ",": ",": ",": ",": ",": ",": "]
["Y4,T,UK",812763,796626,792217,779330,755729,732738,712288,694472,674904,670629,681878,697866,710591,722448,726818,726389,739479,752300,768224,785104,780733,770282,773302,768520,753975,747147,729415,715743,716661,720869,727330,715768,675601,644129,654763]
["Y40,F,EE",8972,8815,9192,9395,9420,9280,8970,8680,8710,9100,9470,9470,10110,10660,10740,10670,10377,10454,10518,11018,11037,10624,11231,11600,11201,11900,11368,10827,10275,8271,8088,7976,9418,11948,10506]
["Y40,F,LI",251,297,294,271,277,293,361,317,303,292,316,334,294,286,301,297,272,267,271,251,250,233,264,225,219,223,230,222,209,177,237,200,196,183,178]
["Y40,F,SK",43624,41840,39518,37256,36164,35761,34331,34606,36468,37677,38858,38502,37386,38828,38841,38546,40700,41982,43385,43393,42310,41976,42310,41908,40429,36995,36729,35588,31020,29169,30637,28706,29031,29007,28906]
["Y40,M,DE_TOT",467677,468173,529533,582778,609295,656581,690886,710935,733688,743595,756836,753684,730879,718261,699912,679374,647497,637942,625781,607191,594752,576145,579426,565566,571634,555671,515048,488099,424124,380879,512577,534980,526997,641990,690970]
["Y40,M,HU",87851,74205,73291,71979,73970,72999,73193,69881,63830,61661,60303,59912,58291,62238,66048,65264,69218,71992,82196,88752,94247,86187,76931,78246,81076,78057,79232,76636,67209,66125,76002,69998,70800,67340,69470]
["Y40,M,RS",49694,49525,47824,48240,47125,47223,46479,47303,46935,48312,46930,48992,50051,51867,53475,52479,53873,": ",": ",": ",": ",": ",": ",": ",": ",": ",": ",": ",": ",": ",": ",": ",": ",": ",": "]
["Y40,T,CH",114969,114358,116465,119642,120508,123647,125778,125687,127942,128854,130725,127625,123281,119418,117269,114077,111172,110001,108211,105503,103445,101151,101649,98401,101950,101290,103362,102410,102985,100257,99994,97420,94577,89066,84600]
["Y40,T,FR",865794,910641,934090,926641,910449,896721,892762,890714,914823,913249,927003,918117,888187,893744,887555,890382,868510,876440,872404,871023,876064,863848,881771,868829,907575,": ",": ",": ",": ",": ",": ",": ",": ",": ",": "]
["Y40,T,NO",73118,73015,74981,74816,73447,74893,73995,71624,71108,69941,68968,66355,65012,64325,63825,64335,63910,63196,64115,63153,62156,62025,61267,59049,60537,61072,62892,64678,67392,60582,58466,52014,47970,42340,43832]
["Y40,T,TR",1191205,1159434,1101576,1045157,1017607,989420,919408,801574,": ",": ",": ",": ",": ",": ",": ",845552,825060,803060,779569,755066,731563,706574,677088,642601,606099,912605,870049,829715,791478,755221,720830,724903,729124,733494,738016]
["Y41,F,EL",80689,82505,84351,86006,87028,87332,87389,82821,79524,77606,76858,77363,77864,78049,76990,75730,72830,74174,73727,69273,65583,69612,67720,67765,62041,65415,66068,64634,62451,60689,56900,51702,59293,62005,63970]
["Y41,F,MD",": ",24387,23062,23030,22757,23390,23291,24004,23820,25087,": ",": ",": ",": ",": ",": ",": ",": ",": ",": ",": ",": ",": ",": ",": ",": ",": ",": ",": ",": ",": ",": ",": ",": ",": "]
["Y41,F,UK",422320,440360,458991,462535,463270,469472,472377,477142,480300,479898,473592,463262,451388,436580,424136,417083,407306,394250,382419,379155,379805,375690,375845,384821,397244,417444,450267,418957,365978,364684,358120,336119,311424,310395,321527]
["Y41,M,EE",9207,9370,9587,9306,9200,8880,8310,8480,8550,9170,9220,9800,9950,10110,10170,10010,9462,9580,9939,9960,9732,10211,10374,10532,11089,10589,10108,9515,7705,7482,7548,8942,11151,10029,10769]
["Y41,M,LI",281,257,283,343,316,319,297,289,304,308,288,298,275,296,258,267,264,251,251,243,253,211,247,243,279,249,245,245,189,238,242,210,188,187,190]
["Y41,M,LT",18693,19653,20855,20920,21110,21781,21944,22424,23059,24017,25162,26432,27300,26851,27196,26546,25034,23345,23245,22869,21596,22433,22570,23491,23403,21953,20292,19477,20870,17961,20541,22787,22979,22106,22121]
["Y41,M,SM",": ",": ",320,288,": ",": ",": ",": ",": ",": ",": ",": ",": ",": ",": ",": ",": ",": ",": ",": ",": ",": ",": ",": ",": ",": ",": ",": ",": ",": ",": ",": ",": ",": ",": "]
["Y41,T,DK",76944,79984,79047,75812,75621,78186,83834,89878,86963,85101,83514,79141,77141,77429,74458,74841,74586,75460,74673,73685,74848,73677,72620,75153,75111,79367,84819,88186,86072,82315,76161,72009,64555,63044,60989]
["Y41,T,IE",70780,70825,69875,69376,67213,63913,63253,62847,62158,61107,59058,57719,56357,55866,53652,51832,51748,50924,49567,48834,47525,47868,46327,46065,45716,45635,44969,43874,42338,40650,": ",": ",": ",": ",": "]
["Y41,T,RU",": ",2005692,": ",": ",1816247,1799782,1808425,1880452,1930009,2038971,": ",": ",": ",": ",": ",": ",": ",": ",": ",": ",": ",": ",": ",": ",": ",": ",": ",": ",": ",": ",": ",": ",": ",": ",": "]
["Y42,F,CY",6339,6386,6385,6246,6014,5884,5795,5712,5679,5649,5634,5627,5630,5543,5133,4952,4743,4578,4497,4462,4414,4348,4253,": ",": ",": ",": ",": ",": ",": ",": ",": ",": ",3514,": "]
["Y42,F,HR",27688,27740,26654,28023,28871,29701,31331,31543,30258,30656,31446,32446,32635,32813,32399,": ",": ",": ",": ",": ",": ",": ",": ",": ",": ",": ",": ",": ",": ",": ",": ",": ",": ",": ",": "]
["Y42,F,NO",36731,36832,36244,36982,36430,35431,34845,34276,33750,32793,31813,31538,31274,31358,31365,31143,31608,30937,30523,30464,29853,28566,29340,29473,30122,31288,32609,29419,28126,25249,23423,20793,21412,21115,20513]
["Y42,M,AZ",": ",58847,65243,63110,65558,61325,63400,64900,63200,65800,": ",": ",": ",": ",": ",": ",": ",": ",": ",": ",": ",": ",": ",": ",": ",": ",": ",": ",": ",": ",": ",": ",": ",": ",": "]
["Y42,M,ES",398044,393337,393027,390828,388776,388920,378676,371842,371256,349587,333094,320356,319339,305864,294581,282663,272004,263500,257006,250963,245968,244774,245760,242279,239965,241995,239864,234890,228030,220694,219592,204871,195162,196390,205268]
["Y42,M,ME",4013,4172,3865,4022,4032,4146,4150,4364,4162,4463,4431,4444,4427,4412,4404,4374,": ",": ",": ",": ",": ",": ",": ",": ",": ",": ",": ",": ",": ",": ",": ",": ",": ",": ",": "]
["Y42,T,AD",": ",": ",1404,1419,1419,1577,1599,1620,1509,1498,1448,1327,1303,1198,1177,1155,1095,1114,1011,1026,1001,911,986,864,865,798,698,707,668,614,": ",": ",": ",": ",": "]
["Y42,T,EEA30",7285373,7407060,7454671,7562877,7623275,7663354,7710788,7709495,7768290,7626768,7420889,7372952,7304673,7217443,7111010,7081832,7047159,6984441,6878476,6743050,6756095,6680149,6831485,": ",": ",": ",": ",": ",": ",": ",": ",": ",": ",": ",": "]
["Y42,T,LT",40484,42718,42841,42798,43844,44872,45834,46313,48548,50178,53211,55818,55332,55880,53440,50916,47898,47418,46435,43925,46029,46022,47766,48436,45474,41817,40578,44122,37462,43432,48108,47609,45290,45798,47146]
["Y42,T,SM",": ",": ",596,640,": ",": ",": ",": ",": ",": ",": ",": ",": ",": ",": ",": ",": ",": ",": ",": ",": ",": ",": ",": ",": ",": ",": ",": ",": ",": ",": ",": ",": ",": ",": "]
["Y43,F,DK",39262,37741,37366,38482,41349,44254,42914,41671,41084,38800,37969,37968,36623,36773,36573,37060,36591,36384,36875,36398,35528,37175,36973,38879,41519,42758,41692,40053,37330,35166,31648,30965,29738,29893,29594]
["Y43,F,EA18",2480048,2486610,2541944,2558714,2579991,2606591,2611636,2648896,2584885,2517637,2497080,2454094,2400825,2320987,2288623,2258403,2222287,2198426,2131164,2144791,2115771,2159322,2130344,": ",": ",": ",": ",": ",": ",": ",": ",": ",": ",": ",": "]
["Y43,F,IS",2033,1912,2034,1965,2120,2259,2213,2320,2230,2173,2056,2152,2154,2095,2027,2022,1965,1858,1853,1728,1825,1695,1637,1679,1545,1428,1461,1352,1370,1285,1140,1099,1022,1007,1022]
["Y43,M,AT",62953,64550,68546,71059,71179,71630,72600,73159,72655,71603,69748,66933,64546,61490,60649,59144,55500,52907,51730,51825,49760,51909,52248,54335,55585,46691,38249,49880,49973,50064,58812,63460,60875,43210,39606]
["Y43,M,CY",5140,5226,5227,5306,5240,5268,5270,5313,5308,5325,5346,5388,5324,5207,5000,4838,4699,4601,4538,4452,4350,4245,4129,": ",": ",": ",": ",": ",": ",": ",": ",": ",": ",3135,": "]
["Y43,M,FX",": ",": ",432126,427077,426389,437489,439527,443246,437985,424069,428314,425713,425485,415855,419166,416781,415009,420607,415834,426064,422238,443782,441463,446113,441269,421557,322921,318761,314939,296194,269511,282803,304614,305761,308561]
["Y43,M,PL",250082,243966,235241,232429,231019,233298,237307,243415,249438,253354,263208,280035,298643,312041,318498,318607,328633,318089,317981,315939,309034,304912,285984,284403,264918,242599,": ",": ",": ",": ",184193,": ",": ",": ",": "]
["Y43,T,BE",157498,159068,157537,156880,157298,160364,163748,168502,165246,161671,161900,159688,160904,157338,154641,152574,151015,148445,145822,145342,140336,141683,141235,143327,142796,143479,122096,122063,117691,103719,95714,107808,117541,121048,117427]
["Y43,T,EU27",7324997,7345403,7479617,7562332,7622098,7665400,7703781,7756602,7578295,7403874,7321376,7254719,7159182,7040908,7009709,6961979,6902984,6818660,6663053,6677892,6604614,6753314,6686009,": ",": ",": ",": ",": ",": ",": ",": ",": ",": ",": ",": "]
["Y43,T,MK",28910,28471,29635,29439,29425,29624,30243,30374,29505,28072,29053,30173,29822,28965,29045,28965,28816,29439,28172,28674,25297,26742,": ",": ",": ",": ",": ",": ",": ",": ",": ",": ",": ",": ",": "]
["Y44,F,AL",20250,20529,": ",": ",": ",": ",": ",": ",21067,21944,23848,20708,": ",": ",": ",": ",": ",": ",": ",": ",": ",": ",": ",": ",": ",": ",": ",": ",": ",": ",": ",": ",": ",": ",": "]
["Y44,F,EEA31",3728380,3783807,3833507,3854506,3850422,3864161,3919342,3845459,3756224,3739112,3703155,3656915,3594679,3573709,3554843,": ",": ",": ",": ",": ",": ",": ",": ",": ",": ",": ",": ",": ",": ",": ",": ",": ",": ",": ",": "]
["Y44,F,LU",4368,4328,4275,4275,4268,4070,4127,3905,3840,3762,3722,3517,3406,3416,3391,3221,3204,3093,3024,2747,2830,2787,2693,2671,2548,2329,2310,2421,2355,2175,2338,2429,2440,2270,2276]
["Y44,F,TR",502424,483285,444425,388875,426903,552103,525219,450802,": ",": ",": ",": ",": ",": ",": ",366033,354530,342536,328541,312049,295044,278547,263536,252027,244016,191840,183447,175422,167748,160410,153393,151096,148833,146603,144408]
["Y44,M,EA18",2496398,2548894,2584427,2602523,2635631,2648033,2682579,2615443,2538682,2508673,2467738,2413676,2333661,2307299,2262535,2220380,2192262,2141306,2147919,2124917,2173992,2155644,2150188,": ",": ",": ",": ",": ",": ",": ",": ",": ",": ",": ",": "]
["Y44,M,EFTA",103935,105527,106327,105215,107154,106691,106793,102350,98887,95924,94521,93398,91533,90129,89354,87131,85057,83838,84109,81828,84872,84551,86289,86916,88509,83914,82432,77283,73497,67363,65572,64328,62962,61308,61057]
["Y44,M,RU",": ",870478,": ",": ",885432,912031,956294,1041371,1116905,1155938,": ",": ",": ",": ",": ",": ",": ",": ",": ",": ",": ",": ",": ",": ",": ",": ",": ",": ",": ",": ",": ",": ",": ",": ",": "]
["Y44,M,SE",64664,63400,65873,69517,70115,70229,69590,65250,61666,59669,58620,59591,59320,59661,60670,59338,58431,60247,59915,59538,62732,64642,67087,68233,69729,69590,69035,64665,59669,52839,50402,51002,48992,46974,45761]
["Y44,T,CZ",147964,142296,135950,136340,138098,143873,150646,144815,129547,126218,123974,123254,134035,145477,151921,154656,156724,159582,163841,165902,164778,160742,168061,174955,171112,140995,148277,145633,129405,125058,123764,110236,107406,103252,103956]
["Y44,T,GE",": ",57873,": ",56868,58690,62751,63883,65339,67129,70267,": ",": ",": ",": ",": ",": ",": ",": ",": ",": ",": ",": ",": ",": ",": ",": ",": ",": ",": ",": ",": ",": ",": ",": ",": "]
["Y44,T,PT",154244,151933,152397,153642,156382,157386,158786,154734,154229,153379,152190,145702,145456,143477,138838,139464,135359,131559,134162,132760,132055,129624,132529,124118,119149,125285,117413,113651,109366,102019,108609,113619,115878,114992,117065]
["Y45,F,BG",53006,52110,45920,45174,46634,48758,49423,50384,52156,52591,52318,54021,55138,56682,59700,58632,59495,60016,58447,67410,64522,63338,60206,64628,58386,53649,55290,55010,53983,54287,51490,53815,55956,59259,59966]
["Y45,F,EU28",3744695,3789438,3815621,3752116,3769092,3821983,3759542,3691602,3687869,3658777,3627533,3567617,3544526,3509955,3487560,": ",": ",": ",": ",": ",": ",": ",": ",": ",": ",": ",": ",": ",": ",": ",": ",": ",": ",": ",": "]
["Y45,F,MT",2387,2467,2444,2415,2569,2658,2688,2895,2866,3060,3069,3018,3026,2977,2859,2761,2689,2747,2779,3027,2885,3014,3209,2954,3033,2775,2028,1513,1628,1883,1995,1811,": ",1734,1919]
["Y45,M,AM",": ",": ",": ",": ",": ",22358,23596,24164,27268,27280,": ",": ",": ",": ",": ",": ",": ",": ",": ",": ",": ",": ",": ",": ",": ",": ",": ",": ",": ",": ",": ",": ",": ",": ",": "]
["Y45,M,EFTA",106183,106922,105801,107680,107407,107301,103212,99728,96203,94726,93398,91516,90162,89477,86889,84916,83519,83750,81410,84623,84362,86076,86593,88376,83753,82210,77221,73412,67202,65389,64095,62683,61117,60889,60177]
["Y45,M,LV",13057,13226,13179,13299,13368,14114,14870,15611,16133,16169,16089,16485,16382,15294,15567,15356,14702,15008,15088,15111,15769,15742,15167,13840,14946,14997,14934,16186,18199,17430,18514,18732,18064,17441,16235]
["Y45,M,SI",14998,15472,15478,16480,16269,15918,15968,15942,15955,15455,15661,15726,15837,16946,16852,16528,16839,16728,15888,16281,15076,14350,14155,12781,9592,11882,13022,13333,12812,12726,12343,11976,12092,12686,": "]
["Y45,T,EA18",5085649,5121279,5179977,5236343,5257511,5331639,5207266,5067573,5010245,4930053,4827017,4667093,4608496,4517611,4444011,4386277,4273970,4303219,4233298,4323978,4277168,4261336,4202711,": ",": ",": ",": ",": ",": ",": ",": ",": ",": ",": ",": "]
["Y45,T,IS",4055,4034,4118,4430,4423,4530,4589,4571,4338,4462,4364,4158,4180,4113,3947,3820,3829,3602,3551,3579,3373,3342,3222,3024,3002,2813,2724,2607,2268,2132,2070,2065,2119,2152,2116]
["Y45,T,SE",125674,130563,136636,137555,137628,137055,127534,121383,117401,115662,116793,116465,118084,118648,117155,114963,118254,117836,117155,122793,127778,132407,133917,136463,135749,134119,126120,115627,102889,97972,99735,95934,92029,90207,87015]
["Y46,F,CZ",66058,66095,67303,69997,73222,71238,64266,62734,61145,60811,66766,72097,75494,76609,77971,79212,81741,83109,81990,80277,83510,87179,85552,70414,73543,72488,64395,62337,61681,55278,53919,51697,52131,53538,55308]
["Y46,F,GE",": ",29456,": ",33893,34326,35024,35587,36936,38707,34793,": ",": ",": ",": ",": ",": ",": ",": ",": ",": ",": ",": ",": ",": ",": ",": ",": ",": ",": ",": ",": ",": ",": ",": ",": "]
["Y46,F,HR",28549,29356,30994,31248,30122,30573,31592,32475,32724,32924,32552,32433,34124,33686,32807,": ",": ",": ",": ",": ",": ",": ",": ",": ",": ",": ",": ",": ",": ",": ",": ",": ",": ",": ",": "]
["Y46,F,RO",188229,191747,100065,103723,106119,107203,108229,125255,146104,147472,164306,166652,168565,172592,166805,156812,160693,155742,163937,164933,138903,127344,130652,109165,126481,114734,122665,126677,141222,150069,152901,155928,157619,147668,148707]
["Y46,M,BY",": ",60851,62258,64383,67588,": ",75647,79112,81331,80114,": ",": ",": ",": ",": ",": ",": ",": ",": ",": ",": ",": ",": ",": ",": ",": ",": ",": ",": ",": ",": ",": ",": ",": ",": "]
["Y46,M,FI",36130,37154,37395,37485,38316,38794,38371,38079,37961,38069,36915,38865,40188,39996,39826,40096,41953,40963,42771,44588,45476,45728,44806,40516,32566,31221,24995,36577,26056,30476,30107,28151,27139,27684,26425]
["Y46,M,NL",127958,127537,128808,131562,134182,132465,129940,128944,126424,125824,123224,121262,120354,117397,116866,115663,116569,113469,114661,117259,122023,128651,133908,96690,101532,97192,90148,86257,88644,85348,84563,79866,80038,78319,77852]
["Y46,T,CY",10928,11263,11501,11474,11430,11342,11257,11216,11188,10967,10671,10285,9900,9457,9207,9131,9009,8864,8696,8507,8279,8024,7858,": ",": ",": ",": ",": ",": ",": ",": ",": ",": ",5976,": "]
["Y46,T,EFTA",211889,210298,212126,210989,211426,204222,197367,191242,187598,184894,180423,178092,176385,171440,168060,165696,165292,159969,165529,165376,168822,169892,172877,163262,160106,151565,144199,132823,129625,127089,124240,120966,120955,119738,119607]
["Y46,T,LV",27057,27110,27511,27155,28982,30392,32094,33483,33843,33669,33934,33594,32154,32414,32222,30389,31238,31237,31048,33172,31969,30765,28063,27094,33729,33896,34363,38081,36891,38637,39213,38206,36869,34075,31352]
["Y46,T,UA",": ",583990,605694,603191,633719,680321,702672,734161,767380,741254,": ",": ",": ",": ",": ",": ",": ",": ",": ",": ",": ",": ",": ",": ",": ",": ",": ",": ",": ",": ",": ",": ",": ",": ",": "]
["Y47,F,EA19",2603472,2628534,2633031,2676036,2618659,2555353,2536607,2497184,2443382,2366373,2335897,2291820,2250089,2216123,2162565,2174752,2143148,2184715,2146949,2134988,2102564,2020630,1725308,": ",": ",": ",": ",": ",": ",": ",": ",": ",": ",": ",": "]
["Y47,F,IT",501601,503845,493554,498161,472543,456605,447810,432650,418959,401577,397696,392334,385329,382664,367075,368886,371361,388253,390968,413217,407249,414226,324673,336693,343393,347310,352644,393348,391438,386879,364901,354714,367746,364937,363655]
["Y47,F,SI",15306,15559,15886,15309,15261,15136,15431,15179,14842,14773,15441,15685,15660,15451,15476,15238,14710,14845,13660,13250,13240,12389,9002,11249,12782,12785,11914,12297,12157,11699,11611,12130,11873,12284,": "]
["Y47,M,DE",685436,704848,732092,742194,737008,713714,703370,686940,667725,636503,625182,610931,594351,583747,566548,570032,561841,570789,557956,518568,490702,436049,388908,521110,535836,420027,502234,537960,520719,492800,465859,464751,456643,433988,358871]
["Y47,M,HR",29081,30265,30840,29658,30168,30930,31855,32075,32687,32341,32233,33777,34146,34960,33223,": ",": ",": ",": ",": ",": ",": ",": ",": ",": ",": ",": ",": ",": ",": ",": ",": ",": ",": ",": "]
["Y47,M,RO",199639,105132,106467,109067,110145,110682,112117,127399,143638,146280,159266,162000,163690,158475,151236,155095,150884,158799,159879,134756,125806,127373,105428,120931,111362,117311,122782,135569,142552,147295,150626,154044,146088,145852,143991]
["Y47,T,BY",": ",130381,134261,141526,148656,": ",163849,167427,164875,167240,": ",": ",": ",": ",": ",": ",": ",": ",": ",": ",": ",": ",": ",": ",": ",": ",": ",": ",": ",": ",": ",": ",": ",": ",": "]
["Y47,T,CH",132348,134445,134307,135997,131885,126533,122241,118754,115565,111804,110209,107839,104158,101809,99302,99998,96803,100682,100348,102511,101837,102457,99611,98985,96597,93344,88046,83445,82050,80314,78685,79895,80110,79381,78018]
["Y47,T,FI",73309,73871,74116,75621,76545,75649,75433,75276,75227,73079,76677,79203,78895,79422,78943,82338,80179,83737,86834,89010,89306,87802,78920,63956,61154,49308,72020,51623,60791,59360,55967,53977,54742,52712,50557]
["Y47,T,NL",252511,254723,259365,264853,261205,257367,255462,249676,248624,243254,239688,237050,232608,230382,228005,229317,222487,224760,228963,237575,251401,260454,188339,197773,188393,174389,167064,171965,166591,164228,155475,155719,153062,152518,150320]
["Y48,F,AT",70528,70722,71447,71117,69053,67502,65208,63199,60859,59535,59424,55202,52825,51371,50819,48993,50450,51467,53719,54441,45871,38590,50212,49511,49210,57747,61859,59372,41620,37751,37894,37920,38769,40134,42028]
["Y48,F,EL",82239,79297,77939,77541,78290,78730,78781,77909,75991,73371,74499,72425,69308,66392,70867,68927,69082,63548,66422,70677,72880,71036,61430,47968,53217,55995,61141,63136,64826,66054,69600,71489,73534,70890,70967]
["Y48,F,MD",": ",23329,25787,26542,27812,29248,30963,31324,29664,29540,": ",": ",": ",": ",": ",": ",": ",": ",": ",": ",": ",": ",": ",": ",": ",": ",": ",": ",": ",": ",": ",": ",": ",": ",": "]
["Y48,F,UK",475433,478405,478193,471244,461316,449149,433954,421806,414168,404286,391722,380590,377232,377156,373820,373766,381305,393565,414415,444620,413813,364461,362216,354770,332487,307116,304986,316301,318044,315531,312280,308757,303102,301749,309522]
["Y48,M,EE",8130,8118,8647,8666,9100,9250,9310,9320,9180,9090,9030,9410,9170,8930,9160,9130,8604,9216,8783,8706,8212,6917,6793,7064,8429,10555,9457,10110,10269,10325,9533,9273,8456,8699,9655]
["Y48,M,LI",299,322,317,296,322,287,302,275,275,273,269,273,252,274,217,249,234,264,242,245,237,206,232,239,206,189,193,178,114,162,128,114,122,126,115]
["Y48,M,SK",35587,36793,38278,37949,36501,37658,38083,37796,39383,40793,41449,41064,40652,40317,40779,40230,38525,35105,34825,33234,28678,26050,27438,26112,25934,26098,26322,25124,24319,24069,23665,24915,25267,25617,27415]
["Y48,T,DE_TOT",1393452,1397810,1451353,1442410,1397952,1380276,1347055,1309865,1247058,1225769,1199763,1169433,1155464,1124315,1131138,1113454,1126910,1095008,1015106,962812,852756,763920,1023958,1047660,1022430,1242181,1320602,1305800,1218441,1149666,1143256,1129780,1072180,883184,894804]
["Y48,T,HU",125791,121339,119911,118796,114521,121660,129285,127974,135075,139868,160050,171768,180875,165958,149758,151836,156938,149763,148452,142968,126360,125185,143005,132378,135662,127687,135070,126474,126633,124373,123482,127814,130355,133848,135922]
["Y48,T,RS",93728,96499,93647,98021,99863,102719,106249,103394,106089,105245,115650,120375,129105,126928,131281,113775,125895,": ",": ",": ",": ",": ",": ",": ",": ",": ",": ",": ",": ",": ",": ",": ",": ",": ",": "]
["Y49,F,AD",": ",": ",676,684,684,695,584,614,547,529,559,456,439,420,392,421,424,407,382,350,309,342,341,316,243,278,210,189,238,224,": ",": ",": ",": ",": "]
["Y49,F,FI",36731,37392,37843,37334,37378,37386,37209,36264,37914,39056,38936,39617,38962,40439,39258,41001,42321,43616,43631,43026,38460,31392,29971,24366,35509,25607,30314,29258,27826,26834,27099,26332,25102,26926,27706]
["Y49,F,NL",127838,130574,128770,127335,126499,123342,122845,119887,118109,116359,114908,113153,112082,112656,108986,110036,111746,115496,122497,126283,91524,96170,91231,84331,80865,83459,81183,79786,75772,75660,74648,74904,74099,76659,75837]
["Y49,F,NO",35032,34450,33378,32322,31849,31490,31553,31449,31045,31541,30822,30383,30336,29709,28383,29202,29362,29920,31018,32315,29121,27873,25046,23168,20516,21179,20940,20281,19496,18808,18484,18474,18404,19997,20320]
["Y49,M,AZ",": ",62895,64839,63851,64087,68528,60400,60200,53000,50100,": ",": ",": ",": ",": ",": ",": ",": ",": ",": ",": ",": ",": ",": ",": ",": ",": ",": ",": ",": ",": ",": ",": ",": ",": "]
["Y49,M,ES",361895,368291,353491,342834,334255,336597,326942,318421,307344,284734,274238,258948,259125,257249,245653,245180,240791,238299,239443,236334,230785,223480,215587,213565,198662,188925,189943,198558,196913,211512,223645,230669,231479,233989,233935]
["Y49,M,ME",4238,4129,4343,4288,4295,4315,4425,4485,4427,4478,4590,4538,4520,4505,4497,4465,": ",": ",": ",": ",": ",": ",": ",": ",": ",": ",": ",": ",": ",": ",": ",": ",": ",": ",": "]
["Y49,T,AD",": ",": ",1372,1377,1377,1449,1298,1297,1220,1153,1199,1024,989,942,838,1027,886,919,853,762,784,786,733,610,536,603,423,417,478,484,": ",": ",": ",": ",": "]
["Y49,T,EEA30",7523194,7628226,7498138,7330262,7291312,7230202,7144493,7042491,7012586,6927617,6860900,6765030,6654654,6661218,6585171,6708231,6646073,6623348,6548971,6283454,5371664,5653620,5545891,": ",": ",": ",": ",": ",": ",": ",": ",": ",": ",": ",": "]
["Y49,T,LT",42026,43819,44942,47318,50121,51021,50851,50073,46889,44001,44114,42242,40408,42450,43150,43429,43361,41032,37614,37055,41329,35525,41710,46627,47109,43312,43880,45416,45244,46732,44892,42211,45358,46380,43769]
["Y49,T,SM",": ",": ",600,580,": ",": ",": ",": ",": ",": ",": ",": ",": ",": ",": ",": ",": ",": ",": ",": ",": ",": ",": ",": ",": ",": ",": ",": ",": ",": ",": ",": ",": ",": ",": "]
["Y5,F,DK",31375,32321,32014,32369,32171,32081,31926,31442,32188,33088,32804,32783,33434,33501,34603,34832,33569,33692,32180,31612,30438,29002,27611,27391,26816,25739,25301,26064,26261,28192,29096,30327,30349,31842,35503]
["Y5,F,IE",36852,36219,34770,32191,30307,30100,30572,30475,29531,28471,28586,27905,27430,26197,25267,24851,25005,25606,26425,26507,26013,26400,27976,28830,29455,29597,31198,33096,34170,34350,": ",": ",": ",": ",": "]
["Y5,F,RS",32404,32168,32111,33295,34145,37869,38138,38058,37042,34749,33838,35187,36150,37448,39270,39162,39690,": ",": ",": ",": ",": ",": ",": ",": ",": ",": ",": ",": ",": ",": ",": ",": ",": ",": "]
["Y5,M,CH",42527,41913,40468,39825,39510,39064,38137,38526,38309,38478,39929,40295,40872,41841,41544,42213,42744,44420,44894,44625,43113,42890,40637,40140,38833,38999,38420,38430,38244,37965,36920,36729,37342,36706,37565]
["Y5,M,FR",425202,421490,417074,421809,410826,407967,403959,407704,411152,417751,400246,395881,388378,390985,384199,374876,371343,389035,397079,400078,400573,403850,402920,408684,403503,": ",": ",": ",": ",": ",": ",": ",": ",": ",": "]
["Y5,M,NO",33555,32861,31671,31598,30519,30518,30111,29149,29728,30953,30997,30510,31376,32008,31630,31426,30959,31636,31808,31694,30850,29850,27814,27440,26554,26086,26126,26629,26076,26509,26594,26681,26228,27414,28749]
["Y5,T,AZ",": ",150177,124894,121196,120999,121332,114000,108600,108100,114500,": ",": ",": ",": ",": ",": ",": ",": ",": ",": ",": ",": ",": ",": ",": ",": ",": ",": ",": ",": ",": ",": ",": ",": ",": "]
["Y5,T,ES",489531,517578,501018,498183,486889,480714,471465,448727,439708,426307,407838,390406,379574,366192,369268,373483,382178,390840,395165,395838,400956,403379,415208,427776,447049,467629,487162,512671,533447,569089,591134,619334,637438,653711,656667]
["Y5,T,EU27",5409396,5441512,5319305,5257087,5169731,5138800,5084778,5051026,5067592,5154675,5101603,5105086,5126603,5155236,5158006,5257104,5389433,5564000,5637769,5762272,5804335,": ",": ",": ",": ",": ",": ",": ",": ",": ",": ",": ",": ",": ",": "]
["Y5,T,MK",23350,22673,22391,22243,22081,22998,23225,22900,24289,25550,24134,25638,25891,30824,31419,30622,29015,30218,31815,31222,31509,32763,": ",": ",": ",": ",": ",": ",": ",": ",": ",": ",": ",": ",": "]
["Y50,F,AL",21424,20114,": ",": ",": ",": ",": ",": ",18910,18944,17050,15662,": ",": ",": ",": ",": ",": ",": ",": ",": ",": ",": ",": ",": ",": ",": ",": ",": ",": ",": ",": ",": ",": ",": "]
["Y50,F,EEA31",3849695,3782586,3701326,3692315,3664126,3621147,3567450,3550154,3520229,3482736,3443627,3383402,3384989,3333770,3406071,": ",": ",": ",": ",": ",": ",": ",": ",": ",": ",": ",": ",": ",": ",": ",": ",": ",": ",": ",": "]
["Y50,F,LU",4210,4156,3988,3911,3807,3562,3458,3480,3393,3193,3199,3029,3015,2681,2795,2804,2722,2662,2596,2321,2297,2415,2334,2153,2300,2427,2389,2208,2227,2241,2254,2246,2300,2448,2583]
["Y50,M,BG",48655,49549,49761,51592,51919,50916,51824,52545,54462,54949,54157,55030,54400,53009,62877,59989,58740,55999,59847,53435,49946,49978,49995,49310,50212,48048,51255,53298,56282,57767,62397,60877,63851,57628,63714]
["Y50,M,DK",42752,41615,39383,38316,38441,36822,37062,36930,37328,36996,36187,37051,36391,36174,37098,37096,39318,42019,43901,42811,40650,37377,35502,31700,30833,29952,29614,28750,28043,27304,27007,26378,26387,26480,26860]
["Y50,M,IE",30532,29871,29237,28745,28780,27868,27265,27026,26426,25591,25585,24869,24822,23550,23037,23037,23124,22774,22306,21139,19395,18651,17833,16716,16651,16323,15667,15414,16069,15600,": ",": ",": ",": ",": "]
["Y50,M,RU",": ",974396,": ",": ",1155128,1079918,1074829,1079292,1041750,1034928,": ",": ",": ",": ",": ",": ",": ",": ",": ",": ",": ",": ",": ",": ",": ",": ",": ",": ",": ",": ",": ",": ",": ",": ",": "]
["Y50,T,CY",11189,11512,11619,11697,11577,11246,10878,10438,10022,9549,9184,9046,9037,9011,8474,8300,8104,7887,7744,7553,7285,6955,6607,": ",": ",": ",": ",": ",": ",": ",": ",": ",": ",4942,": "]
["Y50,T,FX",": ",": ",854045,857844,855985,855239,838798,841774,838950,833823,837890,826396,843284,830064,863424,856626,856576,848071,811379,618876,615356,603553,566195,512398,543547,582379,581401,585805,597584,599111,622950,617543,645451,651017,661770]
["Y50,T,PL",469125,481650,488884,510239,542536,582293,603276,616486,616811,625350,607117,605104,602492,595413,576614,551712,548371,510250,468488,350470,341686,333533,334207,353321,381925,391878,": ",": ",": ",": ",410577,": ",": ",": ",": "]
["Y51,F,BE",82091,80362,80893,79701,80260,77801,76196,75279,74393,72844,70895,70450,68144,68705,68089,69498,69086,69318,59497,59585,56858,50154,46690,52290,57680,58919,56665,56365,57053,58785,59286,63234,64368,65408,62298]
["Y51,F,EU27",3711802,3631244,3620606,3596224,3555079,3499532,3479590,3447888,3416508,3374133,3322011,3325423,3275785,3318614,3299706,3276575,3241890,3109410,2657659,2794004,2736244,2670695,2722897,": ",": ",": ",": ",": ",": ",": ",": ",": ",": ",": ",": "]
["Y51,F,MK",14256,13389,13934,14590,14390,13880,13853,13832,13681,14055,13491,13767,12389,13166,12702,13202,11680,9764,9791,9963,10049,10855,": ",": ",": ",": ",": ",": ",": ",": ",": ",": ",": ",": ",": "]
["Y51,M,AL",19950,20136,": ",": ",": ",": ",": ",": ",19429,17659,16502,14455,": ",": ",": ",": ",": ",": ",": ",": ",": ",": ",": ",": ",": ",": ",": ",": ",": ",": ",": ",": ",": ",": ",": "]
["Y51,M,AM",": ",": ",": ",": ",": ",23787,22801,21293,20041,19429,": ",": ",": ",": ",": ",": ",": ",": ",": ",": ",": ",": ",": ",": ",": ",": ",": ",": ",": ",": ",": ",": ",": ",": ",": "]
["Y51,M,EU27",3668688,3581816,3569801,3543627,3502834,3442046,3418519,3376398,3334972,3284812,3239675,3243967,3195276,3249641,3239137,3223062,3198040,3064297,2606002,2749319,2705771,2636123,2691225,": ",": ",": ",": ",": ",": ",": ",": ",": ",": ",": ",": "]
["Y51,M,LU",4586,4237,4130,3918,3850,3740,3626,3336,3286,3299,3155,3110,2937,2899,2930,3004,2884,2827,2408,2450,2578,2467,2220,2292,2438,2318,2343,2346,2238,2206,2321,2340,2515,2603,2595]
["Y51,M,TR",446658,438439,388874,438385,420779,351761,316243,347916,": ",": ",": ",": ",": ",": ",": ",263038,251027,242519,236016,230016,225011,222005,220005,219000,218503,168368,169610,170862,172122,173392,174672,167705,161017,154595,148429]
["Y51,T,EA18",5148110,5011632,4969499,4895659,4802811,4653218,4600961,4511726,4423109,4352583,4257322,4283064,4191847,4262631,4233629,4204630,4137745,3975110,3361418,3620619,3586452,3500009,3662771,": ",": ",": ",": ",": ",": ",": ",": ",": ",": ",": ",": "]
["Y51,T,IS",4380,4349,4131,4389,4409,4258,4329,4291,4129,3883,3826,3602,3531,3569,3343,3297,3174,2966,2929,2756,2651,2543,2233,2097,2043,2029,2082,2099,2086,2136,2087,2206,2297,2421,2218]
["Y51,T,SE",128140,121960,117902,116338,116938,116462,117782,118242,116526,114214,117240,116711,115874,121071,125864,130623,132248,134406,133754,132308,124555,114197,101680,96804,98320,94457,90511,88557,85296,83968,83262,87114,87930,90184,88859]
["Y52,F,CZ",63579,62317,61172,60870,66761,71964,75094,76151,77020,77860,80155,81635,80475,79053,82126,86059,84417,69544,72540,71186,63319,61141,60385,54125,52822,50588,50977,52316,54036,55579,59515,61219,64175,62053,63763]
["Y52,F,GE",": ",36778,": ",34269,33535,31052,32138,31255,30311,27310,": ",": ",": ",": ",": ",": ",": ",": ",": ",": ",": ",": ",": ",": ",": ",": ",": ",": ",": ",": ",": ",": ",": ",": ",": "]
["Y52,F,PT",79018,78853,77931,75061,75316,74042,71868,72999,70302,69024,70865,69689,68604,66930,69491,63322,62535,65638,61858,59409,56880,54113,56675,59209,60112,59574,60687,62095,59226,60350,61717,60799,61880,58939,60719]
["Y52,M,BG",48915,50762,50963,49989,50791,51493,53624,53969,53190,54186,53674,52389,59596,59520,57392,54675,58472,52107,48703,48704,48851,47969,49106,46770,49092,51394,55133,56662,61761,59813,62745,56477,62649,56648,60534]
["Y52,M,EU28",3597224,3578188,3558946,3521218,3462877,3442775,3396111,3354165,3305913,3256332,3260510,3209395,3265588,3255650,3232679,": ",": ",": ",": ",": ",": ",": ",": ",": ",": ",": ",": ",": ",": ",": ",": ",": ",": ",": ",": "]
["Y52,M,MT",2970,3021,3102,2998,2997,3135,3094,3027,2886,2796,2844,2807,3092,3031,3082,3048,2919,2793,2881,1949,1476,1415,1695,1718,1833,1743,1844,1738,1573,1606,1506,1426,": ",1362,1346]
["Y52,M,TR",436894,384858,435907,419327,351475,312613,346351,452247,": ",": ",": ",": ",": ",": ",": ",248525,241016,234519,228016,223011,220005,218005,217000,217000,216005,200607,209629,219056,228907,239201,249958,228580,209029,191151,174803]
["Y52,T,EEA31",7325888,7296324,7250675,7179190,7066221,7024976,6942910,6865781,6775342,6668504,6678420,6572883,6675101,6649645,6597358,": ",": ",": ",": ",": ",": ",": ",": ",": ",": ",": ",": ",": ",": ",": ",": ",": ",": ",": ",": "]
["Y52,T,LU",8350,8159,7762,7488,7226,7100,6749,6483,6475,6199,6115,5623,5682,5602,5580,5510,5419,4694,4734,4964,4781,4357,4578,4831,4661,4525,4556,4440,4427,4523,4584,4892,5115,5022,5013]
["Y52,T,LV",29576,30617,31032,30765,31168,30726,29526,29954,29398,27551,28489,29027,28782,30920,29968,28128,25338,24268,25814,27921,31442,35145,34768,36852,34987,35085,35003,32722,30065,31657,34813,33723,35185,34207,36051]
["Y52,T,UA",": ",699967,729360,701267,700242,677394,680152,643575,670897,621275,": ",": ",": ",": ",": ",": ",": ",": ",": ",": ",": ",": ",": ",": ",": ",": ",": ",": ",": ",": ",": ",": ",": ",": ",": "]
["Y53,F,EA19",2522866,2480940,2435576,2361630,2334607,2290988,2253963,2219043,2164780,2179783,2133247,2164314,2150512,2142632,2086806,2003105,1710260,1833598,1806530,1766817,1848622,1963274,1970785,": ",": ",": ",": ",": ",": ",": ",": ",": ",": ",": ",": "]
["Y53,F,IT",459258,445716,427883,410403,407620,399604,393185,387899,369466,369043,371306,386393,386118,405526,398724,405923,319974,331420,340263,344239,350118,390065,387374,382347,358580,348532,360591,357355,356459,354546,363295,384509,359223,363043,366755]
["Y53,F,SI",15244,15037,14669,14607,15285,15477,15452,15244,15238,14986,14480,14586,13457,12950,12559,11710,8496,10616,12116,12202,11594,11808,11715,11584,11426,11842,11691,12152,12439,12673,12543,13168,12096,12304,": "]
["Y53,M,DE",676981,654794,650407,618227,605750,591888,576007,566096,549938,554018,546250,553594,540643,501852,474831,420606,373735,502761,518737,509528,619791,660324,653486,614827,579970,457115,444143,420167,338414,342726,354630,383308,378460,387469,353140]
["Y53,M,HR",30314,30708,31403,31197,31213,32698,33016,33820,32195,31681,29468,30854,29949,27684,27251,": ",": ",": ",": ",": ",": ",": ",": ",": ",": ",": ",": ",": ",": ",": ",": ",": ",": ",": ",": "]
["Y53,M,RO",115431,123737,128722,135624,137658,139896,141687,136963,134095,135733,129847,131335,131786,124222,116849,118000,97175,111428,100798,108025,112590,125084,132705,135787,140409,144198,136848,136555,135361,149510,137014,144640,135457,138268,135570]
["Y53,T,BY",": ",157379,156101,156014,149478,": ",140886,139375,125032,129761,": ",": ",": ",": ",": ",": ",": ",": ",": ",": ",": ",": ",": ",": ",": ",": ",": ",": ",": ",": ",": ",": ",": ",": ",": "]
["Y53,T,HR",61991,62810,63658,63324,63386,66460,66451,66530,64599,63680,59010,62212,61371,57021,56204,": ",": ",": ",": ",": ",": ",": ",": ",": ",": ",": ",": ",": ",": ",": ",": ",": ",": ",": ",": "]
["Y53,T,MT",5926,6217,6084,6106,6221,6148,5948,5817,5608,5727,5688,6096,6036,6246,6316,5890,5693,5766,4155,2989,3041,3573,3649,3774,3734,3761,3806,3284,3549,3609,3370,3060,": ",2860,4022]
["Y54,F,AM",": ",": ",": ",": ",": ",22344,21475,19324,20360,18548,": ",": ",": ",": ",": ",": ",": ",": ",": ",": ",": ",": ",": ",": ",": ",": ",": ",": ",": ",": ",": ",": ",": ",": ",": "]
["Y54,F,EFTA",93508,91838,89217,87569,86267,84056,82530,81066,80474,77280,79400,79449,81008,81097,82418,77321,76093,72256,68901,64003,62580,61353,59914,58251,58473,58108,57889,57583,58774,58726,60175,59174,59856,58915,61231]
["Y54,F,LV",16438,16362,16191,15951,15646,15839,15715,14613,15248,15579,15306,16746,15810,14840,13898,12859,13661,14630,16600,18294,18200,19060,19461,19547,16243,16332,16316,17138,18824,17923,18695,18562,19358,19400,19563]
["Y54,F,UA",": ",379285,378939,367328,369351,349145,363198,336376,355575,356897,": ",": ",": ",": ",": ",": ",": ",": ",": ",": ",": ",": ",": ",": ",": ",": ",": ",": ",": ",": ",": ",": ",": ",": ",": "]
["Y54,M,EA19",2414352,2370336,2300478,2272014,2224128,2182836,2146800,2102390,2115866,2073857,2113282,2107376,2107001,2042980,1966853,1666826,1790612,1781106,1731990,1814948,1917931,1925354,1876638,": ",": ",": ",": ",": ",": ",": ",": ",": ",": ",": ",": "]
["Y54,M,EE",8817,8754,8511,8445,8290,8610,8390,8100,8280,8250,8090,8570,8130,8010,7370,6150,5910,5999,7323,8887,8193,8925,9220,9423,8724,8551,7855,7931,8935,8970,9274,8883,9053,9219,7807]
["Y54,M,LI",311,282,275,284,274,270,253,268,210,260,236,271,240,240,240,194,222,224,201,182,178,165,114,155,132,112,121,129,102,118,113,111,107,97,104]
["Y54,M,SK",36371,36090,37477,38733,39144,39096,38533,38249,38395,37646,35897,32849,32370,30994,27002,24385,25599,24369,24025,24191,24327,22973,22217,22106,21849,23046,23380,23716,25334,25461,25804,25559,25427,25389,25712]
["Y54,T,DE_TOT",1301653,1269286,1220899,1197027,1170341,1140687,1127912,1099322,1106983,1090745,1103272,1071635,991293,939581,830302,742176,993793,1019849,1001397,1221135,1300686,1287342,1211949,1142410,1128283,1104232,1043842,855133,859967,890719,960223,946083,960564,901372,898407]
["Y54,T,HU",124828,125989,132117,137006,152063,163093,171365,157283,141923,143480,149018,141838,140503,135693,120058,118947,135571,125702,129236,121284,126213,118207,118544,116105,115290,118966,122645,126191,128129,127813,137248,132864,134984,131230,137415]
["Y54,T,PL",528292,566399,589529,602978,600993,611325,588589,586786,583864,576740,558490,534346,522737,491309,450933,330776,329687,321732,322472,340409,367446,377546,377890,383941,399527,400040,": ",": ",": ",": ",444381,": ",": ",": ",": "]
["Y55,F,BY",": ",83289,79369,77184,75716,": ",67097,69012,67848,67042,": ",": ",": ",": ",": ",": ",": ",": ",": ",": ",": ",": ",": ",": ",": ",": ",": ",": ",": ",": ",": ",": ",": ",": ",": "]
["Y55,F,FI",37039,36043,37627,38703,38584,39251,38537,39915,38799,40414,41765,43008,43031,42367,37822,30914,29496,23987,34978,25299,29882,28809,27420,26333,26643,25861,24624,26452,27199,28781,29008,28694,27884,28301,28880]
["Y55,F,NL",120678,117688,115819,113951,112221,110480,109378,109816,106394,107576,109450,113149,120176,123787,89681,94050,89333,82731,79300,82026,79846,78381,74502,74412,73414,73547,72531,75155,74311,75975,73479,74234,72091,73001,73467]
["Y55,M,AT",62307,59194,58215,56686,53062,50423,49175,49063,47218,48830,49500,51338,52623,44302,36181,46746,46890,46869,54488,58929,56874,40034,36411,35971,35457,35961,37578,39402,40338,42310,41595,42240,40259,39071,38729]
["Y55,M,EL",69829,69104,67869,69525,69864,66331,64540,65034,65237,64829,63991,64055,65207,65480,67120,58373,48539,51403,47420,68042,59815,63403,60856,65287,67788,65480,64724,64917,65013,64661,64800,64892,60216,58202,55789]
["Y55,M,MD",": ",23661,24013,22026,21992,22770,21158,22064,21614,22789,": ",": ",": ",": ",": ",": ",": ",": ",": ",": ",": ",": ",": ",": ",": ",": ",": ",": ",": ",": ",": ",": ",": ",": ",": "]
["Y55,M,UK",407807,400013,389702,377723,366182,361668,361759,357276,356950,364786,376885,397606,425386,399036,355311,350568,342539,321201,296986,295256,304909,306943,304929,300819,297268,292168,289278,295429,303834,306289,305090,304193,307730,314947,318559]
["Y55,T,EE",18402,17997,18050,17950,18550,18170,17410,17910,18040,17520,18750,17730,17440,16230,13360,13350,12867,15832,19282,17486,19146,19665,20347,18951,18228,16956,17284,19759,19502,20066,19401,20229,19823,18525,17210]
["Y55,T,LI",583,567,576,540,524,507,494,481,489,464,483,480,465,465,365,450,430,392,354,342,313,264,284,238,230,257,264,207,224,203,223,217,219,240,224]
["Y55,T,SK",72474,75835,78344,80184,80027,78488,77853,78371,77268,73730,67756,66833,64340,56011,52251,54459,51323,51206,51309,51353,49014,47579,46750,46516,48564,48785,49678,53093,53189,53854,53108,53125,52642,53728,52936]
["Y55,T,SM",": ",": ",465,443,": ",": ",": ",": ",": ",": ",": ",": ",": ",": ",": ",": ",": ",": ",": ",": ",": ",": ",": ",": ",": ",": ",": ",": ",": ",": ",": ",": ",": ",": ",": "]
["Y56,F,EFTA",89008,87300,85893,83553,82028,80660,80048,76679,78696,78780,80346,80422,81543,76418,75275,71474,68039,63086,61706,60676,59228,57409,57704,57312,57156,56909,58072,58038,59417,58483,59110,58251,60638,60256,61157]
["Y56,F,HU",68438,70967,80824,87188,89102,82169,74653,75784,77677,74093,73580,70822,62654,62570,71178,65841,68494,64085,67037,63029,63662,62486,62347,63175,63687,64894,67257,66548,71036,68563,70348,67828,72010,74451,68523]
["Y56,F,RS",52438,52342,57429,59601,63835,60833,63676,54679,61221,57558,56260,52560,45287,34987,39510,40371,42996,": ",": ",": ",": ",": ",": ",": ",": ",": ",": ",": ",": ",": ",": ",": ",": ",": ",": "]
["Y56,M,CH",56638,55266,54030,51728,50006,48431,48333,46723,48461,47928,48653,48251,48536,47231,46543,45414,43893,40994,38664,38170,37350,36327,36983,37228,37002,35894,35862,35220,35495,34432,33676,33516,33414,33407,32790]
["Y56,M,FR",413920,412379,409587,405598,410179,403369,413572,407394,427113,423331,427421,421967,402474,307600,304763,298760,280354,255225,267549,283586,282981,283715,289741,288521,298661,": ",": ",": ",": ",": ",": ",": ",": ",": ",": "]
["Y56,M,NO",32595,31893,32202,31501,30738,30455,30232,29227,29754,29937,30674,31234,32696,29297,28423,25116,23049,20225,21021,20295,19671,18823,18348,17396,17846,18073,19208,19272,20201,20042,20458,20609,21927,21987,23254]
["Y56,T,AZ",": ",105213,99303,90576,81173,71114,72500,63000,66700,51900,": ",": ",": ",": ",": ",": ",": ",": ",": ",": ",": ",": ",": ",": ",": ",": ",": ",": ",": ",": ",": ",": ",": ",": ",": "]
["Y56,T,ES",622817,609659,572252,557616,532477,533598,532326,497509,485140,502735,525625,478249,456559,480373,446411,428541,423545,393351,373349,375094,392537,389036,416747,439023,451821,451408,456441,456530,453107,444824,441422,432549,427908,420226,418178]
["Y56,T,ME",8696,8576,8508,8512,8871,8735,8169,7837,8199,7564,6984,6694,6627,6604,6626,6547,": ",": ",": ",": ",": ",": ",": ",": ",": ",": ",": ",": ",": ",": ",": ",": ",": ",": ",": "]
["Y57,F,AD",": ",": ",476,414,414,432,397,435,434,391,387,357,314,343,347,314,255,313,239,207,260,282,245,220,232,243,196,243,219,172,": ",": ",": ",": ",": "]
["Y57,F,EEA30",3479671,3443303,3414369,3363418,3301763,3303755,3254183,3289540,3264523,3273471,3209825,3064140,2657732,2775510,2713976,2645777,2697752,2835091,2848109,2806551,2729807,2751868,2752512,": ",": ",": ",": ",": ",": ",": ",": ",": ",": ",": ",": "]
["Y57,F,LT",22877,21445,21255,20360,19318,20645,20741,20960,21906,20102,18542,17943,20033,17449,21120,23109,23086,21257,21878,22942,23132,23828,23084,21977,23342,24554,23337,23772,23461,23811,23377,22629,22537,21589,21856]
["Y57,F,SI",15048,15214,15191,15010,15003,14758,14223,14389,13250,12768,12370,11529,8355,10417,11878,11902,11139,11357,11288,11209,11184,11578,11385,11813,12060,12452,12349,12960,11903,12006,11791,12048,11954,11744,": "]
["Y57,M,DE_TOT",581600,566492,560824,549429,532758,536565,529881,537088,524413,487152,460886,407738,361877,485962,500619,492097,599037,637975,631948,596039,562497,553712,542464,513390,420599,422037,434917,464523,451412,455980,411256,388512,378882,337491,335752]
["Y57,M,HU",62453,70416,76285,79871,70236,62970,63353,66834,63305,62529,60548,53549,52646,60361,56051,57211,53690,55536,51550,51089,49911,49435,52168,53665,55281,55626,56660,61137,59401,59651,58622,60560,63443,59096,63508]
["Y57,M,IE",25698,25360,24801,24657,24249,24241,23561,23277,22901,22774,22811,22108,20883,19431,18712,17758,16545,15941,16224,15472,14832,15051,14717,14313,14381,14435,13864,14407,14148,14000,": ",": ",": ",": ",": "]
["Y57,M,RU",": ",911510,": ",": ",837341,866620,819041,828432,850110,711927,": ",": ",": ",": ",": ",": ",": ",": ",": ",": ",": ",": ",": ",": ",": ",": ",": ",": ",": ",": ",": ",": ",": ",": ",": "]
["Y57,T,CY",9935,10210,9903,9605,9431,9370,9322,9261,9065,8774,8262,7772,7278,6927,7339,6994,6616,6292,6054,5883,5735,5587,5410,": ",": ",": ",": ",": ",": ",": ",": ",": ",": ",4080,": "]
["Y57,T,FX",": ",": ",812832,817468,804384,825118,810906,850296,841434,844496,834098,795369,603084,598658,585537,547652,497529,522625,560123,558366,561323,573509,573866,596153,589980,618790,617815,632534,607100,613318,605073,610361,613673,600826,605310]
["Y57,T,PL",587021,585088,594699,575334,574959,569649,559234,541433,518514,507289,476890,437418,320489,316870,310438,308876,329003,354754,364926,364776,370046,385016,384874,378073,380574,402484,": ",": ",": ",": ",379582,": ",": ",": ",": "]
["Y58,F,BE",73949,73297,71810,69926,69372,66833,67339,66616,67971,67363,67603,58048,57927,55316,48789,45341,50947,56169,57287,55185,54986,55366,57012,57413,60978,62059,63190,59946,60052,59500,61086,62397,62248,62782,61427]
["Y58,F,EU27",3398195,3369693,3319867,3255452,3259613,3211276,3258768,3232335,3228819,3178371,3018608,2615098,2730401,2695370,2611528,2669322,2801429,2819748,2772887,2696874,2719618,2720615,2692165,": ",": ",": ",": ",": ",": ",": ",": ",": ",": ",": ",": "]
["Y58,F,MK",13314,13190,13508,12972,13304,11951,12608,12267,12644,11177,9326,9399,9499,9686,10487,8989,10121,9512,9410,9676,10348,10282,": ",": ",": ",": ",": ",": ",": ",": ",": ",": ",": ",": ",": "]
["Y58,F,SI",15155,15108,14923,14963,14698,14177,14315,13193,12700,12306,11462,8325,10357,11811,11850,11098,11289,11223,11083,11060,11505,11312,11748,11981,12370,12245,12813,11832,12084,11709,11962,11872,11665,11557,": "]
["Y58,M,EEA30",3268812,3228257,3176164,3121671,3121725,3074790,3127382,3107346,3115610,3071055,2915922,2514380,2629665,2600889,2509850,2558828,2674200,2686845,2633495,2562467,2569734,2574219,2550088,": ",": ",": ",": ",": ",": ",": ",": ",": ",": ",": ",": "]
["Y58,M,LT",17022,17051,16315,15315,16087,16273,16495,16932,15463,14506,13946,15433,13737,15956,17699,18123,16462,16843,17446,17309,18246,18169,16761,18102,18580,17991,18985,18106,18565,17792,14582,14104,13677,13905,13574]
["Y58,M,SM",": ",": ",192,197,": ",": ",": ",": ",": ",": ",": ",": ",": ",": ",": ",": ",": ",": ",": ",": ",": ",": ",": ",": ",": ",": ",": ",": ",": ",": ",": ",": ",": ",": ",": "]
["Y58,T,DK",71167,70307,69060,70381,69330,68357,70646,70490,74442,79418,82437,79919,76393,70694,66818,59869,58465,56223,56040,54615,53141,51572,51154,49451,50037,49906,50881,49924,52106,51614,53276,53952,55556,55925,54911]
["Y58,T,IE",50531,49537,49169,48009,47859,46339,45884,45569,44761,43949,42882,40781,38143,36886,35194,32287,31623,31973,30669,29369,29838,29244,28259,28173,27877,26691,27732,27822,27835,27525,": ",": ",": ",": ",": "]
["Y58,T,RU",": ",2085945,": ",": ",1956945,1857428,1855698,1917183,1596144,1599099,": ",": ",": ",": ",": ",": ",": ",": ",": ",": ",": ",": ",": ",": ",": ",": ",": ",": ",": ",": ",": ",": ",": ",": ",": "]
["Y59,F,CY",4717,4797,4778,4802,4830,4808,4695,4544,4262,3990,3743,3562,3444,3409,3343,3196,3081,3010,2963,2899,2832,2793,2746,": ",": ",": ",": ",": ",": ",": ",": ",": ",": ",2061,": "]
["Y59,F,CZ",74264,75129,75963,78170,79496,78210,76975,79543,83401,81473,66873,69955,68512,60931,58896,58373,52283,50945,48719,49027,50291,51829,53203,56832,58474,61047,59044,60667,60491,62467,63778,65966,68023,68235,67756]
["Y59,F,GE",": ",29451,": ",29045,26397,29435,25399,23689,23026,19717,": ",": ",": ",": ",": ",": ",": ",": ",": ",": ",": ",": ",": ",": ",": ",": ",": ",": ",": ",": ",": ",": ",": ",": ",": "]
["Y59,F,PT",72267,69900,68800,70752,69805,68605,66837,69433,62596,63075,65838,62076,59574,56232,55527,56903,58960,59139,58858,60878,61547,58594,59298,60929,60058,60735,57889,59103,56641,59520,58219,57326,55631,53854,53503]
["Y59,M,BG",48892,48429,49456,48873,48074,54694,53768,51717,50177,52490,48023,43287,44370,44434,42837,43612,41075,43006,45057,47602,49221,54013,52697,55042,51402,54344,52444,55299,54418,59312,58379,57921,52892,55080,53717]
["Y59,M,FI",37146,36854,36975,38653,37553,39240,40707,41625,41730,40780,36922,29680,28356,22765,33190,23664,27559,27141,25480,24426,24723,23648,22663,23861,25008,25487,25157,25274,24207,24328,24025,22829,22860,21051,21427]
["Y59,M,MK",13281,13194,12668,12753,11172,11864,11169,11601,10347,8636,8823,8908,8981,9302,8320,9489,8874,8361,8854,9602,9537,9835,": ",": ",": ",": ",": ",": ",": ",": ",": ",": ",": ",": ",": "]
["Y59,T,AL",37915,34670,": ",": ",": ",": ",": ",": ",24887,20508,20671,22200,": ",": ",": ",": ",": ",": ",": ",": ",": ",": ",": ",": ",": ",": ",": ",": ",": ",": ",": ",": ",": ",": ",": "]
["Y59,T,EEA31",6650027,6540924,6428201,6427214,6324804,6426931,6407827,6406875,6291346,6002521,5158994,5389861,5337314,5124616,5259270,": ",": ",": ",": ",": ",": ",": ",": ",": ",": ",": ",": ",": ",": ",": ",": ",": ",": ",": ",": "]
["Y59,T,LU",6392,6415,6113,5976,5536,5506,5383,5481,5270,5032,4434,4342,4463,4475,4130,4425,4594,4368,4295,4260,4136,4128,4200,4247,4549,4745,4651,4544,4484,4292,4009,3807,3921,3627,3867]
["Y59,T,TR",845618,691328,598105,567929,476027,575091,619293,503998,": ",": ",": ",": ",": ",": ",": ",405503,405000,403508,398519,389530,379525,370525,361028,351028,340032,271297,262060,253138,244518,236193,228152,203120,180863,161072,143468]
["Y6,F,EA18",1713932,1681178,1672954,1655772,1657487,1650918,1644690,1655982,1679051,1645029,1633654,1632254,1624198,1602931,1607093,1642016,1689962,1709979,1743485,1734912,1749252,": ",": ",": ",": ",": ",": ",": ",": ",": ",": ",": ",": ",": ",": "]
["Y6,F,IS",2282,2201,2150,2103,2144,2089,2048,2042,2163,2098,2082,2047,2153,2093,2172,2296,2175,2175,2304,2206,2196,1965,1913,1972,1990,2128,2098,2069,2199,2181,1995,1907,2005,2061,1958]
["Y6,F,SE",56106,55037,54185,52021,51557,50719,48980,46305,45688,44601,44633,45187,47531,50810,55297,57586,60108,61029,61836,58325,56544,53053,51441,49552,47295,45974,46150,46692,47821,47263,45801,47004,48547,51371,54498]
["Y6,M,CZ",63038,60399,56032,52775,50516,48356,47857,46829,46464,45278,45967,46000,46033,48810,54438,61623,62124,66115,65372,64296,66158,65732,66925,68180,68577,69576,71362,72823,77987,86693,89795,91277,93909,95801,97357]
["Y6,M,GE",": ",25516,": ",24374,25567,23861,23753,23625,23750,26311,": ",": ",": ",": ",": ",": ",": ",": ",": ",": ",": ",": ",": ",": ",": ",": ",": ",": ",": ",": ",": ",": ",": ",": ",": "]
["Y6,M,PT",51320,50232,51430,54082,53378,55601,56519,56404,59645,57854,56270,55823,56060,55562,55309,57283,57475,58362,56207,56343,55500,56307,57707,61095,64675,68206,72166,74032,74244,79760,78177,82266,88115,89420,87807]
["Y6,T,AD",": ",": ",790,808,808,832,865,873,871,892,814,766,649,671,647,719,748,708,669,694,659,601,628,603,586,611,693,596,627,611,": ",": ",": ",": ",": "]
["Y6,T,BG",70279,67673,66884,65285,64846,62553,61993,62128,66236,67514,61595,58022,65633,66149,78655,82647,86402,89334,97334,102485,104728,104611,108635,115720,112248,113451,119535,121783,123587,130630,131254,135862,139652,148180,135862]
["Y6,T,EU28",5509409,5380314,5313458,5224391,5185605,5133056,5106868,5129137,5220790,5167963,5173857,5202599,5233129,5215136,5309298,": ",": ",": ",": ",": ",": ",": ",": ",": ",": ",": ",": ",": ",": ",": ",": ",": ",": ",": ",": "]
["Y6,T,MT",4180,3883,3845,3860,3836,3973,3891,3951,4354,4353,4571,4916,5009,4844,4908,5164,5403,5528,5584,5567,5523,": ",": ",": ",": ",": ",": ",": ",": ",": ",": ",": ",": ",5780,5441]
["Y60,F,AM",": ",": ",": ",": ",": ",14781,13356,14043,11966,7646,": ",": ",": ",": ",": ",": ",": ",": ",": ",": ",": ",": ",": ",": ",": ",": ",": ",": ",": ",": ",": ",": ",": ",": ",": "]
["Y60,F,EFTA",80812,79449,78581,75373,77331,77258,78624,78628,79721,74618,73476,69621,66102,61379,60023,58770,57386,55690,56034,55528,55387,55022,56320,56356,57719,56792,57362,56581,58849,58596,59542,60708,60670,62179,63017]
["Y60,F,LV",14673,13656,14301,14522,14346,15757,14686,13929,12778,12144,13171,14201,15674,17406,17242,17847,18123,17999,17067,16141,15056,15970,17850,17427,19260,19320,18505,18925,19018,18839,18035,18250,17336,14753,13169]
["Y60,F,UA",": ",320914,338670,338987,339321,357751,301340,273349,269535,181682,": ",": ",": ",": ",": ",": ",": ",": ",": ",": ",": ",": ",": ",": ",": ",": ",": ",": ",": ",": ",": ",": ",": ",": ",": "]
["Y60,M,EA19",2048541,2004381,2022906,1983122,2024005,2020412,2025116,1964199,1872715,1600334,1714530,1714344,1639564,1719524,1821805,1825558,1774934,1703561,1698985,1710081,1688253,1593079,1618033,": ",": ",": ",": ",": ",": ",": ",": ",": ",": ",": ",": "]
["Y60,M,IT",365694,352061,341090,341414,359286,364017,382456,376888,379358,296202,305891,311234,312158,317126,352667,352712,346073,324165,312463,324896,320619,319916,314117,322312,337236,313376,315776,317543,312845,311436,309475,310084,301500,301210,304633]
["Y60,M,SI",14862,15270,14896,14034,14454,13165,12332,11993,10675,7933,9747,10713,10822,10475,10601,10213,9905,9973,10284,10128,10192,9978,10292,10166,10954,9702,9582,9064,8186,7866,7354,7638,7109,6902,": "]
["Y60,T,DE",1072820,1043640,1064617,1047730,1059006,1028292,951651,903118,796752,711709,952224,976976,959970,1171255,1247770,1235197,1164861,1099858,1084984,1062263,1002707,821917,829899,857774,918662,718762,730224,691136,684689,696241,658161,658023,698599,735199,735449]
["Y60,T,IE",48482,47293,47198,45485,45124,44898,44234,43461,42167,40408,37835,36583,34694,32092,31349,31724,30465,29210,29677,28799,27811,27735,27918,27519,28078,27817,27574,27252,28319,28125,": ",": ",": ",": ",": "]
["Y60,T,PT",131698,129168,132437,132671,130879,127909,130953,117732,118033,122365,115842,111960,105767,104531,107580,110688,111380,109941,114201,115018,109549,110451,113103,112034,113540,107792,109285,104520,109354,106952,105864,102670,99702,99768,102815]
["Y61,F,BG",53701,53860,52956,61259,59631,58290,56274,58473,53647,48617,49394,49498,46531,47035,45782,47328,48798,52221,52885,57907,56043,58113,53116,57105,53656,58017,56576,61306,59621,61714,55488,57690,53015,59510,44380]
["Y61,F,EU28",3242619,3243206,3196113,3241537,3234014,3242783,3193340,3035105,2617358,2736421,2698361,2593022,2649281,2813474,2804014,": ",": ",": ",": ",": ",": ",": ",": ",": ",": ",": ",": ",": ",": ",": ",": ",": ",": ",": ",": "]
["Y61,F,FI",37818,39126,37941,39562,40861,42004,42062,41325,36878,30146,28745,23425,34087,24718,29192,28140,26808,25709,26008,25229,24004,25726,26365,27932,28107,27784,26964,27387,27895,27526,28438,27380,28041,28743,21185]
["Y61,F,NL",106031,106516,103094,104135,105769,109151,115954,119437,86492,90857,86366,80111,76743,79595,77319,75778,72090,71907,71022,71114,70362,72778,71844,73455,71114,71767,69726,70598,70958,72464,73915,71976,72940,74177,62456]
["Y61,M,AT",46713,46421,44368,45904,46502,48136,49480,41626,34053,44143,43995,44317,51257,55459,53451,37252,33924,33313,32830,33205,34569,36127,36874,38624,37769,38404,36651,35531,35108,34121,34020,35001,35186,33345,27239]
["Y61,M,EL",60501,61516,62168,62186,61679,61730,62472,62489,60569,55589,51186,49237,51122,54818,57284,60969,58243,62605,64953,65111,62101,62318,65391,64567,61766,61249,58997,56299,53274,50460,44000,40706,45316,42304,41522]
["Y61,M,MD",": ",19247,18570,18010,17047,13061,11878,11117,10162,8788,": ",": ",": ",": ",": ",": ",": ",": ",": ",": ",": ",": ",": ",": ",": ",": ",": ",": ",": ",": ",": ",": ",": ",": ",": "]
["Y61,M,UK",348614,343382,341767,349082,360392,378991,407434,380258,334382,332559,325886,304502,281849,280538,289155,291179,289264,284464,279949,274377,271299,276003,282731,284348,282082,280538,283231,289690,292597,293777,296795,307129,323136,338815,293505]
["Y61,T,EE",16280,16697,16813,16218,17320,16350,15940,14860,12110,12230,12000,14700,17720,16100,17340,17520,17742,16390,15855,14814,15326,17559,17549,18338,17653,18555,18329,17222,15971,15683,15578,14746,13840,11548,10751]
["Y61,T,LI",479,462,465,450,461,473,447,444,358,434,399,383,350,341,304,253,272,233,218,249,253,202,212,196,219,196,203,225,205,229,222,248,248,220,184]
["Y61,T,RS",115641,120711,104768,116714,110263,102202,95700,82617,62477,70578,72732,77273,83468,90966,90465,94161,98650,": ",": ",": ",": ",": ",": ",": ",": ",": ",": ",": ",": ",": ",": ",": ",": ",": ",": "]
["Y62,F,DE",531306,523143,532190,513603,472852,449505,396174,356288,475121,485608,477269,584444,623230,617621,582443,549959,543642,531838,501781,412129,417669,433157,465425,459449,466039,361643,376139,392110,386444,387770,408641,432612,436273,336296,227065]
["Y62,F,HR",30352,28119,29867,30076,28196,27957,26032,20084,22160,24809,27238,26076,27818,28027,28528,": ",": ",": ",": ",": ",": ",": ",": ",": ",": ",": ",": ",": ",": ",": ",": ",": ",": ",": ",": "]
["Y62,F,RO",141891,141782,145282,150169,145250,144638,145287,137804,134507,134692,128695,129693,131233,130129,134074,135631,139481,130531,130853,127708,141671,129519,135690,128420,131622,127747,127388,126601,127045,122363,123716,119138,107235,102637,46907]
["Y62,M,BY",": ",47217,46150,49888,42323,": ",33721,24338,27041,23182,": ",": ",": ",": ",": ",": ",": ",": ",": ",": ",": ",": ",": ",": ",": ",": ",": ",": ",": ",": ",": ",": ",": ",": ",": "]
["Y62,M,FI",37479,36407,37990,39407,40261,40316,39378,35640,28567,27307,21965,32026,22836,26545,26113,24441,23436,23693,22652,21693,22780,23872,24179,23789,23962,22877,22986,22558,21504,21470,19768,20098,20256,15376,17819]
["Y62,M,NL",105751,102818,103659,105767,109595,115351,120170,86318,90574,86555,80374,76847,78824,75693,74406,70100,69793,68485,67958,66705,68444,67027,68438,65214,64843,62947,63185,62851,63329,65164,63329,63741,65037,55107,53580]
["Y62,T,AT",94930,90945,93763,95115,98643,100693,84738,70145,91179,90758,90640,105182,113456,110088,76391,69418,68756,68100,69145,71748,75040,76440,80037,78510,80242,78620,80526,83376,83957,85349,86984,87362,83332,67383,47212]
["Y62,T,AZ",": ",59636,61387,52678,49653,42335,35200,25600,22000,21200,": ",": ",": ",": ",": ",": ",": ",": ",": ",": ",": ",": ",": ",": ",": ",": ",": ",": ",": ",": ",": ",": ",": ",": ",": "]
["Y62,T,ES",516160,485116,477358,498624,523413,480070,460692,483217,459880,454023,392666,362844,449313,299528,382148,377569,403781,424612,436145,434698,438121,437022,432611,424131,420586,412209,407400,400603,398318,389973,381341,363970,348871,330457,317010]
["Y62,T,ME",7791,7099,7815,7192,6519,6288,5203,4139,4885,4978,5592,5741,5699,5680,5683,5630,": ",": ",": ",": ",": ",": ",": ",": ",": ",": ",": ",": ",": ",": ",": ",": ",": ",": ",": "]
["Y63,F,AD",": ",": ",353,349,349,353,315,322,337,304,253,309,233,203,248,254,232,229,229,249,212,266,238,203,220,204,185,196,161,203,": ",": ",": ",": ",": "]
["Y63,F,EU27",3130466,3172130,3171124,3154991,3106084,2962008,2564451,2682060,2655511,2550485,2608312,2763586,2713794,2674032,2624113,2643090,2639976,2611448,2505895,2583836,2595591,2702241,2606648,": ",": ",": ",": ",": ",": ",": ",": ",": ",": ",": ",": "]
["Y63,F,LI",218,214,214,229,207,223,166,219,179,191,170,166,143,130,134,114,111,131,129,108,94,93,110,105,120,132,111,133,115,136,128,121,86,87,73]
["Y63,F,SK",37978,36263,33439,32929,31931,27716,26194,27591,25676,25931,25843,25519,24580,23883,23444,23471,24191,23952,24457,26042,26096,26426,25970,26089,25608,26304,25638,26400,28174,27819,27891,23480,22754,10714,10873]
["Y63,M,DE_TOT",488275,492253,489992,454524,429163,378607,335787,452247,465461,457759,557465,592512,585856,551839,520124,509632,497798,469733,383711,386728,398757,425285,417820,419842,378922,356323,344609,306114,300131,323459,340330,338661,262930,175330,172300]
["Y63,M,HU",58228,60019,57583,56681,52699,46684,45693,52219,48720,49698,46506,48353,44600,44121,42934,42383,44688,45989,47177,47584,47617,51291,49988,50035,48909,50471,53248,49872,53770,52959,53890,51743,47017,26163,26604]
["Y63,M,RS",47775,53138,50228,48826,45652,37456,27688,31276,32499,34505,37339,41150,40532,41958,44358,45582,47163,": ",": ",": ",": ",": ",": ",": ",": ",": ",": ",": ",": ",": ",": ",": ",": ",": ",": "]
["Y63,T,CH",88729,91526,90285,91965,90879,91126,87829,87082,84715,81567,76675,71695,70443,69201,67255,68489,68267,67973,66263,66566,65580,66551,64767,64145,63101,64184,64132,63455,63870,63450,65166,63981,55199,53820,52689]
["Y63,T,FR",796074,832927,822766,826454,813811,779956,596232,590129,578605,546900,491681,517576,550218,546096,547326,556194,552355,575702,566230,592688,592352,605033,580459,584366,575325,": ",": ",": ",": ",": ",": ",": ",": ",": ",": "]
["Y63,T,NO",55015,56173,56572,57519,58866,61233,54893,52927,47026,43527,38133,39730,38630,37350,35871,34754,33506,33732,33993,36395,36690,37882,37536,38479,38620,41067,41097,43449,45299,45705,46493,50244,42251,44764,45167]
["Y64,F,AZ",": ",27349,26578,22456,19937,13966,11800,11000,18500,20900,": ",": ",": ",": ",": ",": ",": ",": ",": ",": ",": ",": ",": ",": ",": ",": ",": ",": ",": ",": ",": ",": ",": ",": ",": "]
["Y64,F,ES",243087,255115,267943,246288,237228,248930,238150,234967,203461,187753,233227,158184,179982,202748,210249,220796,226476,224992,226731,226039,223917,219481,217899,213664,211491,207791,207140,202311,198602,190362,184374,175925,171070,166563,167954]
["Y64,F,ME",4083,3880,3568,3216,2978,2474,2824,2854,3150,3085,3607,3558,3499,3487,3518,3457,": ",": ",": ",": ",": ",": ",": ",": ",": ",": ",": ",": ",": ",": ",": ",": ",": ",": ",": "]
["Y64,F,TR",297873,294341,257483,236976,201158,224234,209442,190790,": ",": ",": ",": ",": ",": ",": ",181011,176514,171514,167011,162514,156519,149519,143514,139508,138000,120393,104145,90090,77932,67414,58316,57557,56808,56069,55339]
["Y64,M,AD",": ",": ",389,370,370,425,413,354,306,266,351,205,236,271,296,285,258,267,248,292,260,251,253,236,200,218,189,200,178,163,": ",": ",": ",": ",": "]
["Y64,M,EEA30",2908672,2907515,2911394,2862370,2733980,2345788,2456221,2432975,2329234,2370386,2503310,2443484,2404277,2358853,2351188,2346300,2318864,2222687,2271946,2287946,2359458,2274976,2289977,": ",": ",": ",": ",": ",": ",": ",": ",": ",": ",": ",": "]
["Y64,M,LT",13858,14172,12866,11864,11431,12698,11250,13028,14575,14829,14532,14632,15023,14559,15154,15022,13698,14877,15188,14794,15717,14667,16091,15323,13111,12700,12098,12177,11569,10745,10218,8549,7020,6624,7653]
["Y64,M,SM",": ",": ",182,168,": ",": ",": ",": ",": ",": ",": ",": ",": ",": ",": ",": ",": ",": ",": ",": ",": ",": ",": ",": ",": ",": ",": ",": ",": ",": ",": ",": ",": ",": ",": "]
["Y64,T,DK",67095,66865,70480,75123,77749,75270,71723,66289,62692,56077,54756,52547,52443,50978,49604,47900,47412,45633,46178,46029,46847,46125,47937,47339,48802,49410,50818,51121,50198,53878,56055,48457,50571,49330,49701]
["Y64,T,IE",43396,42985,42680,42027,40898,39403,36731,35036,33104,30971,30594,30542,29612,28887,29392,28383,27485,27062,26780,26458,26850,26597,25933,25772,26312,26119,26793,26870,27753,27650,": ",": ",": ",": ",": "]
["Y64,T,RU",": ",1741513,": ",": ",1171534,779044,604393,560475,894313,1389043,": ",": ",": ",": ",": ",": ",": ",": ",": ",": ",": ",": ",": ",": ",": ",": ",": ",": ",": ",": ",": ",": ",": ",": ",": "]
["Y65,F,CY",4736,4648,4437,4124,3801,3583,3368,3319,3326,3295,3214,3123,3035,2949,2761,2726,2699,2692,2680,2646,2602,2548,2488,": ",": ",": ",": ",": ",": ",": ",": ",": ",": ",1930,": "]
["Y65,F,FX",": ",": ",407959,390904,296598,294225,287961,270917,245536,260249,279120,277503,278172,283734,283613,294451,289105,303511,304731,310954,298994,301502,297659,301724,303202,297555,298983,301183,311503,316069,192688,171628,152964,144269,181678]
["Y65,F,PL",256709,250105,235462,216535,157185,157255,154076,153312,164687,175434,178889,179869,183204,188902,187748,185162,184177,195160,195322,207249,194770,198389,185289,191106,201625,188116,": ",": ",": ",": ",139879,": ",": ",": ",": "]
["Y65,M,BE",61204,61680,61286,61830,51991,52091,49654,44026,40184,44921,48641,49990,48617,47534,47464,48788,49393,51637,52348,52628,49996,49700,49270,49598,50695,50403,50417,49294,50076,50869,38779,26829,27018,31350,36807]
["Y65,M,DK",32402,34386,36693,38193,37023,35030,32043,30543,27149,26477,25440,25272,24204,23674,22793,22354,21590,21512,21543,21852,21523,22441,22004,22564,22693,23403,23384,23139,24536,25642,22421,23397,22665,22966,22813]
["Y65,M,ME",3221,2772,2789,2438,1668,1999,2028,2323,2448,2874,2876,2967,2958,2948,2940,2922,": ",": ",": ",": ",": ",": ",": ",": ",": ",": ",": ",": ",": ",": ",": ",": ",": ",": ",": "]
["Y65,T,AD",": ",": ",643,635,635,722,676,588,511,631,431,433,505,544,500,481,482,503,484,499,482,472,464,422,422,391,381,395,313,325,": ",": ",": ",": ",": "]
["Y65,T,EEA30",6024859,6009412,5910999,5640133,4858903,5085064,5030248,4823044,4923720,5208227,5106689,5029883,4937412,4952470,4919140,4861422,4660360,4788206,4805063,4976318,4798603,4846859,4714901,": ",": ",": ",": ",": ",": ",": ",": ",": ",": ",": ",": "]
["Y65,T,EEA31",6078798,6059873,5960852,5686322,4894457,5124276,5073967,4871568,4969942,5257767,5156751,5080279,4989841,5005086,4971533,": ",": ",": ",": ",": ",": ",": ",": ",": ",": ",": ",": ",": ",": ",": ",": ",": ",": ",": ",": "]
["Y65,T,LU",5259,5134,4941,4654,4096,4097,4163,4119,3808,3927,4111,3953,3823,3878,3743,3839,3869,3893,4239,4287,4297,4153,4064,3888,3603,3433,3570,3262,3434,3517,2954,2447,2591,2750,3164]
["Y65,T,TR",553714,472474,436877,379461,430846,386964,353118,374727,": ",": ",": ",": ",": ",": ",": ",332022,323525,314525,305028,295028,282541,268535,257525,251010,249995,378803,360081,342314,325454,309451,294260,296635,299033,301453,303897]
["Y66,F,EA18",2030010,1969732,1882505,1615949,1731196,1722446,1648732,1731334,1874905,1822841,1784289,1742092,1756726,1745478,1724826,1628701,1661662,1681589,1742653,1680234,1697595,1665344,1697971,": ",": ",": ",": ",": ",": ",": ",": ",": ",": ",": ",": "]
["Y66,F,IS",1573,1413,1315,1359,1247,1245,1170,1042,1008,937,911,940,999,993,985,970,1002,1013,1121,1010,972,972,981,898,886,961,924,921,887,784,836,822,781,766,787]
["Y66,F,SE",61215,61651,62244,61545,60397,56974,51966,46490,44503,45220,43832,41995,41348,39554,39391,38855,40884,41190,42607,41522,43379,42468,43663,45282,46116,46909,47945,51384,54586,44910,45266,46080,45674,45804,47705]
["Y66,M,CZ",65883,68095,65964,52864,55776,54521,48319,46412,45764,40031,38724,37038,36782,37323,38338,39690,41769,42582,43698,42386,42675,41411,42676,42851,43417,45501,45282,45325,41311,33746,19858,21044,23374,32293,45080]
["Y66,M,GE",": ",16776,": ",11705,9048,6947,11702,17761,21204,19796,": ",": ",": ",": ",": ",": ",": ",": ",": ",": ",": ",": ",": ",": ",": ",": ",": ",": ",": ",": ",": ",": ",": ",": ",": "]
["Y66,M,PL",201832,188461,171471,123279,122226,119678,117092,126228,132703,135049,135149,138382,141983,141900,139769,139572,147420,149392,156228,146787,147368,134644,132419,138279,127903,130827,": ",": ",": ",": ",72724,": ",": ",": ",": "]
["Y66,T,BE",124860,123897,124940,106222,106175,101236,89632,82481,92583,100820,103312,99931,98448,98661,101415,102389,107710,109464,110635,105062,104740,103315,105265,107154,106702,106992,105282,106863,108615,82434,58147,57990,66298,80861,94693]
["Y66,T,EU27",5881093,5778466,5513585,4710779,4936740,4887113,4678826,4787174,5078317,4973111,4912985,4821550,4839318,4799652,4755928,4554544,4673445,4696194,4850984,4676237,4722329,4590677,4629634,": ",": ",": ",": ",": ",": ",": ",": ",": ",": ",": ",": "]
["Y66,T,MK",21687,19309,16005,16228,16366,16551,17750,15490,17450,16483,15764,16393,17592,17449,17741,17525,16657,15249,16475,14097,14437,14406,": ",": ",": ",": ",": ",": ",": ",": ",": ",": ",": ",": ",": "]
["Y67,F,AL",11721,9394,": ",": ",": ",": ",": ",": ",10129,9881,9413,9761,": ",": ",": ",": ",": ",": ",": ",": ",": ",": ",": ",": ",": ",": ",": ",": ",": ",": ",": ",": ",": ",": ",": "]
["Y67,F,EEA31",3065721,2927331,2507410,2636672,2609969,2504426,2556785,2712264,2667434,2632928,2591639,2610194,2588912,2558692,2464223,": ",": ",": ",": ",": ",": ",": ",": ",": ",": ",": ",": ",": ",": ",": ",": ",": ",": ",": ",": "]
["Y67,F,LU",2461,2249,2007,2036,2082,2077,1927,2008,2098,2078,1910,1972,1931,1946,1918,2002,2181,2204,2174,2136,2081,2093,2031,2011,2039,1939,1957,2052,1613,1300,1410,1434,1716,1954,1932]
["Y67,F,TR",228567,197199,219590,201794,181637,190812,167762,192052,": ",": ",": ",": ",": ",": ",": ",157508,153514,148514,143514,139011,133519,127016,124497,124005,122005,79220,71399,64349,57996,52270,47109,51010,55234,59808,64760]
["Y67,F,UA",": ",244150,164270,193284,176524,233091,310484,325441,362831,386906,": ",": ",": ",": ",": ",": ",": ",": ",": ",": ",": ",": ",": ",": ",": ",": ",": ",": ",": ",": ",": ",": ",": ",": ",": "]
["Y67,M,EA19",1793372,1711788,1461966,1565593,1565175,1497729,1566918,1685474,1626184,1589917,1546066,1542042,1529929,1499519,1415593,1429627,1445022,1485380,1424222,1429296,1371885,1344767,1320635,": ",": ",": ",": ",": ",": ",": ",": ",": ",": ",": ",": "]
["Y67,M,IT",356513,358662,274640,283460,289972,290641,294631,326690,325514,318415,296707,283727,293990,287700,285833,280018,286014,299589,277632,278807,279249,274188,272941,270694,268913,260998,258564,260645,171472,133599,144533,182035,231879,242922,248623]
["Y67,M,SI",10623,9462,7040,8596,9499,9532,9216,9227,8956,8603,8583,8809,8583,8385,8193,8359,8309,8857,7863,7753,7434,6605,6404,5922,6234,5710,5597,5288,4706,3020,2907,3119,4451,6221,": "]
["Y67,T,EFTA",146656,148807,139168,136432,128256,121879,111922,108144,105841,103064,99316,99294,98061,97659,96579,99166,98376,100383,98058,98172,97302,100376,100207,101918,103982,103513,106031,108157,92368,93630,92948,92199,92833,98941,98750]
["Y67,T,GE",": ",32710,": ",20850,16601,28526,41068,49130,45965,47774,": ",": ",": ",": ",": ",": ",": ",": ",": ",": ",": ",": ",": ",": ",": ",": ",": ",": ",": ",": ",": ",": ",": ",": ",": "]
["Y67,T,PT",112106,112585,116975,110841,107156,101047,100048,102876,105740,106303,104780,110494,109789,105355,106727,106990,105308,104482,98835,100820,96410,100987,99546,98113,95158,91292,89752,92202,78396,71220,75515,78606,80294,82776,81955]
["Y68,F,BG",54235,49261,45157,45551,45047,43459,43767,42417,42870,43731,47144,45689,52099,51195,52296,47045,51105,47307,51133,48840,52990,51720,53366,49134,52151,49157,49315,39279,25589,18914,23994,43035,48359,27531,45558]
["Y68,F,EU28",2869511,2453983,2585033,2550388,2445144,2498928,2650781,2607931,2578736,2536959,2560469,2539518,2511050,2423450,2488780,": ",": ",": ",": ",": ",": ",": ",": ",": ",": ",": ",": ",": ",": ",": ",": ",": ",": ",": ",": "]
["Y68,F,MT",3034,2876,2900,2161,1458,1605,1773,1915,1907,1968,1923,1827,1675,1779,1771,1726,1680,1532,1429,1589,1530,1587,1487,1462,1470,1487,1564,1159,1064,1024,1002,1072,": ",1178,835]
["Y68,M,AM",": ",": ",": ",": ",": ",9002,11247,10807,11528,11597,": ",": ",": ",": ",": ",": ",": ",": ",": ",": ",": ",": ",": ",": ",": ",": ",": ",": ",": ",": ",": ",": ",": ",": ",": "]
["Y68,M,EFTA",71854,67320,65754,61426,58144,52930,50808,49599,48160,46271,45934,45136,44900,44038,45264,44637,45461,44043,43651,43487,44527,44458,44978,46105,45491,46806,47973,41018,41535,41321,40965,40940,43920,43736,44038]
["Y68,M,LV",6956,6604,7116,7791,8463,9424,9188,9733,9827,9632,8983,8517,7896,8324,9130,9549,9714,9342,9892,10087,7747,7469,7037,7150,6259,6247,6280,5479,5576,4611,4900,5608,7076,7295,7804]
["Y68,M,UA",": ",94415,110139,101286,133802,182156,191873,210942,227967,247300,": ",": ",": ",": ",": ",": ",": ",": ",": ",": ",": ",": ",": ",": ",": ",": ",": ",": ",": ",": ",": ",": ",": ",": ",": "]
["Y68,T,EA19",3553383,3039479,3259149,3250414,3112841,3261724,3521070,3411289,3337675,3254553,3262912,3237318,3177546,3015295,3052035,3080640,3180143,3060722,3073756,2983887,2989560,2978791,2892185,": ",": ",": ",": ",": ",": ",": ",": ",": ",": ",": ",": "]
["Y68,T,EEA31",5475635,4669838,4919317,4849820,4641191,4725031,4999505,4901667,4837350,4749104,4769753,4729809,4668930,4499176,4600312,": ",": ",": ",": ",": ",": ",": ",": ",": ",": ",": ",": ",": ",": ",": ",": ",": ",": ",": ",": "]
["Y68,T,IT",743240,578281,593082,602786,608328,618225,686665,682441,668997,625567,601610,623182,612604,607052,599563,612809,643204,596086,598468,600732,594632,592654,588697,591774,583184,577352,580576,379893,297071,316156,399492,507636,529770,542080,544697]
["Y68,T,SI",19996,14656,18044,20264,20408,19350,19524,19216,18628,18482,19081,18609,18756,18761,19178,19051,19900,18128,18208,17767,17068,16757,16004,16339,15485,14919,13612,11914,7757,7061,7532,10604,14705,15125,": "]
["Y69,F,DE",329537,442260,456334,448452,550130,587086,582400,549297,518449,511433,498700,468745,383941,389513,403680,434184,429038,434929,423521,439864,454591,444308,444633,469040,500214,400902,307011,205802,200989,223508,295772,379867,385910,393249,376322]
["Y69,F,HR",18572,20474,23021,25132,23960,25693,25974,26434,27230,27475,27352,27680,28173,28537,28040,": ",": ",": ",": ",": ",": ",": ",": ",": ",": ",": ",": ",": ",": ",": ",": ",": ",": ",": ",": "]
["Y69,F,RO",87416,100837,90878,95037,97182,98588,100383,105291,110809,112031,115571,116309,116958,122362,113354,118703,111174,114683,110958,111004,110263,109777,105400,106101,102704,92179,88341,40344,43274,66721,77533,94948,95977,100357,92592]
["Y69,M,BY",": ",20098,16922,22456,28587,": ",32485,34245,35484,35295,": ",": ",": ",": ",": ",": ",": ",": ",": ",": ",": ",": ",": ",": ",": ",": ",": ",": ",": ",": ",": ",": ",": ",": ",": "]
["Y69,M,FI",31804,25278,24320,19484,28523,20236,23376,23023,21545,20497,20716,19684,18812,19664,20408,20481,20006,20152,19115,19012,18622,17659,17476,15940,16187,16260,12287,14267,14059,13647,14247,15066,14947,15849,15877]
["Y69,M,NL",77782,81446,77634,71848,68434,69972,66958,65675,61465,61212,59681,58743,57450,58727,57361,58192,55289,55038,53334,53493,52909,53212,54634,53155,53086,53947,45581,43940,45193,45462,44796,47227,46294,45714,42880]
["Y69,T,AT",64129,83459,83342,83383,96610,104190,101005,70001,63546,62819,61953,62651,64645,67386,68129,71027,69924,70593,69442,71371,73737,73897,75492,76631,76526,72868,58231,41015,39256,42417,53085,70459,72347,76242,73570]
["Y69,T,EL",116697,107384,98890,96499,100515,107756,113773,116319,117406,117553,117438,117386,116253,114750,120002,123824,116092,123379,109378,118532,112279,91756,77972,87102,77911,84168,75232,74002,74179,75297,83100,83504,84193,85216,87169]
["Y69,T,MD",": ",18742,19726,24101,22973,22272,22584,23999,24397,24915,": ",": ",": ",": ",": ",": ",": ",": ",": ",": ",": ",": ",": ",": ",": ",": ",": ",": ",": ",": ",": ",": ",": ",": ",": "]
["Y69,T,SI",14419,17721,19887,20095,19035,19188,18925,18284,18150,18713,18250,18341,18337,18741,18591,19438,17672,17734,17257,16663,16353,15577,15912,15061,14529,13225,11531,7542,6876,7280,10239,14244,14671,15227,": "]
["Y7,F,EA19",1703269,1692301,1673708,1676109,1666608,1661411,1675645,1703793,1669810,1658633,1657655,1651351,1631537,1635074,1667516,1721226,1741616,1790952,1766735,1782271,1767636,": ",": ",": ",": ",": ",": ",": ",": ",": ",": ",": ",": ",": ",": "]
["Y7,F,IT",278773,277886,271487,273368,270002,267634,267411,268648,263715,259180,256275,256633,254911,255374,263025,274669,266041,267293,264044,263981,256647,259488,270684,274275,288850,300211,303200,308598,321862,342222,356187,376796,399052,417894,421053]
["Y7,F,SI",10001,9485,9034,9057,8557,8792,8685,9016,8669,8787,8993,9257,9319,9698,9721,9705,10509,10895,11320,12306,12506,12247,12635,12985,13351,13744,14177,14831,14740,14358,14427,14844,14531,13865,": "]
["Y7,M,DE",361652,351653,356174,363850,363418,369941,378734,394904,398890,406942,420071,412673,398489,403117,418018,427125,443029,488356,480995,492757,478554,465372,444899,437651,436895,326498,317038,312106,292351,288887,290506,299827,297589,309068,316774]
["Y7,M,DE_TOT",361652,351653,356174,363850,363418,369941,378734,394904,398890,406942,420071,412673,398489,403117,418018,427125,443029,488356,480995,492757,478554,465372,444899,437651,436895,443581,434476,433924,409960,404602,402195,397040,388705,398392,407022]
["Y7,M,HU",50133,51892,50550,48396,48847,49597,49936,50141,48107,49117,50725,53582,56603,57699,58581,61241,63802,63633,62326,62784,63240,64225,65537,62367,63208,66509,70969,73895,82179,84839,88317,92462,96380,91944,78516]
["Y7,M,RS",34036,34949,36036,36857,37195,40266,38762,36202,35937,36662,38190,39954,42160,41496,42331,41919,43345,": ",": ",": ",": ",": ",": ",": ",": ",": ",": ",": ",": ",": ",": ",": ",": ",": ",": "]
["Y7,T,CH",80602,78984,78023,77458,75624,76195,75853,75821,78316,79265,80466,82644,81565,82625,83416,87343,87205,86695,84585,84673,81026,80611,78887,77945,75767,76495,75173,75024,72520,71428,72452,72222,73482,76774,79047]
["Y7,T,FR",832147,834823,814249,805752,798363,803482,812629,824623,790459,780981,764476,770794,759057,740143,734762,765938,777678,783478,787258,791327,790900,801069,790477,780912,767411,": ",": ",": ",": ",": ",": ",": ",": ",": ",": "]
["Y7,T,NO",62606,62493,60523,60433,59692,58171,59044,61031,60949,60063,61507,62688,61896,61330,60985,61669,62238,62052,60181,58387,55091,53715,52085,51221,50801,51980,51716,51748,52033,52152,51314,53784,56592,60033,61489]
["Y70,F,AZ",": ",9612,13450,17342,22298,22560,29500,25800,28100,23600,": ",": ",": ",": ",": ",": ",": ",": ",": ",": ",": ",": ",": ",": ",": ",": ",": ",": ",": ",": ",": ",": ",": ",": ",": "]
["Y70,F,FI",28159,26913,21845,31956,23149,27305,26242,25081,24005,24196,23453,22224,23879,24384,25782,25869,25450,24601,24929,25343,24801,25642,24577,25016,25598,18853,22492,22395,21660,22311,23524,23222,24267,23958,23903]
["Y70,F,MD",": ",11352,13640,13317,12990,13450,13993,13983,13953,13126,": ",": ",": ",": ",": ",": ",": ",": ",": ",": ",": ",": ",": ",": ",": ",": ",": ",": ",": ",": ",": ",": ",": ",": ",": "]
["Y70,F,UK",316660,310231,289728,266301,262762,271580,272732,269956,266136,262712,257853,255998,260321,266498,269892,268594,265283,266358,272016,275473,278371,283325,293603,309891,327114,283275,227506,236953,260214,281437,294671,296126,293064,291655,294337]
["Y70,M,EE",3932,3887,4743,5529,4970,5220,5240,5330,4990,4770,4300,4570,5000,5080,5260,4950,4976,5106,4333,3847,3771,3811,3500,3509,3044,2822,3293,2267,2645,3313,3833,3742,4038,3989,3824]
["Y70,M,LI",189,180,166,146,150,136,98,130,99,96,95,91,73,74,89,85,78,60,66,69,82,81,81,94,69,76,67,56,56,60,69,76,76,63,75]
["Y70,M,SK",17534,16490,16304,16276,16186,14998,14304,14024,13826,14292,14360,14477,15429,15317,15622,15343,15181,15226,15367,15204,15655,16692,16293,16660,14137,14401,6756,6994,7694,10580,15661,15379,15580,15127,15167]
["Y70,T,DE_TOT",827839,849127,844465,1031924,1096898,1085802,1023231,963729,945228,919682,862525,703388,709693,732099,782641,770179,776792,731874,729936,733953,690331,687906,729466,771059,768752,586446,386165,377754,420982,564396,730053,755635,777908,746680,772249]
["Y70,T,HU",104634,96937,99565,93111,95536,88587,88409,86533,85685,87816,88798,90786,92602,91217,97785,92881,94443,90906,94737,97428,90062,96574,98605,98199,95387,84225,47280,47633,49706,66247,96630,97084,100818,96131,98291]
["Y70,T,RS",61037,62624,65995,70729,76507,72369,75088,78363,79488,81517,85481,85586,88111,85333,87982,84542,83384,": ",": ",": ",": ",": ",": ",": ",": ",": ",": ",": ",": ",": ",": ",": ",": ",": ",": "]
["Y70,T,RU",": ",489349,": ",": ",1345012,1413505,1448730,1483011,1239117,1109180,": ",": ",": ",": ",": ",": ",": ",": ",": ",": ",": ",": ",": ",": ",": ",": ",": ",": ",": ",": ",": ",": ",": ",": ",": "]
["Y71,F,CY",3254,3262,3297,3229,3102,2983,2872,2753,2645,2631,2580,2540,2504,2467,2406,2364,2321,2281,2219,2151,2060,2004,1925,": ",": ",": ",": ",": ",": ",": ",": ",": ",": ",1907,": "]
["Y71,F,FX",": ",": ",234084,247699,265655,266725,265184,273147,274182,284231,279966,293314,291330,295777,282872,283960,279183,282859,283586,280156,280663,282554,291938,295738,179633,158245,140841,132608,166476,250871,252906,255371,242097,252829,253169]
["Y71,F,MT",2123,1428,1572,1736,1853,1842,1886,1848,1782,1646,1709,1700,1679,1634,1480,1347,1494,1474,1428,1409,1375,1370,1381,1482,1086,980,954,924,1062,969,958,799,": ",705,987]
["Y71,M,AZ",": ",9537,12373,16248,16968,18475,18900,19500,17200,16800,": ",": ",": ",": ",": ",": ",": ",": ",": ",": ",": ",": ",": ",": ",": ",": ",": ",": ",": ",": ",": ",": ",": ",": ",": "]
["Y71,M,ES",196903,171767,159559,196203,130003,149571,168127,183253,180441,179748,185757,184169,176994,177190,170131,167320,162793,159904,156753,154636,150900,146182,138641,130810,122670,114979,110395,109929,109773,110694,111252,111390,110464,109885,108450]
["Y71,M,ME",1731,1896,2009,2323,2389,2410,2216,2280,2246,2272,1991,1967,1961,1954,1949,1937,": ",": ",": ",": ",": ",": ",": ",": ",": ",": ",": ",": ",": ",": ",": ",": ",": ",": ",": "]
["Y71,T,AD",": ",": ",405,518,518,407,467,511,457,423,430,482,454,468,440,447,438,398,413,369,369,412,348,335,276,259,218,207,221,261,": ",": ",": ",": ",": "]
["Y71,T,EEA30",4574151,4372182,4466123,4725985,4624153,4558465,4463812,4465642,4424747,4358404,4194226,4261835,4277733,4407272,4239784,4259728,4132964,4168033,4166576,4065299,4052651,4085519,4099140,": ",": ",": ",": ",": ",": ",": ",": ",": ",": ",": ",": "]
["Y71,T,LT",26786,29702,29404,28926,29202,30545,30238,31328,30295,28838,30439,31521,30140,30955,29305,31774,29522,28100,27909,26799,26780,25453,23363,21932,18640,15290,14291,16308,16674,20329,20201,22224,21304,21490,21572]
["Y71,T,SM",": ",": ",278,274,": ",": ",": ",": ",": ",": ",": ",": ",": ",": ",": ",": ",": ",": ",": ",": ",": ",": ",": ",": ",": ",": ",": ",": ",": ",": ",": ",": ",": ",": ",": "]
["Y72,F,DK",28581,25564,25017,23746,23862,23330,22323,21551,21281,20414,20804,20530,20920,20584,21287,21144,21861,22305,22905,23237,22593,24476,25304,21764,22731,22409,22458,22223,23726,23825,23914,23545,23660,24139,23428]
["Y72,F,IE",15207,14038,13771,13808,13399,12807,12872,12757,12537,12437,12378,12201,12249,12199,12102,12231,12478,12549,12522,12575,12789,12575,12818,12493,11637,10981,12087,11848,12407,12300,": ",": ",": ",": ",": "]
["Y72,F,RU",": ",727882,": ",": ",887671,903541,751609,666066,543615,535616,": ",": ",": ",": ",": ",": ",": ",": ",": ",": ",": ",": ",": ",": ",": ",": ",": ",": ",": ",": ",": ",": ",": ",": ",": "]
["Y72,M,CY",2984,2963,2882,2793,2718,2617,2418,2247,2152,2110,2054,2003,1950,1910,1833,1832,1824,1819,1786,1722,1682,1626,1575,": ",": ",": ",": ",": ",": ",": ",": ",": ",": ",1529,": "]
["Y72,M,EA19",1347129,1406456,1515648,1456425,1427405,1384604,1375176,1360259,1327317,1253074,1258846,1258486,1291679,1232702,1229920,1176600,1151677,1127911,1071937,1063192,1063088,1070441,1058067,": ",": ",": ",": ",": ",": ",": ",": ",": ",": ",": ",": "]
["Y72,M,FX",": ",": ",207994,219381,217670,216477,219400,216538,222403,218304,227058,223351,225674,216048,214629,210804,211247,209812,205065,206182,206499,213509,218274,131733,114369,101008,94530,118175,174797,178745,179656,168712,175569,174018,174709]
["Y72,M,PL",96203,103119,107602,108290,108779,110853,112721,111866,109862,109314,113881,116613,119569,112691,109188,100916,99154,103587,94986,97012,94320,82997,85879,74010,54366,54357,": ",": ",": ",": ",91060,": ",": ",": ",": "]
["Y72,T,BE",81387,74600,83966,91637,93633,90664,89007,88889,91139,91640,95916,96943,97811,92269,91636,90316,91678,93192,92679,92573,90667,92333,92040,69703,49302,49059,55813,67808,79341,80644,81851,77715,80479,79662,79492]
["Y72,T,EU27",4247721,4337398,4596368,4497825,4441855,4348816,4349297,4300195,4227648,4064529,4119732,4128740,4256005,4089740,4110096,3984258,4011906,4015843,3907256,3891882,3921975,3932723,3922573,": ",": ",": ",": ",": ",": ",": ",": ",": ",": ",": ",": "]
["Y72,T,MK",14968,13126,14556,13697,13082,13616,14570,14397,14513,14354,13566,12324,13430,11555,11633,11752,11674,10336,11005,10718,10696,9122,": ",": ",": ",": ",": ",": ",": ",": ",": ",": ",": ",": ",": "]
["Y73,F,AL",9950,11165,": ",": ",": ",": ",": ",": ",7375,6779,6579,9126,": ",": ",": ",": ",": ",": ",": ",": ",": ",": ",": ",": ",": ",": ",": ",": ",": ",": ",": ",": ",": ",": ",": "]
["Y73,F,EEA31",2367496,2511861,2471196,2441482,2398936,2407382,2389045,2353943,2266178,2313107,2313272,2394843,2304395,2316015,2266455,": ",": ",": ",": ",": ",": ",": ",": ",": ",": ",": ",": ",": ",": ",": ",": ",": ",": ",": ",": "]
["Y73,F,LU",1829,1914,1987,1940,1780,1819,1785,1799,1750,1834,1960,1992,1963,1828,1904,1898,1829,1813,1854,1725,1739,1809,1431,1159,1254,1242,1520,1688,1683,1758,1671,1612,1678,1728,1673]
["Y73,F,TR",148406,171570,159792,158648,146882,135630,121673,135815,": ",": ",": ",": ",": ",": ",": ",105508,103005,101005,99005,97005,95005,93503,92005,90005,88005,38119,39813,41583,43431,45361,47376,44117,41083,38256,35625]
["Y73,M,EA18",1360629,1462774,1409112,1377227,1337273,1325366,1310837,1279334,1204562,1209002,1207673,1237241,1179854,1172930,1123761,1100198,1075637,1024713,1011454,1011965,1019022,1005848,753251,": ",": ",": ",": ",": ",": ",": ",": ",": ",": ",": ",": "]
["Y73,M,IS",889,800,842,817,830,792,790,801,804,838,871,878,820,787,783,745,750,718,714,668,752,681,615,634,585,578,571,547,559,543,545,541,540,507,478]
["Y73,M,RS",27218,29849,28930,29629,30619,30241,30960,32212,31953,32535,32121,32801,31475,30663,29536,27857,26096,": ",": ",": ",": ",": ",": ",": ",": ",": ",": ",": ",": ",": ",": ",": ",": ",": ",": "]
["Y73,T,CY",6117,5954,5753,5589,5394,5078,4764,4617,4529,4468,4365,4274,4186,4102,3980,3948,3865,3764,3622,3527,3410,3286,3261,": ",": ",": ",": ",": ",": ",": ",": ",": ",": ",2785,": "]
["Y73,T,FX",": ",": ",473400,473142,470354,479217,478001,492919,486385,509329,502269,508988,486108,485930,477344,479589,477031,469684,470479,472645,489159,496075,301202,262986,232786,218850,274117,409145,414297,417477,393416,409993,408385,409422,396488]
["Y73,T,PL",244522,257134,260223,262266,266423,271377,270122,265367,262048,275245,279125,288217,272176,266722,250153,250289,263981,243962,245349,236655,204552,207845,181196,135324,130589,141193,": ",": ",": ",": ",207141,": ",": ",": ",": "]
["Y74,F,BE",43843,48134,49054,47336,46968,47086,48346,48618,51282,51783,52756,49720,49583,48756,49825,50530,50267,50430,49469,50509,50488,38005,27329,27259,30452,37273,44277,44407,45041,42757,44240,43826,44766,45024,43229]
["Y74,F,BG",38364,36715,37297,38117,40517,39498,44219,42682,43364,39141,42665,38971,40346,40619,43813,41931,43892,39504,41998,39527,38931,31552,20097,14696,19820,33644,37960,23129,35761,31667,34611,29748,30103,29537,30918]
["Y74,F,EU28",2451323,2411188,2380681,2337370,2345471,2326252,2297687,2206753,2244904,2250951,2323044,2232140,2242541,2190662,2235900,": ",": ",": ",": ",": ",": ",": ",": ",": ",": ",": ",": ",": ",": ",": ",": ",": ",": ",": ",": "]
["Y74,F,MT",1664,1770,1772,1795,1761,1695,1559,1660,1663,1606,1534,1379,1277,1407,1377,1316,1397,1200,1267,1268,1358,993,867,846,816,957,838,990,942,987,742,823,": ",1281,638]
["Y74,M,AM",": ",": ",": ",": ",": ",7419,5064,7125,8250,7551,": ",": ",": ",": ",": ",": ",": ",": ",": ",": ",": ",": ",": ",": ",": ",": ",": ",": ",": ",": ",": ",": ",": ",": ",": "]
["Y74,M,EFTA",44652,43504,42140,40331,39895,39136,38816,37810,38702,37912,38168,36976,36537,36102,36632,36569,36540,37385,36568,37591,38309,32642,32898,32615,32146,31991,34352,34134,34298,33233,33190,33165,32641,31339,31180]
["Y74,M,LV",6741,7037,7038,6864,6358,5962,5405,5785,6204,6528,6528,6420,6566,6639,5253,4891,4549,4568,4382,4368,4116,3634,3628,3243,3624,4044,5076,5163,5431,5409,5401,5255,5468,5946,6038]
["Y74,M,UA",": ",145579,156133,167861,140884,121778,94503,82329,106914,118155,": ",": ",": ",": ",": ",": ",": ",": ",": ",": ",": ",": ",": ",": ",": ",": ",": ",": ",": ",": ",": ",": ",": ",": ",": "]
["Y74,T,EU27",4391100,4298014,4237578,4146117,4137275,4097560,4031163,3856862,3906337,3910594,4014668,3851519,3851145,3737076,3762689,3757754,3660236,3638526,3656524,3665396,3649468,2869336,2242936,": ",": ",": ",": ",": ",": ",": ",": ",": ",": ",": ",": "]
["Y74,T,IS",1695,1681,1638,1648,1652,1657,1650,1661,1713,1754,1857,1684,1632,1616,1605,1500,1474,1528,1443,1522,1423,1285,1335,1269,1223,1199,1200,1196,1181,1193,1083,1125,1098,1035,1102]
["Y74,T,SE",78185,78497,75556,72024,70071,67108,65419,64554,67167,67230,68826,67132,69744,68535,70478,72466,73602,75241,75854,81470,86111,70811,70612,71927,71286,70946,73382,73590,74162,72800,72834,73434,71406,69852,68133]
["Y75,F,CZ",41827,40330,38421,38393,38775,39755,40521,43000,43731,45228,43284,43977,43501,44713,44757,46485,47242,46972,45936,41683,33680,19612,19813,22507,30634,42540,43662,43559,43359,44469,44481,43301,42485,42778,39812]
["Y75,F,GE",": ",23382,": ",20982,19188,16426,15743,19377,14692,21096,": ",": ",": ",": ",": ",": ",": ",": ",": ",": ",": ",": ",": ",": ",": ",": ",": ",": ",": ",": ",": ",": ",": ",": ",": "]
["Y75,F,PT",52664,52609,52473,54988,54922,52063,52822,52671,51123,50988,47002,48046,45920,47708,46260,44927,43717,41712,41384,42790,35653,32267,34316,34814,34860,36680,36215,36069,36568,38194,35331,33436,33599,32512,31299]
["Y75,M,BG",23252,23892,24661,26198,26096,28904,28014,28912,26409,28606,26806,27262,27106,29300,28801,29376,25991,27929,27680,27003,23443,14617,10677,14464,25095,28021,17260,26119,24231,25787,22976,22720,23295,23489,23901]
["Y75,M,EU28",1862666,1829790,1785458,1766563,1745853,1707579,1628085,1636001,1629672,1660937,1584292,1569935,1508119,1484385,1461859,": ",": ",": ",": ",": ",": ",": ",": ",": ",": ",": ",": ",": ",": ",": ",": ",": ",": ",": ",": "]
["Y75,M,MT",1444,1433,1389,1440,1256,1154,1151,1127,1038,1023,933,927,918,1009,984,951,865,883,956,1050,739,671,574,571,645,693,715,732,707,750,568,612,": ",351,521]
["Y75,M,NL",57272,56032,52097,51481,49701,48634,47308,47800,46368,46396,44004,43595,41800,41896,40876,40871,41915,40694,40445,41008,34527,32919,34159,33909,33395,35046,34443,33937,31508,31906,32218,31666,31159,30125,30189]
["Y75,T,AT",90013,62105,56244,55394,54546,54751,56419,58393,58781,61171,59754,60048,59165,60877,62312,62012,63395,63954,63356,60132,48018,33613,32130,34577,43118,57080,58396,60447,58237,60002,58900,57695,58057,58989,57331]
["Y75,T,EL",102175,104836,105991,106294,106038,104852,103156,101781,101136,100290,98211,95290,91947,94491,97760,78815,65422,74939,65023,67631,60082,62434,58100,56157,69919,64941,65639,66285,65814,64621,62300,63615,60605,61592,59113]
["Y75,T,MD",": ",17805,17698,17433,16851,16301,15353,18220,17113,15196,": ",": ",": ",": ",": ",": ",": ",": ",": ",": ",": ",": ",": ",": ",": ",": ",": ",": ",": ",": ",": ",": ",": ",": ",": "]
["Y75,T,UA",": ",446659,468064,385951,326616,251564,221534,294503,315824,398349,": ",": ",": ",": ",": ",": ",": ",": ",": ",": ",": ",": ",": ",": ",": ",": ",": ",": ",": ",": ",": ",": ",": ",": ",": "]
["Y76,F,EA19",1592022,1554958,1559429,1547702,1521771,1444757,1465819,1468765,1524468,1459349,1466025,1427807,1448989,1449655,1424175,1412610,1426260,1437643,1425841,1062544,856256,830423,892055,": ",": ",": ",": ",": ",": ",": ",": ",": ",": ",": ",": "]
["Y76,F,IT",325618,305412,289409,298794,296559,293061,289875,295629,310442,287344,287377,286145,283641,283484,279962,282390,282035,279372,278063,180073,139552,146742,185123,233395,240161,242925,243457,228976,233131,219280,218823,200469,198249,190716,188353]
["Y76,F,SI",9051,8912,9185,8977,9186,9244,9496,9293,9625,8838,8910,8783,8826,8787,8384,8388,8027,7637,6844,5839,3764,3337,3490,4941,6860,7062,7129,6486,6888,6616,6361,6154,6219,5933,": "]
["Y76,M,DE",394993,368683,362595,349370,324896,261773,260888,266492,280555,272147,272275,246336,231082,220768,194176,190056,202039,209048,204158,156649,102914,101169,111561,147424,190593,163058,166259,158330,157915,161821,159200,160631,157174,161624,161337]
["Y76,M,HR",14443,14879,14744,14582,14568,14277,13979,13842,14226,13133,12620,11383,11048,9919,9687,": ",": ",": ",": ",": ",": ",": ",": ",": ",": ",": ",": ",": ",": ",": ",": ",": ",": ",": ",": "]
["Y76,M,RO",61607,62192,63448,59904,60739,61006,62355,59005,57378,57504,55284,55393,55403,55277,56230,51652,49547,46541,39786,39731,17996,19607,30130,35890,45593,47052,49861,48104,47392,47169,44579,46047,43284,41976,42606]
["Y76,T,BY",": ",71004,68624,63012,53792,": ",68603,59529,74550,66254,": ",": ",": ",": ",": ",": ",": ",": ",": ",": ",": ",": ",": ",": ",": ",": ",": ",": ",": ",": ",": ",": ",": ",": ",": "]
["Y76,T,FI",42862,40461,38543,38748,37066,35169,37163,38110,39044,38514,37960,35984,36028,35990,34402,34795,32604,32991,33200,24595,28999,28422,27461,28324,29821,29285,30530,30300,29838,29948,28561,28248,27061,25031,24942]
["Y76,T,NL",116871,109471,108680,105773,104550,102154,104270,101781,102719,98339,98217,94457,95268,94514,95818,97691,94975,95411,96362,81240,78503,81044,81125,79785,83785,82393,81474,76352,76850,77976,76268,74663,72766,72238,71266]
["Y77,F,AT",29831,29777,29522,29796,30611,31786,32140,33414,32883,33099,33126,35475,37557,38268,39625,39408,39211,37187,29449,19990,19399,20814,26006,34408,34867,35785,34290,35441,34481,33550,33893,34092,32315,32834,31972]
["Y77,F,DK",20632,19569,18786,18464,17701,17878,17569,17726,17497,18121,17949,18429,18879,19307,19481,19037,20538,21189,18192,19070,18688,18881,18720,20002,20030,20201,19789,19904,20299,19721,18854,18679,18238,18066,17504]
["Y77,F,EL",56448,56452,55993,55435,54624,53952,52997,51977,50991,49903,48068,49724,46289,41697,33388,41864,32404,36747,30729,34366,29718,28778,36493,33675,27687,37097,34186,33228,31802,30727,30000,31314,30377,30598,29461]
["Y77,F,MD",": ",9895,9392,8973,8348,10153,9127,10323,9679,9471,": ",": ",": ",": ",": ",": ",": ",": ",": ",": ",": ",": ",": ",": ",": ",": ",": ",": ",": ",": ",": ",": ",": ",": ",": "]
["Y77,F,UK",234921,230464,226677,221206,217440,219966,224214,225702,223288,219306,219152,222485,224580,226328,229361,237299,250929,261366,226978,183923,188731,207114,223601,233459,233076,229749,227793,228426,230250,230217,226514,222654,221604,218757,214538]
["Y77,M,EE",3684,3379,3198,2809,2970,3200,3240,3300,3090,3100,3190,2670,2340,2260,2330,2100,2026,1671,1635,1862,1248,1559,2009,2303,2239,2506,2343,2282,2297,2192,2294,2363,2132,2227,2309]
["Y77,M,LI",111,82,79,72,75,56,56,65,67,63,54,55,50,55,54,56,69,51,61,48,37,41,43,50,46,54,40,49,33,40,37,43,33,26,44]
["Y77,M,SK",9608,9453,9647,9701,9631,10153,9963,9835,9763,9482,9512,9499,9239,9398,10062,9991,9994,8655,8592,4098,4271,4688,6287,9317,9481,9428,9113,9041,9600,9394,8758,8178,8120,8158,7861]
["Y77,T,DE_TOT",803177,780463,765061,714820,578766,581029,598135,635869,622986,624560,589997,586192,587216,551956,545926,573642,602955,596523,453667,298079,289594,321521,428066,553256,566719,576130,547518,560353,569483,561760,554469,544946,533696,532884,510495]
["Y77,T,HU",66192,64786,65723,66102,67834,68832,67092,71757,67597,68451,65591,67828,69347,63877,68391,69591,68429,66593,58144,31890,32237,33211,43669,64020,63775,65701,63030,63953,63392,61092,58729,57089,53929,53868,55149]
["Y77,T,RS",57771,57958,58909,60808,60146,59712,57125,59579,56507,55253,54364,52897,49641,49512,47268,46616,44355,": ",": ",": ",": ",": ",": ",": ",": ",": ",": ",": ",": ",": ",": ",": ",": ",": ",": "]
["Y78,F,CH",29214,29140,28806,28401,28362,28052,28504,27994,27601,26945,27413,27317,27240,26921,25984,27063,26168,22451,21695,21433,21667,22271,24406,24502,24874,24563,24553,24216,24767,23482,23037,22799,22026,21166,21331]
["Y78,F,FR",249291,250420,258550,253786,265829,263890,269855,257032,259448,255338,255724,254028,249494,248475,248140,255151,255918,157948,137282,122201,115031,142745,214441,214094,216023,": ",": ",": ",": ",": ",": ",": ",": ",": ",": "]
["Y78,F,PL",142207,140534,137831,135475,141845,142857,147612,138781,136223,128756,130203,134928,124379,123990,118314,101522,100749,86801,66623,61976,67907,74991,96868,96901,104521,96582,": ",": ",": ",": ",93751,": ",": ",": ",": "]
["Y78,M,AT",21630,20833,20724,21333,21877,21740,22511,21608,21667,20649,19679,19020,18140,17925,18360,17964,16878,13461,9593,9091,9586,12073,16022,16734,17310,16659,16780,16169,15929,15855,16028,16131,16103,15653,15945]
["Y78,M,EL",41628,41275,41057,40863,40553,40566,40282,38976,37026,35010,35840,33171,29205,26580,26052,25319,24029,23183,21492,21709,19991,25592,24281,22561,27117,24320,24274,23547,23011,22476,22600,21600,21222,21195,20531]
["Y78,M,MD",": ",4629,4515,4218,5264,4910,5165,5103,5509,5614,": ",": ",": ",": ",": ",": ",": ",": ",": ",": ",": ",": ",": ",": ",": ",": ",": ",": ",": ",": ",": ",": ",": ",": ",": "]
["Y78,M,UK",185788,181356,175320,169832,169446,169768,166928,162535,157935,155910,156062,154491,152516,151696,154312,160484,165350,142084,112378,114193,124915,132662,136962,137011,134603,131455,130281,129705,127686,124598,120782,118140,115742,112876,109427]
["Y78,T,AD",": ",": ",319,302,302,408,409,367,382,392,338,342,338,313,360,290,277,242,228,204,188,210,228,201,181,171,138,149,140,132,": ",": ",": ",": ",": "]
["Y78,T,EEA30",3672087,3616576,3548145,3385150,3429125,3421059,3510668,3348736,3329195,3224228,3220328,3197339,3111287,3095033,3097347,3097076,3069365,2403413,1888837,1848909,2001408,2340893,2734758,": ",": ",": ",": ",": ",": ",": ",": ",": ",": ",": ",": "]
["Y78,T,LT",23850,22754,21499,22425,23234,22223,23002,21743,23008,21831,20354,20281,18918,18847,17407,16108,15002,12770,10442,9867,11279,11785,14401,14507,15827,14991,15020,15832,17574,17347,17001,15256,15334,14326,15139]
["Y78,T,SM",": ",": ",221,219,": ",": ",": ",": ",": ",": ",": ",": ",": ",": ",": ",": ",": ",": ",": ",": ",": ",": ",": ",": ",": ",": ",": ",": ",": ",": ",": ",": ",": ",": ",": "]
["Y79,F,DK",17516,17080,16449,16460,16128,16256,16134,16659,16434,16879,17299,17606,17725,17312,18733,19285,16538,17316,17000,17116,17009,18099,18185,18388,17914,18044,18441,17853,17016,16944,16474,16306,15784,15783,15393]
["Y79,F,IE",10739,10496,10171,9775,9799,9820,9686,9402,9396,9674,9715,9692,9551,9560,9170,9321,9179,8485,8016,8655,8649,8928,8595,8466,8502,8355,7818,7280,6907,7150,": ",": ",": ",": ",": "]
["Y79,F,RU",": ",394263,": ",": ",491816,558346,533665,580423,544185,539237,": ",": ",": ",": ",": ",": ",": ",": ",": ",": ",": ",": ",": ",": ",": ",": ",": ",": ",": ",": ",": ",": ",": ",": ",": "]
["Y79,M,AZ",": ",8727,7891,8723,7076,8546,7100,8900,5400,5900,": ",": ",": ",": ",": ",": ",": ",": ",": ",": ",": ",": ",": ",": ",": ",": ",": ",": ",": ",": ",": ",": ",": ",": ",": "]
["Y79,M,FR",174923,177886,171486,178471,174427,175985,165767,163877,159837,159165,156679,151373,151624,151077,155519,156500,96551,81619,72144,67244,83302,122112,123502,123206,113985,": ",": ",": ",": ",": ",": ",": ",": ",": ",": "]
["Y79,M,NO",10401,10346,10359,10963,10758,11057,10735,10818,10644,11143,11005,11374,11494,11343,11326,12174,10255,10533,10590,9952,9873,9923,9885,9875,9677,9351,9451,8985,8705,8607,8260,8202,8294,8258,7974]
["Y79,T,AZ",": ",21502,18901,21103,16407,21081,15200,22700,13600,14500,": ",": ",": ",": ",": ",": ",": ",": ",": ",": ",": ",": ",": ",": ",": ",": ",": ",": ",": ",": ",": ",": ",": ",": ",": "]
["Y79,T,ES",326362,325496,335156,333074,317209,320126,303043,300989,282612,283817,271265,266915,259187,258097,237213,226078,213162,202803,194956,193735,191507,191102,190237,188942,185732,182590,178185,174123,168971,164282,159443,155196,150172,146425,139063]
["Y79,T,ME",3100,3111,2952,2838,2601,2755,2461,2823,2446,2288,2274,2082,2101,2094,2061,2076,": ",": ",": ",": ",": ",": ",": ",": ",": ",": ",": ",": ",": ",": ",": ",": ",": ",": ",": "]
["Y8,F,AD",": ",": ",388,395,395,414,417,458,424,380,345,321,281,337,350,357,325,328,313,276,314,315,284,326,348,308,344,306,312,342,": ",": ",": ",": ",": "]
["Y8,F,EEA30",2621038,2571865,2547087,2520332,2503527,2525071,2572308,2549013,2549507,2564685,2580795,2577086,2612920,2673908,2754741,2812773,2876557,2896831,2910882,2897694,2917914,": ",": ",": ",": ",": ",": ",": ",": ",": ",": ",": ",": ",": ",": "]
["Y8,F,LT",13020,12947,13112,13170,13146,14195,15373,16540,16804,17464,18475,19247,19929,22369,25831,25902,26365,25732,26504,27828,28471,28667,28212,28186,26811,26209,26370,26237,25813,25826,25844,25901,26007,25937,27235]
["Y8,F,LU",3056,2883,2870,2798,2933,2895,3017,2965,2772,2912,2904,2854,2925,2755,2771,2613,2676,2566,2586,2365,2374,2139,2125,2201,2126,2152,2161,2045,1974,1981,1946,1996,1949,1959,2105]
["Y8,F,TR",609038,599730,587412,580502,589029,631173,637550,653259,": ",": ",": ",": ",": ",": ",": ",648027,631066,612536,605503,607486,612486,620470,631470,640978,647486,713641,705443,697339,689328,681409,673581,662043,650702,639555,628600]
["Y8,M,EEA31",2783022,2730141,2702910,2669773,2658008,2673837,2730588,2702591,2709420,2724442,2745775,2735751,2770043,2830915,2919334,": ",": ",": ",": ",": ",": ",": ",": ",": ",": ",": ",": ",": ",": ",": ",": ",": ",": ",": ",": "]
["Y8,M,IE",33910,32340,32581,32552,32195,31502,31029,30790,30207,29151,28213,27102,26791,26545,26798,27719,28559,28359,28438,29688,31127,31168,31864,32853,34035,35325,36673,36916,35193,34500,": ",": ",": ",": ",": "]
["Y8,M,RU",": ",749386,": ",": ",709493,656200,651963,641063,665838,650502,": ",": ",": ",": ",": ",": ",": ",": ",": ",": ",": ",": ",": ",": ",": ",": ",": ",": ",": ",": ",": ",": ",": ",": ",": "]
["Y8,T,CY",9189,8865,9054,8868,8564,8995,8991,8879,9309,9649,10132,10342,10746,10974,11606,10939,11075,10636,10917,10556,10753,10700,10933,": ",": ",": ",": ",": ",": ",": ",": ",": ",": ",8280,": "]
["Y8,T,FX",": ",": ",780627,773146,774875,784065,796172,763067,754440,737767,744231,732702,713413,708878,738650,750073,754405,759058,762976,763757,773774,762907,753958,741496,791848,798661,800101,754240,735469,742619,719793,743060,795735,851434,872401]
["Y8,T,PL",379194,365455,354320,348459,352121,365013,375510,379993,391332,407249,426972,438815,464285,483682,505662,536092,535385,551948,575667,591522,619494,660372,682834,700755,684802,654199,": ",": ",": ",": ",642375,": ",": ",": ",": "]
["Y80,F,BE",41326,41268,43537,43782,44332,41688,41329,40368,41027,41325,40923,41098,40072,40644,40282,30261,21633,21566,24103,29379,34778,34576,34784,32928,33615,33039,33320,33131,31941,31744,31552,30922,30864,31089,28485]
["Y80,F,EU27",1909517,1825523,1861100,1850856,1910215,1831233,1830522,1778960,1795403,1796918,1753003,1745995,1753724,1755474,1730294,1342968,1062541,1038539,1124241,1311878,1541240,1522851,1559463,": ",": ",": ",": ",": ",": ",": ",": ",": ",": ",": ",": "]
["Y80,F,MK",4956,4794,4503,4265,4473,3752,3717,3683,3753,3386,3442,3409,3345,2892,3144,2385,1607,1539,1462,1965,2468,2239,": ",": ",": ",": ",": ",": ",": ",": ",": ",": ",": ",": ",": "]
["Y80,M,AL",5249,4637,": ",": ",": ",": ",": ",": ",2606,2613,2093,2737,": ",": ",": ",": ",": ",": ",": ",": ",": ",": ",": ",": ",": ",": ",": ",": ",": ",": ",": ",": ",": ",": ",": "]
["Y80,M,EEA31",1339781,1267349,1274154,1259079,1276009,1210683,1191434,1136002,1105671,1076635,1023864,1007321,1001087,1000806,979963,": ",": ",": ",": ",": ",": ",": ",": ",": ",": ",": ",": ",": ",": ",": ",": ",": ",": ",": ",": "]
["Y80,M,LU",1046,1121,1053,1151,1151,1090,1053,985,853,759,698,697,593,665,620,523,500,449,532,593,697,633,666,659,601,582,542,536,500,503,508,525,483,469,446]
["Y80,M,SI",4682,4530,4549,4368,4588,4032,3861,3625,3092,3051,2734,2967,2658,2479,2361,2029,1311,1241,1303,1836,2632,2582,2723,2506,2631,2623,2488,2285,2308,2187,2130,2171,2038,2047,": "]
["Y80,T,DK",29131,27796,27301,26895,26778,26610,27327,26518,27217,27477,27873,27577,26911,28765,29655,25647,26674,25850,26183,26020,27506,27727,27982,27377,27391,27749,26660,25557,25158,24648,24369,23472,23641,22989,22204]
["Y80,T,EA18",2294965,2158909,2174610,2165646,2226896,2116075,2105569,2035344,2025043,1992392,1926913,1899977,1902493,1907017,1872140,1389712,1115293,1081477,1149734,1377000,1625071,1622809,1650151,": ",": ",": ",": ",": ",": ",": ",": ",": ",": ",": ",": "]
["Y80,T,IS",1349,1356,1395,1405,1483,1352,1341,1284,1311,1186,1136,1233,1145,1180,1082,978,987,951,913,911,900,915,850,880,783,819,838,751,816,735,835,782,714,691,726]
["Y80,T,SE",53606,52721,54609,54407,55651,53981,55907,54474,55811,57215,57632,58581,58500,62911,66087,54298,53804,54696,53790,53069,54661,54463,54788,53244,53245,53681,51325,50147,48697,46787,46151,44306,44405,43134,41915]
["Y81,F,CZ",31452,33146,33242,34211,32500,32684,32010,32337,32215,32983,33362,32662,31726,28435,22734,13358,13470,14951,20088,27841,28321,28090,27731,27882,27734,26411,25936,25772,23676,24214,23932,24292,23178,23654,21915]
["Y81,F,GE",": ",14173,": ",15684,11637,15205,12576,11664,11371,10774,": ",": ",": ",": ",": ",": ",": ",": ",": ",": ",": ",": ",": ",": ",": ",": ",": ",": ",": ",": ",": ",": ",": ",": ",": "]
["Y81,F,PT",44177,43719,42446,42424,38106,38744,36904,37955,36618,34803,33594,31557,31801,32440,24912,24165,25634,26653,27267,27627,27117,26279,25857,26444,23962,22227,22747,21902,20935,20523,20772,19171,18320,19340,16103]
["Y81,M,BG",16992,17615,15702,16812,15824,15714,15185,16496,15998,15867,15096,14664,14935,13827,11421,5812,5617,11423,12794,14307,8203,13842,13539,14293,12782,12124,12363,12396,11849,11173,11606,10762,9382,12316,8208]
["Y81,M,EU28",1179111,1180385,1167160,1177345,1115333,1095342,1047202,1015740,984202,935249,913209,904376,904740,887704,693642,": ",": ",": ",": ",": ",": ",": ",": ",": ",": ",": ",": ",": ",": ",": ",": ",": ",": ",": ",": "]
["Y81,M,MT",842,794,731,718,682,661,649,657,711,676,537,549,601,643,536,463,378,404,367,411,436,442,374,463,403,422,379,362,366,296,308,320,": ",300,197]
["Y81,T,AM",": ",": ",": ",": ",": ",11408,9952,9526,7439,8571,": ",": ",": ",": ",": ",": ",": ",": ",": ",": ",": ",": ",": ",": ",": ",": ",": ",": ",": ",": ",": ",": ",": ",": ",": "]
["Y81,T,CY",3500,3456,3210,3098,2980,2931,2849,2708,2682,2622,2499,2412,2305,2193,2209,2239,2098,2101,2075,2025,1970,1914,1835,": ",": ",": ",": ",": ",": ",": ",": ",": ",": ",1448,": "]
["Y81,T,LU",2495,2485,2601,2657,2589,2434,2395,2162,2051,2000,2005,1773,1845,1901,1516,1315,1313,1370,1613,1805,1757,1808,1774,1719,1636,1577,1497,1433,1365,1329,1292,1272,1217,1169,1126]
["Y81,T,TR",219895,189665,157683,163632,146109,136623,132834,142445,": ",": ",": ",": ",": ",": ",": ",": ",": ",": ",": ",": ",": ",": ",": ",": ",": ",38500,37864,37259,36687,36143,35628,34017,32479,31013,29614]
["Y82,F,EA18",1188067,1182942,1223704,1165921,1165805,1135310,1146305,1141409,1115632,1106050,1107415,1107384,1092070,798774,644239,620238,662640,794946,940876,932398,948468,883429,899577,": ",": ",": ",": ",": ",": ",": ",": ",": ",": ",": ",": "]
["Y82,F,IS",677,695,748,680,692,650,686,613,575,658,595,598,550,501,516,484,474,471,477,479,439,455,383,424,436,396,408,371,407,382,368,346,403,350,352]
["Y82,F,SE",28325,28518,29328,28469,29598,28954,29640,30405,30783,30970,31248,33705,35154,28920,28804,29393,28746,28690,29493,29172,29473,28301,28380,28483,27740,26785,26001,25170,24660,23637,23668,22864,22225,20533,20082]
["Y82,F,SI",7545,7218,7538,6868,6867,6733,6707,6647,6291,6231,5878,5592,4924,4181,2655,2330,2409,3382,4651,4722,4719,4254,4504,4319,4155,3905,3967,3659,3621,3434,3397,3265,4838,3077,": "]
["Y82,M,DE",178403,179748,192701,185222,183729,166039,155470,147388,128719,123911,130514,133116,128495,97383,63215,61387,67416,87605,112467,115680,117002,110362,110409,111729,109650,89641,86224,86365,84534,80276,78662,76086,72062,66847,63747]
["Y82,M,HR",8253,8043,8029,7405,7044,6395,6081,5477,5286,5154,4970,4909,4664,4509,2092,": ",": ",": ",": ",": ",": ",": ",": ",": ",": ",": ",": ",": ",": ",": ",": ",": ",": ",": ",": "]
["Y82,M,RO",39337,34455,34889,33814,34152,34062,34115,30198,26160,25971,21927,21952,21756,21034,9567,9923,15642,18129,23158,23694,25340,23930,23616,24093,21923,22841,20983,20892,20916,20873,19999,18472,20915,15369,13436]
["Y82,T,BY",": ",36998,45171,40730,45137,": ",39714,37467,35151,33924,": ",": ",": ",": ",": ",": ",": ",": ",": ",": ",": ",": ",": ",": ",": ",": ",": ",": ",": ",": ",": ",": ",": ",": ",": "]
["Y82,T,FI",28790,29355,29961,29266,28646,27350,26864,26584,25086,25159,23529,23370,23327,17125,19984,19560,18746,19176,19820,19326,19979,19570,19278,19246,18185,17782,17003,15720,15468,14218,14208,13654,12729,12446,11959]
["Y82,T,MT",1978,1882,1811,1625,1545,1645,1601,1568,1616,1356,1306,1414,1423,1232,1056,879,926,917,993,1040,972,919,1039,868,916,876,762,851,731,662,695,625,": ",440,185]
["Y83,F,AM",": ",": ",": ",": ",": ",5323,3992,4864,2372,2518,": ",": ",": ",": ",": ",": ",": ",": ",": ",": ",": ",": ",": ",": ",": ",": ",": ",": ",": ",": ",": ",": ",": ",": ",": "]
["Y83,F,EFTA",36265,36913,35824,35982,35141,36308,35883,36376,36273,35952,36834,36523,30887,30927,30747,30276,30121,31780,31535,31813,31010,30723,30277,30016,28894,28066,27529,26937,25693,25665,24934,24022,22832,22100,21041]
["Y83,F,LV",7592,7757,7366,7933,7553,7535,7332,6956,6948,6405,5565,4701,4362,4462,3410,3808,4702,5820,5454,6259,5673,5888,5627,5749,5923,5876,5615,5652,5348,5615,4984,5355,4751,4805,4270]
["Y83,F,UA",": ",145434,130443,143488,136509,137266,133052,129571,115839,107644,": ",": ",": ",": ",": ",": ",": ",": ",": ",": ",": ",": ",": ",": ",": ",": ",": ",": ",": ",": ",": ",": ",": ",": ",": "]
["Y83,M,EA19",713398,717740,676928,662948,628819,605213,582409,547337,531924,526868,524227,502174,369814,296481,290067,305817,363045,423842,422786,427481,397332,399223,386421,": ",": ",": ",": ",": ",": ",": ",": ",": ",": ",": ",": "]
["Y83,M,IT",147569,151028,136852,132176,131923,125200,121764,116636,113018,111197,108560,102978,70854,54113,57106,71622,90747,93703,95018,94650,86377,86856,79308,76074,68365,65786,62469,58641,53770,55147,50755,49326,48319,46260,": "]
["Y83,M,SI",3387,3551,3048,2965,2765,2345,2333,2074,2199,1939,1789,1695,1461,939,872,902,1259,1866,1799,1872,1695,1771,1779,1632,1474,1496,1433,1387,1382,1221,1302,2239,1293,1089,": "]
["Y83,T,DE",428716,452450,448382,448064,422592,418992,418497,393333,385189,400714,418011,408189,309447,201446,193387,214383,281564,362638,366991,369232,346665,350219,350600,341221,334677,262251,250073,246038,230497,228797,220121,207957,196565,192064,177984]
["Y83,T,HR",21782,21765,19823,19087,17497,17876,16973,16666,16234,15691,15837,14657,13288,6285,5960,": ",": ",": ",": ",": ",": ",": ",": ",": ",": ",": ",": ",": ",": ",": ",": ",": ",": ",": ",": "]
["Y83,T,HU",42761,44669,42123,41975,40637,41919,42314,38401,41311,41830,40902,39570,34306,18766,18674,18960,24643,35605,34862,36063,33347,33355,32540,31475,29537,28533,27673,27295,27437,27621,26825,27213,26335,25670,24930]
["Y83,T,RS",32397,33360,30885,29566,28210,28815,26016,26248,24541,23933,22970,22064,16828,8286,8664,8538,10560,": ",": ",": ",": ",": ",": ",": ",": ",": ",": ",": ",": ",": ",": ",": ",": ",": ",": "]
["Y84,F,EE",4645,4650,4711,4359,4220,3980,3830,3840,3460,3230,2510,2360,2510,1930,2140,2590,3002,2920,3021,2998,3200,2908,2904,2833,2943,2819,2794,2824,2832,2649,2835,2512,2585,2168,2304]
["Y84,F,FI",16986,16777,16323,15635,15443,15670,14786,15185,14298,14281,14129,10183,12014,11899,11284,11422,11834,11557,11833,11515,11324,11219,10639,10284,9925,9191,9082,8233,8148,7966,7360,7151,6920,6169,5842]
["Y84,F,NL",41433,39665,39417,37862,38213,37936,38444,38758,37325,37394,37594,31700,30411,31392,31363,31037,32626,31943,31424,29503,29852,30126,29426,28658,27766,27134,26600,25463,24856,24022,22353,21735,20791,20482,19762]
["Y84,M,AT",14763,14015,13842,13031,12442,11832,11018,10833,10906,10670,9949,7818,5453,5132,5291,6507,8608,8981,9149,8565,8506,8145,7939,7617,7526,7512,7367,7092,7035,6649,6292,5962,5732,5412,5333]
["Y84,M,EL",26888,25815,24056,22058,22707,20369,18013,16292,15751,15574,15487,14162,11962,12495,10205,14902,13960,11873,16666,13150,14358,14383,14158,12245,11942,12035,11499,11092,10687,10287,9700,8802,9105,8293,8011]
["Y84,M,MD",": ",2294,2654,1942,1614,1937,1952,2025,2123,1373,": ",": ",": ",": ",": ",": ",": ",": ",": ",": ",": ",": ",": ",": ",": ",": ",": ",": ",": ",": ",": ",": ",": ",": ",": "]
["Y84,M,UK",110845,106490,101796,99248,97966,95218,92493,90717,90916,92906,93182,81786,65512,62812,67034,70370,72213,71506,69608,67339,66083,65219,63618,61129,58457,56914,55328,53309,50938,48448,46220,42646,39524,38286,37443]
["Y84,T,EE",6345,6196,6218,5869,5470,5130,4910,4890,4470,4120,3250,3060,3310,2490,2780,3420,3924,3804,3999,3953,4069,3873,3791,3752,3872,3653,3701,3728,3723,3389,3623,3235,3260,2786,2959]
["Y84,T,LI",98,117,111,103,117,91,110,88,108,107,97,74,73,55,63,79,84,72,73,65,94,65,63,49,65,50,57,53,45,47,40,36,37,35,35]
["Y84,T,SK",16047,15346,14865,14667,14375,13940,14117,14701,14614,14182,11909,11542,5338,5506,6062,8257,12013,11734,11667,10665,10909,11446,10705,9764,9841,9517,9674,9160,8979,8719,9224,8315,7693,7533,7200]
["Y85,F,DK",11146,11388,11234,11489,11618,11819,11918,11419,12405,12689,10846,11176,10935,11111,10993,11586,11608,11564,11264,11412,11473,11198,10698,10702,10312,10152,9852,9733,9490,8878,8744,8506,8153,8196,7688]
["Y85,F,IS",569,562,535,565,506,469,533,481,508,430,408,419,396,381,359,364,386,351,362,295,320,343,335,322,304,322,304,288,280,312,268,272,261,271,268]
["Y85,F,SE",23634,24518,23950,24540,25033,25185,25385,25301,27394,28568,23384,23126,23437,22981,22862,23362,23242,23359,22404,22127,22306,21574,20777,20250,19369,18958,18147,18161,17261,16821,15502,15031,14262,13800,13554]
["Y85,M,CZ",11573,11021,10496,10250,10072,9626,9727,9120,8775,7853,6194,3580,3737,4109,5395,7517,7462,7464,7050,6917,6984,6370,5913,5983,5320,5314,5067,5142,4549,5008,4304,4100,3977,3868,3911]
["Y85,M,DE",135621,133144,124044,115627,108725,94959,90860,95279,96360,92140,": ",44851,43266,47374,60734,77476,78683,79039,73763,73532,73406,71646,71494,68131,68533,54699,51578,50450,47713,44907,41078,39206,35643,34554,32748]
["Y85,M,HU",10089,9499,9095,9140,": ",": ",": ",": ",": ",8915,7941,4314,4427,4575,5701,8088,8136,8363,7807,7537,7424,7128,6605,6403,5965,5959,6220,6222,6212,6095,6025,5729,5549,5256,5314]
["Y85,M,RS",8688,8422,7693,7250,6615,6991,6492,6194,6310,5621,5183,2151,2356,2349,2617,4861,3902,": ",": ",": ",": ",": ",": ",": ",": ",": ",": ",": ",": ",": ",": ",": ",": ",": ",": "]
["Y85,T,CY",2174,2132,2130,1859,2077,2009,1938,1895,1843,1633,1648,1665,1693,1496,1417,1416,": ",": ",": ",": ",": ",": ",": ",": ",": ",": ",": ",": ",": ",": ",": ",": ",": ",": ",": "]
["Y85,T,FX",": ",": ",287170,286665,284915,275494,273309,272463,277741,277496,164608,141230,125228,115991,142204,215702,213694,213482,197174,202178,195680,192353,182241,179597,173937,169170,165025,164248,160040,146882,141801,134087,130809,128516,117660]
["Y85,T,PT",45559,45663,43603,44533,": ",": ",": ",": ",": ",": ",": ",": ",": ",": ",": ",": ",": ",": ",": ",": ",": ",": ",": ",": ",": ",": ",": ",": ",": ",": ",": ",": ",": ",": ",11823]
["Y86,F,BY",": ",18357,18554,18018,": ",": ",": ",": ",": ",": ",": ",": ",": ",": ",": ",": ",": ",": ",": ",": ",": ",": ",": ",": ",": ",": ",": ",": ",": ",": ",": ",": ",": ",": ",": "]
["Y86,F,FI",14089,13409,13226,13403,12560,12867,12029,12096,11946,8551,9951,9794,9203,9335,9654,9360,9555,9280,8991,8906,8337,8021,7813,7153,7057,6426,6325,6244,5712,5517,5386,4838,4511,4181,3863]
["Y86,F,NO",10060,9830,10393,10207,10729,10863,11197,11284,11876,9626,10124,10207,9642,9408,9224,9137,9160,8860,8618,8598,8144,8035,7768,7600,7512,7357,7148,7081,6819,6457,6363,6027,5828,5540,5237]
["Y86,M,BE",15105,14557,14155,14108,13692,13092,12692,12442,11807,8757,5895,5620,6528,7704,8826,8691,8591,7863,7954,7565,7345,7369,7127,6818,6797,6670,6494,6427,6420,6154,5846,5773,5713,5224,5475]
["Y86,M,EE",1156,1148,974,885,810,790,720,650,540,490,590,410,450,630,700,640,": ",": ",": ",": ",": ",": ",": ",": ",": ",": ",615,": ",": ",": ",": ",": ",": ",": ",": "]
["Y86,M,MK",1073,994,1038,935,959,887,880,771,881,719,516,435,470,549,813,735,864,589,865,647,702,606,": ",": ",": ",": ",": ",": ",": ",": ",": ",": ",": ",": ",": "]
["Y86,T,AL",": ",": ",": ",": ",": ",": ",": ",": ",": ",1806,2426,1815,": ",": ",": ",": ",": ",": ",": ",": ",": ",": ",": ",": ",": ",": ",": ",": ",": ",": ",": ",": ",": ",": ",": "]
["Y86,T,EFTA",46218,44612,": ",": ",": ",": ",": ",": ",": ",": ",": ",": ",": ",": ",": ",": ",": ",": ",": ",": ",": ",": ",": ",": ",": ",": ",": ",": ",": ",": ",": ",": ",": ",": ",": "]
["Y86,T,MD",": ",": ",4422,4924,4785,4579,5104,4290,4191,": ",": ",": ",": ",": ",": ",": ",": ",": ",": ",": ",": ",": ",": ",": ",": ",": ",": ",": ",": ",": ",": ",": ",": ",": ",": "]
["Y86,T,UK",215290,210681,209024,206564,203782,202522,205380,212332,213366,188536,153013,147426,159312,169376,": ",": ",": ",": ",": ",": ",": ",": ",": ",": ",": ",": ",": ",": ",": ",": ",": ",": ",": ",": ",": "]
["Y87,F,AD",": ",": ",91,114,114,132,101,113,84,70,78,61,75,77,62,73,50,49,58,54,42,27,44,36,21,27,49,14,11,8,": ",": ",": ",": ",": "]
["Y87,F,EEA31",1108202,1110303,": ",": ",": ",": ",": ",": ",": ",": ",": ",": ",": ",": ",": ",": ",": ",": ",": ",": ",": ",": ",": ",": ",": ",": ",": ",": ",": ",": ",": ",": ",": ",": ",": "]
["Y87,F,LV",4875,4722,4591,4351,4268,3821,3299,2735,2534,2645,1950,2140,2576,3312,3128,3409,3167,3366,3077,3116,3160,3212,3228,3226,3102,3319,2792,3008,2535,2720,2289,2418,2377,2268,2260]
["Y87,F,UA",": ",78629,75595,72345,62926,58508,54218,46715,43004,46908,": ",": ",": ",": ",": ",": ",": ",": ",": ",": ",": ",": ",": ",": ",": ",": ",": ",": ",": ",": ",": ",": ",": ",": ",": "]
["Y87,M,EE",967,836,786,692,670,600,560,450,420,480,350,370,540,590,530,590,": ",": ",": ",": ",": ",": ",": ",": ",": ",": ",411,": ",": ",": ",": ",": ",": ",": ",": "]
["Y87,M,LT",2337,1917,1854,1701,1756,1576,1523,1381,1194,897,942,1098,1109,1302,1262,1407,1335,1322,1407,2565,2583,2078,1677,1750,1623,1590,1413,1545,1021,1288,1202,1234,1251,1437,1327]
["Y87,M,UA",": ",24054,21894,19316,16514,14522,14650,13210,11401,12354,": ",": ",": ",": ",": ",": ",": ",": ",": ",": ",": ",": ",": ",": ",": ",": ",": ",": ",": ",": ",": ",": ",": ",": ",": "]
["Y87,T,DK",14724,15038,14804,14925,14520,13954,14981,15026,13089,13386,12889,13062,12737,13474,13474,13511,13074,13057,12975,12511,11979,11847,11560,11382,11178,11124,10715,10108,9801,9663,9327,9383,8921,8584,8342]
["Y87,T,IS",770,759,723,659,718,665,665,620,545,561,505,504,479,466,495,450,457,383,420,428,406,402,393,430,395,371,354,394,344,345,344,353,322,312,319]
["Y87,T,SE",31865,32394,32799,32788,33288,32502,34942,36118,29729,28865,29075,28297,27546,28463,28025,27933,27123,26743,26590,25576,24584,23655,22579,22165,20932,20947,19875,19284,17724,17427,16648,16355,15585,14777,14697]
["Y88,F,DE",173592,176398,171888,168588,173335,181709,176788,134152,86939,82692,": ",118662,153781,153910,152728,141650,142433,138903,133366,129113,122911,112886,110427,103165,102346,80345,75331,69804,68358,61246,60718,55857,53392,50332,46887]
["Y88,F,HU",15767,15775,14023,14886,": ",": ",": ",": ",": ",6504,6544,8432,12056,11574,11768,10547,10801,10312,9691,9100,8749,8126,7787,7847,7875,7323,7982,7286,7165,6873,6658,6335,6243,5962,5406]
["Y88,F,RS",8110,7426,7266,6672,6138,6591,6430,6491,2168,2218,2188,2478,4439,3637,4989,4082,5037,": ",": ",": ",": ",": ",": ",": ",": ",": ",": ",": ",": ",": ",": ",": ",": ",": ",": "]
["Y88,M,CY",496,542,452,531,453,433,420,411,398,352,356,364,378,429,360,359,": ",": ",": ",": ",": ",": ",": ",": ",": ",": ",": ",": ",": ",": ",": ",": ",": ",": ",": "]
["Y88,M,FX",": ",": ",65080,64011,62941,63371,63151,36736,30866,26846,25139,29682,44751,44765,43697,39847,40428,38419,37465,34941,34280,33115,31401,30169,29929,28454,25530,23670,21868,20717,19760,17145,17158,17330,15816]
["Y88,M,PT",9818,9376,9125,8353,": ",": ",": ",": ",": ",": ",": ",": ",": ",": ",": ",": ",": ",": ",": ",": ",": ",": ",": ",": ",": ",": ",": ",": ",": ",": ",": ",": ",": ",": ",1940]
["Y88,M,RO",12700,12309,11792,10738,10607,10616,10562,9457,8063,8145,7525,7635,7804,8101,8192,7263,7351,7092,6740,7060,6510,6310,6196,6225,5544,4936,5914,": ",": ",": ",": ",": ",": ",": ",": "]
["Y88,T,CH",22974,22494,21912,21432,20733,21420,20426,17179,16318,16122,16068,16023,17741,17459,16978,16177,16347,15577,15857,14798,14396,13754,13365,12586,12547,12023,11380,10605,9898,9228,8986,8369,7873,7606,7092]
["Y88,T,MD",": ",": ",3527,3198,3656,2786,2822,2096,2237,": ",": ",": ",": ",": ",": ",": ",": ",": ",": ",": ",": ",": ",": ",": ",": ",": ",": ",": ",": ",": ",": ",": ",": ",": ",": "]
["Y88,T,NO",13047,12811,13118,13198,13353,13132,13855,11310,11782,11614,10767,10412,10284,10200,10100,9811,9447,9438,8865,8574,8411,8090,8114,8104,7791,7751,7307,7089,7154,6691,6554,6329,5907,5807,5422]
["Y89,F,BE",20015,19586,19339,18677,18464,18106,13322,9394,9087,10127,12183,14356,14275,14021,13369,13453,12994,13128,12751,12039,11782,11600,10877,10609,10557,9643,9271,8601,8870,8476,7736,7100,6789,6330,5873]
["Y89,F,EU27",859350,828576,": ",": ",": ",": ",": ",": ",": ",": ",": ",": ",": ",": ",": ",": ",": ",": ",": ",": ",": ",": ",": ",": ",": ",": ",": ",": ",": ",": ",": ",": ",": ",": ",": "]
["Y89,F,MT",479,516,412,395,412,391,329,278,259,268,234,231,290,212,256,249,232,": ",230,": ",225,": ",": ",": ",": ",": ",": ",": ",": ",": ",": ",": ",": ",42,30]
["Y89,M,AT",6100,5600,5472,5344,5146,4860,3743,2588,2415,2426,2941,3863,3988,4071,3600,3533,3395,3242,3104,2949,2816,2741,2646,2589,2419,2334,2023,2011,1833,1780,1684,1552,1583,1586,1577]
["Y89,M,EL",11131,9617,8541,8021,7932,7615,6906,5978,6159,6164,6647,7507,7125,7593,6011,7220,7714,7575,5825,5860,6117,5221,4737,4363,4272,4508,4055,3851,3726,3568,3287,3258,3169,3099,3004]
["Y89,M,ME",212,159,166,169,112,187,92,60,67,67,73,110,115,114,109,113,": ",": ",": ",": ",": ",": ",": ",": ",": ",": ",": ",": ",": ",": ",": ",": ",": ",": ",": "]
["Y89,T,AD",": ",": ",141,172,172,148,137,122,107,80,123,116,108,100,91,79,90,78,69,53,56,47,34,42,81,22,13,16,12,17,": ",": ",": ",": ",": "]
["Y89,T,EEA31",1255137,1199807,": ",": ",": ",": ",": ",": ",": ",": ",": ",": ",": ",": ",": ",": ",": ",": ",": ",": ",": ",": ",": ",": ",": ",": ",": ",": ",": ",": ",": ",": ",": ",": ",": "]
["Y89,T,LV",3997,3867,3779,3310,2957,2434,2205,2330,1760,1886,2181,2833,2746,2971,2910,2856,2718,2693,2801,2710,2846,2816,2605,2723,2522,2695,2144,2302,1901,2004,2056,2029,1931,2096,1908]
["Y89,T,UA",": ",63554,53570,48919,46644,41903,35411,39087,25406,28384,": ",": ",": ",": ",": ",": ",": ",": ",": ",": ",": ",": ",": ",": ",": ",": ",": ",": ",": ",": ",": ",": ",": ",": ",": "]
["Y9,F,AT",40077,40185,39421,40438,38868,40409,40262,41748,43241,45050,44714,45945,47096,47071,47684,46491,46160,45500,45134,45240,44875,45929,45620,47189,46374,44430,41187,40772,41072,41786,44325,45751,46131,50090,52389]
["Y9,F,IS",2133,2146,2084,2017,2051,2183,2172,2121,2064,2156,2096,2188,2321,2217,2184,2343,2194,2171,1936,1890,1973,1994,2130,2098,2073,2210,2192,2001,1906,2003,2065,1980,2125,2205,1956]
["Y9,F,IT",275852,279235,271882,268725,269968,272298,267618,263445,260198,260238,257749,258427,264109,274149,272245,272949,268147,267637,258519,261528,272202,275853,282519,293124,305504,309331,321386,343022,357207,377237,400189,419503,422107,426934,434141]
["Y9,F,SI",9048,9082,8584,8824,8736,9074,8698,8818,9037,9287,9361,9718,9751,9743,10547,10884,11274,12234,12561,12346,12637,12970,13302,13729,14257,14834,14722,14639,14659,14843,14556,13878,14134,13961,": "]
["Y9,M,DE",359878,365864,365905,371262,379376,394905,397982,406162,419518,412696,399460,404824,420420,428898,444820,489939,481852,496526,485149,472293,452148,447726,447223,454310,446826,325406,297697,290828,292324,297476,292657,306153,317322,354530,397136]
["Y9,M,HR",21614,20802,20430,20677,21168,22511,23154,24271,25470,26008,24752,24141,24644,23628,25619,": ",": ",": ",": ",": ",": ",": ",": ",": ",": ",": ",": ",": ",": ",": ",": ",": ",": ",": ",": "]
["Y9,M,RO",110616,107678,107974,106596,106629,107567,108069,112199,117656,118375,122155,123171,123822,128397,131371,144107,178622,177279,182605,181215,173081,167601,153043,165950,185049,193815,200368,202391,206173,203918,202874,205530,186009,190240,192651]
["Y9,T,BY",": ",87106,86815,87820,89152,": ",91717,91671,88225,93331,": ",": ",": ",": ",": ",": ",": ",": ",": ",": ",": ",": ",": ",": ",": ",": ",": ",": ",": ",": ",": ",": ",": ",": ",": "]
["Y9,T,FI",59514,59469,58158,56971,57199,57736,58398,57588,59834,61182,63536,65486,65217,67106,65947,66394,64326,64302,60820,61724,63698,66011,67626,66973,64287,63748,63965,64322,65568,66382,65002,61932,56259,58386,60599]
["Y9,T,NL",188291,193821,200397,201248,202962,206504,201473,200093,194425,193386,194244,199970,199583,201225,203240,202838,194033,191403,191678,189551,183723,179560,174389,175563,180973,183606,177605,178279,175944,179189,181265,190696,200272,219240,231938]
["Y90,F,AZ",": ",1580,1353,897,2040,1320,2000,900,1100,1600,": ",": ",": ",": ",": ",": ",": ",": ",": ",": ",": ",": ",": ",": ",": ",": ",": ",": ",": ",": ",": ",": ",": ",": ",": "]
["Y90,F,EFTA",18858,18411,": ",": ",": ",": ",": ",": ",": ",": ",": ",": ",": ",": ",": ",": ",": ",": ",": ",": ",": ",": ",": ",": ",": ",": ",": ",": ",": ",": ",": ",": ",": ",": ",": "]
["Y90,F,ME",274,194,270,218,263,87,110,87,69,136,189,197,206,206,194,204,": ",": ",": ",": ",": ",": ",": ",": ",": ",": ",": ",": ",": ",": ",": ",": ",": ",": ",": "]
["Y90,M,AL",": ",": ",": ",": ",": ",": ",": ",": ",": ",331,333,335,": ",": ",": ",": ",": ",": ",": ",": ",": ",": ",": ",": ",": ",": ",": ",": ",": ",": ",": ",": ",": ",": ",": "]
["Y90,M,EFTA",8312,8156,": ",": ",": ",": ",": ",": ",": ",": ",": ",": ",": ",": ",": ",": ",": ",": ",": ",": ",": ",": ",": ",": ",": ",": ",": ",": ",": ",": ",": ",": ",": ",": ",": "]
["Y90,M,MD",": ",": ",794,467,533,372,369,242,282,": ",": ",": ",": ",": ",": ",": ",": ",": ",": ",": ",": ",": ",": ",": ",": ",": ",": ",": ",": ",": ",": ",": ",": ",": ",": "]
["Y90,T,AD",": ",": ",148,111,111,128,110,100,78,106,108,92,92,88,76,79,71,67,50,49,44,30,37,77,23,12,15,12,18,15,": ",": ",": ",": ",": "]
["Y90,T,EEA31",1035427,1011400,": ",": ",": ",": ",": ",": ",": ",": ",": ",": ",": ",": ",": ",": ",": ",": ",": ",": ",": ",": ",": ",": ",": ",": ",": ",": ",": ",": ",": ",": ",": ",": ",": "]
["Y90,T,EFTA",27170,26567,": ",": ",": ",": ",": ",": ",": ",": ",": ",": ",": ",": ",": ",": ",": ",": ",": ",": ",": ",": ",": ",": ",": ",": ",": ",": ",": ",": ",": ",": ",": ",": ",": "]
["Y90,T,MD",": ",": ",2609,1690,1733,1217,1403,792,954,": ",": ",": ",": ",": ",": ",": ",": ",": ",": ",": ",": ",": ",": ",": ",": ",": ",": ",": ",": ",": ",": ",": ",": ",": ",": "]
["Y91,F,AD",": ",": ",57,76,76,50,58,40,52,54,46,56,35,36,40,38,27,21,34,23,15,15,82,14,7,6,5,10,10,7,": ",": ",": ",": ",": "]
["Y91,F,EEA31",616051,605948,": ",": ",": ",": ",": ",": ",": ",": ",": ",": ",": ",": ",": ",": ",": ",": ",": ",": ",": ",": ",": ",": ",": ",": ",": ",": ",": ",": ",": ",": ",": ",": ",": "]
["Y91,F,LV",2114,1869,1646,1297,1140,1241,889,958,1168,1460,1377,1543,1426,1434,1356,1425,1359,1286,1464,1305,1118,1339,1067,1358,1054,1238,987,1015,1015,952,929,1039,956,1155,977]
["Y91,M,BG",2200,2155,2028,1818,1692,1044,699,813,1516,1865,893,1455,1444,1471,": ",1411,1364,886,992,1109,1272,1124,1210,1072,852,1045,900,851,816,848,730,1166,819,1070,757]
["Y91,M,EE",329,278,229,191,180,190,140,150,200,250,210,210,220,200,220,180,": ",": ",": ",": ",": ",": ",": ",": ",": ",": ",114,": ",": ",": ",": ",": ",": ",": ",": "]
["Y91,M,LT",783,677,646,590,483,386,408,462,494,571,547,557,533,632,577,1128,1153,846,663,731,666,681,581,620,520,540,529,586,578,668,572,533,484,652,411]
["Y91,M,SM",": ",": ",20,15,": ",": ",": ",": ",": ",": ",": ",": ",": ",": ",": ",": ",": ",": ",": ",": ",": ",": ",": ",": ",": ",": ",": ",": ",": ",": ",": ",": ",": ",": ",": "]
["Y91,T,EA19",620009,605369,": ",": ",": ",": ",": ",": ",": ",": ",": ",": ",": ",": ",": ",": ",": ",": ",": ",": ",": ",": ",": ",": ",": ",": ",": ",": ",": ",": ",": ",": ",": ",": ",": "]
["Y91,T,LI",43,44,39,43,31,31,23,25,27,36,28,35,23,21,21,15,18,20,8,18,27,19,21,12,16,10,8,8,10,7,12,8,9,8,5]
["Y91,T,SK",4475,4310,4075,3324,3254,1555,1613,1680,2240,3143,2986,3071,2751,2754,2807,2825,2511,2390,2300,2305,2254,2140,2001,1912,2011,1883,1733,1643,1580,1450,1352,1111,1127,1072,1069]
["Y92,F,EA18",370986,364864,": ",": ",": ",": ",": ",": ",": ",": ",": ",": ",": ",": ",": ",": ",": ",": ",": ",": ",": ",": ",": ",": ",": ",": ",": ",": ",": ",": ",": ",": ",": ",": ",": "]
["Y92,F,IT",79532,77766,74839,48525,36183,37475,46244,55380,54752,54179,55616,51422,51304,46365,43448,38372,36635,32691,31040,27719,28002,25752,24465,22829,": ",": ",": ",": ",": ",": ",": ",": ",": ",": ",": "]
["Y92,F,SI",1677,1537,1315,1166,732,592,608,806,1131,1088,1106,954,903,913,827,739,753,625,601,579,543,491,488,502,436,425,396,393,361,291,293,256,278,282,": "]
["Y92,M,DK",1756,1789,1780,1503,1488,1364,1434,1362,1441,1379,1397,1325,1292,1235,1168,1123,1034,1014,1027,1013,1058,1019,1012,930,977,959,963,948,950,883,793,867,785,752,762]
["Y92,M,EA18",131017,127678,": ",": ",": ",": ",": ",": ",": ",": ",": ",": ",": ",": ",": ",": ",": ",": ",": ",": ",": ",": ",": ",": ",": ",": ",": ",": ",": ",": ",": ",": ",": ",": ",": "]
["Y92,M,IT",28613,27745,26780,17262,12521,13079,16174,20325,20581,20674,20354,18447,18668,16104,15007,12931,12400,12182,10647,9718,9632,8971,8710,7835,": ",": ",": ",": ",": ",": ",": ",": ",": ",": ",": "]
["Y92,M,SE",4450,4563,4667,3828,3625,3559,3405,3165,3309,3243,3067,2982,2864,2840,2653,2590,2439,2329,2232,2137,2072,1934,1867,1767,1729,1627,1675,1524,1472,1486,1402,1404,1342,1282,1244]
["Y92,T,DE_TOT",114101,116758,109584,82466,53592,52113,58151,73364,94894,93741,": ",85219,84761,80871,75538,75205,72874,66754,65121,59937,58601,54658,51649,45454,43038,40979,39633,35794,33810,31373,30069,28658,27938,26684,24751]
["Y92,T,IE",3538,3222,3293,3194,2784,2435,2324,2362,2374,2327,2261,2181,1962,1748,1445,1304,1409,1444,1464,1486,1505,1409,1368,1226,1064,816,949,947,951,1139,": ",": ",": ",": ",": "]
["Y92,T,RU",": ",54986,": ",": ",47157,36891,38502,45557,56891,51694,": ",": ",": ",": ",": ",": ",": ",": ",": ",": ",": ",": ",": ",": ",": ",": ",": ",": ",": ",": ",": ",": ",": ",": ",": "]
["Y93,F,DE",73452,70907,49677,32602,31609,35067,44445,57756,58053,57235,": ",52519,50042,47147,46833,44760,40679,39647,36362,35652,32990,31431,27429,26103,24619,20447,18606,17389,15308,14296,13249,12743,12240,10919,10031]
["Y93,F,HU",5317,4886,": ",": ",": ",": ",": ",": ",": ",": ",": ",": ",": ",": ",": ",": ",": ",": ",": ",": ",": ",": ",": ",": ",": ",": ",": ",": ",": ",": ",1299,": ",": ",": ",": "]
["Y93,F,RS",1834,1597,1339,534,534,392,272,1607,755,1581,1028,1324,1024,963,912,936,954,": ",": ",": ",": ",": ",": ",": ",": ",": ",": ",": ",": ",": ",": ",": ",": ",": ",": "]
["Y93,M,CZ",1453,1224,1022,551,545,582,733,997,1041,966,881,844,911,801,690,794,696,657,621,596,495,444,414,362,353,389,317,294,312,307,288,282,267,289,290]
["Y93,M,HR",497,467,": ",": ",": ",": ",": ",": ",": ",": ",": ",": ",": ",": ",": ",": ",": ",": ",": ",": ",": ",": ",": ",": ",": ",": ",": ",": ",": ",": ",": ",": ",": ",": ",": "]
["Y93,M,RO",3334,2080,2449,926,817,945,928,1217,1432,1477,1613,1637,1613,1642,1683,1465,1490,1339,1443,1388,1308,1125,968,880,849,884,909,": ",": ",": ",": ",": ",": ",": ",": "]
["Y93,T,CY",338,325,473,326,384,372,359,351,342,292,305,309,313,265,303,293,": ",": ",": ",": ",": ",": ",": ",": ",": ",": ",": ",": ",": ",": ",": ",": ",": ",": ",": "]
["Y93,T,EEA31",551624,521554,": ",": ",": ",": ",": ",": ",": ",": ",": ",": ",": ",": ",": ",": ",": ",": ",": ",": ",": ",": ",": ",": ",": ",": ",": ",": ",": ",": ",": ",": ",": ",": ",": "]
["Y93,T,PL",20970,19046,16566,11391,11287,11807,12288,15682,15191,15483,13986,14227,12901,12108,11845,10930,11699,10091,8952,9708,8224,10331,4690,6845,6004,6371,": ",": ",": ",": ",": ",": ",": ",": ",": "]
["Y94,F,BY",": ",1447,1567,1130,": ",": ",": ",": ",": ",": ",": ",": ",": ",": ",": ",": ",": ",": ",": ",": ",": ",": ",": ",": ",": ",": ",": ",": ",": ",": ",": ",": ",": ",": ",": "]
["Y94,F,CH",4833,4056,3842,3886,3742,3948,4458,4288,4302,4133,3969,3643,3777,3462,3179,2953,2891,2707,2744,2712,2349,2210,2122,1967,1845,1608,1545,1409,1371,1237,1115,1015,986,887,854]
["Y94,F,FR",58845,34298,29546,27247,24682,29124,43902,41965,40741,36777,37255,34762,34012,32127,31371,30150,29051,28470,27536,26502,23400,21247,19642,18807,18100,": ",": ",": ",": ",": ",": ",": ",": ",": ",": "]
["Y94,F,PL",11407,9866,6889,6772,7118,7542,9316,8864,9311,8227,8357,7457,6986,6811,6241,5745,5663,5024,5463,4466,6383,1964,3904,3136,3567,3360,": ",": ",": ",": ",": ",": ",": ",": ",": "]
["Y94,M,BY",": ",315,356,234,": ",": ",": ",": ",": ",": ",": ",": ",": ",": ",": ",": ",": ",": ",": ",": ",": ",": ",": ",": ",": ",": ",": ",": ",": ",": ",": ",": ",": ",": ",": "]
["Y94,M,FI",783,650,671,602,582,580,569,497,530,496,471,423,412,400,355,344,335,302,275,283,259,266,225,204,209,207,170,163,150,153,119,131,123,124,114]
["Y94,M,NO",1076,848,900,821,695,690,700,678,702,604,587,552,526,528,483,481,493,491,486,435,392,417,489,459,427,466,429,421,396,389,321,334,331,352,357]
["Y94,T,BG",2336,2119,1225,835,1025,1768,2007,1013,1775,1623,1653,1380,1334,1283,": ",871,844,832,926,1021,1446,839,840,743,745,842,823,709,824,928,1935,981,2215,824,1031]
["Y94,T,EU28",409747,304469,": ",": ",": ",": ",": ",": ",": ",": ",": ",": ",": ",": ",": ",": ",": ",": ",": ",": ",": ",": ",": ",": ",": ",": ",": ",": ",": ",": ",": ",": ",": ",": ",": "]
["Y94,T,NL",11011,9048,8408,8485,8078,7787,8164,7692,7228,6785,6655,6595,6408,6238,6189,5951,5908,5661,5516,5525,5010,4980,4839,4745,4693,4375,4297,4268,3866,3801,3384,3172,3119,3191,2926]
["Y95,F,BG",1020,599,404,495,861,971,482,848,767,791,628,629,565,605,": ",234,227,181,200,219,364,293,302,335,386,379,338,374,447,619,555,1168,369,495,999]
["Y95,F,ES",20138,19726,18260,17663,17258,16766,15796,15246,13549,13182,12215,11264,11230,10638,10621,9760,8455,7943,7182,6915,6329,5920,5296,5226,5128,4884,4573,4331,4299,4193,4057,4002,3746,3476,3215]
["Y95,F,MK",117,81,87,90,106,122,92,117,76,111,": ",": ",": ",134,118,111,110,80,68,134,30,59,": ",": ",": ",": ",": ",": ",": ",": ",": ",": ",": ",": ",": "]
["Y95,M,AT",806,532,519,529,567,813,840,789,727,700,660,568,496,517,": ",": ",": ",": ",": ",": ",": ",": ",": ",": ",": ",": ",": ",": ",": ",": ",": ",": ",": ",": ",": "]
["Y95,M,EL",2392,1869,1683,1437,1600,1795,1796,1824,1834,1644,1618,1442,1403,1376,2301,1660,1249,1259,1257,1026,1014,1112,719,620,669,587,651,669,707,719,366,409,361,372,340]
["Y95,M,ME",29,10,28,11,13,21,24,33,22,41,30,32,31,31,32,31,": ",": ",": ",": ",": ",": ",": ",": ",": ",": ",": ",": ",": ",": ",": ",": ",": ",": ",": "]
["Y95,T,AL",": ",": ",": ",": ",": ",": ",": ",": ",": ",217,218,220,": ",": ",": ",": ",": ",": ",": ",": ",": ",": ",": ",": ",": ",": ",": ",": ",": ",": ",": ",": ",": ",": ",": "]
["Y95,T,AT",3934,2629,2444,2558,2993,3922,3946,3862,3450,3382,3272,2803,2767,2719,": ",": ",": ",": ",": ",": ",": ",": ",": ",": ",": ",": ",": ",": ",": ",": ",": ",": ",": ",": ",": "]
["Y95,T,EL",6441,5023,5019,4380,4779,5275,5201,5377,5449,5026,5031,4041,4046,3863,6963,3915,2652,3575,2480,2527,3051,2983,1785,1673,2069,1631,1819,1880,2048,2137,1248,1195,1044,1010,949]
["Y95,T,ME",99,48,69,43,59,72,50,92,55,95,75,85,83,82,84,82,": ",": ",": ",": ",": ",": ",": ",": ",": ",": ",": ",": ",": ",": ",": ",": ",": ",": ",": "]
["Y96,F,AL",": ",": ",": ",": ",": ",": ",": ",": ",": ",102,103,104,": ",": ",": ",": ",": ",": ",": ",": ",": ",": ",": ",": ",": ",": ",": ",": ",": ",": ",": ",": ",": ",": ",": "]
["Y96,F,EFTA",3909,3800,": ",": ",": ",": ",": ",": ",": ",": ",": ",": ",": ",": ",": ",": ",": ",": ",": ",": ",": ",": ",": ",": ",": ",": ",": ",": ",": ",": ",": ",": ",": ",": ",": "]
["Y96,F,IT",14936,15698,19139,23968,23194,21719,21200,19616,18953,16655,15951,14038,13572,12944,11380,10011,10106,9256,8426,7661,7085,7019,6605,5837,": ",": ",": ",": ",": ",": ",": ",": ",": ",": ",": "]
["Y96,F,UK",16918,17709,": ",18954,": ",": ",": ",": ",": ",": ",": ",": ",": ",": ",": ",": ",": ",": ",": ",": ",": ",": ",": ",": ",": ",": ",": ",": ",": ",": ",": ",": ",": ",": ",": "]
["Y96,M,EEA30",31998,29972,": ",": ",": ",": ",": ",": ",": ",": ",": ",": ",": ",": ",": ",": ",": ",": ",": ",": ",": ",": ",": ",": ",": ",": ",": ",": ",": ",": ",": ",": ",": ",": ",": "]
["Y96,M,LU",13,18,23,24,2,3,2,": ",": ",2,": ",": ",": ",": ",": ",": ",": ",": ",": ",": ",": ",": ",": ",": ",8,7,7,7,6,6,6,7,6,6,6]
["Y96,M,UA",": ",1109,675,653,975,766,1646,657,794,505,": ",": ",": ",": ",": ",": ",": ",": ",": ",": ",": ",": ",": ",": ",": ",": ",": ",": ",": ",": ",": ",": ",": ",": ",": "]
["Y96,T,EE",305,229,219,261,260,280,270,240,300,250,230,210,210,220,200,180,": ",": ",": ",": ",": ",": ",": ",": ",": ",": ",133,": ",": ",": ",": ",": ",": ",": ",": "]
["Y96,T,LT",440,443,443,518,635,586,657,605,877,507,719,683,572,504,555,581,645,521,675,506,552,546,596,668,693,672,640,331,807,379,850,253,325,543,352]
["Y96,T,SM",": ",": ",14,19,": ",": ",": ",": ",": ",": ",": ",": ",": ",": ",": ",": ",": ",": ",": ",": ",": ",": ",": ",": ",": ",": ",": ",": ",": ",": ",": ",": ",": ",": ",": "]
["Y97,F,EA19",58364,58716,": ",": ",": ",": ",": ",": ",": ",": ",": ",": ",": ",": ",": ",": ",": ",": ",": ",": ",": ",": ",": ",": ",": ",": ",": ",": ",": ",": ",": ",": ",": ",": ",": "]
["Y97,F,LI",3,2,5,3,2,6,2,5,2,2,3,3,2,3,1,0,4,1,1,2,1,1,1,0,1,1,2,2,0,0,1,1,1,0,2]
["Y97,F,SK",247,239,290,355,334,356,316,303,286,255,203,231,246,251,201,389,334,182,198,166,164,142,134,92,165,131,131,141,120,92,91,86,84,65,59]
["Y97,F,SM",": ",": ",13,11,": ",": ",": ",": ",": ",": ",": ",": ",": ",": ",": ",": ",": ",": ",": ",": ",": ",": ",": ",": ",": ",": ",": ",": ",": ",": ",": ",": ",": ",": ",": "]
["Y97,M,EEA31",21455,21766,": ",": ",": ",": ",": ",": ",": ",": ",": ",": ",": ",": ",": ",": ",": ",": ",": ",": ",": ",": ",": ",": ",": ",": ",": ",": ",": ",": ",": ",": ",": ",": ",": "]
["Y97,M,IT",3078,3786,4763,4841,4402,4365,3883,3905,3341,2914,2610,2555,2432,2137,1877,1976,1919,1715,1472,1370,1382,1292,1139,1024,": ",": ",": ",": ",": ",": ",": ",": ",": ",": ",": "]
["Y97,M,SI",36,40,36,42,64,57,62,40,52,36,41,32,28,30,22,25,19,19,26,13,8,9,20,18,10,8,24,16,25,11,21,29,14,11,": "]
["Y97,T,DK",1418,1486,1354,1403,1264,1371,1264,1312,1212,1186,1026,1060,994,1006,908,914,912,773,736,723,727,720,719,677,657,631,563,554,524,492,456,374,389,364,362]
["Y97,T,IS",55,59,41,40,50,41,47,42,40,55,37,37,52,51,40,32,48,46,37,33,38,28,35,38,27,29,41,24,25,22,13,18,15,23,11]
["Y97,T,SE",3027,2843,2685,2892,2816,2722,2535,2489,2475,2345,2227,2108,1956,1908,1908,1781,1671,1558,1411,1409,1302,1224,1175,1127,1138,1038,1006,971,938,834,861,795,762,742,673]
["Y98,F,DE_TOT",7850,10115,": ",": ",": ",": ",": ",": ",": ",": ",": ",": ",": ",": ",": ",8637,": ",5481,4989,4567,4072,3830,3588,3328,3078,2841,2587,2340,2567,2450,2081,1981,1872,1837,1692]
["Y98,F,IE",412,392,501,523,453,284,205,202,180,219,242,205,185,202,205,132,155,108,115,121,122,123,133,97,104,115,130,171,143,78,": ",": ",": ",": ",": "]
["Y98,F,RU",": ",5942,": ",": ",5980,4672,7094,3654,4210,4220,": ",": ",": ",": ",": ",": ",": ",": ",": ",": ",": ",": ",": ",": ",": ",": ",": ",": ",": ",": ",": ",": ",": ",": ",": "]
["Y98,M,DE",1517,1820,": ",": ",": ",": ",": ",": ",": ",": ",": ",": ",": ",": ",": ",2769,": ",1339,1161,980,794,717,670,625,583,486,467,435,964,894,810,730,677,743,693]
["Y98,M,HU",158,166,": ",": ",": ",": ",": ",": ",": ",": ",": ",": ",": ",": ",": ",": ",": ",": ",": ",": ",": ",": ",": ",": ",": ",": ",": ",": ",": ",": ",": ",": ",": ",": ",": "]
["Y98,M,RS",57,47,86,44,67,225,264,176,137,172,131,114,90,96,66,261,57,": ",": ",": ",": ",": ",": ",": ",": ",": ",": ",": ",": ",": ",": ",": ",": ",": ",": "]
["Y98,T,BG",197,352,411,210,363,368,390,323,261,264,235,211,212,198,": ",34,32,44,50,55,73,53,138,127,146,205,372,304,220,183,275,959,403,170,678]
["Y98,T,FX",": ",": ",18461,17473,16702,15272,15108,13494,12923,11528,11734,10765,10762,10666,10256,10186,8922,7458,6861,6340,6526,5661,5416,5151,4301,4410,3798,3502,3395,3338,3101,2951,2778,2606,2935]
["Y98,T,PT",1751,1926,2360,2343,": ",": ",": ",": ",": ",": ",": ",": ",": ",": ",": ",": ",": ",": ",": ",": ",": ",": ",": ",": ",": ",": ",": ",": ",": ",": ",": ",": ",": ",": ",184]
["Y98,T,RO",862,989,1194,1120,1080,1038,1094,847,728,727,548,532,541,566,1437,1275,1594,608,546,515,484,455,432,364,1299,979,1489,": ",": ",": ",": ",": ",": ",": ",": "]
["Y99,F,CZ",294,403,367,409,333,332,308,249,252,252,185,165,169,164,128,346,255,193,157,144,112,117,101,86,": ",84,147,79,68,92,91,66,70,64,": "]
["Y99,F,HR",81,155,": ",": ",": ",": ",": ",": ",": ",": ",": ",": ",": ",": ",": ",": ",": ",": ",": ",": ",": ",": ",": ",": ",": ",": ",": ",": ",": ",": ",": ",": ",": ",": ",": "]
["Y99,F,RO",488,632,570,445,434,454,417,360,297,288,204,221,211,221,736,968,351,294,278,263,239,215,195,111,524,921,873,": ",": ",": ",": ",": ",": ",": ",": "]
["Y99,M,CZ",60,88,108,92,79,83,80,67,58,53,45,37,30,32,21,88,54,42,42,27,9,18,14,15,": ",30,18,12,23,22,20,20,10,11,": "]
["Y99,M,HR",32,24,": ",": ",": ",": ",": ",": ",": ",": ",": ",": ",": ",": ",": ",": ",": ",": ",": ",": ",": ",": ",": ",": ",": ",": ",": ",": ",": ",": ",": ",": ",": ",": ",": "]
["Y99,M,RO",192,247,239,227,198,222,195,168,138,132,94,93,93,94,427,504,166,168,136,125,116,99,84,43,427,517,468,": ",": ",": ",": ",": ",": ",": ",": "]
["Y99,T,CZ",354,491,475,501,412,415,388,316,310,305,230,202,199,196,149,434,309,235,199,171,121,135,115,101,": ",114,165,91,91,114,111,86,80,75,": "]
["Y99,T,HR",113,179,": ",": ",": ",": ",": ",": ",": ",": ",": ",": ",": ",": ",": ",": ",": ",": ",": ",": ",": ",": ",": ",": ",": ",": ",": ",": ",": ",": ",": ",": ",": ",": ",": "]
["Y99,T,SI",112,146,150,150,126,127,118,106,90,92,75,68,76,51,46,33,42,34,38,22,37,25,21,24,30,13,54,51,50,52,28,17,25,24,": "]
["Y_LT1,F,BY",": ",57256,56374,52888,52186,": ",52138,50036,46678,43845,": ",": ",": ",": ",": ",": ",": ",": ",": ",": ",": ",": ",": ",": ",": ",": ",": ",": ",": ",": ",": ",": ",": ",": ",": "]
["Y_LT1,F,FI",28176,28427,29240,29478,29759,29663,29151,28654,28875,28295,28027,27702,26913,27354,27426,28112,27825,29059,29482,30742,31885,31743,32475,32051,31891,30809,30759,29064,29555,30657,31839,32592,32027,30942,30542]
["Y_LT1,F,NL",85481,83190,85630,87558,90115,90186,89717,88550,89797,91268,94687,97670,98568,99537,101241,98199,97514,94162,92351,93122,95635,95318,95589,96651,96150,91989,90846,90595,90212,86998,84683,82891,83464,87239,88241]
["Y_LT1,M,AM",": ",": ",": ",": ",": ",23443,21845,21218,19756,19890,": ",": ",": ",": ",": ",": ",": ",": ",": ",": ",": ",": ",": ",": ",": ",": ",": ",": ",": ",": ",": ",": ",": ",": ",": "]
["Y_LT1,M,EFTA",76021,74549,74667,74084,74214,74837,73270,70716,70103,68905,68930,68077,67839,68252,72796,72701,72149,73986,76201,75115,75383,75563,77425,77544,76287,74138,72775,68672,67456,65775,66058,65907,66827,66014,66125]
["Y_LT1,M,LV",11204,10384,10190,9535,9947,11010,12243,12009,11434,11022,10485,10810,10195,9896,10269,9863,9311,9628,10127,11005,12259,13350,15924,17439,21233,21257,21190,21251,21427,20228,20503,20562,19367,18487,18214]
["Y_LT1,M,MD",": ",19318,20054,19975,20426,20710,19803,19349,19338,19384,": ",": ",": ",": ",": ",": ",": ",": ",": ",": ",": ",": ",": ",": ",": ",": ",": ",": ",": ",": ",": ",": ",": ",": ",": "]
["Y_LT1,M,UK",398137,402819,412366,414226,407738,402876,402030,395892,381878,371112,364211,355422,343928,338529,344096,355493,363079,370445,372524,372111,381257,387563,395009,402437,398823,394135,395675,392557,385360,381638,372176,365575,365817,369457,375102]
["Y_LT1,T,EA19",3266188,3234622,3302723,3347566,3421028,3424059,3477833,3406528,3392352,3356955,3369332,3338656,3321834,3325987,3372918,3318908,3303974,3334047,3293874,3253142,3281380,": ",": ",": ",": ",": ",": ",": ",": ",": ",": ",": ",": ",": ",": "]
["Y_LT1,T,IT",496627,509053,524021,531372,548504,559232,568551,559219,555807,550239,557903,541707,535438,523005,533572,531499,526625,532078,531568,522979,532848,548535,570454,510808,569367,561801,571595,554688,556438,583077,590856,605776,626927,604733,642387]
["Y_LT1,T,SI",21146,21099,22003,22003,22420,21793,21904,19510,19127,18185,17910,17194,17597,17531,18241,17478,17783,18164,18789,18901,19309,19570,19688,21305,22267,23207,25102,25574,25051,25677,26015,26945,28616,28982,": "]
["Y_OPEN,F,CH",1253,1221,1167,1179,1114,2153,1889,1625,1400,1218,1079,966,908,775,1272,1149,1067,964,932,862,726,653,587,548,533,351,290,287,237,250,242,249,253,221,204]
["Y_OPEN,F,FX",": ",": ",17411,16646,15288,14086,13233,12449,11629,10949,10819,10219,9921,9203,8014,7108,6724,6304,6176,5469,4856,4318,3834,3746,3373,3290,3000,2750,2510,2289,2014,1919,1750,1602,1238]
["Y_OPEN,F,PL",4063,3560,3193,2823,2482,2242,2811,2543,2239,1910,1717,1477,1315,1114,12010,11240,11328,10828,9630,9362,6976,8796,8699,8906,8565,8192,": ",": ",": ",": ",143701,": ",": ",": ",": "]
["Y_OPEN,M,BE",263,239,217,216,198,186,171,144,151,150,143,126,135,134,124,115,117,127,112,101,108,107,100,96,107,109,99,72,188,120,122,48,101,103,119]
["Y_OPEN,M,EU27",": ",20090,3612772,3436954,3250421,3068940,2915025,2746197,2564215,2373503,2185495,2122278,2178852,2246519,2309343,2304244,2241060,2159530,2060324,1994508,1910749,1825706,1747714,4841911,4716462,4559689,": ",": ",": ",": ",3834195,": ",": ",": ",": "]
["Y_OPEN,M,MK",97,95,95,93,73,70,56,42,37,27,141,140,141,96,94,98,56,47,42,42,40,48,": ",": ",": ",": ",": ",": ",": ",": ",": ",": ",": ",": ",": "]
["Y_OPEN,T,AL",22616,23332,": ",": ",": ",": ",": ",": ",16728,21,21,21,": ",": ",": ",": ",": ",": ",": ",": ",": ",": ",": ",": ",": ",": ",": ",": ",": ",": ",": ",": ",": ",": ",": "]
["Y_OPEN,T,EEA31",": ",113361,11967925,11557954,11072222,10571278,10118125,9613985,9057537,8478827,7903556,7732351,7959872,8210986,8385558,": ",": ",": ",": ",": ",": ",": ",": ",": ",": ",": ",": ",": ",": ",": ",": ",": ",": ",": ",": "]
["Y_OPEN,T,LU",67,62,64,63,39,38,34,257,245,10,318,318,325,310,277,338,360,303,245,257,218,199,144,132,16,15,15,14,14,13,13,12,12,11,10]
["Y_OPEN,T,TR",115277,99005,89709,79428,72950,66830,60176,97487,1889000,1839000,1796000,1769000,1748000,1732000,1713000,1046055,1013066,972120,927126,880132,827656,770158,711164,651661,592661,172034,166542,161227,156085,151108,146294,137093,128514,120514,113050]
["Y13,T,SCOT",52935,55000,56245,58352,59523,61321,60752,61049,62446,62988,65215,65416,63497,63267,65581,64971,65409,65092,62127,62625,64017,66583,65237,63142,59253,58503,63270,64294,66182,71524,77109,82096,82872,86426,89021]
["Y14,T,SCOT",55192,56383,58402,59624,61618,61031,61303,62712,63230,65170,65015,63396,63098,65413,65007,65340,65216,62078,62341,63706,66400,65258,62996,58962,58518,63265,64324,65948,71278,76886,81871,82641,86161,88776,90698]
["Y30,T,SCOT",70533,67814,68641,69543,69237,67533,64923,59856,57699,60385,60790,61428,65424,69544,73489,73362,76683,78909,80829,79692,83193,82885,81564,80616,80679,79003,76978,74935,73441,72528,69964,69724,68752,66987,69188]
["Y31,T,SCOT",68276,68824,69583,69174,67851,65249,60323,58383,61274,61241,61898,65675,69709,73473,73267,76396,78687,80493,79300,82732,82732,81772,80697,80378,78977,77074,74695,72679,72088,69529,69443,68558,66618,68837,69696]
["Y32,T,SCOT",69258,69720,69203,67793,65690,60601,58736,61909,62057,62393,66223,70216,73529,73315,76391,78278,80261,79089,82356,82348,81664,80793,80353,78683,76967,74815,72662,71521,69089,69028,68356,66200,68326,69352,72145]
["Y33,T,SCOT",70132,69328,67819,65521,61116,59247,62371,62536,63178,66581,70717,73910,73436,76379,78126,79878,78958,82097,81995,81474,80699,80387,78662,76797,74653,72691,71372,68532,68615,67909,65903,68049,68902,71730,75327]
["Y34,T,SCOT",69701,67996,65463,60906,59892,62902,63101,63837,67392,71187,74446,73672,76489,77905,79964,78819,81920,81693,81300,80381,80086,78685,76909,74602,72638,71477,68391,68051,67387,65424,67868,68648,71358,74974,82045]
["Y35,T,SCOT",68314,65631,60955,59878,63532,63487,64326,67986,71895,74809,73933,76791,78034,79751,78823,81691,81590,81180,80189,79782,78444,77005,74751,72628,71408,68572,68085,66927,65043,67560,68494,71241,74510,81653,63553]
["Y36,T,SCOT",66079,61125,60035,63545,64101,64711,68416,72483,75466,74350,77107,78394,79889,78808,81648,81413,81186,80147,79534,78017,76989,74968,72696,71391,68418,68141,66900,64624,67195,68075,71050,74219,81315,63168,61031]
["Y37,T,SCOT",61363,60145,63609,64117,65333,68824,72911,75837,74749,77464,78843,80140,78996,81598,81478,81116,80113,79241,77667,76691,74959,72925,71398,68422,68152,66990,64602,66763,67791,70744,74034,81071,62819,60794,63508]
["Y38,T,SCOT",60428,63706,64203,65226,69274,73388,76222,75216,77973,79212,80362,79340,81861,81388,81265,80009,79041,77412,76494,74798,72998,71512,68527,68113,66876,64642,66745,67479,70414,73663,80898,62594,60540,63214,62713]
["Y39,T,SCOT",63953,64350,65308,69223,73861,76512,75608,78352,79718,80665,79788,82152,81564,81163,80018,78829,77156,76337,74678,72844,71505,68661,68249,66898,64516,66781,67406,70002,73376,80508,62476,60375,62905,62465,59363]
["Y40,T,SCOT",64459,65320,69308,73720,76830,75765,78529,80043,81013,79992,82513,81822,81347,80115,78712,76948,76259,74700,72763,71347,68723,68460,67004,64591,66711,67413,69976,73009,80203,62230,60304,62783,62217,59075,56522]
["Y41,T,SCOT",65347,69361,73718,76712,76006,78687,80214,81115,80261,82780,82160,81578,80175,78788,76729,76061,74683,72751,71215,68588,68406,67031,64644,66687,67363,70026,73019,79821,62010,60022,62631,61966,58759,56276,59017]
["Y42,T,SCOT",69421,73776,76686,75830,78902,80333,81121,80588,83085,82272,81870,80315,78686,76670,76084,74578,72698,71165,68443,68298,67006,64757,66755,67366,69947,73089,79858,61726,59806,62381,61811,58548,56033,58694,59183]
["Y43,T,SCOT",73863,76693,75830,78793,80567,81220,80682,83320,82530,82114,80468,78785,76616,76093,74604,72653,71093,68355,68191,66873,64791,66794,67456,69984,73044,79769,61764,59500,62110,61656,58385,55820,58432,58948,59298]
["Y44,T,SCOT",76735,75738,78734,80416,81359,80737,83433,82702,82251,80547,79039,76614,76059,74513,72759,71064,68381,68128,66800,64709,66798,67604,69916,73012,79685,61764,59485,61896,61425,58146,55640,58243,58773,59053,58722]
["Y45,T,SCOT",75732,78763,80368,81161,80824,83508,82753,82429,80760,78993,76668,76083,74429,72735,70936,68316,68012,66702,64643,66613,67518,69932,72956,79480,61584,59363,61784,60999,57882,55332,57923,58523,58766,58404,58455]
["Y46,T,SCOT",78720,80294,81051,80555,83684,82741,82468,80783,79045,76588,76140,74330,72627,70883,68313,67913,66615,64578,66456,67381,69879,72933,79444,61526,59261,61693,60880,57571,55127,57679,58338,58625,58179,58137,57950]
["Y47,T,SCOT",80228,80936,80477,83530,82822,82507,80834,79079,76632,76143,74386,72683,70848,68271,67903,66560,64553,66340,67202,69717,72770,79396,61465,59170,61560,60701,57503,54822,57440,58052,58447,57918,57777,57642,57355]
["Y48,T,SCOT",80816,80366,83449,82628,82600,80776,79004,76659,76259,74320,72719,70877,68121,67801,66569,64443,66266,67171,69553,72547,79231,61433,59096,61414,60533,57316,54714,57115,57778,58078,57645,57500,57303,57019,57279]
["Y49,T,SCOT",80322,83319,82472,82392,80839,78924,76516,76245,74358,72689,70956,68112,67607,66501,64487,66124,67120,69407,72293,78915,61334,59069,61371,60388,57098,54540,57014,57480,57772,57339,57273,57001,56710,56894,59525]
["Y50,T,SCOT",83200,82322,82200,80554,78927,76371,76155,74344,72731,70804,68075,67615,66389,64410,65995,66981,69278,72080,78667,61126,58942,61286,60281,56944,54280,56880,57310,57419,57036,56917,56695,56403,56483,59093,59467]
["Y51,T,SCOT",82142,82095,80377,78783,76317,76062,74256,72632,70855,67999,67596,66441,64292,65953,66838,69101,71793,78422,60945,58774,61115,60222,56827,54143,56627,57142,57215,56702,56593,56329,56111,56147,58659,59068,59515]
["Y52,T,SCOT",81807,80196,78546,76036,75902,74126,72497,70699,67970,67421,66390,64226,65760,66671,68922,71611,78139,60766,58570,60863,60038,56679,54026,56428,56902,57043,56529,56263,55996,55696,55823,58250,58654,59047,58999]
["Y53,T,SCOT",79957,78292,75940,75658,74011,72300,70535,67859,67343,66287,64199,65698,66471,68767,71437,77828,60559,58430,60583,59733,56427,53800,56236,56682,56741,56281,56064,55627,55261,55375,57828,58248,58506,58469,58128]
["Y54,T,SCOT",78187,75730,75373,73676,72160,70249,67664,67192,66152,64083,65602,66408,68629,71212,77691,60342,58228,60390,59447,56111,53576,56016,56456,56510,55934,55787,55445,54853,54943,57308,57868,58029,57934,57597,58560]
["Y55,T,SCOT",75506,75220,73387,71825,70059,67347,66970,65977,63986,65426,66261,68520,71007,77469,60177,58028,60176,59219,55793,53329,55759,56183,56266,55648,55472,55137,54605,54478,56797,57376,57541,57456,57004,57989,59963]
["Y56,T,SCOT",74932,73094,71580,69693,67109,66727,65786,63808,65303,65985,68394,70911,77199,59887,57831,59782,58857,55421,52968,55367,55800,55904,55302,55110,54737,54234,54122,56350,56840,57001,56922,56379,57320,59296,58221]
["Y57,T,SCOT",72849,71253,69373,66809,66477,65527,63596,65037,65747,68122,70766,77066,59649,57537,59574,58523,55087,52666,54949,55340,55472,54900,54814,54359,53774,53639,55970,56304,56386,56191,55709,56680,58518,57503,58814]
["Y58,T,SCOT",70878,69002,66473,66094,65258,63312,64655,65350,67869,70422,76754,59381,57165,59281,58163,54680,52364,54650,54872,55020,54483,54429,53938,53377,53180,55489,55887,55792,55606,55000,56040,57795,56768,57994,57429]
["Y59,T,SCOT",68655,66084,65609,64875,63021,64355,65033,67508,70114,76431,59113,56918,58973,57773,54393,51980,54287,54484,54630,53943,54023,53489,52909,52676,54917,55324,55364,54978,54344,55222,57083,56046,57088,56588,60553]
["Y60,T,SCOT",65720,65228,64452,62651,64020,64646,67069,69720,76144,58785,56594,58611,57378,53965,51576,53885,54058,54205,53424,53484,53050,52385,52094,54377,54730,54732,54468,53644,54554,56246,55246,56228,55652,59640,61311]
["Y61,T,SCOT",64782,64048,62182,63456,64169,66608,69158,75721,58455,56186,58166,57076,53506,51089,53469,53530,53681,52856,52911,52505,51786,51583,53740,54032,54072,53868,53136,53804,55495,54411,55307,54774,58655,60225,64003]
["Y62,T,SCOT",63577,61705,62931,63592,66134,68677,75138,57978,55669,57650,56562,53131,50578,52894,53039,53105,52264,52401,51931,51119,50952,53025,53252,53274,53140,52343,53141,54673,53556,54295,53844,57638,59089,62807,45418]
["Y63,T,SCOT",61183,62338,63028,65483,68143,74586,57389,55177,57050,55978,52611,50088,52255,52411,52488,51593,51745,51266,50430,50193,52248,52421,52400,52271,51460,52333,53877,52725,53270,52778,56577,57878,61567,44430,43456]
["Y64,T,SCOT",61736,62491,64716,67441,73997,56797,54553,56378,55421,51965,49511,51702,51794,51822,50979,51123,50622,49773,49368,51412,51556,51473,51315,50541,51405,52945,51916,52259,51704,55431,56612,60346,43354,42461,46233]
["Y65,T,SCOT",61768,64011,66698,73171,56210,53912,55723,54788,51391,48842,51051,51195,51112,50300,50436,49936,48987,48599,50442,50562,50478,50352,49552,50324,51915,50851,51287,50623,54240,55252,59040,42355,41351,45106,48487]
["Y66,T,SCOT",63190,65877,72160,55455,53253,54992,54023,50680,48144,50247,50452,50384,49525,49598,49238,48184,47689,49531,49548,49396,49363,48367,49165,50763,49763,50096,49667,52984,53910,57576,41197,40272,43875,47197,51641]
["Y67,T,SCOT",65005,71230,54608,52391,54249,53229,49924,47382,49484,49626,49561,48796,48738,48288,47416,46829,48532,48546,48305,48196,47129,47899,49487,48463,48806,48473,51744,52441,56139,39912,39097,42601,45825,50124,51075]
["Y68,T,SCOT",70181,53826,51514,53321,52419,49129,46607,48688,48777,48661,47899,47824,47403,46508,45962,47456,47381,47264,47045,45831,46616,48084,47116,47466,47171,50302,51178,54510,38691,37870,41334,44462,48538,49390,49422]
["Y69,T,SCOT",52811,50633,52402,51407,48282,45724,47727,47865,47790,46951,46875,46469,45442,44905,46412,46233,46120,45825,44569,45219,46757,45682,46091,45698,48726,49650,52899,37416,36691,39903,43025,46910,47677,47598,47527]
["Y70,T,SCOT",49594,51451,50415,47287,44833,46767,46840,46780,46001,45832,45503,44402,43875,45276,45084,44859,44532,43225,43800,45263,44240,44584,44126,47036,48069,51042,36234,35449,38529,41390,45150,45916,45800,45628,45879]
["Y71,T,SCOT",50402,49318,46195,43866,45742,45813,45818,44946,44769,44399,43261,42699,44123,43878,43650,43208,41807,42362,43796,42620,43096,42518,45354,46314,49233,34952,34259,37114,39808,43287,44047,43998,43712,43955,44713]
["Y72,T,SCOT",48067,45082,42714,44578,44742,44701,43804,43626,43222,42033,41526,42828,42542,42318,41872,40360,40798,42286,41067,41535,40858,43566,44596,47272,33511,32887,35713,38194,41493,42055,42051,41767,41963,42615,42957]
["Y73,T,SCOT",43865,41612,43353,43531,43605,42597,42453,42010,40841,40317,41562,41198,40857,40404,38904,39224,40642,39582,39886,39205,41757,42816,45244,32072,31478,34059,36633,39609,40143,40016,39715,39976,40488,40713,40632]
["Y74,T,SCOT",40398,42172,42243,42281,41445,41216,40745,39534,39038,40197,39712,39365,38818,37334,37668,38923,37932,38264,37497,39905,40970,43176,30569,30036,32422,34877,37760,38173,38025,37600,37872,38431,38513,38424,37213]
["Y75,T,SCOT",40800,40966,40870,40055,39876,39459,38203,37643,38763,38208,37821,37316,35753,36074,37362,36271,36565,35717,38022,39016,41132,29015,28382,30616,33176,35732,36248,35989,35586,35639,36291,36336,36170,34988,35356]
["Y76,T,SCOT",39510,39522,38588,38525,38103,36823,36198,37234,36719,36232,35731,34154,34426,35667,34663,34850,33877,36068,37013,39026,27567,26816,28829,31392,33813,34023,34028,33505,33574,34009,34135,33935,32724,33011,32585]
["Y77,T,SCOT",37998,37191,36985,36532,35407,34723,35697,35204,34584,34008,32487,32807,33860,32859,33201,32028,34180,35012,36935,26017,25193,27095,29459,31812,31975,31847,31404,31535,31842,31794,31720,30471,30693,30254,29923]
["Y78,T,SCOT",35493,35469,34900,33870,33215,34157,33597,32814,32399,30779,31106,31982,31103,31354,30258,32121,32975,34746,24506,23570,25398,27555,29655,29892,29785,29168,29476,29713,29558,29334,28321,28498,27984,27607,26976]
["Y79,T,SCOT",33768,33266,32200,31617,32543,31938,31083,30652,29143,29392,30152,29236,29437,28432,30132,30907,32567,22960,21930,23604,25724,27514,27802,27678,27071,27272,27689,27399,27128,25985,26341,25762,25451,24737,24272]
["Y80,T,SCOT",31477,30565,29821,30892,30248,29244,28859,27511,27614,28315,27351,27590,26495,28097,28915,30343,21384,20436,21849,23788,25540,25634,25508,24989,25133,25405,25294,24938,23867,24106,23608,23254,22570,22020,21877]
["Y81,T,SCOT",28857,28208,28973,28438,27468,27067,25702,25814,26341,25442,25674,24566,26005,28002,28189,19755,18807,20136,21868,23465,23643,23338,22846,23058,23265,23030,22810,21810,22051,21367,21144,20556,19909,19682,19381]
["Y82,T,SCOT",26397,27181,26488,25624,25190,23987,24027,24440,23586,23747,22657,23957,25781,26700,18306,17184,18466,20037,21429,21584,21372,20780,20908,21228,20895,20474,19748,19997,19387,19010,18555,17954,17656,17295,15848]
["Y83,T,SCOT",25116,24593,23753,23306,22178,22249,22503,21635,21746,20770,21908,23594,24359,16914,15594,16777,18169,19526,19542,19276,18844,18820,19147,18788,18401,17566,17926,17383,17137,16531,16069,15793,15411,13930,13647]
["Y84,T,SCOT",22494,21896,21290,20367,20312,20590,19744,19816,18964,19907,21397,22067,15285,14635,15125,16376,17526,17679,17305,16862,16856,17025,16857,16404,15572,15851,15502,15208,14749,14141,14023,13640,12186,11934,11778]
["Y85,T,SCOT",19821,19405,18374,18499,18642,17943,17916,17090,17896,19346,19926,13756,13051,14025,14596,15652,15745,15473,14984,14947,15148,15000,14541,13757,13998,13445,13458,12991,12455,12220,11979,10583,10391,10173,10157]
["Y86,T,SCOT",17425,16641,16621,16737,16140,16043,15306,16000,17248,17915,12293,11578,12377,13129,13920,13976,13552,13259,13091,13326,13257,12719,11960,12200,11802,11684,11386,10835,10663,10325,9111,8952,8719,8634,8229]
["Y87,T,SCOT",14672,14850,14789,14321,14326,13591,14121,15270,15828,10835,10169,10796,11451,12144,12341,11761,11472,11432,11615,11523,11104,10245,10494,10221,10112,9628,9398,9234,8923,7644,7659,7397,7320,6863,6795]
["Y88,T,SCOT",12855,13098,12476,12460,11959,12402,13390,13795,9372,8797,9280,9889,10464,10713,10189,9758,9735,10028,9908,9517,8835,8884,8712,8661,8229,7887,7917,7512,6403,6343,6221,6137,5703,5547,5579]
["Y89,T,SCOT",11239,10835,10778,10305,10808,11623,11876,8054,7578,7979,8401,8971,9073,8590,8363,8218,8537,8499,8067,7407,7583,7326,7277,6974,6668,6563,6301,5309,5247,5056,5055,4646,4482,4459,4339]
["Y_OPEN,T,SCOT",39795,39552,37690,36905,35169,32303,28671,28475,28767,29003,28527,27808,27149,26707,29385,28296,27095,26087,25007,24356,23571,22482,21718,20679,19459,18152,17387,16700,16027,15207,14998,14557,14193,13709,13571]
["TOTAL,M,SCOT",2610469,2596530,2586680,2577290,2570300,2548221,2531970,2515304,2496558,2475119,2461282,2446603,2438105,2435643,2433733,2431926,2436535,2438991,2442322,2447020,2453353,2453342,2448419,2445272,2444515,2443865,2443165,2444319,2455403,2462311,2469514,2474623,2479075,2487335,2494860]
["Y_LT1,M,SCOT",28765,28862,29130,30103,30877,30084,30538,30337,29316,28200,28093,27629,26463,26115,26345,27576,28762,29525,30648,30016,30808,32108,32624,33922,33658,32541,32885,34131,33500,34047,33374,32620,33411,34004,68529]
["Y1,M,SCOT",29135,29292,30142,30991,29388,30355,30382,29401,28338,28117,27817,26518,26102,26482,27442,28602,29327,30540,29887,30705,31935,32605,33843,33472,32227,32794,34156,33098,33806,33140,32323,33177,33690,35011,34142]
["Y2,M,SCOT",29527,30318,31061,29443,30189,30270,29348,28450,28340,27768,26608,26167,26538,27594,28604,29160,30458,29868,30576,31747,32482,33837,33430,32198,32676,34184,33129,33522,32888,32140,32887,33516,34821,33963,33070]
["Y3,M,SCOT",30503,31185,29557,30234,30173,29212,28465,28480,27917,26699,26309,26713,27686,28699,29070,30358,29866,30533,31552,32413,33794,33474,32291,32637,34103,33208,33597,32581,31927,32757,33291,34695,33747,32932,30363]
["Y4,M,SCOT",31354,29681,30309,30216,29119,28413,28524,28030,26804,26424,26933,27835,28758,29176,30311,29760,30493,31452,32235,33630,33494,32402,32654,34030,33143,33647,32617,31678,32568,33223,34533,33680,32788,30336,30380]
["Y5,M,SCOT",29801,30397,30269,29189,28397,28514,28042,26869,26605,27063,28042,28870,29276,30386,29752,30367,31355,32147,33523,33455,32398,32700,34040,33121,33613,32657,31753,32337,33070,34388,33537,32746,30258,30346,33216]
["Y6,M,SCOT",30513,30374,29219,28467,28517,28018,26886,26709,27291,28243,29073,29466,30442,29910,30334,31205,32100,33414,33454,32381,32626,34107,33170,33544,32643,31822,32376,32915,34275,33443,32727,30185,30262,33124,33496]
["Y7,M,SCOT",30453,29300,28511,28544,28033,26873,26752,27430,28473,29208,29677,30545,30063,30443,31134,31978,33337,33414,32455,32600,34064,33263,33582,32646,31830,32460,32964,34136,33282,32608,30144,30209,33050,33369,34533]
["Y8,M,SCOT",29438,28594,28573,28038,26840,26787,27535,28580,29414,29758,30749,30287,30548,31233,31970,33235,33403,32510,32576,33979,33302,33670,32747,31824,32459,33045,34200,33118,32559,30131,30122,32935,33233,34367,37219]
["Y9,M,SCOT",28689,28662,28059,26898,26806,27625,28693,29541,29976,30857,30520,30690,31361,31973,33165,33398,32560,32519,33899,33259,33691,32920,31830,32306,33041,34281,33191,32537,30045,30083,32822,33216,34266,37043,39689]
["Y10,M,SCOT",28779,28153,26983,26815,27743,28805,29700,30110,31072,30644,30903,31484,31959,33154,33401,32576,32550,33869,33268,33602,32981,31850,32190,32900,34304,33296,32602,29946,30062,32700,33125,34196,36989,39537,42488]
["Y11,M,SCOT",28216,27035,26851,27816,28919,29831,30261,31242,30931,30997,31706,31998,33184,33496,32667,32568,33849,33256,33562,32967,31850,32168,32809,34217,33322,32674,30054,30016,32601,33010,34089,36878,39422,42220,42650]
["Y12,M,SCOT",27119,26903,27870,28938,29930,30343,31345,31121,31167,31780,32010,33243,33332,32572,32548,33850,33245,33479,33029,31757,32061,32675,34152,33237,32668,30169,30083,32422,32862,33949,36778,39307,42012,42438,44582]
["Y13,M,SCOT",26995,27936,28963,29948,30490,31532,31358,31380,31913,31988,33039,33280,32436,32416,33829,33269,33443,33065,31721,31869,32493,34132,33181,32502,30202,30150,32417,32715,33858,36681,39147,41866,42233,44348,45545]
["Y14,M,SCOT",28050,29012,29965,30551,31684,31556,31499,32072,32070,32938,33105,32379,32256,33643,33294,33413,33165,31676,31698,32312,33998,33176,32352,29960,30173,32373,32719,33738,36534,39011,41703,42053,44151,45380,46819]
["Y15,M,SCOT",29133,30042,30589,31679,31767,31679,32236,32178,33004,32967,32129,32213,33414,33045,33417,33199,31623,31551,32101,33876,33110,32250,29746,29897,32327,32735,33696,36370,38901,41506,41858,43982,45118,46606,46229]
["Y16,M,SCOT",30163,30679,31729,31797,31917,32427,32428,33012,33039,32205,32158,33269,32735,33204,33268,31446,31223,31753,33644,32901,32058,29555,29604,31944,32486,33515,36212,38654,41333,41584,43620,44744,46159,45715,48685]
["Y17,M,SCOT",30796,31736,31885,32017,32818,32606,34379,32932,32877,32348,33176,32435,32888,32872,31514,31020,31359,33307,32577,31740,29270,29331,31600,32164,33200,35965,38222,40827,41193,43239,44329,45717,45109,48201,47385]
["Y18,M,SCOT",32041,32115,32249,32994,33467,35066,34940,33433,32913,33483,32475,32613,32447,31093,30950,31210,33084,32304,31400,28930,29096,31405,31772,32837,35570,37910,40295,40604,42736,43777,45183,44629,47550,47000,46227]
["Y19,M,SCOT",33634,33488,34226,34575,36402,36420,34200,34784,35111,33916,33818,33102,31634,31522,31984,33888,33340,32327,29713,29860,32311,32578,33546,36129,37894,40285,40217,42313,43421,44893,44188,47210,46525,45953,45619]
["Y20,M,SCOT",34514,34996,35337,37245,37785,35284,34306,36169,34631,34624,33988,32073,31979,32389,34395,33788,32620,29928,29963,32449,32835,33973,36328,38134,40461,40299,42004,43125,44738,44078,46975,46472,45782,45553,44538]
["Y21,M,SCOT",35638,35616,37629,38030,36354,35088,35327,34125,34279,34481,32769,32334,32708,34407,34058,32554,29861,29677,32152,32627,33878,36332,38106,40289,40199,41800,42623,44118,43682,46513,46033,45559,45271,44261,43882]
["Y22,M,SCOT",36142,37808,38353,36577,36117,35874,34565,34654,34147,32629,32725,32703,34407,33998,32430,29510,29219,31531,31926,33257,35850,37911,39963,39703,41367,42132,43389,42694,45842,45300,44950,44882,43890,43419,42370]
["Y23,M,SCOT",38305,38367,36745,36364,36710,34804,34883,34321,33060,32804,32763,34013,33461,32056,29015,28394,30713,31012,32166,34890,37189,39375,39220,40597,41563,42574,41610,44397,44364,44130,44090,43311,42783,41711,40591]
["Y24,M,SCOT",38562,36690,36372,36530,35129,34840,34261,33004,33074,33009,33947,33185,31654,28731,27811,29734,30113,31233,33917,36237,38549,38769,40034,40788,41959,40901,43254,43085,43265,43414,42667,42279,41043,39956,39140]
["Y25,M,SCOT",37083,36369,36485,34901,35166,34276,33100,33429,33460,33948,33124,31379,28496,27889,29307,29327,30516,33097,35387,37792,38128,39633,40357,41448,40329,42443,42131,42068,42581,42145,41661,40631,39450,38512,38160]
["Y26,M,SCOT",36676,36406,34909,34986,34410,33071,33400,33596,34110,32933,31345,28277,27604,29243,28969,29822,32434,34547,37073,37415,39128,39979,41145,39856,41802,41565,41211,41493,41630,41040,40096,39001,37940,37744,36135]
["Y27,M,SCOT",36683,34959,34994,34366,33302,33500,33674,34135,33309,31526,28581,27603,29234,29063,29749,31970,34058,36491,36751,38638,39682,41016,39641,41495,41163,40834,41025,40845,40611,39771,38708,37794,37513,35821,35827]
["Y28,M,SCOT",35205,34888,34409,33142,33649,33663,34148,33272,31853,28690,27777,29152,29009,29782,31758,33555,36085,36264,38170,39185,40715,39506,41283,40917,40471,40731,40347,39942,39288,38357,37498,37217,35416,35555,35202]
["Y29,M,SCOT",35146,34315,33164,33494,33865,33996,33308,32065,29076,27972,29356,29108,29722,31702,33338,35650,35866,37687,38749,40246,39201,41123,40678,40120,40331,40188,39655,38624,37800,37085,36916,35229,35188,34855,33821]
["Y30,M,SCOT",34548,33218,33506,33803,34091,33322,32299,29403,28516,29603,29409,29849,31726,33322,35438,35482,37366,38327,39853,38835,40851,40524,40002,40049,39901,39530,38285,37191,36622,36555,35033,34927,34596,33562,34815]
["Y31,M,SCOT",33488,33580,33834,33998,33372,32415,29657,28896,30128,29653,30127,31819,33421,35345,35372,37070,38068,39562,38508,40512,40309,40025,40024,39672,39365,38251,36894,36137,36242,34781,34725,34450,33354,34565,35130]
["Y32,M,SCOT",33813,33826,33993,33238,32617,29709,29053,30469,30109,30444,32114,33669,35322,35299,36882,37713,39363,38273,40227,39971,39784,39974,39590,39076,38077,36828,35909,35900,34475,34488,34347,33075,34224,34951,36297]
["Y33,M,SCOT",34009,33971,33254,32513,29904,29308,30641,30367,30881,32272,33911,35412,35334,36749,37511,38992,38090,39971,39687,39624,39852,39509,38984,37902,36596,35747,35709,34094,34254,34092,32875,34082,34678,36031,37814]
["Y34,M,SCOT",34142,33294,32423,29756,29660,30933,30623,31229,32728,34177,35664,35376,36793,37253,38979,37886,39774,39421,39435,39572,39214,38911,37871,36470,35652,35653,33928,33869,33706,32568,33930,34521,35763,37577,41185]
["Y35,M,SCOT",33487,32458,29739,29606,31290,30817,31532,33096,34555,35903,35526,36961,37379,38767,37826,39611,39369,39307,39408,39019,38707,37883,36509,35635,35592,33946,33819,33395,32310,33786,34412,35644,37279,40943,31863]
["Y36,M,SCOT",32708,29810,29749,31257,31209,31774,33418,34939,36299,35701,37133,37595,38850,37754,39511,39184,39222,39317,38815,38427,37790,36597,35689,35516,33801,33815,33311,31995,33557,34151,35502,37104,40738,31628,30567]
["Y37,M,SCOT",29894,29823,31303,31202,32165,33690,35184,36500,35931,37328,37811,38985,37892,39424,39122,39098,39253,38580,38177,37594,36577,35821,35481,33756,33778,33297,31882,33280,33985,35299,36952,40570,31423,30396,31809]
["Y38,M,SCOT",29942,31318,31290,32118,34009,35483,36690,36220,37613,38084,39120,38129,39631,38998,39110,39138,38471,37937,37418,36447,35816,35498,33791,33774,33201,31866,33224,33770,35089,36721,40436,31296,30229,31556,31090]
["Y39,M,SCOT",31434,31364,32161,33964,35796,36848,36451,37883,38428,39369,38441,39790,39144,39035,39121,38296,37785,37300,36380,35652,35455,33837,33846,33204,31753,33202,33650,34836,36566,40191,31231,30144,31297,30938,29290]
["Y40,M,SCOT",31390,32132,34002,35688,37075,36570,38019,38626,39599,38622,40014,39326,39173,39230,38174,37638,37209,36375,35605,35318,33922,33964,33275,31819,33156,33596,34754,36350,39961,31082,30116,31251,30804,29149,27789]
["Y41,M,SCOT",32144,33970,35703,36931,36731,38059,38739,39650,38795,40206,39521,39316,39259,38287,37491,37030,36386,35613,35254,33843,33912,33284,31867,33128,33549,34779,36330,39757,30955,29960,31197,30681,28961,27644,28926]
["Y42,M,SCOT",33994,35727,36932,36619,38207,38787,39695,39037,40444,39635,39515,39349,38236,37531,36990,36315,35579,35199,33775,33818,33248,31994,33143,33543,34710,36338,39748,30841,29811,31073,30610,28870,27510,28755,29120]
["Y43,M,SCOT",35763,36879,36650,38110,38979,39777,39134,40624,39802,39696,39432,38308,37532,37064,36308,35528,35177,33708,33768,33183,32034,33171,33599,34740,36291,39688,30840,29633,30940,30527,28796,27395,28596,28997,29259]
["Y44,M,SCOT",36869,36572,38057,38848,39881,39211,40702,39914,39808,39537,38475,37545,37055,36280,35595,35164,33728,33708,33163,32000,33171,33685,34743,36280,39652,30835,29623,30847,30379,28688,27279,28511,28895,29127,28523]
["Y45,M,SCOT",36546,38024,38813,39722,39324,40732,39939,39981,39684,38498,37569,37039,36251,35591,35049,33701,33633,33095,31969,33056,33606,34759,36238,39522,30680,29527,30723,30110,28471,27086,28344,28723,28934,28315,28503]
["Y46,M,SCOT",37963,38746,39642,39084,40854,39948,40036,39682,38539,37505,37049,36190,35542,35008,33712,33553,33032,31953,32941,33522,34767,36251,39509,30645,29464,30681,30021,28281,26997,28209,28610,28874,28239,28319,28312]
["Y47,M,SCOT",38692,39531,39065,40753,40034,40085,39695,38616,37545,37056,36245,35539,34981,33655,33537,33004,31972,32872,33390,34661,36182,39452,30630,29401,30572,29883,28219,26797,28056,28429,28751,28108,28126,28117,28173]
["Y48,M,SCOT",39457,38954,40697,39901,40211,39718,38602,37582,37151,36238,35565,34986,33537,33540,33003,31896,32814,33371,34585,36049,39354,30627,29328,30440,29755,28083,26703,27872,28275,28520,27972,27947,27908,27934,27904]
["Y49,M,SCOT",38907,40603,39830,40079,39785,38578,37543,37159,36285,35607,35003,33511,33412,32949,31924,32735,33341,34519,35909,39178,30548,29270,30419,29679,27949,26571,27808,28086,28328,27823,27817,27714,27769,27635,28817]
["Y50,M,SCOT",40490,39739,39961,39564,38604,37477,37132,36270,35624,34878,33482,33379,32855,31866,32664,33267,34452,35806,39050,30411,29207,30352,29593,27825,26423,27713,27956,28110,27642,27606,27530,27593,27388,28561,28804]
["Y51,M,SCOT",39635,39886,39487,38537,37508,37090,36246,35597,34878,33401,33344,32816,31743,32618,33168,34357,35629,38899,30328,29104,30257,29538,27734,26350,27567,27840,27962,27454,27420,27320,27433,27196,28304,28569,28552]
["Y52,M,SCOT",39711,39347,38383,37355,37006,36161,35551,34763,33401,33218,32786,31692,32468,33063,34264,35518,38724,30220,28954,30096,29431,27654,26264,27444,27694,27839,27314,27233,27128,27174,27005,28088,28315,28281,28386]
["Y53,M,SCOT",39209,38250,37310,36861,36150,35457,34679,33309,33164,32688,31638,32418,32921,34176,35413,38512,30051,28836,29916,29228,27497,26134,27334,27549,27648,27160,27111,26883,26907,26737,27849,28068,27954,28069,28082]
["Y54,M,SCOT",38177,37197,36720,35929,35429,34536,33175,33065,32577,31532,32309,32864,34055,35257,38429,29925,28706,29786,29046,27352,25969,27208,27413,27517,26976,26960,26743,26633,26467,27533,27837,27662,27754,27759,28114]
["Y55,M,SCOT",37015,36582,35735,35194,34422,32951,32950,32468,31434,32183,32788,33898,35117,38258,29821,28594,29679,28919,27174,25788,27055,27236,27372,26789,26787,26561,26430,26210,27225,27516,27370,27474,27367,27759,28780]
["Y56,M,SCOT",36388,35589,35055,34177,32817,32788,32336,31318,32092,32649,33806,35018,38071,29629,28429,29392,28655,26921,25557,26788,26989,27155,26609,26579,26308,26213,25983,26934,27154,27043,27166,26984,27362,28381,27977]
["Y57,M,SCOT",35448,34900,34006,32639,32635,32182,31175,31921,32495,33624,34912,37939,29491,28252,29258,28445,26702,25370,26523,26691,26900,26356,26363,26064,25900,25697,26661,26819,26661,26707,26555,26964,27888,27485,28060]
["Y58,M,SCOT",34653,33780,32454,32427,32019,31006,31686,32237,33458,34687,37734,29313,28024,29062,28241,26426,25148,26321,26416,26638,26095,26114,25776,25654,25450,26397,26571,26333,26360,26104,26575,27427,27005,27568,27169]
["Y59,M,SCOT",33567,32194,32115,31772,30867,31488,32065,33224,34483,37504,29115,27833,28868,27954,26230,24915,26095,26174,26393,25767,25847,25498,25348,25129,26068,26236,26047,25993,25686,26097,27019,26578,27000,26629,28581]
["Y60,M,SCOT",31963,31891,31503,30633,31303,31858,32961,34222,37278,28922,27600,28663,27667,25977,24634,25812,25911,26161,25441,25518,25221,25010,24780,25721,25890,25651,25659,25256,25687,26518,26066,26512,26018,28013,28293]
["Y61,M,SCOT",31625,31253,30354,30967,31584,32695,33899,37010,28743,27344,28418,27423,25671,24335,25596,25581,25851,25105,25198,24886,24623,24432,25318,25459,25270,25310,24929,25235,26062,25570,25949,25476,27420,27644,29191]
["Y62,M,SCOT",30952,30085,30664,31267,32416,33610,36658,28481,27007,28129,27097,25412,24017,25226,25280,25534,24731,24868,24531,24186,24041,24861,24998,24803,24900,24452,24797,25590,25039,25350,24918,26813,26937,28494,20397]
["Y63,M,SCOT",29767,30291,30912,31999,33316,36317,28143,26690,27752,26748,25055,23702,24825,24912,25136,24342,24473,24111,23785,23553,24368,24477,24264,24383,23920,24288,25128,24551,24746,24248,26177,26223,27760,19818,19464]
["Y64,M,SCOT",29940,30593,31574,32921,36009,27796,26298,27380,26444,24659,23339,24477,24522,24696,23976,24061,23724,23363,23038,23845,23928,23682,23800,23366,23761,24595,24028,24136,23596,25468,25507,27038,19191,18881,20772]
["Y65,M,SCOT",30116,31180,32495,35533,27452,25917,27008,26065,24331,22965,24097,24168,24246,23561,23651,23323,22881,22595,23239,23337,23117,23204,22777,23129,23998,23383,23550,22960,24747,24704,26257,18626,18245,20130,21449]
["Y66,M,SCOT",30668,31997,34939,27036,25535,26588,25596,23918,22551,23641,23756,23810,23086,23137,22881,22360,22048,22686,22726,22465,22612,22055,22463,23302,22727,22863,22382,23980,23891,25423,17967,17633,19414,20697,22613]
["Y67,M,SCOT",31496,34401,26516,25057,26152,25156,23491,22124,23205,23311,23297,22644,22604,22340,21881,21538,22059,22133,21827,21918,21327,21708,22520,21959,22094,21640,23238,23071,24597,17238,16950,18656,19899,21749,22174]
["Y68,M,SCOT",33786,26034,24538,25605,24717,23024,21684,22748,22865,22742,22102,22083,21829,21335,21010,21432,21432,21190,21224,20614,20967,21682,21152,21287,20907,22406,22330,23656,16561,16239,17941,19098,20856,21205,21551]
["Y69,M,SCOT",25421,24026,25112,24119,22559,21194,22168,22349,22258,21558,21546,21288,20714,20433,20832,20755,20522,20510,19924,20118,20932,20282,20445,20044,21492,21454,22759,15853,15581,17132,18298,19904,20241,20504,20436]
["Y70,M,SCOT",23449,24562,23567,21992,20669,21646,21725,21718,21005,20962,20740,20081,19836,20189,20080,19787,19765,19187,19298,20036,19437,19598,19142,20520,20567,21710,15179,14877,16394,17396,18917,19249,19484,19381,19297]
["Y71,M,SCOT",23965,22965,21384,20137,21051,21160,21168,20385,20329,20109,19448,19204,19549,19385,19104,19029,18391,18517,19192,18540,18768,18247,19559,19601,20673,14453,14201,15612,16518,17906,18214,18476,18294,18215,18446]
["Y72,M,SCOT",22259,20726,19514,20414,20558,20553,19770,19676,19487,18782,18532,18845,18649,18367,18246,17598,17665,18298,17673,17821,17343,18549,18653,19606,13693,13434,14836,15596,16949,17136,17368,17224,17117,17289,17453]
["Y73,M,SCOT",20048,18881,19729,19861,19950,19100,19039,18792,18144,17858,18155,17962,17594,17444,16801,16814,17380,16839,16844,16414,17522,17669,18495,12913,12701,13953,14737,15955,16094,16284,16085,16042,16154,16254,16190]
["Y74,M,SCOT",18201,19053,19198,19225,18436,18375,18099,17470,17208,17475,17179,16774,16592,15945,16009,16428,15939,15936,15463,16515,16687,17391,12096,11955,13068,13785,14969,15053,15189,14972,14914,15042,15088,15013,14575]
["Y75,M,SCOT",18333,18502,18461,17677,17632,17399,16746,16454,16729,16387,15951,15784,15066,15152,15621,15033,15018,14511,15531,15684,16355,11250,11061,12099,12853,13899,14025,14119,13914,13749,13918,13918,13822,13388,13257]
["Y76,M,SCOT",17682,17749,16900,16894,16697,16054,15714,15944,15628,15156,14994,14261,14307,14726,14176,14126,13526,14495,14636,15264,10532,10278,11157,11929,12944,12907,13102,12858,12679,12761,12779,12635,12259,12061,11868]
["Y77,M,SCOT",16944,16143,16114,15898,15340,14900,15167,14847,14289,14115,13404,13467,13774,13258,13250,12594,13510,13590,14167,9742,9452,10300,10969,11955,11874,11984,11824,11641,11664,11593,11524,11108,10931,10741,10509]
["Y78,M,SCOT",15270,15329,15043,14556,14169,14350,14043,13422,13302,12524,12619,12842,12378,12361,11694,12428,12603,13096,9032,8674,9464,10038,10890,10870,11002,10711,10641,10638,10483,10343,10037,9857,9659,9445,9246]
["Y79,M,SCOT",14474,14239,13712,13382,13550,13274,12570,12428,11714,11805,11896,11489,11454,10787,11453,11650,12046,8311,7869,8595,9197,9870,9848,9981,9724,9574,9694,9457,9266,8913,8831,8638,8461,8225,7975]
["Y80,M,SCOT",13378,12867,12504,12704,12446,11684,11590,10943,10938,11005,10571,10556,9843,10496,10662,11046,7590,7179,7800,8281,8910,8836,8984,8729,8590,8660,8540,8268,7934,7820,7679,7474,7242,7007,6783]
["Y81,M,SCOT",11995,11713,11799,11587,10829,10750,10049,10070,10087,9713,9661,8934,9515,10120,10060,6870,6457,7004,7403,7978,7957,8043,7755,7667,7696,7541,7368,7031,6911,6716,6583,6347,6128,5885,5731]
["Y82,M,SCOT",10877,10949,10676,9980,9906,9237,9272,9206,8876,8777,8075,8566,9138,9245,6242,5769,6306,6584,7075,7056,7176,6799,6746,6785,6601,6409,6158,6035,5870,5709,5533,5340,5100,4915,4499]
["Y83,M,SCOT",10003,9748,9154,9045,8414,8483,8345,7985,7930,7250,7710,8199,8238,5604,5104,5588,5771,6261,6193,6254,5961,5863,5934,5687,5592,5253,5204,5065,4979,4754,4632,4376,4194,3786,3633]
["Y84,M,SCOT",8767,8345,8123,7598,7587,7501,7186,7114,6510,6873,7260,7299,4934,4679,4905,5021,5433,5458,5437,5172,5106,5045,4920,4801,4496,4425,4359,4258,4068,3897,3734,3553,3157,3029,3019]
["Y85,M,SCOT",7412,7275,6752,6730,6686,6455,6330,5755,6038,6420,6437,4321,4048,4449,4334,4726,4670,4703,4424,4374,4306,4204,4070,3808,3776,3603,3594,3448,3283,3086,2984,2627,2532,2486,2471]
["Y86,M,SCOT",6435,6019,5937,5891,5694,5558,5036,5267,5596,5651,3743,3494,3834,3810,4077,4000,3951,3815,3681,3666,3565,3420,3186,3166,3046,2979,2888,2734,2540,2424,2144,2071,2049,1985,2042]
["Y87,M,SCOT",5175,5217,5109,4939,4839,4383,4594,4851,4820,3199,2994,3233,3216,3497,3381,3316,3178,3102,3081,2947,2880,2612,2603,2518,2489,2263,2250,2069,1961,1701,1670,1658,1609,1642,1639]
["Y88,M,SCOT",4389,4444,4223,4068,3771,3977,4153,4094,2707,2477,2686,2727,2930,2834,2778,2568,2568,2549,2455,2381,2146,2098,2028,2026,1853,1821,1664,1526,1342,1303,1323,1266,1318,1291,1250]
["Y89,M,SCOT",3715,3624,3452,3198,3367,3486,3414,2271,2073,2229,2239,2431,2312,2303,2111,2086,2112,1997,1902,1682,1706,1613,1608,1514,1490,1278,1186,1040,1022,1009,977,1036,1002,950,968]
["Y_OPEN,M,SCOT",11423,10987,10316,9844,9052,8029,6924,6719,6698,6616,6408,6037,5838,5536,6367,5944,5524,5201,4837,4625,4424,4122,3936,3704,3329,3271,3154,3059,2985,2940,2990,2850,2764,2732,2712]
["TOTAL,F,SCOT",2762531,2751070,2741020,2736310,2729600,2713979,2699930,2687596,2673442,2657981,2648918,2637697,2630395,2630357,2630467,2631014,2635415,2638079,2641018,2645170,2650337,2648868,2644041,2640348,2638815,2637405,2635025,2633121,2643617,2649449,2658376,2664257,2669045,2677205,2685340]
["Y_LT1,F,SCOT",27236,27321,27869,28444,29488,29251,29117,29212,27721,26917,26408,26000,25318,25083,25682,25835,27451,28040,28992,28495,29426,30702,31396,32611,32083,31080,31303,32099,31984,32301,32064,31049,31699,32590,68529]
["Y1,F,SCOT",27543,28092,28533,29592,28294,29119,29162,27861,27109,26521,26132,25435,25138,25796,25618,27230,27956,28849,28431,29250,30575,31378,32557,32040,31006,31284,32068,31686,32196,31946,30811,31619,32325,33052,32581]
["Y2,F,SCOT",28286,28685,29689,28358,29190,29074,27869,27194,26712,26155,25562,25256,25898,25763,27064,27846,28685,28447,29097,30389,31323,32519,32076,30948,31236,32135,31801,31955,31753,30665,31362,32197,32902,32426,30995]
["Y3,F,SCOT",28838,29816,28455,29291,29061,27834,27251,26771,26293,25618,25375,26056,25915,27209,27742,28499,28420,28977,30282,31181,32419,32101,31004,31155,32103,31868,32001,31457,30452,31178,31987,32825,32279,30878,29205]
["Y4,F,SCOT",29987,28605,29298,29118,27807,27287,26864,26348,25752,25467,26253,26118,27303,27870,28383,28347,28893,30160,31005,32257,32070,31091,31103,32049,31868,32075,31504,30253,31078,31930,32623,32164,30845,29106,28643]
["Y5,F,SCOT",28696,29399,29221,27832,27372,26915,26356,25812,25583,26322,26275,27435,27901,28506,28336,28808,30044,30868,32115,32046,31060,31150,32077,31823,32089,31598,30251,30918,31798,32504,32063,30814,29069,28565,31299]
["Y6,F,SCOT",29517,29335,27917,27403,26912,26382,25828,25697,26518,26402,27585,28106,28639,28374,28769,29925,30812,32086,31941,30963,31155,32116,31845,32060,31575,30337,30992,31633,32342,32001,30727,29059,28512,31176,32077]
["Y7,F,SCOT",29452,27999,27488,26941,26373,25840,25738,26687,26637,27727,28299,28867,28519,28842,29871,30679,32031,31897,30952,31045,32060,31914,32062,31616,30314,31073,31756,32200,31921,30669,29000,28501,31186,32018,32738]
["Y8,F,SCOT",28133,27562,26995,26409,25846,25774,26779,26797,27936,28426,29027,28665,28965,29953,30623,31914,31856,30931,30962,31950,31908,32121,31720,30335,31036,31822,32308,31778,30593,28907,28372,31080,31934,32632,35159]
["Y9,F,SCOT",27664,27099,26445,25876,25804,26869,26974,28096,28595,29172,28837,29080,30039,30725,31859,31833,30952,30916,31898,31862,32117,31879,30393,30988,31800,32415,31862,30470,28860,28306,31042,31916,32545,35105,38287]
["Y10,F,SCOT",27181,26530,25925,25819,26930,27106,28198,28725,29380,29000,29249,30170,30817,32098,31848,30956,30845,31840,31833,32067,31972,30495,30956,31683,32468,32013,30554,28816,28270,30946,31865,32486,35073,38180,40381]
["Y11,F,SCOT",26648,26014,25841,26975,27206,28304,28889,29565,29167,29317,30332,30945,32171,32003,31026,30856,31798,31782,32021,31976,30508,30928,31636,32457,32027,30636,28936,28240,30915,31749,32454,35030,38094,40300,40762]
["Y12,F,SCOT",26072,25881,27015,27239,28397,28960,29698,29258,29507,30502,31036,32243,31981,31012,30845,31767,31707,31988,31988,30467,30868,31601,32511,32040,30661,29026,28289,30825,31658,32390,34966,38008,40311,40715,42130]
["Y13,F,SCOT",25940,27064,27282,28404,29033,29789,29394,29669,30533,31000,32176,32136,31061,30851,31752,31702,31966,32027,30406,30756,31524,32451,32056,30640,29051,28353,30853,31579,32324,34843,37962,40230,40639,42078,43476]
["Y14,F,SCOT",27142,27371,28437,29073,29934,29475,29804,30640,31160,32232,31910,31017,30842,31770,31713,31927,32051,30402,30643,31394,32402,32082,30644,29002,28345,30892,31605,32210,34744,37875,40168,40588,42010,43396,43879]
["Y15,F,SCOT",27457,28522,29118,29982,29584,29922,30760,31381,32391,31806,30888,30900,31782,31625,31960,32125,30393,30561,31265,32318,32081,30638,28998,28328,30898,31645,32257,34661,37766,40091,40554,41966,43334,43817,43894]
["Y16,F,SCOT",28597,29155,30032,29632,30055,30847,31655,32414,31885,30946,30968,31782,31519,31873,32125,30393,30447,31104,32181,32000,30610,28999,28274,30769,31619,32253,34646,37606,40035,40479,41863,43293,43702,43772,46361]
["Y17,F,SCOT",29278,30087,29698,30120,31165,31812,34055,32277,31618,31139,31885,31413,31648,31877,30324,30378,30957,32045,31930,30527,28873,28277,30681,31510,32141,34531,37500,39793,40316,41672,43087,43554,43587,46126,45919]
["Y18,F,SCOT",30535,30047,30463,31417,33036,34941,34075,32339,31880,32372,31674,31611,31628,30199,30180,30918,31989,31619,30346,28762,28292,30667,31349,31797,34081,37268,39572,39985,41545,42812,43184,43318,45839,45692,44822]
["Y19,F,SCOT",32349,32400,33510,34723,36620,36110,33621,34373,34522,33861,33611,33222,31222,31312,31883,33319,33260,31745,30077,29533,32138,32655,32951,34925,37231,39760,39780,41170,42652,42873,42917,45623,45305,44627,44173]
["Y20,F,SCOT",33917,34790,35760,37833,37513,35076,34170,35736,35201,34748,34428,32195,32095,32826,33931,33887,32307,30592,29947,32542,33343,33674,35479,37701,39892,40031,40957,42415,42747,42835,45397,45244,44419,43842,43551]
["Y21,F,SCOT",35729,36286,38347,38211,36386,35282,35598,35013,34705,35204,33374,32901,33529,34386,33983,32352,30631,29911,32290,33278,33764,35707,37910,39815,39902,40946,42133,42217,42511,45012,44800,44227,43420,43035,42042]
["Y22,F,SCOT",36999,38810,38391,36778,36450,36499,35490,35066,34996,33319,33633,33762,34439,33950,32109,30242,29633,31801,32947,33462,35523,37868,39655,39518,40721,41871,41667,41700,44341,44195,43642,43014,42568,41667,41338]
["Y23,F,SCOT",39180,38491,36775,36778,37038,35768,35165,34964,33586,33542,33984,34026,33263,31417,29512,28822,30965,32005,32498,34857,37414,39268,39116,40239,41551,41276,40922,43192,43400,42875,42266,42150,40998,40636,39828]
["Y24,F,SCOT",38684,36687,36568,36991,36098,35201,34990,33658,33892,34045,34057,32933,30950,29015,28151,30322,31320,31753,34246,36848,38935,38855,39961,41009,41089,40757,42434,42500,42173,41614,41711,40610,40095,39247,38152]
["Y25,F,SCOT",37064,36488,36920,36026,35492,35229,33811,34238,34608,34135,33189,30933,28797,27941,30133,30983,31389,33791,36520,38611,38649,39929,40832,40916,40733,42421,42089,41384,41100,41292,40265,39873,38879,37766,36938]
["Y26,F,SCOT",36851,36947,35849,35469,35491,33969,34519,34902,34452,33301,31158,28973,27931,30129,30818,31176,33615,36231,38253,38265,39827,40847,40893,40573,42409,42209,41182,40409,40888,39939,39617,38699,37419,36680,35674]
["Y27,F,SCOT",37156,35962,35426,35527,34274,34777,35119,34636,33791,31371,29272,28180,30155,30842,31180,33483,36174,38034,38064,39525,40828,41073,40700,42278,42233,41297,40424,40401,39652,39389,38465,37303,36479,35398,35386]
["Y28,F,SCOT",36203,35496,35554,34356,35002,35393,34864,33978,31865,29539,28416,30319,30842,31242,33509,36013,37985,37949,39359,40694,41084,40912,42314,42185,41452,40602,40466,39259,39072,38294,37217,36383,35044,35215,34628]
["Y29,F,SCOT",35819,35728,34365,35065,35698,35019,34102,32248,30026,28726,30590,31122,31402,33537,36124,37993,37906,39240,40664,41053,40982,42401,42229,41465,40643,40665,39216,38686,38073,37004,36218,35059,34990,34407,33546]
["Y30,F,SCOT",35985,34596,35135,35740,35146,34211,32624,30453,29183,30782,31381,31579,33698,36222,38051,37880,39317,40582,40976,40857,42342,42361,41562,40567,40778,39473,38693,37744,36819,35973,34931,34797,34156,33425,34373]
["Y31,F,SCOT",34788,35244,35749,35176,34479,32834,30666,29487,31146,31588,31771,33856,36288,38128,37895,39326,40619,40931,40792,42220,42423,41747,40673,40706,39612,38823,37801,36542,35846,34748,34718,34108,33264,34272,34566]
["Y32,F,SCOT",35445,35894,35210,34555,33073,30892,29683,31440,31948,31949,34109,36547,38207,38016,39509,40565,40898,40816,42129,42377,41880,40819,40763,39607,38890,37987,36753,35621,34614,34540,34009,33125,34102,34401,35848]
["Y33,F,SCOT",36123,35357,34565,33008,31212,29939,31730,32169,32297,34309,36806,38498,38102,39630,40615,40886,40868,42126,42308,41850,40847,40878,39678,38895,38057,36944,35663,34438,34361,33817,33028,33967,34224,35699,37513]
["Y34,F,SCOT",35559,34702,33040,31150,30232,31969,32478,32608,34664,37010,38782,38296,39696,40652,40985,40933,42146,42272,41865,40809,40872,39774,39038,38132,36986,35824,34463,34182,33681,32856,33938,34127,35595,37397,40860]
["Y35,F,SCOT",34827,33173,31216,30272,32242,32670,32794,34890,37340,38906,38407,39830,40655,40984,40997,42080,42221,41873,40781,40763,39737,39122,38242,36993,35816,34626,34266,33532,32733,33774,34082,35597,37231,40710,31690]
["Y36,F,SCOT",33371,31315,30286,32288,32892,32937,34998,37544,39167,38649,39974,40799,41039,41054,42137,42229,41964,40830,40719,39590,39199,38371,37007,35875,34617,34326,33589,32629,33638,33924,35548,37115,40577,31540,30464]
["Y37,F,SCOT",31469,30322,32306,32915,33168,35134,37727,39337,38818,40136,41032,41155,41104,42174,42356,42018,40860,40661,39490,39097,38382,37104,35917,34666,34374,33693,32720,33483,33806,35445,37082,40501,31396,30398,31699]
["Y38,F,SCOT",30486,32388,32913,33108,35265,37905,39532,38996,40360,41128,41242,41211,42230,42390,42155,40871,40570,39475,39076,38351,37182,36014,34736,34339,33675,32776,33521,33709,35325,36942,40462,31298,30311,31658,31623]
["Y39,F,SCOT",32519,32986,33147,35259,38065,39664,39157,40469,41290,41296,41347,42362,42420,42128,40897,40533,39371,39037,38298,37192,36050,34824,34403,33694,32763,33579,33756,35166,36810,40317,31245,30231,31608,31527,30073]
["Y40,F,SCOT",33069,33188,35306,38032,39755,39195,40510,41417,41414,41370,42499,42496,42174,40885,40538,39310,39050,38325,37158,36029,34801,34496,33729,32772,33555,33817,35222,36659,40242,31148,30188,31532,31413,29926,28733]
["Y41,F,SCOT",33203,35391,38015,39781,39275,40628,41475,41465,41466,42574,42639,42262,40916,40501,39238,39031,38297,37138,35961,34745,34494,33747,32777,33559,33814,35247,36689,40064,31055,30062,31434,31285,29798,28632,30091]
["Y42,F,SCOT",35427,38049,39754,39211,40695,41546,41426,41551,42641,42637,42355,40966,40450,39139,39094,38263,37119,35966,34668,34480,33758,32763,33612,33823,35237,36751,40110,30885,29995,31308,31201,29678,28523,29939,30063]
["Y43,F,SCOT",38100,39814,39180,40683,41588,41443,41548,42696,42728,42418,41036,40477,39084,39029,38296,37125,35916,34647,34423,33690,32757,33623,33857,35244,36753,40081,30924,29867,31170,31129,29589,28425,29836,29951,30039]
["Y44,F,SCOT",39866,39166,40677,41568,41478,41526,42731,42788,42443,41010,40564,39069,39004,38233,37164,35900,34653,34420,33637,32709,33627,33919,35173,36732,40033,30929,29862,31049,31046,29458,28361,29732,29878,29926,30199]
["Y45,F,SCOT",39186,40739,41555,41439,41500,42776,42814,42448,41076,40495,39099,39044,38178,37144,35887,34615,34379,33607,32674,33557,33912,35173,36718,39958,30904,29836,31061,30889,29411,28246,29579,29800,29832,30089,29952]
["Y46,F,SCOT",40757,41548,41409,41471,42830,42793,42432,41101,40506,39083,39091,38140,37085,35875,34601,34360,33583,32625,33515,33859,35112,36682,39935,30881,29797,31012,30859,29290,28130,29470,29728,29751,29940,29818,29638]
["Y47,F,SCOT",41536,41405,41412,42777,42788,42422,41139,40463,39087,39087,38141,37144,35867,34616,34366,33556,32581,33468,33812,35056,36588,39944,30835,29769,30988,30818,29284,28025,29384,29623,29696,29810,29651,29525,29182]
["Y48,F,SCOT",41359,41412,42752,42727,42389,41058,40402,39077,39108,38082,37154,35891,34584,34261,33566,32547,33452,33800,34968,36498,39877,30806,29768,30974,30778,29233,28011,29243,29503,29558,29673,29553,29395,29085,29375]
["Y49,F,SCOT",41415,42716,42642,42313,41054,40346,38973,39086,38073,37082,35953,34601,34195,33552,32563,33389,33779,34888,36384,39737,30786,29799,30952,30709,29149,27969,29206,29394,29444,29516,29456,29287,28941,29259,30708]
["Y50,F,SCOT",42710,42583,42239,40990,40323,38894,39023,38074,37107,35926,34593,34236,33534,32544,33331,33714,34826,36274,39617,30715,29735,30934,30688,29119,27857,29167,29354,29309,29394,29311,29165,28810,29095,30532,30663]
["Y51,F,SCOT",42507,42209,40890,40246,38809,38972,38010,37035,35977,34598,34252,33625,32549,33335,33670,34744,36164,39523,30617,29670,30858,30684,29093,27793,29060,29302,29253,29248,29173,29009,28678,28951,30355,30499,30963]
["Y52,F,SCOT",42096,40849,40163,38681,38896,37965,36946,35936,34569,34203,33604,32534,33292,33608,34658,36093,39415,30546,29616,30767,30607,29025,27762,28984,29208,29204,29215,29030,28868,28522,28818,30162,30339,30766,30613]
["Y53,F,SCOT",40748,40042,38630,38797,37861,36843,35856,34550,34179,33599,32561,33280,33550,34591,36024,39316,30508,29594,30667,30505,28930,27666,28902,29133,29093,29121,28953,28744,28354,28638,29979,30180,30552,30400,30046]
["Y54,F,SCOT",40010,38533,38653,37747,36731,35713,34489,34127,33575,32551,33293,33544,34574,35955,39262,30417,29522,30604,30401,28759,27607,28808,29043,28993,28958,28827,28702,28220,28476,29775,30031,30367,30180,29838,30446]
["Y55,F,SCOT",38491,38638,37652,36631,35637,34396,34020,33509,32552,33243,33473,34622,35890,39211,30356,29434,30497,30300,28619,27541,28704,28947,28894,28859,28685,28576,28175,28268,29572,29860,30171,29982,29637,30230,31183]
["Y56,F,SCOT",38544,37505,36525,35516,34292,33939,33450,32490,33211,33336,34588,35893,39128,30258,29402,30390,30202,28500,27411,28579,28811,28749,28693,28531,28429,28021,28139,29416,29686,29958,29756,29395,29958,30915,30244]
["Y57,F,SCOT",37401,36353,35367,34170,33842,33345,32421,33116,33252,34498,35854,39127,30158,29285,30316,30078,28385,27296,28426,28649,28572,28544,28451,28295,27874,27942,29309,29485,29725,29484,29154,29716,30630,30018,30754]
["Y58,F,SCOT",36225,35222,34019,33667,33239,32306,32969,33113,34411,35735,39020,30068,29141,30219,29922,28254,27216,28329,28456,28382,28388,28315,28162,27723,27730,29092,29316,29459,29246,28896,29465,30368,29763,30426,30260]
["Y59,F,SCOT",35088,33890,33494,33103,32154,32867,32968,34284,35631,38927,29998,29085,30105,29819,28163,27065,28192,28310,28237,28176,28176,27991,27561,27547,28849,29088,29317,28985,28658,29125,30064,29468,30088,29959,31972]
["Y60,F,SCOT",33757,33337,32949,32018,32717,32788,34108,35498,38866,29863,28994,29948,29711,27988,26942,28073,28147,28044,27983,27966,27829,27375,27314,28656,28840,29081,28809,28388,28867,29728,29180,29716,29634,31627,33018]
["Y61,F,SCOT",33157,32795,31828,32489,32585,33913,35259,38711,29712,28842,29748,29653,27835,26754,27873,27949,27830,27751,27713,27619,27163,27151,28422,28573,28802,28558,28207,28569,29433,28841,29358,29298,31235,32581,34812]
["Y62,F,SCOT",32625,31620,32267,32325,33718,35067,38480,29497,28662,29521,29465,27719,26561,27668,27759,27571,27533,27533,27400,26933,26911,28164,28254,28471,28240,27891,28344,29083,28517,28945,28926,30825,32152,34313,25021]
["Y63,F,SCOT",31416,32047,32116,33484,34827,38269,29246,28487,29298,29230,27556,26386,27430,27499,27352,27251,27272,27155,26645,26640,27880,27944,28136,27888,27540,28045,28749,28174,28524,28530,30400,31655,33807,24612,23992]
["Y64,F,SCOT",31796,31898,33142,34520,37988,29001,28255,28998,28977,27306,26172,27225,27272,27126,27003,27062,26898,26410,26330,27567,27628,27791,27515,27175,27644,28350,27888,28123,28108,29963,31105,33308,24163,23580,25461]
["Y65,F,SCOT",31652,32831,34203,37638,28758,27995,28715,28723,27060,25877,26954,27027,26866,26739,26785,26613,26106,26004,27203,27225,27361,27148,26775,27195,27917,27468,27737,27663,29493,30548,32783,23729,23106,24976,27038]
["Y66,F,SCOT",32522,33880,37221,28419,27718,28404,28427,26762,25593,26606,26696,26574,26439,26461,26357,25824,25641,26845,26822,26931,26751,26312,26702,27461,27036,27233,27285,29004,30019,32153,23230,22639,24461,26500,29028]
["Y67,F,SCOT",33509,36829,28092,27334,28097,28073,26433,25258,26279,26315,26264,26152,26134,25948,25535,25291,26473,26413,26478,26278,25802,26191,26967,26504,26712,26833,28506,29370,31542,22674,22147,23945,25926,28375,28901]
["Y68,F,SCOT",36395,27792,26976,27716,27702,26105,24923,25940,25912,25919,25797,25741,25574,25173,24952,26024,25949,26074,25821,25217,25649,26402,25964,26179,26264,27896,28848,30854,22130,21631,23393,25364,27682,28185,27871]
["Y69,F,SCOT",27390,26607,27290,27288,25723,24530,25559,25516,25532,25393,25329,25181,24728,24472,25580,25478,25598,25315,24645,25101,25825,25400,25646,25654,27234,28196,30140,21563,21110,22771,24727,27006,27436,27094,27091]
["Y70,F,SCOT",26145,26889,26848,25295,24164,25121,25115,25062,24996,24870,24763,24321,24039,25087,25004,25072,24767,24038,24502,25227,24803,24986,24984,26516,27502,29332,21055,20572,22135,23994,26233,26667,26316,26247,26582]
["Y71,F,SCOT",26437,26353,24811,23729,24691,24653,24650,24561,24440,24290,23813,23495,24574,24493,24546,24179,23416,23845,24604,24080,24328,24271,25795,26713,28560,20499,20058,21502,23290,25381,25833,25522,25418,25740,26267]
["Y72,F,SCOT",25808,24356,23200,24164,24184,24148,24034,23950,23735,23251,22994,23983,23893,23951,23626,22762,23133,23988,23394,23714,23515,25017,25943,27666,19818,19453,20877,22598,24544,24919,24683,24543,24846,25326,25504]
["Y73,F,SCOT",23817,22731,23624,23670,23655,23497,23414,23218,22697,22459,23407,23236,23263,22960,22103,22410,23262,22743,23042,22791,24235,25147,26749,19159,18777,20106,21896,23654,24049,23732,23630,23934,24334,24459,24442]
["Y74,F,SCOT",22197,23119,23045,23056,23009,22841,22646,22064,21830,22722,22533,22591,22226,21389,21659,22495,21993,22328,22034,23390,24283,25785,18473,18081,19354,21092,22791,23120,22836,22628,22958,23389,23425,23411,22638]
["Y75,F,SCOT",22467,22464,22409,22378,22244,22060,21457,21189,22034,21821,21870,21532,20687,20922,21741,21238,21547,21206,22491,23332,24777,17765,17321,18517,20323,21833,22223,21870,21672,21890,22373,22418,22348,21600,22099]
["Y76,F,SCOT",21828,21773,21688,21631,21406,20769,20484,21290,21091,21076,20737,19893,20119,20941,20487,20724,20351,21573,22377,23762,17035,16538,17672,19463,20869,21116,20926,20647,20895,21248,21356,21300,20465,20950,20717]
["Y77,F,SCOT",21054,21048,20871,20634,20067,19823,20530,20357,20295,19893,19083,19340,20086,19601,19951,19434,20670,21422,22768,16275,15741,16795,18490,19857,20101,19863,19580,19894,20178,20201,20196,19363,19762,19513,19414]
["Y78,F,SCOT",20223,20140,19857,19314,19046,19807,19554,19392,19097,18255,18487,19140,18725,18993,18564,19693,20372,21650,15474,14896,15934,17517,18765,19022,18783,18457,18835,19075,19075,18991,18284,18641,18325,18162,17730]
["Y79,F,SCOT",19294,19027,18488,18235,18993,18664,18513,18224,17429,17587,18256,17747,17983,17645,18679,19257,20521,14649,14061,15009,16527,17644,17954,17697,17347,17698,17995,17942,17862,17072,17510,17124,16990,16512,16297]
["Y80,F,SCOT",18099,17698,17317,18188,17802,17560,17269,16568,16676,17310,16780,17034,16652,17601,18253,19297,13794,13257,14049,15507,16630,16798,16524,16260,16543,16745,16754,16670,15933,16286,15929,15780,15328,15013,15094]
["Y81,F,SCOT",16862,16495,17174,16851,16639,16317,15653,15744,16254,15729,16013,15632,16490,17882,18129,12885,12350,13132,14465,15487,15686,15295,15091,15391,15569,15489,15442,14779,15140,14651,14561,14209,13781,13797,13650]
["Y82,F,SCOT",15520,16232,15812,15644,15284,14750,14755,15234,14710,14970,14582,15391,16643,17455,12064,11415,12160,13453,14354,14528,14196,13981,14162,14443,14294,14065,13590,13962,13517,13301,13022,12614,12556,12380,11349]
["Y83,F,SCOT",15113,14845,14599,14261,13764,13766,14158,13650,13816,13520,14198,15395,16121,11310,10490,11189,12398,13265,13349,13022,12883,12957,13213,13101,12809,12313,12722,12318,12158,11777,11437,11417,11217,10144,10014]
["Y84,F,SCOT",13727,13551,13167,12769,12725,13089,12558,12702,12454,13034,14137,14768,10351,9956,10220,11355,12093,12221,11868,11690,11750,11980,11937,11603,11076,11426,11143,10950,10681,10244,10289,10087,9029,8905,8759]
["Y85,F,SCOT",12409,12130,11622,11769,11956,11488,11586,11335,11858,12926,13489,9435,9003,9576,10262,10926,11075,10770,10560,10573,10842,10796,10471,9949,10222,9842,9864,9543,9172,9134,8995,7956,7859,7687,7686]
["Y86,F,SCOT",10990,10622,10684,10846,10446,10485,10270,10733,11652,12264,8550,8084,8543,9319,9843,9976,9601,9444,9410,9660,9692,9299,8774,9034,8756,8705,8498,8101,8123,7901,6967,6881,6670,6649,6187]
["Y87,F,SCOT",9497,9633,9680,9382,9487,9208,9527,10419,11008,7636,7175,7563,8235,8647,8960,8445,8294,8330,8534,8576,8224,7633,7891,7703,7623,7365,7148,7165,6962,5943,5989,5739,5711,5221,5156]
["Y88,F,SCOT",8466,8654,8253,8392,8188,8425,9237,9701,6665,6320,6594,7162,7534,7879,7411,7190,7167,7479,7453,7136,6689,6786,6684,6635,6376,6066,6253,5986,5061,5040,4898,4871,4385,4256,4329]
["Y89,F,SCOT",7524,7211,7326,7107,7441,8137,8462,5783,5505,5750,6162,6540,6761,6287,6252,6132,6425,6502,6165,5725,5877,5713,5669,5460,5178,5285,5115,4269,4225,4047,4078,3610,3480,3509,3371]
["Y_OPEN,F,SCOT",28372,28565,27374,27061,26117,24274,21747,21756,22069,22387,22119,21771,21311,21171,23018,22352,21571,20886,20170,19731,19147,18360,17782,16975,16130,14881,14233,13641,13042,12267,12008,11707,11429,10977,10859]
[]
[]
[]
[]
[1,2,3,4,5,6,7,8,9,10,11,12,13,14,15,16,17,18,19,20,21,22,23,24,25,26,27,28,29,30,31,32,33,34,35,36]

{"sheet":"Risk","index":16,"n_rows":108,"n_cols":15,"rows_kept":108,"cut":false,"hidden":true,"merged":[]}
["Risk stratification"]
[]
[]
[null,null,null,null,"Set own options",null,null,null,null,"Set blanket risk %",null,"Scotland","Scotland","Scotland","Scotland"]
[1,null,null,null,"override",null,null,null,null,"override all",null,"SCOT","SCOT","SCOT","SCOT"]
[2,null,"age",null,"BNF10+","BNF10+ & High Risk Med","BNF 5-9","BNF 5-9 & High Risk Med",null,{"$f":"'manual data input'!G6","v":0},null,"BNF10+","BNF10+ & High Risk Med","BNF 5-9","BNF 5-9 & High Risk Med"]
[3,null,0,"Y_LT1",{"$f":"'manual data input'!D6","v":0},{"$f":"'manual data input'!E6","v":0},null,null,null,{"$f":"$J$6","v":0}]
[4,null,1,"Y1",{"$f":"'manual data input'!D7","v":0},{"$f":"'manual data input'!E7","v":0},null,null,null,{"$f":"$J$6","v":0}]
[5,null,2,"Y2",{"$f":"'manual data input'!D8","v":0},{"$f":"'manual data input'!E8","v":0},null,null,null,0]
[6,null,3,"Y3",{"$f":"'manual data input'!D9","v":0},{"$f":"'manual data input'!E9","v":0},null,null,null,0]
[7,null,4,"Y4",{"$f":"'manual data input'!D10","v":0},{"$f":"'manual data input'!E10","v":0},null,null,null,0]
[8,null,5,"Y5",{"$f":"'manual data input'!D11","v":0},{"$f":"'manual data input'!E11","v":0},null,null,null,0]
[9,null,6,"Y6",{"$f":"'manual data input'!D12","v":0},{"$f":"'manual data input'!E12","v":0},null,null,null,0]
[10,null,7,"Y7",{"$f":"'manual data input'!D13","v":0},{"$f":"'manual data input'!E13","v":0},null,null,null,0]
[11,null,8,"Y8",{"$f":"'manual data input'!D14","v":0},{"$f":"'manual data input'!E14","v":0},null,null,null,0]
[12,null,9,"Y9",{"$f":"'manual data input'!D15","v":0},{"$f":"'manual data input'!E15","v":0},null,null,null,0]
[13,null,10,"Y10",{"$f":"'manual data input'!D16","v":0},{"$f":"'manual data input'!E16","v":0},null,null,null,0]
[14,null,11,"Y11",{"$f":"'manual data input'!D17","v":0},{"$f":"'manual data input'!E17","v":0},null,null,null,0]
[15,null,12,"Y12",{"$f":"'manual data input'!D18","v":0},{"$f":"'manual data input'!E18","v":0},null,null,null,0]
[16,null,13,"Y13",{"$f":"'manual data input'!D19","v":0},{"$f":"'manual data input'!E19","v":0},null,null,null,0,null,8.1688223281143636E-4,5.786249149081008E-4,1.6337644656228727E-3,9.8706603131381893E-4]
[17,null,14,"Y14",{"$f":"'manual data input'!D20","v":0},{"$f":"'manual data input'!E20","v":0},null,null,null,0,null,6.6584545726936775E-4,4.8273795652029164E-4,1.4648600059926091E-3,1.0487065951992542E-3]
[18,null,15,"Y15",{"$f":"'manual data input'!D21","v":0},{"$f":"'manual data input'!E21","v":0},null,null,null,0,null,1.0227563283047815E-3,6.7118384045001275E-4,1.9496292508309895E-3,1.2784454103809768E-3]
[19,null,16,"Y16",{"$f":"'manual data input'!D22","v":0},{"$f":"'manual data input'!E22","v":0},null,null,null,0,null,1.0457238985799372E-3,8.9416971037994638E-4,2.318779079459861E-3,1.9095827713198855E-3]
[20,null,17,"Y17",{"$f":"'manual data input'!D23","v":0},{"$f":"'manual data input'!E23","v":0},null,null,null,0,null,1.1544475457029709E-3,1.0229282050532654E-3,2.3381216115503207E-3,1.8997238093846356E-3]
[21,null,18,"Y18",{"$f":"'manual data input'!D24","v":0},{"$f":"'manual data input'!E24","v":0},null,null,null,0,null,1.1209662729272634E-3,9.8084548881135548E-4,2.2279204674429359E-3,1.7935460366836212E-3]
[22,null,19,"Y19",{"$f":"'manual data input'!D25","v":0},{"$f":"'manual data input'!E25","v":0},null,null,null,0,null,1.5996499911130556E-3,1.3125333260414814E-3,2.8438222064232099E-3,2.2832610984263274E-3]
[23,null,20,"Y20",{"$f":"'manual data input'!D26","v":0},{"$f":"'manual data input'!E26","v":0},null,null,null,0,null,1.3551009872878621E-3,1.1486094082725688E-3,2.5940504613796217E-3,2.1294444085952118E-3]
[24,null,21,"Y21",{"$f":"'manual data input'!D27","v":0},{"$f":"'manual data input'!E27","v":0},null,null,null,0,null,1.2945654143903891E-3,1.2298371436708696E-3,2.511456903917355E-3,2.16192424203195E-3]
[25,null,22,"Y22",{"$f":"'manual data input'!D28","v":0},{"$f":"'manual data input'!E28","v":0},null,null,null,0,null,1.5914332339811456E-3,1.4295925661186562E-3,2.8726718545591867E-3,2.5085303518685852E-3]
[26,null,23,"Y23",{"$f":"'manual data input'!D29","v":0},{"$f":"'manual data input'!E29","v":0},null,null,null,0,null,1.8088593305860433E-3,1.6592544235450922E-3,3.0328994791029144E-3,2.679287880642485E-3]
[27,null,24,"Y24",{"$f":"'manual data input'!D30","v":0},{"$f":"'manual data input'!E30","v":0},null,null,null,0,null,1.7876731808393938E-3,1.5980714798412763E-3,3.0877991305407713E-3,2.6544238139736454E-3]
[28,null,25,"Y25",{"$f":"'manual data input'!D31","v":0},{"$f":"'manual data input'!E31","v":0},null,null,null,0,null,1.9745686757786244E-3,1.834528344163119E-3,3.4870042572260813E-3,3.0108671297333633E-3]
[29,null,26,"Y26",{"$f":"'manual data input'!D32","v":0},{"$f":"'manual data input'!E32","v":0},null,null,null,0,null,2.1137180300147959E-3,1.9305291340801804E-3,3.635595011625449E-3,3.2974001268230818E-3]
[30,null,27,"Y27",{"$f":"'manual data input'!D33","v":0},{"$f":"'manual data input'!E33","v":0},null,null,null,0,null,2.1833751577275884E-3,2.0557753108474048E-3,3.8705286886989067E-3,3.4735513872938906E-3]
[31,null,28,"Y28",{"$f":"'manual data input'!D34","v":0},{"$f":"'manual data input'!E34","v":0},null,null,null,0,null,2.299490304059992E-3,2.1969652586560431E-3,3.866658855234636E-3,3.471205108676548E-3]
[32,null,29,"Y29",{"$f":"'manual data input'!D35","v":0},{"$f":"'manual data input'!E35","v":0},null,null,null,0,null,2.3679574922752604E-3,2.1946923099136562E-3,3.9562216639233011E-3,3.5519362384128909E-3]
[33,null,30,"Y30",{"$f":"'manual data input'!D36","v":0},{"$f":"'manual data input'!E36","v":0},null,null,null,0,null,2.1673415844407689E-3,2.0247533223065077E-3,3.8071065989847717E-3,3.3650829863685621E-3]
[34,null,31,"Y31",{"$f":"'manual data input'!D37","v":0},{"$f":"'manual data input'!E37","v":0},null,null,null,0,null,2.5394183727636618E-3,2.4389893975696186E-3,4.1893229652372275E-3,3.8736890431988061E-3]
[35,null,32,"Y32",{"$f":"'manual data input'!D38","v":0},{"$f":"'manual data input'!E38","v":0},null,null,null,0,null,3.1618701876628508E-3,2.8837427174517667E-3,4.7574435694001226E-3,4.3182949322247274E-3]
[36,null,33,"Y33",{"$f":"'manual data input'!D39","v":0},{"$f":"'manual data input'!E39","v":0},null,null,null,0,null,2.9812799830505909E-3,2.8602127756170645E-3,4.7064876889783445E-3,4.3281526657485735E-3]
[37,null,34,"Y34",{"$f":"'manual data input'!D40","v":0},{"$f":"'manual data input'!E40","v":0},null,null,null,0,null,3.3733683164121702E-3,3.1941071981487217E-3,5.2148688949366882E-3,4.8074572625197596E-3]
[38,null,35,"Y35",{"$f":"'manual data input'!D41","v":0},{"$f":"'manual data input'!E41","v":0},null,null,null,0,null,3.2766267293307737E-3,3.1276891507248297E-3,5.1466207718276298E-3,4.7163566558549013E-3]
[39,null,36,"Y36",{"$f":"'manual data input'!D42","v":0},{"$f":"'manual data input'!E42","v":0},null,null,null,0,null,2.7363845323909747E-3,2.548746735884165E-3,4.3000328366143885E-3,3.9403937266430031E-3]
[40,null,37,"Y37",{"$f":"'manual data input'!D43","v":0},{"$f":"'manual data input'!E43","v":0},null,null,null,0,null,3.4440497060146758E-3,3.3664810189422733E-3,5.4142943576537027E-3,5.1660745590220141E-3]
[41,null,38,"Y38",{"$f":"'manual data input'!D44","v":0},{"$f":"'manual data input'!E44","v":0},null,null,null,0,null,4.1011829158186294E-3,3.9175478598864524E-3,5.8916247111573603E-3,5.432537071326916E-3]
[42,null,39,"Y39",{"$f":"'manual data input'!D45","v":0},{"$f":"'manual data input'!E45","v":0},null,null,null,0,null,4.1486005675516052E-3,4.018956799815618E-3,6.2949251667362904E-3,5.9780181789372095E-3]
[43,null,40,"Y40",{"$f":"'manual data input'!D46","v":0},{"$f":"'manual data input'!E46","v":0},null,null,null,0,null,3.8991105154136713E-3,3.7772633118069942E-3,5.8892815076560662E-3,5.4966627404789952E-3]
[44,null,41,"Y41",{"$f":"'manual data input'!D47","v":0},{"$f":"'manual data input'!E47","v":0},null,null,null,0,null,4.639343194109598E-3,4.4699289763471687E-3,6.4507721378771095E-3,6.0989118394474493E-3]
[45,null,42,"Y42",{"$f":"'manual data input'!D48","v":0},{"$f":"'manual data input'!E48","v":0},null,null,null,0,null,4.6875825278614057E-3,4.5555379496117886E-3,6.4041620451064278E-3,6.1004595151323083E-3]
[46,null,43,"Y43",{"$f":"'manual data input'!D49","v":0},{"$f":"'manual data input'!E49","v":0},null,null,null,0,null,5.0685975609756099E-3,4.9796747967479679E-3,7.1138211382113818E-3,6.7962398373983737E-3]
[47,null,44,"Y44",{"$f":"'manual data input'!D50","v":0},{"$f":"'manual data input'!E50","v":0},null,null,null,0,null,5.3098668793937279E-3,5.1353642119958123E-3,7.4786857456249686E-3,7.0798225058583035E-3]
[48,null,45,"Y45",{"$f":"'manual data input'!D51","v":0},{"$f":"'manual data input'!E51","v":0},null,null,null,0,null,5.3331023559691155E-3,5.1846169075430611E-3,7.4118986339338742E-3,6.9540685012868739E-3]
[49,null,46,"Y46",{"$f":"'manual data input'!D52","v":0},{"$f":"'manual data input'!E52","v":0},null,null,null,0,null,6.0132964816613128E-3,5.7767485869375766E-3,8.428574985682627E-3,7.9430293070391674E-3]
[50,null,47,"Y47",{"$f":"'manual data input'!D53","v":0},{"$f":"'manual data input'!E53","v":0},null,null,null,0,null,6.1418269230769235E-3,5.9254807692307688E-3,8.1610576923076932E-3,7.5721153846153846E-3]
[51,null,48,"Y48",{"$f":"'manual data input'!D54","v":0},{"$f":"'manual data input'!E54","v":0},null,null,null,0,null,6.2939787197779451E-3,6.1113681186238467E-3,8.509654013781013E-3,8.1079106912419954E-3]
[52,null,49,"Y49",{"$f":"'manual data input'!D55","v":0},{"$f":"'manual data input'!E55","v":0},null,null,null,0,null,7.1632011930519391E-3,6.9920666935592308E-3,9.2168151869644402E-3,8.703411688486316E-3]
[53,null,50,"Y50",{"$f":"'manual data input'!D56","v":0},{"$f":"'manual data input'!E56","v":0},null,null,null,0,null,7.3914729166927222E-3,7.141338469427317E-3,9.6927098315344497E-3,9.1424140475505587E-3]
[54,null,51,"Y51",{"$f":"'manual data input'!D57","v":0},{"$f":"'manual data input'!E57","v":0},null,null,null,0,null,7.6611201350608154E-3,7.4820622354099782E-3,1.0295829229923134E-2,9.7586555309706214E-3]
[55,null,52,"Y52",{"$f":"'manual data input'!D58","v":0},{"$f":"'manual data input'!E58","v":0},null,null,null,0,null,9.0721267184064834E-3,8.8337350674118614E-3,1.1350091383466215E-2,1.0701136333536409E-2]
[56,null,53,"Y53",{"$f":"'manual data input'!D59","v":0},{"$f":"'manual data input'!E59","v":0},null,null,null,0,null,8.5544226765600813E-3,8.2608231463193304E-3,1.0809800886136764E-2,1.0289328991619068E-2]
[57,null,54,"Y54",{"$f":"'manual data input'!D60","v":0},{"$f":"'manual data input'!E60","v":0},null,null,null,0,null,9.9109116116899345E-3,9.6089170750456431E-3,1.2120962538950432E-2,1.1516973465661849E-2]
[58,null,55,"Y55",{"$f":"'manual data input'!D61","v":0},{"$f":"'manual data input'!E61","v":0},null,null,null,0,null,9.3964276644374848E-3,9.2130139112277434E-3,1.1597392702954372E-2,1.1061260193572054E-2]
[59,null,56,"Y56",{"$f":"'manual data input'!D62","v":0},{"$f":"'manual data input'!E62","v":0},null,null,null,0,null,1.1113538708032918E-2,1.0720268006700168E-2,1.3254679193066783E-2,1.2540965698055495E-2]
[60,null,57,"Y57",{"$f":"'manual data input'!D63","v":0},{"$f":"'manual data input'!E63","v":0},null,null,null,0,null,1.125989044430919E-2,1.0849056603773584E-2,1.3694461351186854E-2,1.2948874010955569E-2]
[61,null,58,"Y58",{"$f":"'manual data input'!D64","v":0},{"$f":"'manual data input'!E64","v":0},null,null,null,0,null,1.1916890494273101E-2,1.1654471921212682E-2,1.4077984625358897E-2,1.3475965545984996E-2]
[62,null,59,"Y59",{"$f":"'manual data input'!D65","v":0},{"$f":"'manual data input'!E65","v":0},null,null,null,0,null,1.1985466442266857E-2,1.1733803104896424E-2,1.42347075200151E-2,1.3621278135174671E-2]
[63,null,60,"Y60",{"$f":"'manual data input'!D66","v":0},{"$f":"'manual data input'!E66","v":0},null,null,null,0,null,1.3941781213735842E-2,1.3386071294313779E-2,1.6066554435055488E-2,1.5265678374711929E-2]
[64,null,61,"Y61",{"$f":"'manual data input'!D67","v":0},{"$f":"'manual data input'!E67","v":0},null,null,null,0,null,1.3719709731761048E-2,1.3363353634832188E-2,1.6003628352986913E-2,1.5307114163535052E-2]
[65,null,62,"Y62",{"$f":"'manual data input'!D68","v":0},{"$f":"'manual data input'!E68","v":0},null,null,null,0,null,1.4522082631783447E-2,1.4052583862194016E-2,1.6740059577774899E-2,1.5882010102318354E-2]
[66,null,63,"Y63",{"$f":"'manual data input'!D69","v":0},{"$f":"'manual data input'!E69","v":0},null,null,null,0,null,1.4559265706599146E-2,1.4163633486311125E-2,1.6758980851400537E-2,1.6078493432505142E-2]
[67,null,64,"Y64",{"$f":"'manual data input'!D70","v":0},{"$f":"'manual data input'!E70","v":0},null,null,null,0,null,1.5598800092300592E-2,1.5075763402815167E-2,1.8167833243596648E-2,1.722944388893162E-2]
[68,null,65,"Y65",{"$f":"'manual data input'!D71","v":0},{"$f":"'manual data input'!E71","v":0},null,null,null,{"$f":"$J$6","v":0},null,1.5331784956042234E-2,1.4719083512631624E-2,1.7554608797252819E-2,1.6485943488978499E-2]
[69,null,66,"Y66",{"$f":"'manual data input'!D72","v":0},{"$f":"'manual data input'!E72","v":0},null,null,null,0,null,2.3896536706367991E-2,2.3252731438526065E-2,2.770256196625703E-2,2.6490693226789874E-2]
[70,null,67,"Y67",{"$f":"'manual data input'!D73","v":0},{"$f":"'manual data input'!E73","v":0},null,null,null,0,null,2.3087470258499013E-2,2.2442230915030045E-2,2.6233012057910232E-2,2.5023188288905915E-2]
[71,null,68,"Y68",{"$f":"'manual data input'!D74","v":0},{"$f":"'manual data input'!E74","v":0},null,null,null,0,null,2.1943573667711599E-2,2.1447561604698226E-2,2.4741081703107019E-2,2.3788738542121345E-2]
[72,null,69,"Y69",{"$f":"'manual data input'!D75","v":0},{"$f":"'manual data input'!E75","v":0},null,null,null,0,null,2.4902739925520629E-2,2.4278611105332141E-2,2.8148209790500759E-2,2.7191212266211746E-2]
[73,null,70,"Y70",{"$f":"'manual data input'!D76","v":0},{"$f":"'manual data input'!E76","v":0},null,null,null,0,null,2.9545195486150689E-2,2.8656103955317452E-2,3.3717086515445117E-2,3.2326456172346973E-2]
[74,null,71,"Y71",{"$f":"'manual data input'!D77","v":0},{"$f":"'manual data input'!E77","v":0},null,null,null,0,null,3.1140155453240261E-2,3.0422298133570967E-2,3.5249269765829989E-2,3.3937323629882665E-2]
[75,null,72,"Y72",{"$f":"'manual data input'!D78","v":0},{"$f":"'manual data input'!E78","v":0},null,null,null,0,null,4.3627450980392155E-2,4.2622549019607846E-2,4.9338235294117648E-2,4.7524509803921568E-2]
[76,null,73,"Y73",{"$f":"'manual data input'!D79","v":0},{"$f":"'manual data input'!E79","v":0},null,null,null,0,null,4.6621108580106305E-2,4.5558086560364468E-2,5.1986838774993674E-2,5.0164515312579094E-2]
[77,null,74,"Y74",{"$f":"'manual data input'!D80","v":0},{"$f":"'manual data input'!E80","v":0},null,null,null,0,null,5.3292278540975839E-2,5.2239591557450393E-2,5.9713669140481075E-2,5.7739881046370858E-2]
[78,null,75,"Y75",{"$f":"'manual data input'!D81","v":0},{"$f":"'manual data input'!E81","v":0},null,null,null,0,null,5.5954695292029413E-2,5.4743188797791116E-2,6.3449130814526813E-2,6.1307863522384695E-2]
[79,null,76,"Y76",{"$f":"'manual data input'!D82","v":0},{"$f":"'manual data input'!E82","v":0},null,null,null,0,null,5.9849561715233354E-2,5.8546552949538026E-2,6.7016109926557682E-2,6.5002369106846716E-2]
[80,null,77,"Y77",{"$f":"'manual data input'!D83","v":0},{"$f":"'manual data input'!E83","v":0},null,null,null,0,null,8.1615147568065566E-2,7.9581916955237156E-2,9.336976204847984E-2,9.0097531530959118E-2]
[81,null,78,"Y78",{"$f":"'manual data input'!D84","v":0},{"$f":"'manual data input'!E84","v":0},null,null,null,0,null,9.0515299580690989E-2,8.8609349551235408E-2,0.10316387704889628,9.9455937900682675E-2]
[82,null,79,"Y79",{"$f":"'manual data input'!D85","v":0},{"$f":"'manual data input'!E85","v":0},null,null,null,0,null,9.4139485547600113E-2,9.1714967609955678E-2,0.10637572451414934,0.10273894760768269]
[83,null,80,"Y80",{"$f":"'manual data input'!D86","v":0},{"$f":"'manual data input'!E86","v":0},null,null,null,0,null,9.9020544672718591E-2,9.6989966555183951E-2,0.11363274406752667,0.1100891861761427]
[84,null,81,"Y81",{"$f":"'manual data input'!D87","v":0},{"$f":"'manual data input'!E87","v":0},null,null,null,0,null,0.10162710056014937,9.9359829287810078E-2,0.11847603805459234,0.11451942740286299]
[85,null,82,"Y82",{"$f":"'manual data input'!D88","v":0},{"$f":"'manual data input'!E88","v":0},null,null,null,0,null,0.15670248726098582,0.15317087937036478,0.18475354422077594,0.17779123152212301]
[86,null,83,"Y83",{"$f":"'manual data input'!D89","v":0},{"$f":"'manual data input'!E89","v":0},null,null,null,0,null,0.16453371592539454,0.15982783357245336,0.19466284074605453,0.18668579626972739]
[87,null,84,"Y84",{"$f":"'manual data input'!D90","v":0},{"$f":"'manual data input'!E90","v":0},null,null,null,0,null,0.1735959651035987,0.16793893129770993,0.20624318429661942,0.19588331515812432]
[88,null,85,"Y85",{"$f":"'manual data input'!D91","v":0},{"$f":"'manual data input'!E91","v":0},null,null,null,0,null,0.1720731232983275,0.16732788798133022,0.21065733177751847,0.2]
[89,null,86,"Y86",{"$f":"'manual data input'!D92","v":0},{"$f":"'manual data input'!E92","v":0},null,null,null,0,null,0.17759587151881839,0.17199039060414628,0.21336417830767862,0.20304297535367916]
[90,null,87,"Y87",{"$f":"'manual data input'!D93","v":0},{"$f":"'manual data input'!E93","v":0},null,null,null,0]
[91,null,88,"Y88",{"$f":"'manual data input'!D94","v":0},{"$f":"'manual data input'!E94","v":0},null,null,null,0]
[92,null,89,"Y89",{"$f":"'manual data input'!D95","v":0},{"$f":"'manual data input'!E95","v":0},null,null,null,0]
[93,null,90,"Y90",{"$f":"'manual data input'!D96","v":0},{"$f":"'manual data input'!E96","v":0},null,null,null,0]
[94,null,91,"Y91",{"$f":"'manual data input'!D97","v":0},{"$f":"'manual data input'!E97","v":0},null,null,null,0]
[95,null,92,"Y92",{"$f":"'manual data input'!D98","v":0},{"$f":"'manual data input'!E98","v":0},null,null,null,0]
[96,null,93,"Y93",{"$f":"'manual data input'!D99","v":0},{"$f":"'manual data input'!E99","v":0},null,null,null,0]
[97,null,94,"Y94",{"$f":"'manual data input'!D100","v":0},{"$f":"'manual data input'!E100","v":0},null,null,null,0]
[98,null,95,"Y95",{"$f":"'manual data input'!D101","v":0},{"$f":"'manual data input'!E101","v":0},null,null,null,0]
[99,null,96,"Y96",{"$f":"'manual data input'!D102","v":0},{"$f":"'manual data input'!E102","v":0},null,null,null,0]
[100,null,97,"Y97",{"$f":"'manual data input'!D103","v":0},{"$f":"'manual data input'!E103","v":0},null,null,null,0]
[101,null,98,"Y98",{"$f":"'manual data input'!D104","v":0},{"$f":"'manual data input'!E104","v":0},null,null,null,0]
[102,null,99,"Y99",{"$f":"'manual data input'!D105","v":0},{"$f":"'manual data input'!E105","v":0},null,null,null,0]
[103,null,100,"Y_OPEN",{"$f":"'manual data input'!D106","v":0},{"$f":"'manual data input'!E106","v":0},null,null,null,0,null,0.22113330820454832,0.21186078653097123,0.27495916572433721,0.25792184947857771]
[104,null,102,"TOTAL",{"$f":"'manual data input'!D107","v":0},{"$f":"'manual data input'!E107","v":0},null,null,null,0,null,1.3351200446677834E-2,1.2935417829890192E-2,1.6222408337986226E-2,1.5402382281779268E-2]

{"sheet":"Drugs","index":17,"n_rows":11,"n_cols":10,"rows_kept":11,"cut":false,"hidden":true,"merged":[]}
["Number of drugs",null,null,"Drugs profile"]
[null,null,null,"Number of drugs stopped/ started/ optimised"]
[null,null,null,null,"average number of drugs stopped/ decreased","average number of drugs optimised","average number of drugs started/ increased","average number of repeats per annum",null,"Per review"]
[null,null,"Scotland","SCOT",2.1,null,0.4,6,"based on GGC pilot",{"$f":"(1+H4)*(E4-G4)","v":11.900000000000002}]
[]
[]
[]
[null,null,"Set own options",null,"set own stopped","set own optimised","set own started","set own repeats"]
[null,null,"override profiles",null,{"$f":"'manual data input'!P6","v":2.1},{"$f":"'manual data input'!P7","v":0},{"$f":"'manual data input'!P8","v":0.4},{"$f":"'manual data input'!P9","v":0},null,{"$f":"(1+H9)*(E9-G9)","v":1.7000000000000002}]
[]
[null,null,null,1,2,3,4,5,6,7]

{"sheet":"DDDs","index":18,"n_rows":38,"n_cols":33,"rows_kept":38,"cut":false,"hidden":true,"merged":[]}
["DDDs"]
[]
[null,null,"Total DDDs for countries' population",null,"Total","  A-Alimentary tract and metabolism","  A02A-Antacids","  A02B-Drugs for peptic ulcer and gastro-oesophageal reflux diseases (GORD)","  A10-Drugs used in diabetes","  B-Blood and blood forming organs","  C-Cardiovascular system","  C01A-Cardiac glycosides","  C01B-Antiarrhythmics, Class I and III","  C02-Antihypertensives","  C03-Diuretics","  C07-Beta blocking agents","  C08-Calcium channel blockers","  C09-Agents acting on the Renin-Angiotensin system","  C10-Lipid modifying agents","  G-Genito urinary system and sex hormones","  G03-Sex hormones and modulators of the genital system","  H-Systemic hormonal preparations, excluding sex hormones and insulins","  J-Antiinfectives for systemic use","  J01-Antibacterials for systemic use","  M-Musculo-skeletal system","  M01A-Antiinflammatory and antirheumatic products non-steroids","  N-Nervous system","  N02-Analgesics","  N05B-Anxiolytics","  N05C-Hypnotics and sedatives","  N06A-Antidepressants","  R-Respiratory system","  R03-Drugs for obstructive airway diseases"]
["different source (PRISMS) for Scotland",null,"Scotland","SCOT",{"$f":"'OECD consumption summary'!AD72","v":3499074206.0836396}]
[null,null,"UK","UK",{"$f":"SUM(F5:AG5)","v":158799345.19350004},14536925.9145,38610.692999999999,6299978.0745000001,5373321.4424999999,12406902.684,34472913.733499996,160877.88750000001,90091.616999999998,894481.05449999997,3751672.3365000002,1930534.65,5289664.9409999996,12683612.6505,8764627.3110000007,2992328.7075,1274152.8689999999,2162198.8080000002,1312763.5619999999,1267717.7535000001,3166076.8259999999,1801832.34,12464818.7235,2850756.1664999998,366801.58350000001,694992.47400000005,5604985.6004999997,10051650.411,6094054.3784999996]
[null,null,"Austria","AT",{"$f":"SUM(F6:AG6)","v":11361800.948400002},1261571.6387,0,581020.5186999999,336022.11550000001,696714.20909999998,2291755.8966000001,14461.711299999999,22117.911400000001,71457.867600000012,154825.3798,248401.15879999998,336872.80440000002,754561.05430000008,618450.83030000003,301994.55949999997,115693.69039999999,296890.42609999998,119096.446,108037.49029999999,442358.228,287532.84820000001,1108447.6367000001,99530.601299999995,73159.245399999985,42534.445,512965.40669999999,287532.84820000001,177793.98009999999]
[null,null,"Belgium","BE",23818566.592799999,1912521.4343999999,"",1067740.4376000001,743945.06880000012,1171937.5632,5464186.8983999994,21287.584800000001,91872.734399999987,72825.948000000004,461604.47040000005,864948.18239999993,548995.60800000001,1694043.5903999999,1465482.1536000001,698008.70160000003,639747.9432000001,505300.0392,355166.54639999999,313711.77600000001,711453.49199999997,421270.0992,1626819.6383999998,304748.58239999996,"","",839179.00080000004,1230198.3215999999,591570.77760000003]
[null,null,"Bulgaria","BG",0,"","","","","","","","","","","","","","","","","","","","","","","","","","","",""]
[null,null,"Croatia","HR",0,"","","","","","","","","","","","","","","","","","","","","","","","","","","",""]
[null,null,"Republic of Cyprus","CY",0,"","","","","","","","","","","","","","","","","","","","","","","","","","","",""]
[null,null,"Czech Republic","CZ",27718095.177300002,2714306.5857999995,9461.177099999999,690665.92830000003,890401.88930000004,2027845.6251000001,6315861.3351999996,30486.015099999997,84099.351999999999,142968.89840000001,497237.41869999998,679102.26740000001,789482.66689999995,2610233.6377000003,1184749.6213,1137443.7357999999,743228.02330000012,517211.0148,233375.70179999998,220760.799,857813.39040000003,613925.2696,1679884.5562,239683.15320000003,131405.23749999999,204992.17050000001,554004.4813000001,1426535.2582999999,490929.96730000002]
[null,null,"Denmark","DK",14041076.772,957755.39699999988,42204.262499999997,356766.69900000002,295429.83750000002,673017.30599999998,3067405.7985,21946.216499999999,9003.5759999999991,17444.428500000002,528960.09,200892.28950000004,501386.63849999994,988705.18949999986,745045.91399999999,555970.81799999997,435547.98900000006,191888.71350000001,119860.10550000001,102415.677,350576.74050000001,228465.74100000001,1477711.9110000003,506451.15,50645.114999999998,112544.7,431608.92450000002,739981.40249999997,331444.14150000003]
[null,null,"Estonia","EE",2274261.5595999998,202636.12599999999,1315.819,51185.359100000001,75791.174400000004,133292.46470000001,539485.79,6052.7673999999997,9210.7330000000002,5131.6940999999997,32369.147400000002,59869.764499999997,80791.286599999992,252505.6661,62501.402499999997,72106.881200000003,46579.992600000005,33421.802599999995,24737.397199999999,18289.884100000003,100660.1535,88554.618700000006,143819.01669999998,21316.267800000001,19342.5393,25921.634300000002,30790.164599999996,105791.84760000001,30790.164599999996]
[null,null,"Finland","FI",15622249.566,1623388.206,11992.794000000002,361964.32800000004,480802.01400000002,783347.49899999984,3009646.1669999999,17444.063999999998,11447.666999999999,15808.683000000001,305816.24699999997,378318.13800000004,425744.18699999992,1225445.496,559300.30200000003,730470.18,460632.315,291097.81800000003,122653.575,112841.289,539675.73,430650.33,1444041.4229999997,288372.18300000002,125379.21,212599.53,375047.37599999999,901094.9310000001,377227.88400000002]
[null,null,"France","FR",1910785.2919999999,"","","","","","","","","","","","","","","","","","",1910785.2919999999,"","","","","","","","",""]
[null,null,"Germany","DE_TOT",201765199.32029998,18334214.101,40383.731500000002,7333685.6403999999,6752159.9067999991,5863717.8137999997,55196484.214199997,355376.83720000007,250379.13530000002,1106514.2430999998,5984869.0082999989,7180227.4607000006,6582548.2345000003,26604802.312199999,6170634.173200001,4918738.4967,2867244.9364999998,6873311.1012999993,1356893.3784,1179204.9597999998,5750643.3656000001,3238775.2663000003,10806686.549400002,1994956.3361,323069.85200000001,419990.8076,4450287.2113000005,5718336.3803999992,4111063.8666999997]
[null,null,"Greece","EL",19117541.527199998,1913283.9057,"",629384.08319999999,910203.02309999999,1929674.1162,4492010.3576999996,26224.336800000001,68838.884099999996,55726.715699999993,250223.88029999999,469852.701,492798.99569999997,1845537.7023,1081753.8929999999,319062.76439999999,38243.824500000002,173736.23130000001,216350.77859999999,197775.20670000001,416311.34669999999,112546.11210000001,1325421.6890999998,51355.992899999997,248038.5189,55726.715699999993,487335.59220000001,762691.12860000005,547433.0307]
[null,null,"Hungary","HU",22811774.467499997,2447611.0469999998,0,615359.8395,752655.21299999999,817845.82200000004,7097874.4890000001,31607.567999999999,65190.608999999997,279529.42950000003,413861.59350000002,656844.77249999996,559058.85900000005,3545974.0350000001,1030209.1695,195571.82699999999,61239.663,199522.77299999999,149148.2115,139270.84650000001,602519.26500000001,258786.96299999999,1229731.9424999999,65190.608999999997,284468.11200000002,0,273603.01049999997,624249.46799999999,414849.33]
[null,null,"Ireland","MT",9826.3703999999998,"","","","","","","","","","","","","","","","","","",9826.3703999999998,"","","","","","","","",""]
[null,null,"Italy","IT",154649342.19239998,19486923.360800002,309991.60679999995,5847292.6616000002,3999499.5543999998,15645458.743199999,31655613.494399998,182348.00399999999,498417.87759999995,595670.14640000009,2692672.1923999996,3099916.068,3622647.0128000001,14156283.3772,5123978.9123999998,4978100.5092000011,2413071.9196000006,3099916.068,2255036.9828000003,1768775.6388000003,5361031.3176000006,2887176.73,9889340.0835999977,1039383.6228000001,1853871.3740000001,1592505.9016,2595419.9236000003,5543379.3216000004,2455619.7871999997]
[null,null,"Latvia","LV",25218.496800000001,"","","","","","","","","","","","","","","","","","",25218.496800000001,"","","","","","","","",""]
[null,null,"Lithuania","LT",0,"","","","","","","","","","","","","","","","","","","","","","","","","","","",""]
[null,null,"Luxembourg","LU",1187308.7999999998,228996.68799999999,"",47162.544000000002,35509.328000000001,69754.392000000007,191508.51199999999,879.48800000000006,4122.6000000000004,2803.3679999999999,17259.952000000001,21822.295999999998,20777.903999999999,57826.336000000003,64092.688000000002,19733.511999999999,7860.424,28363.488000000001,15665.88,14456.584000000001,42600.2,27319.096000000001,118565.976,18194.407999999999,20173.256000000001,27044.256000000001,30837.047999999999,40621.351999999999,13357.224]
[null,null,"Malta","MT",0,"","","","","","","","","","","","","","","","","","","","","","","","","","","",""]
[null,null,"Netherlands","NL",33266455.566299997,4554005.6034000004,0,1849538.8611000001,1250416.1727,2246710.0814999999,7278667.4924999997,42073.222500000003,47122.009199999993,55536.653699999995,853244.95230000012,838098.59219999996,885220.60139999993,2394807.8247000002,1933685.3061000002,844830.30780000007,456073.73190000001,479634.7365,205317.32579999999,163244.10329999999,703464.28019999992,345000.42450000002,1834392.5009999999,259171.05059999999,112756.2363,89195.231700000004,737122.8581999999,1797368.0652000001,1009757.34]
[null,null,"Poland","PL",866807.11680000008,"","","","","","","","","","","","","","","","","","",866807.11680000008,"","","","","","","","",""]
[null,null,"Portugal","PT",22537568.381400004,2118827.5631999997,2085.4602,963482.6124000001,672560.91449999996,943670.74049999996,4093758.3726000004,35452.823400000001,60478.345799999996,11470.031100000002,523450.51020000002,347229.12329999998,472356.73529999994,1242934.2792,1099037.5254000002,479655.84600000002,161623.1655,327417.25139999995,234614.27249999999,225229.70160000003,1033345.5290999999,761192.973,3188668.6458000001,202289.63939999999,1013533.6572,187691.41800000001,960354.42209999985,869636.90340000007,305519.91930000001]
[null,null,"Romania","RO",0,"","","","","","","","","","","","","","","","","","","","","","","","","","","",""]
[null,null,"Slovakia","SK",0,"","","","","","","","","","","","","","","","","","","","","","","","","","","",""]
[null,null,"Slovenia","SI",4416080.720999999,389338.95649999997,824.43399999999997,120779.58100000001,153138.61550000001,213528.40599999999,1133184.5330000001,4946.6040000000003,8656.5570000000007,30710.166499999999,73580.734500000006,89038.872000000003,122016.232,536706.53399999999,231872.0625,186734.30100000001,81206.748999999996,45962.195500000002,31328.491999999998,29267.406999999999,119336.82150000001,84504.485000000001,293910.72100000002,38542.289499999999,33595.6855,25557.454000000002,113359.675,142833.1905,81618.966]
[null,null,"Spain","ES",102787308.57009999,10735015.529200001,"",5823327.3147999998,3307017.3488999996,6195424.9067999991,19414191.862599999,153490.2567,148839.0368,413958.5711,2027931.8764000002,1074431.7969000002,1730253.8028000002,8083820.1862000003,4902385.7746000001,1948861.1380999999,623263.46660000004,1511646.4675,1079083.0167999999,1032570.8178,3260505.1498999996,2311656.2903,11846657.085299999,1893046.4993000003,2623288.0236,1423273.2894000001,3316319.7886999999,3702371.0403999998,2204678.2325999998]
[null,null,"Sweden","SE",26132759.008000009,2441115.0784,20254.214400000001,704075.07200000004,547828.27519999992,2572285.2287999997,4627605.7472000001,25076.646400000001,13502.809600000001,27005.619200000001,683820.85759999999,492852.55040000001,743619.01439999999,1624195.0976000002,887327.48800000001,987634.0736,733974.15039999993,427267.47519999999,158175.7696,135992.58240000001,632703.0784,504426.3872,2775791.8592000003,723364.8,144672.95999999999,513106.7648,846819.0591999999,1632875.4752,505390.87359999999]
[null,null,"EU28","EU28",0]
[]
[null,null,null,1,2]
[]
[null,null,"Set own options"]
[null,null,"override profiles",null,100000000]

{"sheet":"Sales value","index":19,"n_rows":38,"n_cols":6,"rows_kept":38,"cut":false,"hidden":true,"merged":[]}
["sales value"]
[null,null,null,null,null,"exchange rate adjusted"]
[null,null,"Pharmaceutical Sales, total 2014",null,"Million of national currency units","€"]
["different source (PRISMS) for Scotland",null,"Scotland","SCOT",{"$f":"365*'OECD consumption summary'!AD75/1000000","v":379401.19779694994},{"$f":"$E4*VLOOKUP($D4,XE,3,FALSE)","v":442002.39543344668}]
[null,null,"UK","UK",15215.6,17726.174000000003]
[null,null,"Austria","AT",2787.4,2787.4]
[null,null,"Belgium","BE",5943.8,5943.8]
[null,null,"Bulgaria","BG","",{"$error":"#VALUE!"}]
[null,null,"Croatia","HR","",{"$error":"#VALUE!"}]
[null,null,"Republic of Cyprus","CY","",{"$error":"#VALUE!"}]
[null,null,"Czech Republic","CZ",81076.600000000006,2999.8342000000002]
[null,null,"Denmark","DK",21408.5,2868.739]
[null,null,"Estonia","EE",249.7,249.7]
[null,null,"Finland","FI",2118.8000000000002,2118.8000000000002]
[null,null,"France","FR",26800,26800]
[null,null,"Germany","DE_TOT",33564.800000000003,33564.800000000003]
[null,null,"Greece","EL","",{"$error":"#VALUE!"}]
[null,null,"Hungary","HU",442945.7,1328.8371]
[null,null,"Ireland","MT",1913.8,1913.8]
[null,null,"Italy","IT",26269.200000000001,26269.200000000001]
[null,null,"Latvia","LV","",{"$error":"#VALUE!"}]
[null,null,"Lithuania","LT","",{"$error":"#VALUE!"}]
[null,null,"Luxembourg","LU",191.3,191.3]
[null,null,"Malta","MT","",{"$error":"#VALUE!"}]
[null,null,"Netherlands","NL",4340.6000000000004,4340.6000000000004]
[null,null,"Poland","PL","",{"$error":"#VALUE!"}]
[null,null,"Portugal","PT",2397.6,2397.6]
[null,null,"Romania","RO","",{"$error":"#VALUE!"}]
[null,null,"Slovakia","SK","",{"$error":"#VALUE!"}]
[null,null,"Slovenia","SI",432.3,432.3]
[null,null,"Spain","ES",11302.6,11302.6]
[null,null,"Sweden","SE",37786.300000000003,3929.7752]
[null,null,"EU28","EU28",null,0]
[]
[null,null,null,1,2,3]
[]
[null,null,"Set own options"]
[null,null,"override profiles",null,10000,{"$f":"$E38*VLOOKUP('input selections'!$I$3,XE,3,FALSE)","v":10000}]

{"sheet":"Staff","index":20,"n_rows":9,"n_cols":20,"rows_kept":9,"cut":false,"hidden":true,"merged":[]}
["Staff reviewing",null,null,"Staff profile"]
[null,null,null,"Review element","Patient review",null,null,null,"Discussion between professional practitioners",null,null,null,"Discussion with patient",null,null,null,"Travel time"]
[null,null,"Total allocated minutes per review","Staff carrying out","GPs (Primary Care Doctors)","Other doctors","Pharmacists","Nurses","GPs (Primary Care Doctors)","Other doctors","Pharmacists","Nurses","GPs (Primary Care Doctors)","Other doctors","Pharmacists","Nurses","GPs (Primary Care Doctors)","Other doctors","Pharmacists","Nurses"]
[null,null,"Scotland","SCOT",0,0,60,0,15,0,15,0,15,0,0,0,0,0,0,0]
[]
[null,null,null,1,2,3,4,5,6,7,8,9,10,11,12,13,14,15,16,17]
[null,null,null,null,"Patient review",null,null,null,"Discussion between professional practitioners",null,null,null,"Discussion with patient",null,null,null,"Travel time"]
[null,null,"Set own options",null,"GPs (Primary Care Doctors)","Other doctors","Pharmacists","Nurses","GPs (Primary Care Doctors)","Other doctors","Pharmacists","Nurses","GPs (Primary Care Doctors)","Other doctors","Pharmacists","Nurses","GPs (Primary Care Doctors)","Other doctors","Pharmacists","Nurses"]
[null,null,"override profiles",null,{"$f":"'manual data input'!W6","v":0},{"$f":"'manual data input'!W7","v":0},{"$f":"'manual data input'!W8","v":0},{"$f":"'manual data input'!W9","v":0},{"$f":"'manual data input'!W10","v":0},{"$f":"'manual data input'!W11","v":0},{"$f":"'manual data input'!W12","v":0},{"$f":"'manual data input'!W13","v":0},{"$f":"'manual data input'!W14","v":0},{"$f":"'manual data input'!W15","v":0},{"$f":"'manual data input'!W16","v":0},{"$f":"'manual data input'!W17","v":0},{"$f":"'manual data input'!W18","v":0},{"$f":"'manual data input'!W19","v":0},{"$f":"'manual data input'!W20","v":0},{"$f":"'manual data input'!W21","v":0}]

{"sheet":"Staff costs","index":21,"n_rows":16,"n_cols":30,"rows_kept":16,"cut":false,"hidden":true,"merged":[[12,17,12,19],[12,2,12,15]]}
["Staff costs",null,null,null,null,null,null,null,null,"days of work per annum","minutes per day",null,null,null,null,null,null,"exchange rate adjusted"]
[null,null,null,null,null,null,null,null,null,220,{"$f":"7.5*60","v":450},{"$f":"J2*K2","v":99000},null,null,null,null,null,"€"]
[null,null,"Total WTE salary cost incl. on-cost",null,"GPs (Primary Care Doctors)","Other doctors","Pharmacists","Nurses",null,"Total cost per minute, incl. on-cost",null,"GPs (Primary Care Doctors)","Other doctors","Pharmacists","Nurses",null,null,"Total WTE salary cost incl. on-cost",null,"GPs (Primary Care Doctors)","Other doctors","Pharmacists","Nurses",null,"Total cost per minute, incl. on-cost",null,"GPs (Primary Care Doctors)","Other doctors","Pharmacists","Nurses"]
[null,null,"Scotland","SCOT",{"$f":"T15","v":87136.25},{"$f":"Q15","v":138600},{"$f":"L15","v":53600},{"$f":"I15","v":34700},null,"Scotland","SCOT",{"$f":"E4/$L$2","v":0.88016414141414145},{"$f":"F4/$L$2","v":1.4},0.54141414141414146,0.35050505050505049,null,null,"Scotland","SCOT",{"$f":"E4*VLOOKUP($S4,XE,3,FALSE)","v":101513.73125},{"$f":"F4*VLOOKUP($S4,XE,3,FALSE)","v":161469},{"$f":"G4*VLOOKUP($S4,XE,3,FALSE)","v":62444},{"$f":"H4*VLOOKUP($S4,XE,3,FALSE)","v":40425.5},null,"Scotland","SCOT",{"$f":"T4/$L$2","v":1.0253912247474748},{"$f":"U4/$L$2","v":1.631},{"$f":"V4/$L$2","v":0.63074747474747472},{"$f":"W4/$L$2","v":0.40833838383838383}]
[]
[null,null,null,null,null,null,null,null,null,null,1,2,3,4,5,null,null,null,null,null,null,null,null,null,null,1,2,3,4,5]
[null,null,"Set own options",null,"GPs (Primary Care Doctors)","Other doctors","Pharmacists","Nurses",null,"Set own options",null,"GPs (Primary Care Doctors)","Other doctors","Pharmacists","Nurses",null,"exchange rate adjusted","Set own options",null,"GPs (Primary Care Doctors)","Other doctors","Pharmacists","Nurses",null,"Set own options",null,"GPs (Primary Care Doctors)","Other doctors","Pharmacists","Nurses"]
[null,null,"override profiles",null,{"$f":"'manual data input'!AC6","v":85000},{"$f":"'manual data input'!AC7","v":140000},{"$f":"'manual data input'!AC8","v":50000},{"$f":"'manual data input'!AC9","v":35000},null,"override profiles",null,{"$f":"E8/$L$2","v":0.85858585858585856},{"$f":"F8/$L$2","v":1.4141414141414141},0.50505050505050508,0.35353535353535354,null,"€","override profiles",null,{"$f":"E8*VLOOKUP('input selections'!$I$3,XE,3,FALSE)","v":85000},{"$f":"F8*VLOOKUP('input selections'!$I$3,XE,3,FALSE)","v":140000},{"$f":"G8*VLOOKUP('input selections'!$I$3,XE,3,FALSE)","v":50000},{"$f":"H8*VLOOKUP('input selections'!$I$3,XE,3,FALSE)","v":35000},null,"override profiles",null,{"$f":"T8/$L$2","v":0.85858585858585856},{"$f":"U8/$L$2","v":1.4141414141414141},{"$f":"V8/$L$2","v":0.50505050505050508},{"$f":"W8/$L$2","v":0.35353535353535354}]
[]
[]
[]
[]
[null,null,"Estimated Weighted Average Basic Pay1, On-costs2, and Total Cost of all NHSScotland Agenda for Change (AfC) Staff",null,null,null,null,null,null,null,null,null,null,null,null,null,"Estimated Weighted Average Basic Pay1, On-costs2, and Total Cost of Medical & Dental; Consultant Staff","General Practitioner, salaried, 2015-16, BMA"]
[null,null,"NHS Scotland, 2015-16","All bands","AfC Band 1","AfC Band 2","AfC Band 3","AfC Band 4","AfC Band 5","AfC Band 6","AfC Band 7","AfC Band 8a","AfC Band 8b","AfC Band 8c","AfC Band 8d","AfC Band 9","Medical","min","max","GP average"]
[null,null,"Total cost incl. on-cost",35300,20300,23600,24300,26500,34700,40000,46700,53600,64000,76500,91300,107800,138600,{"$f":"1.25*55965","v":69956.25},{"$f":"1.25*83453","v":104316.25},{"$f":"AVERAGE(R15:S15)","v":87136.25}]
[null,null,null,null,null,null,null,null,"currently using this for nurses in Scotland and UK",null,null,"currently using this for pharmacists for Scotland and UK",null,null,null,null,"currently using this for other doctors in Scotland and UK",null,null,"currently using this for GPs in Scotland and UK"]

{"sheet":"Review charge","index":22,"n_rows":8,"n_cols":11,"rows_kept":8,"cut":false,"hidden":true,"merged":[]}
["Review charge",null,null,null,null,null,null,null,"exchange rate adjusted"]
[null,null,null,null,null,null,null,null,"€"]
[null,null,"Charge reclaimed per review",null,"Charge per review",null,null,null,"Charge reclaimed per review",null,"Charge per review"]
[null,null,"Scotland","SCOT",0,null,null,null,"Scotland","SCOT",{"$f":"E4*VLOOKUP($J4,XE,3,FALSE)","v":0}]
[null,null,null,null,null,null,null,null,null,1,2]
[]
[null,null,"Set own options",null,"Charge per review",null,null,"exchange rate adjusted","Set own options",null,"Charge per review"]
[null,null,"override profiles",null,{"$f":"'manual data input'!AF6","v":0},null,null,"€","override profiles",null,{"$f":"E8*VLOOKUP('input selections'!$I$3,XE,3,FALSE)","v":0}]

{"sheet":"Admissions","index":23,"n_rows":114,"n_cols":15,"rows_kept":114,"cut":false,"hidden":true,"merged":[]}
["Admission rates",null,null,null,null,null,null,null,null,"Overall admission rate, no risk stratification"]
[null,null,null,null,null,null,null,null,null,null,null,"Scotland"]
[null,null,null,null,null,null,null,null,null,1,null,"SCOT"]
[null,null,null,null,null,null,null,null,"note: what factor should this be?",2,null,0.29253627795646647]
[null,null,null,null,null,null,null,null,"%?"]
[]
["Admissions per risk patient"]
[null,null,null,null,"not currently in use"]
[null,null,null,null,"Set own options",null,null,null,null,"Set blanket rate %",null,"Scotland","Scotland","Scotland","Scotland"]
[1,null,null,null,"override",null,null,null,null,"override all",null,"SCOT","SCOT","SCOT","SCOT"]
[2,null,"age",null,"BNF10+","BNF10+ & High Risk Med","BNF 5-9","BNF 5-9 & High Risk Med",null,{"$f":"'manual data input'!$M$6","v":0},null,"BNF10+","BNF10+ & High Risk Med","BNF 5-9","BNF 5-9 & High Risk Med"]
[3,null,0,"Y_LT1",{"$f":"'manual data input'!J6","v":0},{"$f":"'manual data input'!K6","v":0},null,null,null,{"$f":"$J$11","v":0}]
[4,null,1,"Y1",{"$f":"'manual data input'!J7","v":0},{"$f":"'manual data input'!K7","v":0},null,null,null,{"$f":"$J$11","v":0}]
[5,null,2,"Y2",{"$f":"'manual data input'!J8","v":0},{"$f":"'manual data input'!K8","v":0},null,null,null,0]
[6,null,3,"Y3",{"$f":"'manual data input'!J9","v":0},{"$f":"'manual data input'!K9","v":0},null,null,null,0]
[7,null,4,"Y4",{"$f":"'manual data input'!J10","v":0},{"$f":"'manual data input'!K10","v":0},null,null,null,0]
[8,null,5,"Y5",{"$f":"'manual data input'!J11","v":0},{"$f":"'manual data input'!K11","v":0},null,null,null,0]
[9,null,6,"Y6",{"$f":"'manual data input'!J12","v":0},{"$f":"'manual data input'!K12","v":0},null,null,null,0]
[10,null,7,"Y7",{"$f":"'manual data input'!J13","v":0},{"$f":"'manual data input'!K13","v":0},null,null,null,0]
[11,null,8,"Y8",{"$f":"'manual data input'!J14","v":0},{"$f":"'manual data input'!K14","v":0},null,null,null,0]
[12,null,9,"Y9",{"$f":"'manual data input'!J15","v":0},{"$f":"'manual data input'!K15","v":0},null,null,null,0]
[13,null,10,"Y10",{"$f":"'manual data input'!J16","v":0},{"$f":"'manual data input'!K16","v":0},null,null,null,0]
[14,null,11,"Y11",{"$f":"'manual data input'!J17","v":0},{"$f":"'manual data input'!K17","v":0},null,null,null,0]
[15,null,12,"Y12",{"$f":"'manual data input'!J18","v":0},{"$f":"'manual data input'!K18","v":0},null,null,null,0]
[16,null,13,"Y13",{"$f":"'manual data input'!J19","v":0},{"$f":"'manual data input'!K19","v":0},null,null,null,0]
[17,null,14,"Y14",{"$f":"'manual data input'!J20","v":0},{"$f":"'manual data input'!K20","v":0},null,null,null,0]
[18,null,15,"Y15",{"$f":"'manual data input'!J21","v":0},{"$f":"'manual data input'!K21","v":0},null,null,null,0]
[19,null,16,"Y16",{"$f":"'manual data input'!J22","v":0},{"$f":"'manual data input'!K22","v":0},null,null,null,0,null,1.805555555555556,1.3725490196078429,1.572916666666667,1.1494252873563218]
[20,null,17,"Y17",{"$f":"'manual data input'!J23","v":0},{"$f":"'manual data input'!K23","v":0},null,null,null,0,null,2.3916666666666679,1.4252873563218389,1.5075757575757578,0.83597883597883627]
[21,null,18,"Y18",{"$f":"'manual data input'!J24","v":0},{"$f":"'manual data input'!K24","v":0},null,null,null,0,null,1.6354166666666672,1.2857142857142858,1.4480874316939893,1.0250000000000001]
[22,null,19,"Y19",{"$f":"'manual data input'!J25","v":0},{"$f":"'manual data input'!K25","v":0},null,null,null,0,null,2.6763285024154588,1.2881355932203389,1.5010893246187365,0.69047619047619058]
[23,null,20,"Y20",{"$f":"'manual data input'!J26","v":0},{"$f":"'manual data input'!K26","v":0},null,null,null,0,null,2.371308016877637,1.285714285714286,1.4437500000000005,0.76153846153846183]
[24,null,21,"Y21",{"$f":"'manual data input'!J27","v":0},{"$f":"'manual data input'!K27","v":0},null,null,null,0,null,2.5958333333333323,1.4904761904761907,1.5890985324947577,0.90625]
[25,null,22,"Y22",{"$f":"'manual data input'!J28","v":0},{"$f":"'manual data input'!K28","v":0},null,null,null,0,null,1.8831908831908832,1.2430555555555556,1.376602564102563,0.87425149700598814]
[26,null,23,"Y23",{"$f":"'manual data input'!J29","v":0},{"$f":"'manual data input'!K29","v":0},null,null,null,0,null,2.4380952380952374,1.3595505617977528,1.6069651741293542,0.89696969696969697]
[27,null,24,"Y24",{"$f":"'manual data input'!J30","v":0},{"$f":"'manual data input'!K30","v":0},null,null,null,0,null,2.3566666666666669,1.273684210526316,1.4587628865979383,0.79441117764471081]
[28,null,25,"Y25",{"$f":"'manual data input'!J31","v":0},{"$f":"'manual data input'!K31","v":0},null,null,null,0,null,2.1327683615819213,1.2987421383647804,1.3646322378716746,0.84408602150537637]
[29,null,26,"Y26",{"$f":"'manual data input'!J32","v":0},{"$f":"'manual data input'!K32","v":0},null,null,null,0,null,2.0050125313283202,1.3278688524590168,1.3946188340807169,0.90524534686971236]
[30,null,27,"Y27",{"$f":"'manual data input'!J33","v":0},{"$f":"'manual data input'!K33","v":0},null,null,null,0,null,2.0858585858585843,1.398305084745763,1.4312865497076039,0.93197278911564629]
[31,null,28,"Y28",{"$f":"'manual data input'!J34","v":0},{"$f":"'manual data input'!K34","v":0},null,null,null,0,null,2.0401891252955084,1.2213740458015272,1.3641231593038821,0.79379844961240309]
[32,null,29,"Y29",{"$f":"'manual data input'!J35","v":0},{"$f":"'manual data input'!K35","v":0},null,null,null,0,null,2.1155555555555554,1.3454987834549883,1.3540051679586567,0.85470085470085477]
[33,null,30,"Y30",{"$f":"'manual data input'!J36","v":0},{"$f":"'manual data input'!K36","v":0},null,null,null,0,null,1.9956709956709953,1.1471264367816092,1.2832722832722838,0.71836734693877558]
[34,null,31,"Y31",{"$f":"'manual data input'!J37","v":0},{"$f":"'manual data input'!K37","v":0},null,null,null,0,null,2.0382165605095541,1.1755555555555564,1.377525252525251,0.78199718706047827]
[35,null,32,"Y32",{"$f":"'manual data input'!J38","v":0},{"$f":"'manual data input'!K38","v":0},null,null,null,0,null,1.9634146341463421,1.2039473684210527,1.3491484184914853,0.81978319783197806]
[36,null,33,"Y33",{"$f":"'manual data input'!J39","v":0},{"$f":"'manual data input'!K39","v":0},null,null,null,0,null,1.9692982456140344,1.1173708920187793,1.3133583021223476,0.72740112994350292]
[37,null,34,"Y34",{"$f":"'manual data input'!J40","v":0},{"$f":"'manual data input'!K40","v":0},null,null,null,0,null,1.8003766478342744,1.1117647058823534,1.195205479452055,0.72962962962962974]
[38,null,35,"Y35",{"$f":"'manual data input'!J41","v":0},{"$f":"'manual data input'!K41","v":0},null,null,null,0,null,1.737654320987654,1.233502538071066,1.2830769230769234,0.89943502824858756]
[39,null,36,"Y36",{"$f":"'manual data input'!J42","v":0},{"$f":"'manual data input'!K42","v":0},null,null,null,0,null,1.7969543147208125,1.2292768959435627,1.2529474812433017,0.84615384615384615]
[40,null,37,"Y37",{"$f":"'manual data input'!J43","v":0},{"$f":"'manual data input'!K43","v":0},null,null,null,0,null,1.7085346215780994,1.1275510204081634,1.2197916666666659,0.79435028248587602]
[41,null,38,"Y38",{"$f":"'manual data input'!J44","v":0},{"$f":"'manual data input'!K44","v":0},null,null,null,0,null,1.6245791245791252,1.063492063492063,1.1607717041800638,0.75789473684210529]
[42,null,39,"Y39",{"$f":"'manual data input'!J45","v":0},{"$f":"'manual data input'!K45","v":0},null,null,null,0,null,1.6076190476190479,1.0449897750511248,1.1321212121212116,0.73015873015873023]
[43,null,40,"Y40",{"$f":"'manual data input'!J46","v":0},{"$f":"'manual data input'!K46","v":0},null,null,null,0,null,1.7702702702702702,1.1582181259600608,1.175740210124165,0.76576576576576549]
[44,null,41,"Y41",{"$f":"'manual data input'!J47","v":0},{"$f":"'manual data input'!K47","v":0},null,null,null,0,null,1.4166666666666663,1.024739583333333,1.0770562770562775,0.77558685446009401]
[45,null,42,"Y42",{"$f":"'manual data input'!J48","v":0},{"$f":"'manual data input'!K48","v":0},null,null,null,0,null,1.5729166666666672,1.0406212664277181,1.0915331807780326,0.72208835341365474]
[46,null,43,"Y43",{"$f":"'manual data input'!J49","v":0},{"$f":"'manual data input'!K49","v":0},null,null,null,0,null,1.5405092592592589,0.99283154121863859,1.1249042145593866,0.70771756978653466]
[47,null,44,"Y44",{"$f":"'manual data input'!J50","v":0},{"$f":"'manual data input'!K50","v":0},null,null,null,0,null,1.4700374531835205,1.0748299319727888,1.1191919191919193,0.816239316239316]
[48,null,45,"Y45",{"$f":"'manual data input'!J51","v":0},{"$f":"'manual data input'!K51","v":0},null,null,null,0,null,1.4460093896713617,1.0492753623188411,1.118213058419244,0.80952380952380942]
[49,null,46,"Y46",{"$f":"'manual data input'!J52","v":0},{"$f":"'manual data input'!K52","v":0},null,null,null,0,null,1.496240601503759,1.0493197278911561,1.1190476190476188,0.78006230529595044]
[50,null,47,"Y47",{"$f":"'manual data input'!J53","v":0},{"$f":"'manual data input'!K53","v":0},null,null,null,0,null,1.5266040688575886,1.0720064724919085,1.1527777777777772,0.80223004694835709]
[51,null,48,"Y48",{"$f":"'manual data input'!J54","v":0},{"$f":"'manual data input'!K54","v":0},null,null,null,0,null,1.4153132250580029,1.0270485282418453,1.0901502504173626,0.79240806642941874]
[52,null,49,"Y49",{"$f":"'manual data input'!J55","v":0},{"$f":"'manual data input'!K55","v":0},null,null,null,0,null,1.4223602484472042,1.0086206896551722,1.072378138847857,0.76332288401253934]
[53,null,50,"Y50",{"$f":"'manual data input'!J56","v":0},{"$f":"'manual data input'!K56","v":0},null,null,null,0,null,1.3209393346379643,1.0006761325219735,1.0805105547373586,0.81322751322751419]
[54,null,51,"Y51",{"$f":"'manual data input'!J57","v":0},{"$f":"'manual data input'!K57","v":0},null,null,null,0,null,1.4352030947775629,1.0544488711819389,1.1173104434907015,0.81881881881881891]
[55,null,52,"Y52",{"$f":"'manual data input'!J58","v":0},{"$f":"'manual data input'!K58","v":0},null,null,null,0,null,1.2212741751990879,0.95454545454545381,1.0167992926613609,0.78745318352059879]
[56,null,53,"Y53",{"$f":"'manual data input'!J59","v":0},{"$f":"'manual data input'!K59","v":0},null,null,null,0,null,1.2442188381274673,0.95504962054874454,1.0086021505376346,0.77382580939352497]
[57,null,54,"Y54",{"$f":"'manual data input'!J60","v":0},{"$f":"'manual data input'!K60","v":0},null,null,null,0,null,1.3255425709515849,0.98974358974358934,1.0563146997929616,0.77981651376146888]
[58,null,55,"Y55",{"$f":"'manual data input'!J61","v":0},{"$f":"'manual data input'!K61","v":0},null,null,null,0,null,1.2155717761557179,0.98100949525237413,1.0365616491637495,0.82879537953795379]
[59,null,56,"Y56",{"$f":"'manual data input'!J62","v":0},{"$f":"'manual data input'!K62","v":0},null,null,null,0,null,1.2958918356734286,1.0290791599353797,1.0794238683127573,0.85646346735841006]
[60,null,57,"Y57",{"$f":"'manual data input'!J63","v":0},{"$f":"'manual data input'!K63","v":0},null,null,null,0,null,1.2165281625115429,1.0099999999999993,1.0562476406191019,0.86531585220500595]
[61,null,58,"Y58",{"$f":"'manual data input'!J64","v":0},{"$f":"'manual data input'!K64","v":0},null,null,null,0,null,1.212212212212213,0.98519652884124553,1.0437956204379557,0.83290816326530581]
[62,null,59,"Y59",{"$f":"'manual data input'!J65","v":0},{"$f":"'manual data input'!K65","v":0},null,null,null,0,null,1.1808650065530808,0.99048913043478259,1.0626373626373626,0.88463027487417689]
[63,null,60,"Y60",{"$f":"'manual data input'!J66","v":0},{"$f":"'manual data input'!K66","v":0},null,null,null,0,null,1.1644144144144142,0.95792426367461436,1.0225925925925912,0.83822953388170784]
[64,null,61,"Y61",{"$f":"'manual data input'!J67","v":0},{"$f":"'manual data input'!K67","v":0},null,null,null,0,null,1.1472366148531945,0.96688741721854321,1.0142543859649138,0.85223367697594543]
[65,null,62,"Y62",{"$f":"'manual data input'!J68","v":0},{"$f":"'manual data input'!K68","v":0},null,null,null,0,null,1.1727909011373576,0.99061662198391509,1.0427255985267041,0.87605850654349549]
[66,null,63,"Y63",{"$f":"'manual data input'!J69","v":0},{"$f":"'manual data input'!K69","v":0},null,null,null,0,null,1.0801094177413046,0.94464794464794366,0.99830451000339249,0.87044967880085522]
[67,null,64,"Y64",{"$f":"'manual data input'!J70","v":0},{"$f":"'manual data input'!K70","v":0},null,null,null,0,null,1.1475796930342377,0.99676767676767752,1.032726045883942,0.89241622574955926]
[68,null,65,"Y65",{"$f":"'manual data input'!J71","v":0},{"$f":"'manual data input'!K71","v":0},null,null,null,{"$f":"$J$11","v":0},null,1.0891861761426982,0.96927803379416166,1.0077369439071575,0.89194699286442403]
[69,null,66,"Y66",{"$f":"'manual data input'!J72","v":0},{"$f":"'manual data input'!K72","v":0},null,null,null,0,null,1.128623188405796,0.98621973929236517,1.0232924142272588,0.89041994750656084]
[70,null,67,"Y67",{"$f":"'manual data input'!J73","v":0},{"$f":"'manual data input'!K73","v":0},null,null,null,0,null,1.1012491781722555,0.95238095238095311,1.0081851538244437,0.86547619047618962]
[71,null,68,"Y68",{"$f":"'manual data input'!J74","v":0},{"$f":"'manual data input'!K74","v":0},null,null,null,0,null,1.1025402726146218,0.99257825104872632,1.0373376623376618,0.92048401037164973]
[72,null,69,"Y69",{"$f":"'manual data input'!J75","v":0},{"$f":"'manual data input'!K75","v":0},null,null,null,0,null,1.1014263074484949,0.95276872964169357,0.99681020733652215,0.85847033595425248]
[73,null,70,"Y70",{"$f":"'manual data input'!J76","v":0},{"$f":"'manual data input'!K76","v":0},null,null,null,0,null,1.0791848617176136,0.97005091344714012,1.0099923136049183,0.89632017190437885]
[74,null,71,"Y71",{"$f":"'manual data input'!J77","v":0},{"$f":"'manual data input'!K77","v":0},null,null,null,0,null,1.0437010247136835,0.937403638606228,0.9746057203956161,0.867111481790381]
[75,null,72,"Y72",{"$f":"'manual data input'!J78","v":0},{"$f":"'manual data input'!K78","v":0},null,null,null,0,null,1.1099972152603723,0.98400457012282105,1.0182310914018224,0.90308594746238313]
[76,null,73,"Y73",{"$f":"'manual data input'!J79","v":0},{"$f":"'manual data input'!K79","v":0},null,null,null,0,null,1.1021090534979412,0.97533810660302278,1.008564345278341,0.89186647860836832]
[77,null,74,"Y74",{"$f":"'manual data input'!J80","v":0},{"$f":"'manual data input'!K80","v":0},null,null,null,0,null,1.066507684154743,0.9525359370762132,0.98642322097378343,0.87551665451009086]
[78,null,75,"Y75",{"$f":"'manual data input'!J81","v":0},{"$f":"'manual data input'!K81","v":0},null,null,null,0,null,0.9689138576779005,0.85853939045428429,0.89617486338797969,0.79078562833075539]
[79,null,76,"Y76",{"$f":"'manual data input'!J82","v":0},{"$f":"'manual data input'!K82","v":0},null,null,null,0,null,0.95077813970322234,0.85629629629629689,0.89094449853943491,0.80053817692566442]
[80,null,77,"Y77",{"$f":"'manual data input'!J83","v":0},{"$f":"'manual data input'!K83","v":0},null,null,null,0,null,0.97382716049382811,0.87556675062972245,0.90289407962391666,0.81130355515041019]
[81,null,78,"Y78",{"$f":"'manual data input'!J84","v":0},{"$f":"'manual data input'!K84","v":0},null,null,null,0,null,0.99513259483047989,0.87768056270372308,0.91459443457667167,0.80376838235294079]
[82,null,79,"Y79",{"$f":"'manual data input'!J85","v":0},{"$f":"'manual data input'!K85","v":0},null,null,null,0,null,0.96899224806201756,0.86477828359467124,0.89394608926204155,0.79574791192103056]
[83,null,80,"Y80",{"$f":"'manual data input'!J86","v":0},{"$f":"'manual data input'!K86","v":0},null,null,null,0,null,0.87660568314519594,0.77312042581503826,0.79970511511852072,0.70298542548189846]
[84,null,81,"Y81",{"$f":"'manual data input'!J87","v":0},{"$f":"'manual data input'!K87","v":0},null,null,null,0,null,0.86651352730985076,0.77043410246382615,0.79475982532751077,0.70301974448315896]
[85,null,82,"Y82",{"$f":"'manual data input'!J88","v":0},{"$f":"'manual data input'!K88","v":0},null,null,null,0,null,0.87498323272971223,0.77874156684565754,0.80389363722696927,0.71324975417895731]
[86,null,83,"Y83",{"$f":"'manual data input'!J89","v":0},{"$f":"'manual data input'!K89","v":0},null,null,null,0,null,0.91797346200241303,0.7915982484948012,0.83099743050689179,0.71476793248944936]
[87,null,84,"Y84",{"$f":"'manual data input'!J90","v":0},{"$f":"'manual data input'!K90","v":0},null,null,null,0,null,0.95421405657625991,0.81744966442952727,0.85028142589118305,0.72722567287784778]
[88,null,85,"Y85",{"$f":"'manual data input'!J91","v":0},{"$f":"'manual data input'!K91","v":0},null,null,null,0,null,0.83848465335908873,0.71223100570926612,0.74676861460040012,0.62939841089670734]
[89,null,86,"Y86",{"$f":"'manual data input'!J92","v":0},{"$f":"'manual data input'!K92","v":0},null,null,null,0,null,0.84629694221602048,0.72112507480550658,0.74990172955974821,0.63777026334665521]
[90,null,87,"Y87",{"$f":"'manual data input'!J93","v":0},{"$f":"'manual data input'!K93","v":0},null,null,null,0,null,0.84661693495615797,0.72510822510822603,0.7539105529852389,0.64393412201345146]
[91,null,88,"Y88",{"$f":"'manual data input'!J94","v":0},{"$f":"'manual data input'!K94","v":0},null,null,null,0,null,0.89903556359252634,0.74523477452347786,0.78040374199901474,0.64618177103591534]
[92,null,89,"Y89",{"$f":"'manual data input'!J95","v":0},{"$f":"'manual data input'!K95","v":0},null,null,null,0,null,0.90547762191048997,0.76426970167270281,0.79635807617458909,0.6701723634238993]
[93,null,90,"Y90",{"$f":"'manual data input'!J96","v":0},{"$f":"'manual data input'!K96","v":0},null,null,null,0]
[94,null,91,"Y91",{"$f":"'manual data input'!J97","v":0},{"$f":"'manual data input'!K97","v":0},null,null,null,0]
[95,null,92,"Y92",{"$f":"'manual data input'!J98","v":0},{"$f":"'manual data input'!K98","v":0},null,null,null,0]
[96,null,93,"Y93",{"$f":"'manual data input'!J99","v":0},{"$f":"'manual data input'!K99","v":0},null,null,null,0]
[97,null,94,"Y94",{"$f":"'manual data input'!J100","v":0},{"$f":"'manual data input'!K100","v":0},null,null,null,0]
[98,null,95,"Y95",{"$f":"'manual data input'!J101","v":0},{"$f":"'manual data input'!K101","v":0},null,null,null,0]
[99,null,96,"Y96",{"$f":"'manual data input'!J102","v":0},{"$f":"'manual data input'!K102","v":0},null,null,null,0]
[100,null,97,"Y97",{"$f":"'manual data input'!J103","v":0},{"$f":"'manual data input'!K103","v":0},null,null,null,0]
[101,null,98,"Y98",{"$f":"'manual data input'!J104","v":0},{"$f":"'manual data input'!K104","v":0},null,null,null,0]
[102,null,99,"Y99",{"$f":"'manual data input'!J105","v":0},{"$f":"'manual data input'!K105","v":0},null,null,null,0]
[103,null,100,"Y_OPEN",{"$f":"'manual data input'!J106","v":0},{"$f":"'manual data input'!K106","v":0},null,null,null,0,null,0.18200757575757578,0.15288815087178265,0.1556083592274414,0.1302286308131983]
[104,null,102,"TOTAL",{"$f":"'manual data input'!J107","v":0},{"$f":"'manual data input'!K107","v":0},null,null,null,0]
[null,null,null,null,null,null,null,null,null,null,null,{"$f":"AVERAGE(L12:L112)","v":1.4269793108848441},{"$f":"AVERAGE(M12:M112)","v":1.0284366326483636},1.0989713815844144,0.80208852334704128]

{"sheet":"Bed days","index":24,"n_rows":26,"n_cols":22,"rows_kept":26,"cut":false,"hidden":true,"merged":[]}
["Bed days"]
[null,"R040: SPECIALTY GROUP COSTS - INPATIENTS IN ALL SPECIALTIES (EXC LONG STAY)"]
[null,"2014-15",null,null,"Discharges","Length","Direct Cost per Case",null,null,null,null,null,null,"Total","Total Costs"]
[null,null,null,null,null,"of Stay",null,null,null,null,null,null,null,"Allocated"]
[null,"Hospital, Board Cipher",null,null,null,"Specialty","Medical","Nursing","Pharmacy","AHP1","Other","Theatre","Laboratory","Cost per","Cost per Case"]
[null,"and Classification",null,null,null,"Average","and",null,null,null,"Direct",null,null,"Case","Gross","Income","Income","Net","Group",null,"Gross direct cost per bed day","Net Total cost per bed day"]
[null,null,null,null,null,null,"Dental",null,null,null,"Care",null,null,null,null,"ACT","Other",null,"Index"]
[null,null,null,null,null,null,"£","£","£","£","£","£","£","£","£","£","£","£"]
[null,"All specialties"," "," ",1135582,4.5525959375897118,395.56419583086046,883.02824443325096,248.48010731941866,95.175923288674923,35.911374889704135,310.37229592402832,100.75347897377736,853.89187354149669,2923.1774942012116,-36.800165254468631,-140.04411022717863,2746.3332187195633,100,null,{"$f":"(O9-N9)/F9","v":454.52872361768613},{"$f":"R9/F9","v":603.24554525995529}]
[null,"General Medicine"," "," ",345600,3.4117679398148146,237.74120358796299,534.17473686342589,158.84838715277778,54.92577401620369,17.492046006944442,8.7003850115740722,83.427340567129633,488.32659542824064,1583.636468634259,-17.562924971064817,-108.46456215277776,1457.6089815104165,100,null,{"$f":"(O10-N10)/F10","v":321.03879646206832},{"$f":"R10/F10","v":427.22981375736043}]
[null,"Geriatric Assessment"," "," ",78931,14.72555776564341,466.9380736339333,1887.5790176229871,248.06500715815082,284.5294273479368,37.264540548073633,0.60540408711406168,111.5532700713281,1649.0342879223629,4685.5690283918866,-36.591461529690498,-142.62953972456955,4506.3480271376266,100,null,206.20847025259334,306.02223011555509]
[]
[]
[]
[]
[null,null,null,null,null,null,null,null,"currency adjusted"]
[null,"General Medicine",null,"Gross direct cost per bed day","Net Total cost per bed day",null,null,null,"General Medicine",null,"Gross direct cost per bed day","Net Total cost per bed day"]
[null,"Scotland","SCOT",{"$f":"U10","v":321.03879646206832},{"$f":"V10","v":427.22981375736043},null,null,null,"Scotland","SCOT",{"$f":"D18*VLOOKUP($J18,XE,3,FALSE)","v":374.01019787830961},{"$f":"E18*VLOOKUP($J18,XE,3,FALSE)","v":497.72273302732492}]
[null,null,null,null,null,null,null,null,null,1,2,3]
[]
[null,"Set own options",null,"Average drug cost per bed day",null,null,null,null,"Set own options",null,"Average drug cost per bed day"]
[null,"override profiles",null,{"$f":"'manual data input'!AJ6","v":0},{"$f":"'manual data input'!AJ7","v":0},null,null,null,"override profiles",null,{"$f":"IF('input selections'!$F$2=2,'Bed days'!$D$22,(D22*VLOOKUP('input selections'!$I$3,XE,3,FALSE)))","v":0}]
[]
[]
[]
[null,null,null,null,null,null,null,null,"currency adjusted"]

{"sheet":"XE","index":25,"n_rows":37,"n_cols":7,"rows_kept":37,"cut":false,"hidden":true,"merged":[]}
["Exchange rates"]
[null,null,null,"www.xe.com","accessed","2017-03-03"]
[]
[]
[null,null,null,null,null,"Currency","€ exchange rate"]
[null,null,null,"Scotland","SCOT","Pound",1.165]
[null,null,null,"UK","UK","Pound",1.165]
[null,null,null,"Austria","AT","Euro",1]
[null,null,null,"Belgium","BE","Euro",1]
[null,null,null,"Bulgaria","BG","Bulgarian Lev",0.51100000000000001]
[null,null,null,"Croatia","HR","Croatian Kuna",0.13400000000000001]
[null,null,null,"Republic of Cyprus","CY","Euro",1]
[null,null,null,"Czech Republic","CZ","Czech Koruna",3.6999999999999998E-2]
[null,null,null,"Denmark","DK","Danish Krone",0.13400000000000001]
[null,null,null,"Estonia","EE","Euro",1]
[null,null,null,"Finland","FI","Euro",1]
[null,null,null,"France","FR","Euro",1]
[null,null,null,"Germany","DE_TOT","Euro",1]
[null,null,null,"Greece","EL","Euro",1]
[null,null,null,"Hungary","HU","Forint",3.0000000000000001E-3]
[null,null,null,"Ireland","MT","Euro",1]
[null,null,null,"Italy","IT","Euro",1]
[null,null,null,"Latvia","LV","Euro",1]
[null,null,null,"Lithuania","LT","Euro",1]
[null,null,null,"Luxembourg","LU","Euro",1]
[null,null,null,"Malta","MT","Euro",1]
[null,null,null,"Netherlands","NL","Euro",1]
[null,null,null,"Poland","PL","Zloty",0.23200000000000001]
[null,null,null,"Portugal","PT","Euro",1]
[null,null,null,"Romania","RO","Leu",0.22]
[null,null,null,"Slovakia","SK","Euro",1]
[null,null,null,"Slovenia","SI","Euro",1]
[null,null,null,"Spain","ES","Euro",1]
[null,null,null,"Sweden","SE","Swedish Krona",0.104]
[null,null,null,"EU28","EU28"]
[]
[null,null,null,null,1,2,3]

{"sheet":"country population totals","index":26,"n_rows":46,"n_cols":7,"rows_kept":46,"cut":false,"hidden":true,"merged":[]}
[]
[]
[]
[]
[null,"TOTAL,F,AD"]
[]
[null,null,null,null,null,2014]
[null,{"$f":"CONCATENATE(C8,E8)","v":"TOTAL,T,SCOT"},"TOTAL,T,","Scotland","SCOT",{"$f":"VLOOKUP($B8,popEU,3,FALSE)","v":5347600}]
[null,{"$f":"CONCATENATE(C9,E9)","v":"TOTAL,T,UK"},"TOTAL,T,","UK","UK",64351155]
[null,"TOTAL,T,AT","TOTAL,T,","Austria","AT",8506889]
[null,"TOTAL,T,BE","TOTAL,T,","Belgium","BE",11203992]
[null,"TOTAL,T,BG","TOTAL,T,","Bulgaria","BG",7245677]
[null,"TOTAL,T,HR","TOTAL,T,","Croatia","HR",4246809]
[null,"TOTAL,T,CY","TOTAL,T,","Republic of Cyprus","CY",858000]
[null,"TOTAL,T,CZ","TOTAL,T,","Czech Republic","CZ",10512419]
[null,"TOTAL,T,DK","TOTAL,T,","Denmark","DK",5627235]
[null,"TOTAL,T,EE","TOTAL,T,","Estonia","EE",1315819]
[null,"TOTAL,T,FI","TOTAL,T,","Finland","FI",5451270]
[null,"TOTAL,T,FR","TOTAL,T,","France","FR",65889148]
[null,"TOTAL,T,DE_TOT","TOTAL,T,","Germany","DE_TOT",80767463]
[null,"TOTAL,T,EL","TOTAL,T,","Greece","EL",10926807]
[null,"TOTAL,T,HU","TOTAL,T,","Hungary","HU",9877365]
[null,"TOTAL,T,MT","TOTAL,T,","Ireland","MT",425384]
[null,"TOTAL,T,IT","TOTAL,T,","Italy","IT",60782668]
[null,"TOTAL,T,LV","TOTAL,T,","Latvia","LV",2001468]
[null,"TOTAL,T,LT","TOTAL,T,","Lithuania","LT",2943472]
[null,"TOTAL,T,LU","TOTAL,T,","Luxembourg","LU",549680]
[null,"TOTAL,T,MT","TOTAL,T,","Malta","MT",425384]
[null,"TOTAL,T,NL","TOTAL,T,","Netherlands","NL",16829289]
[null,"TOTAL,T,PL","TOTAL,T,","Poland","PL",38017856]
[null,"TOTAL,T,PT","TOTAL,T,","Portugal","PT",10427301]
[null,"TOTAL,T,RO","TOTAL,T,","Romania","RO",19947311]
[null,"TOTAL,T,SK","TOTAL,T,","Slovakia","SK",5415949]
[null,"TOTAL,T,SI","TOTAL,T,","Slovenia","SI",2061085]
[null,"TOTAL,T,ES","TOTAL,T,","Spain","ES",46512199]
[null,"TOTAL,T,SE","TOTAL,T,","Sweden","SE",9644864]
[null,"TOTAL,T,EU28","TOTAL,T,","EU28","EU28",506944075]
[]
[]
[]
[null,"http://www.isdscotland.org/Health-Topics/Hospital-Care/Inpatient-and-Day-Case-Activity/"]
[]
[null,"Scottish emergency admissions","2014/15p","2013/14","2012/13","2011/12","2010/11"]
[null,"All Patient Types",1564367,1535724,1474487,1440267,1414425]
[]
[null,null,{"$f":"C44/F8","v":0.29253627795646647}]

{"sheet":"SPARRA","index":27,"n_rows":277,"n_cols":29,"rows_kept":277,"cut":false,"hidden":true,"merged":[]}
["Age","Sex","BNF 5-9","BNF 5-9 & High Risk Med","BNF10+","BNF10+ & High Risk Med","BNF 5-9 - # of EAs","BNF 5-9 & High Risk Med - # of EAs","BNF10+ - # of EAs","BNF10+ & High Risk Med = # of EAs","agecode",",T,SCOT","popn","BNF 5-9","BNF 5-9 & High Risk Med","BNF10+","BNF10+ & High Risk Med","admissions per population - THREE YEAR AVERAGE, 1/3 for model","BNF 5-9","BNF 5-9 & High Risk Med","BNF10+","BNF10+ & High Risk Med","admissions per patient","BNF 5-9","BNF 5-9 & High Risk Med","BNF10+","BNF10+ & High Risk Med",null,"y"]
[16,"All",96,58,48,34,453.00000000000011,200,260.00000000000006,140,{"$f":"CONCATENATE($AC$1,A2)","v":"y16"},{"$f":"CONCATENATE(K2,$L$1)","v":"y16,T,SCOT"},{"$f":"VLOOKUP(L2,popEU,2,FALSE)","v":58760},{"$f":"C2/$M2","v":1.6337644656228727E-3},{"$f":"D2/$M2","v":9.8706603131381893E-4},{"$f":"E2/$M2","v":8.1688223281143636E-4},{"$f":"F2/$M2","v":5.786249149081008E-4},"currently set to admissions per total population to enable application to other EU countries",{"$f":"G2/$M2","v":7.7093260721579323E-3},{"$f":"H2/$M2","v":3.4036759700476512E-3},4.4247787610619477E-3,2.3825731790333561E-3,null,{"$f":"G2/C2","v":4.7187500000000009},{"$f":"H2/D2","v":3.4482758620689653},5.4166666666666679,4.117647058823529]
[16,"Female",64,46,33,27,309.00000000000006,142,208.00000000000003,119,null,null,null,null,null,null,null,null,{"$f":"G3/C3","v":4.8281250000000009},{"$f":"H3/D3","v":3.0869565217391304},{"$f":"I3/E3","v":6.3030303030303036},{"$f":"J3/F3","v":4.4074074074074074}]
[16,"Male",32,12,15,7,144,58,52.000000000000007,21.000000000000004,null,null,null,null,null,null,null,null,4.5,4.833333333333333,3.4666666666666672,3.0000000000000004]
[17,"All",88,63,40,29,398.00000000000006,158.00000000000006,287.00000000000017,124,{"$f":"CONCATENATE($AC$1,A5)","v":"y17"},{"$f":"CONCATENATE(K5,$L$1)","v":"y17,T,SCOT"},{"$f":"VLOOKUP(L5,popEU,2,FALSE)","v":60074},{"$f":"C5/$M5","v":1.4648600059926091E-3},{"$f":"D5/$M5","v":1.0487065951992542E-3},{"$f":"E5/$M5","v":6.6584545726936775E-4},{"$f":"F5/$M5","v":4.8273795652029164E-4},null,{"$f":"G5/$M5","v":6.6251622998302106E-3},{"$f":"H5/$M5","v":2.6300895562140036E-3},{"$f":"I5/$M5","v":4.7774411559077168E-3},{"$f":"J5/$M5","v":2.0641209175350402E-3},null,{"$f":"G5/C5","v":4.5227272727272734},{"$f":"H5/D5","v":2.5079365079365088},{"$f":"I5/E5","v":7.1750000000000043},{"$f":"J5/F5","v":4.2758620689655169}]
[17,"Female",65,49,29,21,288,112,222,94,null,null,null,null,null,null,null,null,4.430769230769231,2.2857142857142856,7.6551724137931032,4.4761904761904763]
[17,"Male",23,14,11,8,110,46.000000000000007,65,30,null,null,null,null,null,null,null,null,4.7826086956521738,3.285714285714286,5.9090909090909092,3.75]
[18,"All",122,80,64,42,530.00000000000011,246,314.00000000000011,162,{"$f":"CONCATENATE($AC$1,A8)","v":"y18"},{"$f":"CONCATENATE(K8,$L$1)","v":"y18,T,SCOT"},{"$f":"VLOOKUP(L8,popEU,2,FALSE)","v":62576},{"$f":"C8/$M8","v":1.9496292508309895E-3},{"$f":"D8/$M8","v":1.2784454103809768E-3},{"$f":"E8/$M8","v":1.0227563283047815E-3},{"$f":"F8/$M8","v":6.7118384045001275E-4},null,{"$f":"G8/$M8","v":8.4697008437739727E-3},{"$f":"H8/$M8","v":3.9312196369215031E-3},{"$f":"I8/$M8","v":5.0178982357453354E-3},{"$f":"J8/$M8","v":2.5888519560214778E-3},null,{"$f":"G8/C8","v":4.3442622950819683},{"$f":"H8/D8","v":3.0750000000000002},{"$f":"I8/E8","v":4.9062500000000018},{"$f":"J8/F8","v":3.8571428571428572}]
[18,"Female",87,58,49,32,385,185,226.00000000000006,121,null,null,null,null,null,null,null,null,4.4252873563218387,3.1896551724137931,4.6122448979591848,3.78125]
[18,"Male",35,22,15,10,145.00000000000006,61,88,41,null,null,null,null,null,null,null,null,4.1428571428571441,2.7727272727272729,5.8666666666666663,4.0999999999999996]
[19,"All",153,126,69,59,689,261,554,228,{"$f":"CONCATENATE($AC$1,A11)","v":"y19"},{"$f":"CONCATENATE(K11,$L$1)","v":"y19,T,SCOT"},{"$f":"VLOOKUP(L11,popEU,2,FALSE)","v":65983},{"$f":"C11/$M11","v":2.318779079459861E-3},{"$f":"D11/$M11","v":1.9095827713198855E-3},{"$f":"E11/$M11","v":1.0457238985799372E-3},{"$f":"F11/$M11","v":8.9416971037994638E-4},null,{"$f":"G11/$M11","v":1.0442083566979373E-2},{"$f":"H11/$M11","v":3.9555643120197624E-3},{"$f":"I11/$M11","v":8.3961020262794967E-3},{"$f":"J11/$M11","v":3.4554354909597925E-3},null,{"$f":"G11/C11","v":4.5032679738562091},{"$f":"H11/D11","v":2.0714285714285716},{"$f":"I11/E11","v":8.0289855072463769},{"$f":"J11/F11","v":3.8644067796610169}]
[19,"Female",106,93,52,48,481.00000000000034,204,413.00000000000023,190.00000000000003,null,null,null,null,null,null,null,null,4.5377358490566069,2.193548387096774,7.942307692307697,3.9583333333333339]
[19,"Male",47,33,17,11,208,57.000000000000007,141,38.000000000000007,null,null,null,null,null,null,null,null,4.4255319148936172,1.7272727272727275,8.2941176470588243,3.454545454545455]
[20,"All",160,130,79,70,693.00000000000023,297.00000000000011,562,270.00000000000006,{"$f":"CONCATENATE($AC$1,A14)","v":"y20"},{"$f":"CONCATENATE(K14,$L$1)","v":"y20,T,SCOT"},{"$f":"VLOOKUP(L14,popEU,2,FALSE)","v":68431},{"$f":"C14/$M14","v":2.3381216115503207E-3},{"$f":"D14/$M14","v":1.8997238093846356E-3},{"$f":"E14/$M14","v":1.1544475457029709E-3},{"$f":"F14/$M14","v":1.0229282050532654E-3},null,{"$f":"G14/$M14","v":1.012698923002733E-2},{"$f":"H14/$M14","v":4.3401382414402848E-3},{"$f":"I14/$M14","v":8.2126521605705022E-3},{"$f":"J14/$M14","v":3.9455802194911672E-3},null,{"$f":"G14/C14","v":4.3312500000000016},{"$f":"H14/D14","v":2.2846153846153854},{"$f":"I14/E14","v":7.1139240506329111},{"$f":"J14/F14","v":3.8571428571428581}]
[20,"Female",122,102,64,58,560.00000000000034,252,464.00000000000023,233.99999999999989,null,null,null,null,null,null,null,null,4.5901639344262319,2.4705882352941178,7.2500000000000036,4.0344827586206877]
[20,"Male",38,28,15,12,133,45,98.000000000000014,36,null,null,null,null,null,null,null,null,3.5,1.6071428571428572,6.5333333333333341,3]
[21,"All",159,128,80,70,757.99999999999943,348,622.99999999999977,313.00000000000006,{"$f":"CONCATENATE($AC$1,A17)","v":"y21"},{"$f":"CONCATENATE(K17,$L$1)","v":"y21,T,SCOT"},{"$f":"VLOOKUP(L17,popEU,2,FALSE)","v":71367},{"$f":"C17/$M17","v":2.2279204674429359E-3},{"$f":"D17/$M17","v":1.7935460366836212E-3},{"$f":"E17/$M17","v":1.1209662729272634E-3},{"$f":"F17/$M17","v":9.8084548881135548E-4},null,{"$f":"G17/$M17","v":1.0621155435985812E-2},{"$f":"H17/$M17","v":4.8762032872335954E-3},{"$f":"I17/$M17","v":8.7295248504210606E-3},{"$f":"J17/$M17","v":4.3857805428279186E-3},null,{"$f":"G17/C17","v":4.7672955974842735},{"$f":"H17/D17","v":2.71875},{"$f":"I17/E17","v":7.787499999999997},{"$f":"J17/F17","v":4.4714285714285724}]
[21,"Female",117,95,66,58,588.00000000000011,306.00000000000006,488,277.00000000000006,null,null,null,null,null,null,null,null,5.0256410256410264,3.2210526315789481,7.3939393939393936,4.7758620689655178]
[21,"Male",42,33,14,12,170,42.000000000000007,135.00000000000003,36.000000000000007,null,null,null,null,null,null,null,null,4.0476190476190474,1.2727272727272729,9.6428571428571441,3.0000000000000004]
[22,"All",208,167,117,96,858.99999999999932,438.00000000000006,661,358,{"$f":"CONCATENATE($AC$1,A20)","v":"y22"},{"$f":"CONCATENATE(K20,$L$1)","v":"y22,T,SCOT"},{"$f":"VLOOKUP(L20,popEU,2,FALSE)","v":73141},{"$f":"C20/$M20","v":2.8438222064232099E-3},{"$f":"D20/$M20","v":2.2832610984263274E-3},{"$f":"E20/$M20","v":1.5996499911130556E-3},{"$f":"F20/$M20","v":1.3125333260414814E-3},null,{"$f":"G20/$M20","v":1.1744438823641998E-2},{"$f":"H20/$M20","v":5.9884333000642604E-3},{"$f":"I20/$M20","v":9.0373388386814513E-3},{"$f":"J20/$M20","v":4.8946555283630247E-3},null,{"$f":"G20/C20","v":4.129807692307689},{"$f":"H20/D20","v":2.6227544910179645},{"$f":"I20/E20","v":5.6495726495726499},{"$f":"J20/F20","v":3.7291666666666665}]
[22,"Female",142,120,87,74,598.00000000000057,335,487.99999999999966,288.00000000000006,null,null,null,null,null,null,null,null,4.2112676056338065,2.7916666666666665,5.6091954022988464,3.8918918918918926]
[22,"Male",66,47,30,22,261.00000000000006,103,173.00000000000003,70,null,null,null,null,null,null,null,null,3.9545454545454555,2.1914893617021276,5.7666666666666675,3.1818181818181817]
[23,"All",201,165,105,89,969.00000000000057,444,767.99999999999977,363,{"$f":"CONCATENATE($AC$1,A23)","v":"y23"},{"$f":"CONCATENATE(K23,$L$1)","v":"y23,T,SCOT"},{"$f":"VLOOKUP(L23,popEU,2,FALSE)","v":77485},{"$f":"C23/$M23","v":2.5940504613796217E-3},{"$f":"D23/$M23","v":2.1294444085952118E-3},{"$f":"E23/$M23","v":1.3551009872878621E-3},{"$f":"F23/$M23","v":1.1486094082725688E-3},null,{"$f":"G23/$M23","v":1.2505646254113706E-2},{"$f":"H23/$M23","v":5.7301413176743888E-3},{"$f":"I23/$M23","v":9.911595792734075E-3},{"$f":"J23/$M23","v":4.6847776989094661E-3},null,{"$f":"G23/C23","v":4.8208955223880627},{"$f":"H23/D23","v":2.6909090909090909},{"$f":"I23/E23","v":7.3142857142857123},{"$f":"J23/F23","v":4.0786516853932584}]
[23,"Female",136,115,76,69,681.00000000000023,335,567,300,null,null,null,null,null,null,null,null,5.0073529411764719,2.9130434782608696,7.4605263157894735,4.3478260869565215]
[23,"Male",65,50,29,20,288,109,201.00000000000003,63,null,null,null,null,null,null,null,null,4.430769230769231,2.1800000000000002,6.9310344827586219,3.15]
[24,"All",194,167,100,95,849.00000000000011,398.00000000000011,707,363.00000000000006,{"$f":"CONCATENATE($AC$1,A26)","v":"y24"},{"$f":"CONCATENATE(K26,$L$1)","v":"y24,T,SCOT"},{"$f":"VLOOKUP(L26,popEU,2,FALSE)","v":77246},{"$f":"C26/$M26","v":2.511456903917355E-3},{"$f":"D26/$M26","v":2.16192424203195E-3},{"$f":"E26/$M26","v":1.2945654143903891E-3},{"$f":"F26/$M26","v":1.2298371436708696E-3},null,{"$f":"G26/$M26","v":1.0990860368174406E-2},{"$f":"H26/$M26","v":5.1523703492737504E-3},{"$f":"I26/$M26","v":9.1525774797400518E-3},{"$f":"J26/$M26","v":4.6992724542371132E-3},null,{"$f":"G26/C26","v":4.3762886597938149},{"$f":"H26/D26","v":2.3832335329341325},{"$f":"I26/E26","v":7.07},{"$f":"J26/F26","v":3.8210526315789481}]
[24,"Female",150,128,83,80,705.00000000000011,348.00000000000006,583.00000000000011,321.00000000000011,null,null,null,null,null,null,null,null,4.7000000000000011,2.7187500000000004,7.0240963855421699,4.0125000000000011]
[24,"Male",44,39,17,15,144,50,124,42,null,null,null,null,null,null,null,null,3.2727272727272729,1.2820512820512822,7.2941176470588234,2.8]
[25,"All",213,186,118,106,872.00000000000011,471,755.00000000000011,413.00000000000017,{"$f":"CONCATENATE($AC$1,A29)","v":"y25"},{"$f":"CONCATENATE(K29,$L$1)","v":"y25,T,SCOT"},{"$f":"VLOOKUP(L29,popEU,2,FALSE)","v":74147},{"$f":"C29/$M29","v":2.8726718545591867E-3},{"$f":"D29/$M29","v":2.5085303518685852E-3},{"$f":"E29/$M29","v":1.5914332339811456E-3},{"$f":"F29/$M29","v":1.4295925661186562E-3},null,{"$f":"G29/$M29","v":1.176042186467423E-2},{"$f":"H29/$M29","v":6.3522462136027082E-3},{"$f":"I29/$M29","v":1.0182475353014959E-2},{"$f":"J29/$M29","v":5.5700163189340117E-3},null,{"$f":"G29/C29","v":4.0938967136150239},{"$f":"H29/D29","v":2.532258064516129},{"$f":"I29/E29","v":6.3983050847457639},{"$f":"J29/F29","v":3.8962264150943411}]
[25,"Female",132,118,88,81,548.00000000000023,364.99999999999989,483,328,null,null,null,null,null,null,null,null,4.1515151515151532,3.0932203389830497,5.4886363636363633,4.0493827160493829]
[25,"Male",81,68,30,25,324,106,272,85,null,null,null,null,null,null,null,null,4,1.5588235294117647,9.0666666666666664,3.4]
[26,"All",223,197,133,122,932.99999999999955,535,799.99999999999977,486.00000000000011,{"$f":"CONCATENATE($AC$1,A32)","v":"y26"},{"$f":"CONCATENATE(K32,$L$1)","v":"y26,T,SCOT"},{"$f":"VLOOKUP(L32,popEU,2,FALSE)","v":73527},{"$f":"C32/$M32","v":3.0328994791029144E-3},{"$f":"D32/$M32","v":2.679287880642485E-3},{"$f":"E32/$M32","v":1.8088593305860433E-3},{"$f":"F32/$M32","v":1.6592544235450922E-3},null,{"$f":"G32/$M32","v":1.268921620629156E-2},{"$f":"H32/$M32","v":7.2762386606280687E-3},{"$f":"I32/$M32","v":1.0880356875705519E-2},{"$f":"J32/$M32","v":6.6098168019911065E-3},null,{"$f":"G32/C32","v":4.1838565022421506},{"$f":"H32/D32","v":2.7157360406091371},{"$f":"I32/E32","v":6.0150375939849603},{"$f":"J32/F32","v":3.9836065573770503}]
[26,"Female",160,141,104,94,702,437.00000000000006,613,395.00000000000023,null,null,null,null,null,null,null,null,4.3875000000000002,3.0992907801418443,5.8942307692307692,4.2021276595744705]
[26,"Male",63,56,29,28,231,98,187,91,null,null,null,null,null,null,null,null,3.6666666666666665,1.75,6.4482758620689653,3.25]
[27,"All",228,196,132,118,979.00000000000114,548,825.99999999999932,495.00000000000011,{"$f":"CONCATENATE($AC$1,A35)","v":"y27"},{"$f":"CONCATENATE(K35,$L$1)","v":"y27,T,SCOT"},{"$f":"VLOOKUP(L35,popEU,2,FALSE)","v":73839},{"$f":"C35/$M35","v":3.0877991305407713E-3},{"$f":"D35/$M35","v":2.6544238139736454E-3},{"$f":"E35/$M35","v":1.7876731808393938E-3},{"$f":"F35/$M35","v":1.5980714798412763E-3},null,{"$f":"G35/$M35","v":1.325857609122552E-2},{"$f":"H35/$M35","v":7.4215522962120285E-3},{"$f":"I35/$M35","v":1.1186500358888924E-2},{"$f":"J35/$M35","v":6.7037744281477282E-3},null,{"$f":"G35/C35","v":4.2938596491228118},{"$f":"H35/D35","v":2.795918367346939},{"$f":"I35/E35","v":6.2575757575757525},{"$f":"J35/F35","v":4.1949152542372889}]
[27,"Female",162,138,101,90,710.00000000000023,430,594,392,null,null,null,null,null,null,null,null,4.3827160493827177,3.1159420289855073,5.8811881188118811,4.3555555555555552]
[27,"Male",66,58,31,28,269.00000000000006,118,232,103,null,null,null,null,null,null,null,null,4.075757575757577,2.0344827586206895,7.4838709677419351,3.6785714285714284]
[28,"All",249,215,141,131,1018.9999999999999,512,863.00000000000011,480.00000000000017,{"$f":"CONCATENATE($AC$1,A38)","v":"y28"},{"$f":"CONCATENATE(K38,$L$1)","v":"y28,T,SCOT"},{"$f":"VLOOKUP(L38,popEU,2,FALSE)","v":71408},{"$f":"C38/$M38","v":3.4870042572260813E-3},{"$f":"D38/$M38","v":3.0108671297333633E-3},{"$f":"E38/$M38","v":1.9745686757786244E-3},{"$f":"F38/$M38","v":1.834528344163119E-3},null,{"$f":"G38/$M38","v":1.4270109791619984E-2},{"$f":"H38/$M38","v":7.1700649787138698E-3},{"$f":"I38/$M38","v":1.2085480618418106E-2},{"$f":"J38/$M38","v":6.721935917544255E-3},null,{"$f":"G38/C38","v":4.092369477911646},{"$f":"H38/D38","v":2.3813953488372093},{"$f":"I38/E38","v":6.1205673758865258},{"$f":"J38/F38","v":3.6641221374045814}]
[28,"Female",172,151,108,101,720,402.00000000000006,614.99999999999977,377,null,null,null,null,null,null,null,null,4.1860465116279073,2.6622516556291393,5.694444444444442,3.7326732673267329]
[28,"Male",77,64,33,30,299,110,248.00000000000006,103,null,null,null,null,null,null,null,null,3.883116883116883,1.71875,7.5151515151515165,3.4333333333333331]
[29,"All",258,234,150,137,1048.0000000000002,600,952,553.00000000000023,{"$f":"CONCATENATE($AC$1,A41)","v":"y29"},{"$f":"CONCATENATE(K41,$L$1)","v":"y29,T,SCOT"},{"$f":"VLOOKUP(L41,popEU,2,FALSE)","v":70965},{"$f":"C41/$M41","v":3.635595011625449E-3},{"$f":"D41/$M41","v":3.2974001268230818E-3},{"$f":"E41/$M41","v":2.1137180300147959E-3},{"$f":"F41/$M41","v":1.9305291340801804E-3},null,{"$f":"G41/$M41","v":1.4767843303036711E-2},{"$f":"H41/$M41","v":8.4548721200591835E-3},{"$f":"I41/$M41","v":1.3415063763827239E-2},{"$f":"J41/$M41","v":7.7925738039878846E-3},null,{"$f":"G41/C41","v":4.06201550387597},{"$f":"H41/D41","v":2.5641025641025643},{"$f":"I41/E41","v":6.3466666666666667},{"$f":"J41/F41","v":4.0364963503649651}]
[29,"Female",171,154,115,104,735.00000000000034,490,661,445.99999999999989,null,null,null,null,null,null,null,null,4.29824561403509,3.1818181818181817,5.7478260869565219,4.2884615384615374]
[29,"Male",87,80,35,33,313.00000000000006,110.00000000000001,291,107,null,null,null,null,null,null,null,null,3.597701149425288,1.3750000000000002,8.3142857142857149,3.2424242424242422]
[30,"All",273,245,154,145,1051.0000000000005,528,921.99999999999989,499,{"$f":"CONCATENATE($AC$1,A44)","v":"y30"},{"$f":"CONCATENATE(K44,$L$1)","v":"y30,T,SCOT"},{"$f":"VLOOKUP(L44,popEU,2,FALSE)","v":70533},{"$f":"C44/$M44","v":3.8705286886989067E-3},{"$f":"D44/$M44","v":3.4735513872938906E-3},{"$f":"E44/$M44","v":2.1833751577275884E-3},{"$f":"F44/$M44","v":2.0557753108474048E-3},null,{"$f":"G44/$M44","v":1.4900826563452575E-2},{"$f":"H44/$M44","v":7.4858576836374464E-3},{"$f":"I44/$M44","v":1.30718954248366E-2},{"$f":"J44/$M44","v":7.0747026214679652E-3},null,{"$f":"G44/C44","v":3.8498168498168517},{"$f":"H44/D44","v":2.1551020408163266},{"$f":"I44/E44","v":5.987012987012986},{"$f":"J44/F44","v":3.4413793103448276}]
[30,"Female",162,148,105,99,666.00000000000023,394.00000000000006,595.00000000000011,371.00000000000006,null,null,null,null,null,null,null,null,4.1111111111111125,2.6621621621621627,5.6666666666666679,3.7474747474747478]
[30,"Male",111,97,49,46,385.00000000000006,134,327,128.00000000000003,null,null,null,null,null,null,null,null,3.468468468468469,1.3814432989690721,6.6734693877551017,2.7826086956521747]
[31,"All",264,237,157,150,1090.9999999999989,556,959.99999999999989,529.00000000000034,{"$f":"CONCATENATE($AC$1,A47)","v":"y31"},{"$f":"CONCATENATE(K47,$L$1)","v":"y31,T,SCOT"},{"$f":"VLOOKUP(L47,popEU,2,FALSE)","v":68276},{"$f":"C47/$M47","v":3.866658855234636E-3},{"$f":"D47/$M47","v":3.471205108676548E-3},{"$f":"E47/$M47","v":2.299490304059992E-3},{"$f":"F47/$M47","v":2.1969652586560431E-3},null,{"$f":"G47/$M47","v":1.5979260647958269E-2},{"$f":"H47/$M47","v":8.1434178920850673E-3},{"$f":"I47/$M47","v":1.4060577655398674E-2},{"$f":"J47/$M47","v":7.7479641455269841E-3},null,{"$f":"G47/C47","v":4.1325757575757534},{"$f":"H47/D47","v":2.3459915611814348},{"$f":"I47/E47","v":6.114649681528662},{"$f":"J47/F47","v":3.5266666666666691}]
[31,"Female",182,164,115,112,782.00000000000045,432,688.00000000000045,419,null,null,null,null,null,null,null,null,4.2967032967032992,2.6341463414634148,5.9826086956521776,3.7410714285714284]
[31,"Male",82,73,42,38,309.00000000000011,124,272,110,null,null,null,null,null,null,null,null,3.7682926829268308,1.6986301369863013,6.4761904761904763,2.8947368421052633]
[32,"All",274,246,164,152,1109.0000000000009,604.99999999999977,966.00000000000034,549,{"$f":"CONCATENATE($AC$1,A50)","v":"y32"},{"$f":"CONCATENATE(K50,$L$1)","v":"y32,T,SCOT"},{"$f":"VLOOKUP(L50,popEU,2,FALSE)","v":69258},{"$f":"C50/$M50","v":3.9562216639233011E-3},{"$f":"D50/$M50","v":3.5519362384128909E-3},{"$f":"E50/$M50","v":2.3679574922752604E-3},{"$f":"F50/$M50","v":2.1946923099136562E-3},null,{"$f":"G50/$M50","v":1.6012590603251622E-2},{"$f":"H50/$M50","v":8.7354529440642203E-3},{"$f":"I50/$M50","v":1.3947847180109161E-2},{"$f":"J50/$M50","v":7.9268820930434025E-3},null,{"$f":"G50/C50","v":4.0474452554744555},{"$f":"H50/D50","v":2.4593495934959342},{"$f":"I50/E50","v":5.8902439024390265},{"$f":"J50/F50","v":3.611842105263158}]
[32,"Female",165,150,117,110,693.00000000000034,439.00000000000028,615,404.00000000000006,null,null,null,null,null,null,null,null,4.200000000000002,2.9266666666666685,5.2564102564102564,3.6727272727272733]
[32,"Male",109,96,47,42,416,166.00000000000003,351,145,null,null,null,null,null,null,null,null,3.8165137614678901,1.729166666666667,7.4680851063829783,3.4523809523809526]
[33,"All",267,236,152,142,1052.0000000000005,515,897.99999999999977,476,{"$f":"CONCATENATE($AC$1,A53)","v":"y33"},{"$f":"CONCATENATE(K53,$L$1)","v":"y33,T,SCOT"},{"$f":"VLOOKUP(L53,popEU,2,FALSE)","v":70132},{"$f":"C53/$M53","v":3.8071065989847717E-3},{"$f":"D53/$M53","v":3.3650829863685621E-3},{"$f":"E53/$M53","v":2.1673415844407689E-3},{"$f":"F53/$M53","v":2.0247533223065077E-3},null,{"$f":"G53/$M53","v":1.5000285176524275E-2},{"$f":"H53/$M53","v":7.3432954999144472E-3},{"$f":"I53/$M53","v":1.2804425939656644E-2},{"$f":"J53/$M53","v":6.7872012775908284E-3},null,{"$f":"G53/C53","v":3.9400749063670428},{"$f":"H53/D53","v":2.1822033898305087},{"$f":"I53/E53","v":5.9078947368421035},{"$f":"J53/F53","v":3.352112676056338}]
[33,"Female",173,156,110,101,697,384,609,348,null,null,null,null,null,null,null,null,4.0289017341040463,2.4615384615384617,5.5363636363636362,3.4455445544554455]
[33,"Male",94,80,42,41,354.99999999999989,131,289,128,null,null,null,null,null,null,null,null,3.7765957446808498,1.6375,6.8809523809523814,3.1219512195121952]
[34,"All",292,270,177,170,1047.0000000000002,591,955.99999999999977,567.00000000000023,{"$f":"CONCATENATE($AC$1,A56)","v":"y34"},{"$f":"CONCATENATE(K56,$L$1)","v":"y34,T,SCOT"},{"$f":"VLOOKUP(L56,popEU,2,FALSE)","v":69701},{"$f":"C56/$M56","v":4.1893229652372275E-3},{"$f":"D56/$M56","v":3.8736890431988061E-3},{"$f":"E56/$M56","v":2.5394183727636618E-3},{"$f":"F56/$M56","v":2.4389893975696186E-3},null,{"$f":"G56/$M56","v":1.5021305289737597E-2},{"$f":"H56/$M56","v":8.4790749056684982E-3},{"$f":"I56/$M56","v":1.371572861221503E-2},{"$f":"J56/$M56","v":8.1347469907174959E-3},null,{"$f":"G56/C56","v":3.5856164383561651},{"$f":"H56/D56","v":2.1888888888888891},{"$f":"I56/E56","v":5.4011299435028235},{"$f":"J56/F56","v":3.3352941176470603}]
[34,"Female",177,168,133,128,638,448.00000000000011,603,430.00000000000017,null,null,null,null,null,null,null,null,3.6045197740112993,2.6666666666666674,4.5338345864661651,3.3593750000000013]
[34,"Male",115,102,44,42,409,143,353,137.00000000000003,null,null,null,null,null,null,null,null,3.5565217391304347,1.4019607843137254,8.0227272727272734,3.2619047619047628]
[35,"All",325,295,216,197,1251.0000000000005,796,1125.9999999999998,729,{"$f":"CONCATENATE($AC$1,A59)","v":"y35"},{"$f":"CONCATENATE(K59,$L$1)","v":"y35,T,SCOT"},{"$f":"VLOOKUP(L59,popEU,2,FALSE)","v":68314},{"$f":"C59/$M59","v":4.7574435694001226E-3},{"$f":"D59/$M59","v":4.3182949322247274E-3},{"$f":"E59/$M59","v":3.1618701876628508E-3},{"$f":"F59/$M59","v":2.8837427174517667E-3},null,{"$f":"G59/$M59","v":1.831249817021402E-2},{"$f":"H59/$M59","v":1.1652077173053839E-2},{"$f":"I59/$M59","v":1.6482712181983192E-2},{"$f":"J59/$M59","v":1.0671311883362122E-2},null,{"$f":"G59/C59","v":3.8492307692307706},{"$f":"H59/D59","v":2.6983050847457628},{"$f":"I59/E59","v":5.2129629629629619},{"$f":"J59/F59","v":3.7005076142131981}]
[35,"Female",196,180,151,142,800.99999999999977,583.00000000000011,717,544.00000000000011,null,null,null,null,null,null,null,null,4.08673469387755,3.2388888888888894,4.7483443708609272,3.8309859154929584]
[35,"Male",129,115,65,55,450,213.00000000000003,409,185,null,null,null,null,null,null,null,null,3.4883720930232558,1.8521739130434784,6.2923076923076922,3.3636363636363638]
[36,"All",311,286,197,189,1169.0000000000005,726,1062.0000000000002,697,{"$f":"CONCATENATE($AC$1,A62)","v":"y36"},{"$f":"CONCATENATE(K62,$L$1)","v":"y36,T,SCOT"},{"$f":"VLOOKUP(L62,popEU,2,FALSE)","v":66079},{"$f":"C62/$M62","v":4.7064876889783445E-3},{"$f":"D62/$M62","v":4.3281526657485735E-3},{"$f":"E62/$M62","v":2.9812799830505909E-3},{"$f":"F62/$M62","v":2.8602127756170645E-3},null,{"$f":"G62/$M62","v":1.7690945686224074E-2},{"$f":"H62/$M62","v":1.0986849074592533E-2},{"$f":"I62/$M62","v":1.6071671786800652E-2},{"$f":"J62/$M62","v":1.0547980447646E-2},null,{"$f":"G62/C62","v":3.7588424437299048},{"$f":"H62/D62","v":2.5384615384615383},{"$f":"I62/E62","v":5.3908629441624374},{"$f":"J62/F62","v":3.6878306878306879}]
[36,"Female",186,173,129,126,739.00000000000034,500.00000000000006,683,492.00000000000006,null,null,null,null,null,null,null,null,3.9731182795698943,2.8901734104046244,5.2945736434108523,3.9047619047619051]
[36,"Male",125,113,68,63,430,226.00000000000006,379,205,null,null,null,null,null,null,null,null,3.44,2.0000000000000004,5.5735294117647056,3.253968253968254]
[37,"All",320,295,207,196,1170.9999999999993,703.00000000000023,1060.9999999999998,663,{"$f":"CONCATENATE($AC$1,A65)","v":"y37"},{"$f":"CONCATENATE(K65,$L$1)","v":"y37,T,SCOT"},{"$f":"VLOOKUP(L65,popEU,2,FALSE)","v":61363},{"$f":"C65/$M65","v":5.2148688949366882E-3},{"$f":"D65/$M65","v":4.8074572625197596E-3},{"$f":"E65/$M65","v":3.3733683164121702E-3},{"$f":"F65/$M65","v":3.1941071981487217E-3},null,{"$f":"G65/$M65","v":1.9083160862408931E-2},{"$f":"H65/$M65","v":1.145641510356404E-2},{"$f":"I65/$M65","v":1.7290549679774454E-2},{"$f":"J65/$M65","v":1.080455649169695E-2},null,{"$f":"G65/C65","v":3.659374999999998},{"$f":"H65/D65","v":2.383050847457628},{"$f":"I65/E65","v":5.1256038647342983},{"$f":"J65/F65","v":3.3826530612244898}]
[37,"Female",195,180,143,134,710.00000000000023,480.99999999999977,656,445.99999999999989,null,null,null,null,null,null,null,null,3.6410256410256423,2.6722222222222212,4.5874125874125875,3.3283582089552231]
[37,"Male",125,115,64,62,460.99999999999983,222.00000000000003,405.00000000000011,216.99999999999991,null,null,null,null,null,null,null,null,{"$f":"G67/C67","v":3.6879999999999988},{"$f":"H67/D67","v":1.9304347826086958},{"$f":"I67/E67","v":6.3281250000000018},{"$f":"J67/F67","v":3.4999999999999987}]
[38,"All",311,285,198,189,1082.9999999999995,648,965.00000000000034,602.99999999999977,{"$f":"CONCATENATE($AC$1,A68)","v":"y38"},{"$f":"CONCATENATE(K68,$L$1)","v":"y38,T,SCOT"},{"$f":"VLOOKUP(L68,popEU,2,FALSE)","v":60428},{"$f":"C68/$M68","v":5.1466207718276298E-3},{"$f":"D68/$M68","v":4.7163566558549013E-3},{"$f":"E68/$M68","v":3.2766267293307737E-3},{"$f":"F68/$M68","v":3.1276891507248297E-3},null,{"$f":"G68/$M68","v":1.792215529224862E-2},{"$f":"H68/$M68","v":1.0723505659627987E-2},{"$f":"I68/$M68","v":1.596941815052625E-2},{"$f":"J68/$M68","v":9.9788177665982615E-3},null,{"$f":"G68/C68","v":3.4823151125401917},{"$f":"H68/D68","v":2.2736842105263158},{"$f":"I68/E68","v":4.8737373737373755},{"$f":"J68/F68","v":3.1904761904761894}]
[38,"Female",184,168,134,127,693.00000000000023,472,607,431.99999999999983,null,null,null,null,null,null,null,null,3.7663043478260883,2.8095238095238093,4.5298507462686564,3.4015748031496051]
[38,"Male",127,117,64,62,390.00000000000006,176,358.00000000000006,171,null,null,null,null,null,null,null,null,3.0708661417322838,1.5042735042735043,5.5937500000000009,2.7580645161290325]
[39,"All",275,252,175,163,933.99999999999955,552,844.00000000000011,511,{"$f":"CONCATENATE($AC$1,A71)","v":"y39"},{"$f":"CONCATENATE(K71,$L$1)","v":"y39,T,SCOT"},{"$f":"VLOOKUP(L71,popEU,2,FALSE)","v":63953},{"$f":"C71/$M71","v":4.3000328366143885E-3},{"$f":"D71/$M71","v":3.9403937266430031E-3},{"$f":"E71/$M71","v":2.7363845323909747E-3},{"$f":"F71/$M71","v":2.548746735884165E-3},null,{"$f":"G71/$M71","v":1.4604475161446681E-2},{"$f":"H71/$M71","v":8.6313386393132453E-3},{"$f":"I71/$M71","v":1.3197191687645616E-2},{"$f":"J71/$M71","v":7.9902428345816467E-3},null,{"$f":"G71/C71","v":3.3963636363636347},{"$f":"H71/D71","v":2.1904761904761907},{"$f":"I71/E71","v":4.8228571428571438},{"$f":"J71/F71","v":3.1349693251533743}]
[39,"Female",152,139,113,105,520.00000000000011,353.00000000000006,459,326.00000000000006,null,null,null,null,null,null,null,null,3.4210526315789482,2.5395683453237412,4.0619469026548671,3.1047619047619053]
[39,"Male",123,113,62,58,414.00000000000017,199.00000000000006,385,185.00000000000003,null,null,null,null,null,null,null,null,3.3658536585365866,1.7610619469026554,6.209677419354839,3.1896551724137936]
[40,"All",349,333,222,217,1231.0000000000007,764.99999999999977,1179,753.99999999999955,{"$f":"CONCATENATE($AC$1,A74)","v":"y40"},{"$f":"CONCATENATE(K74,$L$1)","v":"y40,T,SCOT"},{"$f":"VLOOKUP(L74,popEU,2,FALSE)","v":64459},{"$f":"C74/$M74","v":5.4142943576537027E-3},{"$f":"D74/$M74","v":5.1660745590220141E-3},{"$f":"E74/$M74","v":3.4440497060146758E-3},{"$f":"F74/$M74","v":3.3664810189422733E-3},null,{"$f":"G74/$M74","v":1.9097410757225534E-2},{"$f":"H74/$M74","v":1.1868009122077597E-2},{"$f":"I74/$M74","v":1.8290696411672535E-2},{"$f":"J74/$M74","v":1.1697358010518306E-2},null,{"$f":"G74/C74","v":3.5272206303724949},{"$f":"H74/D74","v":2.2972972972972965},{"$f":"I74/E74","v":5.3108108108108105},{"$f":"J74/F74","v":3.4746543778801824}]
[40,"Female",180,176,132,132,672.00000000000023,466.00000000000017,652.00000000000011,466.00000000000017,null,null,null,null,null,null,null,null,3.7333333333333347,2.6477272727272738,4.9393939393939403,3.5303030303030316]
[40,"Male",169,157,90,85,559.00000000000011,299,527,288.00000000000006,null,null,null,null,null,null,null,null,3.3076923076923084,1.9044585987261147,5.8555555555555552,3.3882352941176479]
[41,"All",385,355,268,256,1244.0000000000005,826.00000000000011,1138.9999999999998,786.99999999999977,{"$f":"CONCATENATE($AC$1,A77)","v":"y41"},{"$f":"CONCATENATE(K77,$L$1)","v":"y41,T,SCOT"},{"$f":"VLOOKUP(L77,popEU,2,FALSE)","v":65347},{"$f":"C77/$M77","v":5.8916247111573603E-3},{"$f":"D77/$M77","v":5.432537071326916E-3},{"$f":"E77/$M77","v":4.1011829158186294E-3},{"$f":"F77/$M77","v":3.9175478598864524E-3},null,{"$f":"G77/$M77","v":1.9036834131635736E-2},{"$f":"H77/$M77","v":1.2640213016664884E-2},{"$f":"I77/$M77","v":1.7430027392229173E-2},{"$f":"J77/$M77","v":1.2043399084885302E-2},null,{"$f":"G77/C77","v":3.2311688311688322},{"$f":"H77/D77","v":2.3267605633802821},{"$f":"I77/E77","v":4.2499999999999991},{"$f":"J77/F77","v":3.0742187499999991}]
[41,"Female",236,227,188,183,768.00000000000068,592,732.00000000000023,574,null,null,null,null,null,null,null,null,3.2542372881355961,2.607929515418502,3.8936170212765968,3.1366120218579234]
[41,"Male",149,128,80,73,476.00000000000006,234,407,213,null,null,null,null,null,null,null,null,3.1946308724832218,1.828125,5.0875000000000004,2.9178082191780823]
[42,"All",437,415,288,279,1431.0000000000007,899.00000000000023,1359.0000000000005,871,{"$f":"CONCATENATE($AC$1,A80)","v":"y42"},{"$f":"CONCATENATE(K80,$L$1)","v":"y42,T,SCOT"},{"$f":"VLOOKUP(L80,popEU,2,FALSE)","v":69421},{"$f":"C80/$M80","v":6.2949251667362904E-3},{"$f":"D80/$M80","v":5.9780181789372095E-3},{"$f":"E80/$M80","v":4.1486005675516052E-3},{"$f":"F80/$M80","v":4.018956799815618E-3},null,{"$f":"G80/$M80","v":2.0613359070022048E-2},{"$f":"H80/$M80","v":1.2949971910516994E-2},{"$f":"I80/$M80","v":1.9576208928134144E-2},{"$f":"J80/$M80","v":1.2546635744227251E-2},null,{"$f":"G80/C80","v":3.2745995423340979},{"$f":"H80/D80","v":2.1662650602409643},{"$f":"I80/E80","v":4.7187500000000018},{"$f":"J80/F80","v":3.1218637992831542}]
[42,"Female",240,231,188,184,813,611,780.99999999999943,597,null,null,null,null,null,null,null,null,3.3875000000000002,2.6450216450216448,4.1542553191489331,3.2445652173913042]
[42,"Male",197,184,100,95,618.00000000000011,288.00000000000006,578.00000000000011,274.00000000000011,null,null,null,null,null,null,null,null,3.1370558375634525,1.5652173913043481,5.7800000000000011,2.8842105263157909]
[43,"All",435,406,288,279,1467.9999999999995,861.99999999999932,1330.9999999999998,831.00000000000045,{"$f":"CONCATENATE($AC$1,A83)","v":"y43"},{"$f":"CONCATENATE(K83,$L$1)","v":"y43,T,SCOT"},{"$f":"VLOOKUP(L83,popEU,2,FALSE)","v":73863},{"$f":"C83/$M83","v":5.8892815076560662E-3},{"$f":"D83/$M83","v":5.4966627404789952E-3},{"$f":"E83/$M83","v":3.8991105154136713E-3},{"$f":"F83/$M83","v":3.7772633118069942E-3},null,{"$f":"G83/$M83","v":1.9874632766066901E-2},{"$f":"H83/$M83","v":1.1670254389883965E-2},{"$f":"I83/$M83","v":1.8019847555609706E-2},{"$f":"J83/$M83","v":1.1250558466349871E-2},null,{"$f":"G83/C83","v":3.3747126436781598},{"$f":"H83/D83","v":2.1231527093596041},{"$f":"I83/E83","v":4.6215277777777768},{"$f":"J83/F83","v":2.9784946236559158}]
[43,"Female",272,254,202,197,921.00000000000057,611.00000000000011,835.99999999999955,593.99999999999977,null,null,null,null,null,null,null,null,3.3860294117647078,2.4055118110236227,4.1386138613861361,3.0152284263959381]
[43,"Male",163,152,86,82,547,251,495.00000000000017,237.00000000000006,null,null,null,null,null,null,null,null,3.3558282208588959,1.6513157894736843,5.7558139534883743,2.8902439024390252]
[44,"All",495,468,356,343,1662.0000000000002,1145.9999999999998,1569.9999999999998,1105.9999999999995,{"$f":"CONCATENATE($AC$1,A86)","v":"y44"},{"$f":"CONCATENATE(K86,$L$1)","v":"y44,T,SCOT"},{"$f":"VLOOKUP(L86,popEU,2,FALSE)","v":76735},{"$f":"C86/$M86","v":6.4507721378771095E-3},{"$f":"D86/$M86","v":6.0989118394474493E-3},{"$f":"E86/$M86","v":4.639343194109598E-3},{"$f":"F86/$M86","v":4.4699289763471687E-3},null,{"$f":"G86/$M86","v":2.1658956147781329E-2},{"$f":"H86/$M86","v":1.4934514888903365E-2},{"$f":"I86/$M86","v":2.0460024760539517E-2},{"$f":"J86/$M86","v":1.4413240372711272E-2},null,{"$f":"G86/C86","v":3.3575757575757579},{"$f":"H86/D86","v":2.448717948717948},{"$f":"I86/E86","v":4.4101123595505616},{"$f":"J86/F86","v":3.224489795918366}]
[44,"Female",274,260,220,212,940.00000000000011,730,894,706.00000000000011,null,null,null,null,null,null,null,null,3.4306569343065698,2.8076923076923075,4.0636363636363635,3.3301886792452837]
[44,"Male",221,208,136,131,722.00000000000045,416.00000000000023,676.00000000000023,400,null,null,null,null,null,null,null,null,3.2669683257918574,2.0000000000000009,4.9705882352941195,3.053435114503817]
[45,"All",485,462,355,345,1627,1122,1540,1086.0000000000005,{"$f":"CONCATENATE($AC$1,A89)","v":"y45"},{"$f":"CONCATENATE(K89,$L$1)","v":"y45,T,SCOT"},{"$f":"VLOOKUP(L89,popEU,2,FALSE)","v":75732},{"$f":"C89/$M89","v":6.4041620451064278E-3},{"$f":"D89/$M89","v":6.1004595151323083E-3},{"$f":"E89/$M89","v":4.6875825278614057E-3},{"$f":"F89/$M89","v":4.5555379496117886E-3},null,{"$f":"G89/$M89","v":2.1483652881212699E-2},{"$f":"H89/$M89","v":1.4815401679607036E-2},{"$f":"I89/$M89","v":2.033486505044103E-2},{"$f":"J89/$M89","v":1.434004119790842E-2},null,{"$f":"G89/C89","v":3.354639175257732},{"$f":"H89/D89","v":2.4285714285714284},{"$f":"I89/E89","v":4.3380281690140849},{"$f":"J89/F89","v":3.1478260869565231}]
[45,"Female",256,243,202,195,881.00000000000011,667,835.99999999999966,642.00000000000011,null,null,null,null,null,null,null,null,3.4414062500000004,2.7448559670781894,4.138613861386137,3.292307692307693]
[45,"Male",229,219,153,150,746.00000000000034,455.00000000000006,704,444,null,null,null,null,null,null,null,null,3.2576419213973815,2.0776255707762559,4.6013071895424833,2.96]
[46,"All",560,535,399,392,1879.9999999999995,1252.0000000000005,1790.9999999999995,1233.9999999999998,{"$f":"CONCATENATE($AC$1,A92)","v":"y46"},{"$f":"CONCATENATE(K92,$L$1)","v":"y46,T,SCOT"},{"$f":"VLOOKUP(L92,popEU,2,FALSE)","v":78720},{"$f":"C92/$M92","v":7.1138211382113818E-3},{"$f":"D92/$M92","v":6.7962398373983737E-3},{"$f":"E92/$M92","v":5.0685975609756099E-3},{"$f":"F92/$M92","v":4.9796747967479679E-3},null,{"$f":"G92/$M92","v":2.3882113821138206E-2},{"$f":"H92/$M92","v":1.5904471544715453E-2},{"$f":"I92/$M92","v":2.2751524390243898E-2},{"$f":"J92/$M92","v":1.5675813008130077E-2},null,{"$f":"G92/C92","v":3.3571428571428563},{"$f":"H92/D92","v":2.3401869158878514},{"$f":"I92/E92","v":4.4887218045112771},{"$f":"J92/F92","v":3.1479591836734686}]
[46,"Female",318,307,255,249,1082,812.99999999999977,1042.9999999999998,798.00000000000023,null,null,null,null,null,null,null,null,3.4025157232704402,2.648208469055374,4.0901960784313713,3.2048192771084345]
[46,"Male",242,228,144,143,798.00000000000023,439.00000000000011,748.00000000000023,436.00000000000017,null,null,null,null,null,null,null,null,3.2975206611570256,1.9254385964912286,5.1944444444444464,3.0489510489510501]
[47,"All",600,568,426,412,2074.9999999999991,1367.0000000000005,1950.999999999998,1324.9999999999991,{"$f":"CONCATENATE($AC$1,A95)","v":"y47"},{"$f":"CONCATENATE(K95,$L$1)","v":"y47,T,SCOT"},{"$f":"VLOOKUP(L95,popEU,2,FALSE)","v":80228},{"$f":"C95/$M95","v":7.4786857456249686E-3},{"$f":"D95/$M95","v":7.0798225058583035E-3},{"$f":"E95/$M95","v":5.3098668793937279E-3},{"$f":"F95/$M95","v":5.1353642119958123E-3},null,{"$f":"G95/$M95","v":2.5863788203619672E-2},{"$f":"H95/$M95","v":1.7038939023782226E-2},{"$f":"I95/$M95","v":2.4318193149523833E-2},{"$f":"J95/$M95","v":1.6515431021588461E-2},null,{"$f":"G95/C95","v":3.4583333333333317},{"$f":"H95/D95","v":2.4066901408450714},{"$f":"I95/E95","v":4.5798122065727656},{"$f":"J95/F95","v":3.2160194174757257}]
[47,"Female",341,327,271,261,1147.0000000000002,858.00000000000034,1092.9999999999998,826.99999999999966,null,null,null,null,null,null,null,null,3.3636363636363642,2.6238532110091755,4.0332103321033204,3.168582375478926]
[47,"Male",259,241,155,151,928,508.99999999999983,857.99999999999966,498.00000000000017,null,null,null,null,null,null,null,null,3.583011583011583,2.112033195020746,5.5354838709677399,3.2980132450331139]
[48,"All",599,562,431,419,1959.0000000000005,1336,1829.999999999998,1290.9999999999998,{"$f":"CONCATENATE($AC$1,A98)","v":"y48"},{"$f":"CONCATENATE(K98,$L$1)","v":"y48,T,SCOT"},{"$f":"VLOOKUP(L98,popEU,2,FALSE)","v":80816},{"$f":"C98/$M98","v":7.4118986339338742E-3},{"$f":"D98/$M98","v":6.9540685012868739E-3},{"$f":"E98/$M98","v":5.3331023559691155E-3},{"$f":"F98/$M98","v":5.1846169075430611E-3},null,{"$f":"G98/$M98","v":2.4240249455553361E-2},{"$f":"H98/$M98","v":1.6531379924767373E-2},{"$f":"I98/$M98","v":2.2644030884973246E-2},{"$f":"J98/$M98","v":1.5974559493169668E-2},null,{"$f":"G98/C98","v":3.2704507512520875},{"$f":"H98/D98","v":2.3772241992882561},{"$f":"I98/E98","v":4.2459396751740091},{"$f":"J98/F98","v":3.0811455847255362}]
[48,"Female",339,324,270,264,1133.9999999999995,869,1072.9999999999993,840,null,null,null,null,null,null,null,null,3.3451327433628304,2.6820987654320989,3.9740740740740716,3.1818181818181817]
[48,"Male",260,238,161,155,824.99999999999977,467,757,451,null,null,null,null,null,null,null,null,3.173076923076922,1.9621848739495797,4.7018633540372674,2.9096774193548387]
[49,"All",677,638,483,464,2177.9999999999977,1461.0000000000002,2060.9999999999986,1403.9999999999995,{"$f":"CONCATENATE($AC$1,A101)","v":"y49"},{"$f":"CONCATENATE(K101,$L$1)","v":"y49,T,SCOT"},{"$f":"VLOOKUP(L101,popEU,2,FALSE)","v":80322},{"$f":"C101/$M101","v":8.428574985682627E-3},{"$f":"D101/$M101","v":7.9430293070391674E-3},{"$f":"E101/$M101","v":6.0132964816613128E-3},{"$f":"F101/$M101","v":5.7767485869375766E-3},null,{"$f":"G101/$M101","v":2.7115858668857819E-2},{"$f":"H101/$M101","v":1.8189288115335777E-2},{"$f":"I101/$M101","v":2.5659221632927449E-2},{"$f":"J101/$M101","v":1.7479644431164558E-2},null,{"$f":"G101/C101","v":3.2171344165435714},{"$f":"H101/D101","v":2.2899686520376181},{"$f":"I101/E101","v":4.2670807453416124},{"$f":"J101/F101","v":3.0258620689655165}]
[49,"Female",378,357,294,283,1223.9999999999998,917.00000000000045,1159.9999999999998,880.99999999999977,null,null,null,null,null,null,null,null,3.2380952380952377,2.5686274509803932,3.9455782312925161,3.1130742049469955]
[49,"Male",299,281,189,181,954,543.99999999999977,901.00000000000023,523,null,null,null,null,null,null,null,null,3.1906354515050168,1.9359430604982197,4.7671957671957683,2.8895027624309391]
[50,"All",679,630,511,493,2200.9999999999995,1537.0000000000018,2024.9999999999993,1479.9999999999989,{"$f":"CONCATENATE($AC$1,A104)","v":"y50"},{"$f":"CONCATENATE(K104,$L$1)","v":"y50,T,SCOT"},{"$f":"VLOOKUP(L104,popEU,2,FALSE)","v":83200},{"$f":"C104/$M104","v":8.1610576923076932E-3},{"$f":"D104/$M104","v":7.5721153846153846E-3},{"$f":"E104/$M104","v":6.1418269230769235E-3},{"$f":"F104/$M104","v":5.9254807692307688E-3},null,{"$f":"G104/$M104","v":2.6454326923076917E-2},{"$f":"H104/$M104","v":1.8473557692307713E-2},{"$f":"I104/$M104","v":2.4338942307692301E-2},{"$f":"J104/$M104","v":1.7788461538461524E-2},null,{"$f":"G104/C104","v":3.2415316642120757},{"$f":"H104/D104","v":2.4396825396825426},{"$f":"I104/E104","v":3.9628180039138932},{"$f":"J104/F104","v":3.0020283975659208}]
[50,"Female",395,375,323,314,1295.9999999999991,986.00000000000034,1214.9999999999995,954.00000000000023,null,null,null,null,null,null,null,null,3.2810126582278456,2.6293333333333342,3.7616099071207416,3.038216560509555]
[50,"Male",284,255,188,179,904.99999999999966,551.00000000000011,810,525.99999999999977,null,null,null,null,null,null,null,null,3.1866197183098581,2.1607843137254905,4.3085106382978724,2.9385474860335181]
[51,"All",699,666,517,502,2343.0000000000009,1636.0000000000002,2226,1588,{"$f":"CONCATENATE($AC$1,A107)","v":"y51"},{"$f":"CONCATENATE(K107,$L$1)","v":"y51,T,SCOT"},{"$f":"VLOOKUP(L107,popEU,2,FALSE)","v":82142},{"$f":"C107/$M107","v":8.509654013781013E-3},{"$f":"D107/$M107","v":8.1079106912419954E-3},{"$f":"E107/$M107","v":6.2939787197779451E-3},{"$f":"F107/$M107","v":6.1113681186238467E-3},null,{"$f":"G107/$M107","v":2.8523775900270276E-2},{"$f":"H107/$M107","v":1.9916729565873734E-2},{"$f":"I107/$M107","v":2.709941321126829E-2},{"$f":"J107/$M107","v":1.9332375642180613E-2},null,{"$f":"G107/C107","v":3.3519313304721043},{"$f":"H107/D107","v":2.4564564564564568},{"$f":"I107/E107","v":4.3056092843326885},{"$f":"J107/F107","v":3.1633466135458166}]
[51,"Female",369,355,294,288,1237.9999999999995,948.99999999999955,1177.0000000000002,927.00000000000034,null,null,null,null,null,null,null,null,3.3550135501355003,2.673239436619717,4.0034013605442187,3.2187500000000013]
[51,"Male",330,311,223,214,1105.0000000000002,686.99999999999977,1048.9999999999993,661.00000000000023,null,null,null,null,null,null,null,null,3.3484848484848491,2.2090032154340831,4.7040358744394588,3.0887850467289728]
[52,"All",754,712,586,572,2299.9999999999982,1681.9999999999989,2146.9999999999964,1637.9999999999989,{"$f":"CONCATENATE($AC$1,A110)","v":"y52"},{"$f":"CONCATENATE(K110,$L$1)","v":"y52,T,SCOT"},{"$f":"VLOOKUP(L110,popEU,2,FALSE)","v":81807},{"$f":"C110/$M110","v":9.2168151869644402E-3},{"$f":"D110/$M110","v":8.703411688486316E-3},{"$f":"E110/$M110","v":7.1632011930519391E-3},{"$f":"F110/$M110","v":6.9920666935592308E-3},null,{"$f":"G110/$M110","v":2.8114953488087794E-2},{"$f":"H110/$M110","v":2.0560587724766814E-2},{"$f":"I110/$M110","v":2.6244697886488887E-2},{"$f":"J110/$M110","v":2.0022736440646876E-2},null,{"$f":"G110/C110","v":3.0503978779840826},{"$f":"H110/D110","v":2.3623595505617963},{"$f":"I110/E110","v":3.6638225255972636},{"$f":"J110/F110","v":2.8636363636363615}]
[52,"Female",435,415,364,356,1333.0000000000005,1054.0000000000002,1266.0000000000009,1033.0000000000005,null,null,null,null,null,null,null,null,3.0643678160919552,2.539759036144579,3.4780219780219803,2.9016853932584281]
[52,"Male",319,297,222,216,967.00000000000045,628.00000000000011,881.00000000000011,605,null,null,null,null,null,null,null,null,3.0313479623824464,2.1144781144781151,3.968468468468469,2.800925925925926]
[53,"All",775,731,591,571,2345.0000000000005,1697.0000000000002,2205.9999999999995,1635.9999999999993,{"$f":"CONCATENATE($AC$1,A113)","v":"y53"},{"$f":"CONCATENATE(K113,$L$1)","v":"y53,T,SCOT"},{"$f":"VLOOKUP(L113,popEU,2,FALSE)","v":79957},{"$f":"C113/$M113","v":9.6927098315344497E-3},{"$f":"D113/$M113","v":9.1424140475505587E-3},{"$f":"E113/$M113","v":7.3914729166927222E-3},{"$f":"F113/$M113","v":7.141338469427317E-3},null,{"$f":"G113/$M113","v":2.932826394186876E-2},{"$f":"H113/$M113","v":2.1223907850469629E-2},{"$f":"I113/$M113","v":2.7589829533374181E-2},{"$f":"J113/$M113","v":2.0460997786310133E-2},null,{"$f":"G113/C113","v":3.0258064516129037},{"$f":"H113/D113","v":2.3214774281805748},{"$f":"I113/E113","v":3.732656514382402},{"$f":"J113/F113","v":2.8651488616462335}]
[53,"Female",420,397,339,326,1242.0000000000014,965.00000000000045,1171.0000000000014,922.99999999999955,null,null,null,null,null,null,null,null,2.9571428571428604,2.4307304785894219,3.4542772861356972,2.8312883435582807]
[53,"Male",355,334,252,245,1102.9999999999993,731.99999999999977,1035.0000000000002,713.00000000000011,null,null,null,null,null,null,null,null,3.1070422535211248,2.1916167664670652,4.1071428571428577,2.9102040816326533]
[54,"All",805,763,599,585,2551.0000000000023,1785.0000000000025,2381.9999999999982,1736.9999999999993,{"$f":"CONCATENATE($AC$1,A116)","v":"y54"},{"$f":"CONCATENATE(K116,$L$1)","v":"y54,T,SCOT"},{"$f":"VLOOKUP(L116,popEU,2,FALSE)","v":78187},{"$f":"C116/$M116","v":1.0295829229923134E-2},{"$f":"D116/$M116","v":9.7586555309706214E-3},{"$f":"E116/$M116","v":7.6611201350608154E-3},{"$f":"F116/$M116","v":7.4820622354099782E-3},null,{"$f":"G116/$M116","v":3.2626907286377557E-2},{"$f":"H116/$M116","v":2.2829882205481763E-2},{"$f":"I116/$M116","v":3.0465422640592401E-2},{"$f":"J116/$M116","v":2.2215969406678852E-2},null,{"$f":"G116/C116","v":3.1689440993788849},{"$f":"H116/D116","v":2.3394495412844067},{"$f":"I116/E116","v":3.9766277128547549},{"$f":"J116/F116","v":2.969230769230768}]
[54,"Female",425,412,344,339,1318,1017.9999999999998,1275.9999999999998,1003,null,null,null,null,null,null,null,null,3.1011764705882352,2.4708737864077666,3.7093023255813948,2.9587020648967552]
[54,"Male",380,351,255,246,1232.9999999999995,766.99999999999966,1106.0000000000002,734.00000000000034,null,null,null,null,null,null,null,null,3.244736842105262,2.1851851851851842,4.3372549019607849,2.9837398373983754]
[55,"All",857,808,685,667,2665,2009,2498.0000000000005,1963.0000000000007,{"$f":"CONCATENATE($AC$1,A119)","v":"y55"},{"$f":"CONCATENATE(K119,$L$1)","v":"y55,T,SCOT"},{"$f":"VLOOKUP(L119,popEU,2,FALSE)","v":75506},{"$f":"C119/$M119","v":1.1350091383466215E-2},{"$f":"D119/$M119","v":1.0701136333536409E-2},{"$f":"E119/$M119","v":9.0721267184064834E-3},{"$f":"F119/$M119","v":8.8337350674118614E-3},null,{"$f":"G119/$M119","v":3.5295208327815006E-2},{"$f":"H119/$M119","v":2.6607157047122083E-2},{"$f":"I119/$M119","v":3.3083463565809344E-2},{"$f":"J119/$M119","v":2.5997933939024723E-2},null,{"$f":"G119/C119","v":3.1096849474912487},{"$f":"H119/D119","v":2.4863861386138613},{"$f":"I119/E119","v":3.6467153284671538},{"$f":"J119/F119","v":2.9430284857571225}]
[55,"Female",453,438,383,377,1391.0000000000011,1130.9999999999993,1341.9999999999995,1120.0000000000002,null,null,null,null,null,null,null,null,3.0706401766004441,2.5821917808219164,3.5039164490861605,2.9708222811671092]
[55,"Male",404,370,302,290,1274,878,1155.9999999999998,843,null,null,null,null,null,null,null,null,3.1534653465346536,2.3729729729729732,3.827814569536423,2.9068965517241381]
[56,"All",810,771,641,619,2623,1981.0000000000025,2492.0000000000032,1911,{"$f":"CONCATENATE($AC$1,A122)","v":"y56"},{"$f":"CONCATENATE(K122,$L$1)","v":"y56,T,SCOT"},{"$f":"VLOOKUP(L122,popEU,2,FALSE)","v":74932},{"$f":"C122/$M122","v":1.0809800886136764E-2},{"$f":"D122/$M122","v":1.0289328991619068E-2},{"$f":"E122/$M122","v":8.5544226765600813E-3},{"$f":"F122/$M122","v":8.2608231463193304E-3},null,{"$f":"G122/$M122","v":3.5005071264613247E-2},{"$f":"H122/$M122","v":2.6437303154860439E-2},{"$f":"I122/$M122","v":3.3256819516361544E-2},{"$f":"J122/$M122","v":2.5503122831367107E-2},null,{"$f":"G122/C122","v":3.2382716049382716},{"$f":"H122/D122","v":2.5693904020752303},{"$f":"I122/E122","v":3.887675507020286},{"$f":"J122/F122","v":3.0872374798061388}]
[56,"Female",445,427,382,369,1406,1155.0000000000002,1344.0000000000005,1109.0000000000002,null,null,null,null,null,null,null,null,3.1595505617977526,2.7049180327868858,3.518324607329844,3.0054200542005427]
[56,"Male",365,344,259,250,1217.0000000000009,826,1148.0000000000005,802.00000000000045,null,null,null,null,null,null,null,null,3.3342465753424682,2.4011627906976742,4.4324324324324342,3.208000000000002]
[57,"All",883,839,722,700,2798.0000000000014,2178,2635.0000000000018,2120.9999999999986,{"$f":"CONCATENATE($AC$1,A125)","v":"y57"},{"$f":"CONCATENATE(K125,$L$1)","v":"y57,T,SCOT"},{"$f":"VLOOKUP(L125,popEU,2,FALSE)","v":72849},{"$f":"C125/$M125","v":1.2120962538950432E-2},{"$f":"D125/$M125","v":1.1516973465661849E-2},{"$f":"E125/$M125","v":9.9109116116899345E-3},{"$f":"F125/$M125","v":9.6089170750456431E-3},null,{"$f":"G125/$M125","v":3.8408214251396747E-2},{"$f":"H125/$M125","v":2.9897459127784871E-2},{"$f":"I125/$M125","v":3.6170709275350404E-2},{"$f":"J125/$M125","v":2.9115018737388278E-2},null,{"$f":"G125/C125","v":3.168742921857306},{"$f":"H125/D125","v":2.5959475566150179},{"$f":"I125/E125","v":3.6495844875346286},{"$f":"J125/F125","v":3.029999999999998}]
[57,"Female",436,416,377,367,1346.9999999999993,1135.0000000000002,1270,1104.9999999999995,null,null,null,null,null,null,null,null,3.0894495412844023,2.728365384615385,3.3687002652519893,3.0108991825613067]
[57,"Male",447,423,345,333,1450.9999999999998,1042.9999999999998,1365.0000000000002,1016.0000000000002,null,null,null,null,null,null,null,null,3.2460850111856816,2.4657210401891247,3.9565217391304355,3.0510510510510516]
[58,"All",822,784,666,653,2573.9999999999991,1958.9999999999993,2422.0000000000014,1930,{"$f":"CONCATENATE($AC$1,A128)","v":"y58"},{"$f":"CONCATENATE(K128,$L$1)","v":"y58,T,SCOT"},{"$f":"VLOOKUP(L128,popEU,2,FALSE)","v":70878},{"$f":"C128/$M128","v":1.1597392702954372E-2},{"$f":"D128/$M128","v":1.1061260193572054E-2},{"$f":"E128/$M128","v":9.3964276644374848E-3},{"$f":"F128/$M128","v":9.2130139112277434E-3},null,{"$f":"G128/$M128","v":3.6315923135528644E-2},{"$f":"H128/$M128","v":2.7639041733683221E-2},{"$f":"I128/$M128","v":3.4171393097999402E-2},{"$f":"J128/$M128","v":2.7229887976523041E-2},null,{"$f":"G128/C128","v":3.1313868613138673},{"$f":"H128/D128","v":2.4987244897959173},{"$f":"I128/E128","v":3.6366366366366387},{"$f":"J128/F128","v":2.9555895865237365}]
[58,"Female",438,424,380,374,1325.9999999999984,1079,1274.9999999999995,1066.9999999999995,null,null,null,null,null,null,null,null,3.0273972602739692,2.5448113207547172,3.3552631578947358,2.852941176470587]
[58,"Male",384,360,286,279,1247.9999999999998,880,1146.9999999999998,862.99999999999977,null,null,null,null,null,null,null,null,3.2499999999999996,2.4444444444444446,4.01048951048951,3.0931899641577054]
[59,"All",910,861,763,736,2901,2284.9999999999991,2703.0000000000018,2187,{"$f":"CONCATENATE($AC$1,A131)","v":"y59"},{"$f":"CONCATENATE(K131,$L$1)","v":"y59,T,SCOT"},{"$f":"VLOOKUP(L131,popEU,2,FALSE)","v":68655},{"$f":"C131/$M131","v":1.3254679193066783E-2},{"$f":"D131/$M131","v":1.2540965698055495E-2},{"$f":"E131/$M131","v":1.1113538708032918E-2},{"$f":"F131/$M131","v":1.0720268006700168E-2},null,{"$f":"G131/$M131","v":4.2254752020974437E-2},{"$f":"H131/$M131","v":3.3282353797975374E-2},{"$f":"I131/$M131","v":3.9370766877867627E-2},{"$f":"J131/$M131","v":3.1854926807952808E-2},null,{"$f":"G131/C131","v":3.1879120879120881},{"$f":"H131/D131","v":2.6538908246225308},{"$f":"I131/E131","v":3.5425950196592422},{"$f":"J131/F131","v":2.9714673913043477}]
[59,"Female",455,437,402,389,1379.9999999999995,1169.9999999999995,1308.9999999999989,1115.9999999999995,null,null,null,null,null,null,null,null,{"$f":"G132/C132","v":3.032967032967032},{"$f":"H132/D132","v":2.6773455377574362},{"$f":"I132/E132","v":3.2562189054726338},{"$f":"J132/F132","v":2.8688946015424155}]
[59,"Male",455,424,361,347,1521.0000000000014,1114.9999999999991,1393.9999999999984,1071.0000000000009,null,null,null,null,null,null,null,null,3.3428571428571456,2.6297169811320735,3.8614958448753418,3.0864553314121062]
[60,"All",900,851,740,713,2760.9999999999964,2140,2584.9999999999995,2049,{"$f":"CONCATENATE($AC$1,A134)","v":"y60"},{"$f":"CONCATENATE(K134,$L$1)","v":"y60,T,SCOT"},{"$f":"VLOOKUP(L134,popEU,2,FALSE)","v":65720},{"$f":"C134/$M134","v":1.3694461351186854E-2},{"$f":"D134/$M134","v":1.2948874010955569E-2},{"$f":"E134/$M134","v":1.125989044430919E-2},{"$f":"F134/$M134","v":1.0849056603773584E-2},null,{"$f":"G134/$M134","v":4.2011564211807614E-2},{"$f":"H134/$M134","v":3.2562385879488738E-2},{"$f":"I134/$M134","v":3.933353621424223E-2},{"$f":"J134/$M134","v":3.1177723676202071E-2},null,{"$f":"G134/C134","v":3.0677777777777737},{"$f":"H134/D134","v":2.5146886016451235},{"$f":"I134/E134","v":3.4932432432432425},{"$f":"J134/F134","v":2.8737727910238431}]
[60,"Female",478,458,427,411,1455.9999999999993,1233.0000000000002,1389.0000000000007,1182.9999999999993,null,null,null,null,null,null,null,null,3.0460251046025091,2.6921397379912668,3.2529274004683857,2.8783454987834531]
[60,"Male",422,393,313,302,1304.9999999999995,906.99999999999989,1195.9999999999989,866.00000000000034,null,null,null,null,null,null,null,null,3.0924170616113735,2.3078880407124678,3.821086261980827,2.8675496688741733]
[61,"All",912,873,772,755,2775.0000000000045,2232.0000000000009,2656.9999999999986,2190.0000000000005,{"$f":"CONCATENATE($AC$1,A137)","v":"y61"},{"$f":"CONCATENATE(K137,$L$1)","v":"y61,T,SCOT"},{"$f":"VLOOKUP(L137,popEU,2,FALSE)","v":64782},{"$f":"C137/$M137","v":1.4077984625358897E-2},{"$f":"D137/$M137","v":1.3475965545984996E-2},{"$f":"E137/$M137","v":1.1916890494273101E-2},{"$f":"F137/$M137","v":1.1654471921212682E-2},null,{"$f":"G137/$M137","v":4.2835972955450656E-2},{"$f":"H137/$M137","v":3.4454015004167837E-2},{"$f":"I137/$M137","v":4.1014479330678255E-2},{"$f":"J137/$M137","v":3.3805686764842094E-2},null,{"$f":"G137/C137","v":3.0427631578947416},{"$f":"H137/D137","v":2.5567010309278362},{"$f":"I137/E137","v":3.4417098445595835},{"$f":"J137/F137","v":2.9006622516556297}]
[61,"Female",473,451,417,404,1387.9999999999998,1146.0000000000002,1326.9999999999995,1113.9999999999995,null,null,null,null,null,null,null,null,2.9344608879492595,2.5410199556541024,3.1822541966426847,2.7574257425742563]
[61,"Male",439,422,355,351,1386.9999999999998,1085.9999999999998,1330.0000000000007,1076.0000000000005,null,null,null,null,null,null,null,null,3.1594533029612752,2.5734597156398098,3.7464788732394387,3.0655270655270668]
[62,"All",905,866,762,746,2831.0000000000018,2276.0000000000014,2680.9999999999995,2217.0000000000018,{"$f":"CONCATENATE($AC$1,A140)","v":"y62"},{"$f":"CONCATENATE(K140,$L$1)","v":"y62,T,SCOT"},{"$f":"VLOOKUP(L140,popEU,2,FALSE)","v":63577},{"$f":"C140/$M140","v":1.42347075200151E-2},{"$f":"D140/$M140","v":1.3621278135174671E-2},{"$f":"E140/$M140","v":1.1985466442266857E-2},{"$f":"F140/$M140","v":1.1733803104896424E-2},null,{"$f":"G140/$M140","v":4.4528681755980966E-2},{"$f":"H140/$M140","v":3.5799109740944073E-2},{"$f":"I140/$M140","v":4.2169337968133123E-2},{"$f":"J140/$M140","v":3.4871101184390609E-2},null,{"$f":"G140/C140","v":3.1281767955801123},{"$f":"H140/D140","v":2.6281755196304863},{"$f":"I140/E140","v":3.5183727034120729},{"$f":"J140/F140","v":2.9718498659517452}]
[62,"Female",456,441,403,397,1435.9999999999991,1205.0000000000005,1373.9999999999991,1189.0000000000009,null,null,null,null,null,null,null,null,3.1491228070175419,2.7324263038548762,3.4094292803970201,2.9949622166246876]
[62,"Male",449,425,359,349,1394.9999999999998,1071.0000000000007,1306.9999999999991,1028.0000000000002,null,null,null,null,null,null,null,null,3.1069042316258346,2.5200000000000018,3.6406685236768777,2.9455587392550151]
[63,"All",983,934,853,819,2944.0000000000045,2438.9999999999964,2763.9999999999986,2320.9999999999977,{"$f":"CONCATENATE($AC$1,A143)","v":"y63"},{"$f":"CONCATENATE(K143,$L$1)","v":"y63,T,SCOT"},{"$f":"VLOOKUP(L143,popEU,2,FALSE)","v":61183},{"$f":"C143/$M143","v":1.6066554435055488E-2},{"$f":"D143/$M143","v":1.5265678374711929E-2},{"$f":"E143/$M143","v":1.3941781213735842E-2},{"$f":"F143/$M143","v":1.3386071294313779E-2},null,{"$f":"G143/$M143","v":4.8117941258192708E-2},{"$f":"H143/$M143","v":3.9864014513835484E-2},{"$f":"I143/$M143","v":4.5175947567134639E-2},{"$f":"J143/$M143","v":3.7935374205253058E-2},null,{"$f":"G143/C143","v":2.9949135300101775},{"$f":"H143/D143","v":2.6113490364025655},{"$f":"I143/E143","v":3.2403282532239142},{"$f":"J143/F143","v":2.833943833943831}]
[63,"Female",487,464,448,430,1476.0000000000005,1305,1386.9999999999998,1238.9999999999993,null,null,null,null,null,null,null,null,3.0308008213552369,2.8125,3.0959821428571423,2.8813953488372079]
[63,"Male",496,470,405,389,1467.9999999999998,1133.9999999999998,1377.0000000000007,1081.9999999999991,null,null,null,null,null,null,null,null,2.9596774193548381,2.4127659574468079,3.4000000000000017,2.7814910025706916]
[64,"All",988,945,847,825,3061.0000000000045,2530.0000000000005,2915.9999999999977,2467.0000000000018,{"$f":"CONCATENATE($AC$1,A146)","v":"y64"},{"$f":"CONCATENATE(K146,$L$1)","v":"y64,T,SCOT"},{"$f":"VLOOKUP(L146,popEU,2,FALSE)","v":61736},{"$f":"C146/$M146","v":1.6003628352986913E-2},{"$f":"D146/$M146","v":1.5307114163535052E-2},{"$f":"E146/$M146","v":1.3719709731761048E-2},{"$f":"F146/$M146","v":1.3363353634832188E-2},null,{"$f":"G146/$M146","v":4.9582091486328958E-2},{"$f":"H146/$M146","v":4.0980951146818718E-2},{"$f":"I146/$M146","v":4.723338084747955E-2},{"$f":"J146/$M146","v":3.9960476869249736E-2},null,{"$f":"G146/C146","v":3.0981781376518263},{"$f":"H146/D146","v":2.6772486772486777},{"$f":"I146/E146","v":3.4427390791027128},{"$f":"J146/F146","v":2.9903030303030325}]
[64,"Female",462,451,420,415,1402.9999999999995,1247.9999999999989,1372.9999999999995,1236.9999999999993,null,null,null,null,null,null,null,null,3.0367965367965359,2.7671840354767161,3.2690476190476181,2.9807228915662636]
[64,"Male",526,494,427,410,1658.0000000000016,1281.9999999999993,1543.0000000000014,1229.9999999999998,null,null,null,null,null,null,null,null,3.1520912547528548,2.5951417004048567,3.6135831381733055,2.9999999999999996]
[65,"All",1034,981,897,868,3126.0000000000023,2625,2931.0000000000009,2523.9999999999968,{"$f":"CONCATENATE($AC$1,A149)","v":"y65"},{"$f":"CONCATENATE(K149,$L$1)","v":"y65,T,SCOT"},{"$f":"VLOOKUP(L149,popEU,2,FALSE)","v":61768},{"$f":"C149/$M149","v":1.6740059577774899E-2},{"$f":"D149/$M149","v":1.5882010102318354E-2},{"$f":"E149/$M149","v":1.4522082631783447E-2},{"$f":"F149/$M149","v":1.4052583862194016E-2},null,{"$f":"G149/$M149","v":5.0608729439191855E-2},{"$f":"H149/$M149","v":4.2497733454215772E-2},{"$f":"I149/$M149","v":4.7451754954021513E-2},{"$f":"J149/$M149","v":4.0862582567024942E-2},null,{"$f":"G149/C149","v":3.0232108317214723},{"$f":"H149/D149","v":2.6758409785932722},{"$f":"I149/E149","v":3.2675585284280948},{"$f":"J149/F149","v":2.9078341013824849}]
[65,"Female",508,488,465,450,1505.9999999999991,1352.9999999999998,1440,1308.0000000000007,null,null,null,null,null,null,null,null,2.9645669291338566,2.7725409836065569,3.096774193548387,2.9066666666666681]
[65,"Male",526,493,432,418,1619.9999999999995,1271.9999999999998,1490.9999999999993,1215.9999999999993,null,null,null,null,null,null,null,null,3.0798479087452462,2.5801217038539548,3.4513888888888875,2.9090909090909074]
[66,"All",1059,1016,920,895,3251.0000000000014,2713.9999999999973,3114.9999999999968,2648.0000000000005,{"$f":"CONCATENATE($AC$1,A152)","v":"y66"},{"$f":"CONCATENATE(K152,$L$1)","v":"y66,T,SCOT"},{"$f":"VLOOKUP(L152,popEU,2,FALSE)","v":63190},{"$f":"C152/$M152","v":1.6758980851400537E-2},{"$f":"D152/$M152","v":1.6078493432505142E-2},{"$f":"E152/$M152","v":1.4559265706599146E-2},{"$f":"F152/$M152","v":1.4163633486311125E-2},null,{"$f":"G152/$M152","v":5.1448013926254178E-2},{"$f":"H152/$M152","v":4.2949833834467432E-2},{"$f":"I152/$M152","v":4.9295774647887272E-2},{"$f":"J152/$M152","v":4.1905364772907114E-2},null,{"$f":"G152/C152","v":3.0698772426817764},{"$f":"H152/D152","v":2.6712598425196825},{"$f":"I152/E152","v":3.385869565217388},{"$f":"J152/F152","v":2.9586592178770954}]
[66,"Female",555,531,491,475,1667.0000000000007,1414.0000000000007,1586.0000000000005,1366.9999999999995,null,null,null,null,null,null,null,null,3.0036036036036049,2.6629001883239183,3.2301425661914469,2.8778947368421042]
[66,"Male",504,485,429,420,1583.9999999999984,1300,1528.9999999999995,1281,null,null,null,null,null,null,null,null,3.1428571428571397,2.6804123711340204,3.564102564102563,3.05]
[67,"All",1181,1120,1014,980,3572.0000000000041,2907.9999999999973,3350.0000000000014,2800.0000000000023,{"$f":"CONCATENATE($AC$1,A155)","v":"y67"},{"$f":"CONCATENATE(K155,$L$1)","v":"y67,T,SCOT"},{"$f":"VLOOKUP(L155,popEU,2,FALSE)","v":65005},{"$f":"C155/$M155","v":1.8167833243596648E-2},{"$f":"D155/$M155","v":1.722944388893162E-2},{"$f":"E155/$M155","v":1.5598800092300592E-2},{"$f":"F155/$M155","v":1.5075763402815167E-2},null,{"$f":"G155/$M155","v":5.4949619260056981E-2},{"$f":"H155/$M155","v":4.4735020383047414E-2},{"$f":"I155/$M155","v":5.1534497346357996E-2},{"$f":"J155/$M155","v":4.3073609722329084E-2},null,{"$f":"G155/C155","v":3.024555461473331},{"$f":"H155/D155","v":2.5964285714285689},{"$f":"I155/E155","v":3.3037475345167668},{"$f":"J155/F155","v":2.8571428571428594}]
[67,"Female",579,557,516,502,1775,1483.9999999999991,1692.9999999999991,1439.9999999999995,null,null,null,null,null,null,null,null,3.0656303972366148,2.6642728904847379,3.2810077519379828,2.8685258964143419]
[67,"Male",602,563,498,478,1797,1424,1657.0000000000011,1360.0000000000007,null,null,null,null,null,null,null,null,2.985049833887043,2.5293072824156306,3.3273092369477935,2.8451882845188297]
[68,"All",1232,1157,1076,1033,3833.9999999999977,3194.9999999999959,3558.9999999999991,3076.0000000000032,{"$f":"CONCATENATE($AC$1,A158)","v":"y68"},{"$f":"CONCATENATE(K158,$L$1)","v":"y68,T,SCOT"},{"$f":"VLOOKUP(L158,popEU,2,FALSE)","v":70181},{"$f":"C158/$M158","v":1.7554608797252819E-2},{"$f":"D158/$M158","v":1.6485943488978499E-2},{"$f":"E158/$M158","v":1.5331784956042234E-2},{"$f":"F158/$M158","v":1.4719083512631624E-2},null,{"$f":"G158/$M158","v":5.4630170558983171E-2},{"$f":"H158/$M158","v":4.5525142132485943E-2},{"$f":"I158/$M158","v":5.0711731095310686E-2},{"$f":"J158/$M158","v":4.3829526510024128E-2},null,{"$f":"G158/C158","v":3.1120129870129851},{"$f":"H158/D158","v":2.7614520311149491},{"$f":"I158/E158","v":3.3076208178438655},{"$f":"J158/F158","v":2.9777347531461791}]
[68,"Female",594,558,542,518,1795.0000000000023,1598.9999999999989,1670.0000000000002,1529.0000000000002,null,null,null,null,null,null,null,null,3.0218855218855256,2.8655913978494603,3.0811808118081183,2.9517374517374524]
[68,"Male",638,599,534,515,2038.9999999999991,1595.9999999999998,1888.999999999998,1546.9999999999991,null,null,null,null,null,null,null,null,3.1959247648902807,2.6644407345575956,3.5374531835205953,3.0038834951456295]
[69,"All",1463,1399,1262,1228,4374.9999999999955,3602.9999999999977,4170.0000000000018,3509.9999999999991,{"$f":"CONCATENATE($AC$1,A161)","v":"y69"},{"$f":"CONCATENATE(K161,$L$1)","v":"y69,T,SCOT"},{"$f":"VLOOKUP(L161,popEU,2,FALSE)","v":52811},{"$f":"C161/$M161","v":2.770256196625703E-2},{"$f":"D161/$M161","v":2.6490693226789874E-2},{"$f":"E161/$M161","v":2.3896536706367991E-2},{"$f":"F161/$M161","v":2.3252731438526065E-2},null,{"$f":"G161/$M161","v":8.284258961201256E-2},{"$f":"H161/$M161","v":6.8224422942190027E-2},{"$f":"I161/$M161","v":7.8960822555906945E-2},{"$f":"J161/$M161","v":6.6463426180151844E-2},null,{"$f":"G161/C161","v":2.9904306220095664},{"$f":"H161/D161","v":2.5754110078627575},{"$f":"I161/E161","v":3.3042789223454849},{"$f":"J161/F161","v":2.8583061889250807}]
[69,"Female",709,678,631,613,2111.0000000000005,1780.9999999999986,2009.9999999999998,1731.9999999999998,null,null,null,null,null,null,null,null,2.9774330042313122,2.626843657817107,3.1854199683042785,2.8254486133768348]
[69,"Male",754,721,631,615,2264.0000000000027,1822.0000000000014,2160.0000000000005,1778.0000000000002,null,null,null,null,null,null,null,null,3.0026525198939029,2.5270457697642184,3.4231378763866886,2.8910569105691062]
[70,"All",1301,1241,1145,1113,3941.9999999999964,3337.0000000000023,3707.0000000000027,3239.0000000000009,{"$f":"CONCATENATE($AC$1,A164)","v":"y70"},{"$f":"CONCATENATE(K164,$L$1)","v":"y70,T,SCOT"},{"$f":"VLOOKUP(L164,popEU,2,FALSE)","v":49594},{"$f":"C164/$M164","v":2.6233012057910232E-2},{"$f":"D164/$M164","v":2.5023188288905915E-2},{"$f":"E164/$M164","v":2.3087470258499013E-2},{"$f":"F164/$M164","v":2.2442230915030045E-2},null,{"$f":"G164/$M164","v":7.9485421623583422E-2},{"$f":"H164/$M164","v":6.7286365286123362E-2},{"$f":"I164/$M164","v":7.4746945194983316E-2},{"$f":"J164/$M164","v":6.531031979674963E-2},null,{"$f":"G164/C164","v":3.029976940814755},{"$f":"H164/D164","v":2.6889605157131364},{"$f":"I164/E164","v":3.2375545851528407},{"$f":"J164/F164","v":2.9101527403414202}]
[70,"Female",686,652,629,608,2055.0000000000009,1820,1928.9999999999998,1759,null,null,null,null,null,null,null,null,2.9956268221574356,2.7914110429447851,3.0667726550079486,2.893092105263158]
[70,"Male",615,589,516,505,1887.0000000000011,1517.0000000000009,1777.9999999999991,1480.0000000000016,null,null,null,null,null,null,null,null,3.0682926829268311,2.5755517826825143,3.4457364341085253,2.9306930693069337]
[71,"All",1247,1199,1106,1081,3646,3119.0000000000005,3463.0000000000018,3039.9999999999973,{"$f":"CONCATENATE($AC$1,A167)","v":"y71"},{"$f":"CONCATENATE(K167,$L$1)","v":"y71,T,SCOT"},{"$f":"VLOOKUP(L167,popEU,2,FALSE)","v":50402},{"$f":"C167/$M167","v":2.4741081703107019E-2},{"$f":"D167/$M167","v":2.3788738542121345E-2},{"$f":"E167/$M167","v":2.1943573667711599E-2},{"$f":"F167/$M167","v":2.1447561604698226E-2},null,{"$f":"G167/$M167","v":7.2338399269870249E-2},{"$f":"H167/$M167","v":6.1882464981548362E-2},{"$f":"I167/$M167","v":6.8707590968612398E-2},{"$f":"J167/$M167","v":6.0315066862426041E-2},null,{"$f":"G167/C167","v":2.9238171611868484},{"$f":"H167/D167","v":2.6013344453711431},{"$f":"I167/E167","v":3.1311030741410506},{"$f":"J167/F167","v":2.8122109158186839}]
[71,"Female",655,634,595,581,1951.0000000000011,1740.9999999999993,1876.0000000000007,1693.0000000000007,null,null,null,null,null,null,null,null,2.978625954198475,2.7460567823343838,3.1529411764705895,2.9139414802065415]
[71,"Male",592,565,511,500,1695.0000000000007,1378,1587.0000000000014,1347.0000000000002,null,null,null,null,null,null,null,null,2.8631756756756768,2.438938053097345,3.10567514677104,2.6940000000000004]
[72,"All",1353,1307,1197,1167,4132.9999999999973,3541.0000000000041,3985.9999999999973,3444.9999999999964,{"$f":"CONCATENATE($AC$1,A170)","v":"y72"},{"$f":"CONCATENATE(K170,$L$1)","v":"y72,T,SCOT"},{"$f":"VLOOKUP(L170,popEU,2,FALSE)","v":48067},{"$f":"C170/$M170","v":2.8148209790500759E-2},{"$f":"D170/$M170","v":2.7191212266211746E-2},{"$f":"E170/$M170","v":2.4902739925520629E-2},{"$f":"F170/$M170","v":2.4278611105332141E-2},null,{"$f":"G170/$M170","v":8.5984147127967162E-2},{"$f":"H170/$M170","v":7.3668005076247822E-2},{"$f":"I170/$M170","v":8.2925915909043565E-2},{"$f":"J170/$M170","v":7.1670792851644502E-2},null,{"$f":"G170/C170","v":3.0546932742054671},{"$f":"H170/D170","v":2.7092578423871494},{"$f":"I170/E170","v":3.3299916457811172},{"$f":"J170/F170","v":2.9520137103684632}]
[72,"Female",674,657,616,604,2076.9999999999982,1856.0000000000009,2023.9999999999995,1819.0000000000002,null,null,null,null,null,null,null,null,3.0816023738872378,2.8249619482496207,3.2857142857142851,3.0115894039735105]
[72,"Male",679,650,581,563,2056.0000000000005,1685.0000000000009,1962,1626.0000000000002,null,null,null,null,null,null,null,null,3.0279823269513999,2.5923076923076938,3.3769363166953528,2.8880994671403202]
[73,"All",1479,1418,1296,1257,4474.9999999999991,3793.9999999999991,4284.9999999999955,3677.9999999999991,{"$f":"CONCATENATE($AC$1,A173)","v":"y73"},{"$f":"CONCATENATE(K173,$L$1)","v":"y73,T,SCOT"},{"$f":"VLOOKUP(L173,popEU,2,FALSE)","v":43865},{"$f":"C173/$M173","v":3.3717086515445117E-2},{"$f":"D173/$M173","v":3.2326456172346973E-2},{"$f":"E173/$M173","v":2.9545195486150689E-2},{"$f":"F173/$M173","v":2.8656103955317452E-2},null,{"$f":"G173/$M173","v":0.10201755385842926},{"$f":"H173/$M173","v":8.6492647896956557E-2},{"$f":"I173/$M173","v":9.7686082297959539E-2},{"$f":"J173/$M173","v":8.3848170523196153E-2},null,{"$f":"G173/C173","v":3.0256930358350229},{"$f":"H173/D173","v":2.675599435825105},{"$f":"I173/E173","v":3.3063271604938236},{"$f":"J173/F173","v":2.9260143198090685}]
[73,"Female",770,746,684,667,2295.0000000000041,1954.9999999999989,2231.9999999999982,1915.9999999999982,null,null,null,null,null,null,null,null,2.9805194805194857,2.6206434316353873,3.2631578947368394,2.8725637181409267]
[73,"Male",709,672,612,590,2180,1838.9999999999995,2052.9999999999995,1762.0000000000016,null,null,null,null,null,null,null,null,3.0747531734837801,2.7366071428571423,3.354575163398692,2.9864406779661046]
[74,"All",1424,1371,1258,1229,4214.0000000000027,3601.0000000000041,4025.0000000000005,3511.9999999999982,{"$f":"CONCATENATE($AC$1,A176)","v":"y74"},{"$f":"CONCATENATE(K176,$L$1)","v":"y74,T,SCOT"},{"$f":"VLOOKUP(L176,popEU,2,FALSE)","v":40398},{"$f":"C176/$M176","v":3.5249269765829989E-2},{"$f":"D176/$M176","v":3.3937323629882665E-2},{"$f":"E176/$M176","v":3.1140155453240261E-2},{"$f":"F176/$M176","v":3.0422298133570967E-2},null,{"$f":"G176/$M176","v":0.10431209465815146},{"$f":"H176/$M176","v":8.9138076142383393E-2},{"$f":"I176/$M176","v":9.963364522996189E-2},{"$f":"J176/$M176","v":8.6934996782018867E-2},null,{"$f":"G176/C176","v":2.9592696629213502},{"$f":"H176/D176","v":2.6265499635302727},{"$f":"I176/E176","v":3.1995230524642291},{"$f":"J176/F176","v":2.8576078112286396}]
[74,"Female",736,714,683,669,2143.9999999999995,1935.0000000000005,2072.0000000000005,1894.9999999999991,null,null,null,null,null,null,null,null,2.9130434782608687,2.710084033613446,3.0336749633967797,2.8325859491778762]
[74,"Male",688,657,575,560,2069.9999999999986,1666.0000000000005,1952.9999999999984,1617,null,null,null,null,null,null,null,null,3.0087209302325562,2.5357686453576873,3.3965217391304319,2.8875000000000002]
[75,"All",2013,1939,1780,1739,5412.00000000001,4600.0000000000036,5173.9999999999891,4479.0000000000009,{"$f":"CONCATENATE($AC$1,A179)","v":"y75"},{"$f":"CONCATENATE(K179,$L$1)","v":"y75,T,SCOT"},{"$f":"VLOOKUP(L179,popEU,2,FALSE)","v":40800},{"$f":"C179/$M179","v":4.9338235294117648E-2},{"$f":"D179/$M179","v":4.7524509803921568E-2},{"$f":"E179/$M179","v":4.3627450980392155E-2},{"$f":"F179/$M179","v":4.2622549019607846E-2},null,{"$f":"G179/$M179","v":0.13264705882352965},{"$f":"H179/$M179","v":0.11274509803921577},{"$f":"I179/$M179","v":0.12681372549019582},{"$f":"J179/$M179","v":0.1097794117647059},null,{"$f":"G179/C179","v":2.6885245901639392},{"$f":"H179/D179","v":2.372356884992266},{"$f":"I179/E179","v":2.9067415730337016},{"$f":"J179/F179","v":2.5756181713628528}]
[75,"Female",1053,1022,956,939,2813.9999999999986,2471,2707.0000000000014,2413.9999999999977,null,null,null,null,null,null,null,null,2.672364672364671,2.4178082191780823,2.8315899581589972,2.570820021299252]
[75,"Male",960,917,824,800,2597.9999999999964,2129,2467.0000000000009,2064.9999999999991,null,null,null,null,null,null,null,null,2.7062499999999963,2.3217011995637948,2.9939320388349526,2.5812499999999989]
[76,"All",2054,1982,1842,1800,5489.9999999999982,4760.0000000000009,5254.0000000000064,4624.0000000000036,{"$f":"CONCATENATE($AC$1,A182)","v":"y76"},{"$f":"CONCATENATE(K182,$L$1)","v":"y76,T,SCOT"},{"$f":"VLOOKUP(L182,popEU,2,FALSE)","v":39510},{"$f":"C182/$M182","v":5.1986838774993674E-2},{"$f":"D182/$M182","v":5.0164515312579094E-2},{"$f":"E182/$M182","v":4.6621108580106305E-2},{"$f":"F182/$M182","v":4.5558086560364468E-2},null,{"$f":"G182/$M182","v":0.13895216400911156},{"$f":"H182/$M182","v":0.12047582890407495},{"$f":"I182/$M182","v":0.13297899266008623},{"$f":"J182/$M182","v":0.11703366236395858},null,{"$f":"G182/C182","v":2.6728334956183049},{"$f":"H182/D182","v":2.4016145307769934},{"$f":"I182/E182","v":2.8523344191096669},{"$f":"J182/F182","v":2.5688888888888908}]
[76,"Female",1094,1055,1004,980,2855.9999999999986,2549.0000000000009,2730.0000000000023,2470.9999999999995,null,null,null,null,null,null,null,null,2.6106032906764156,2.4161137440758305,2.7191235059760981,2.5214285714285709]
[76,"Male",960,927,838,820,2633.9999999999986,2210.9999999999982,2524.0000000000005,2153.0000000000005,null,null,null,null,null,null,null,null,2.7437499999999986,2.3851132686084124,3.0119331742243443,2.6256097560975613]
[77,"All",2269,2194,2025,1985,6146.0000000000009,5340,5916.0000000000064,5213.9999999999973,{"$f":"CONCATENATE($AC$1,A185)","v":"y77"},{"$f":"CONCATENATE(K185,$L$1)","v":"y77,T,SCOT"},{"$f":"VLOOKUP(L185,popEU,2,FALSE)","v":37998},{"$f":"C185/$M185","v":5.9713669140481075E-2},{"$f":"D185/$M185","v":5.7739881046370858E-2},{"$f":"E185/$M185","v":5.3292278540975839E-2},{"$f":"F185/$M185","v":5.2239591557450393E-2},null,{"$f":"G185/$M185","v":0.16174535501868523},{"$f":"H185/$M185","v":0.1405337123006474},{"$f":"I185/$M185","v":0.15569240486341404},{"$f":"J185/$M185","v":0.13721774830254216},null,{"$f":"G185/C185","v":2.70868223887175},{"$f":"H185/D185","v":2.4339106654512306},{"$f":"I185/E185","v":2.9214814814814845},{"$f":"J185/F185","v":2.6267002518891673}]
[77,"Female",1216,1173,1105,1083,3201.0000000000005,2849.0000000000041,3072.9999999999991,2779.0000000000009,null,null,null,null,null,null,null,null,2.6324013157894739,2.428815004262578,2.7809954751131212,2.5660203139427527]
[77,"Male",1053,1021,920,902,2944.9999999999973,2491.0000000000027,2843.0000000000014,2434.9999999999991,null,null,null,null,null,null,null,null,2.7967711301044607,2.4397649363369274,3.0902173913043494,2.6995565410199545]
[78,"All",2252,2176,1986,1943,6178.9999999999936,5246.9999999999982,5928.9999999999991,5116.0000000000018,{"$f":"CONCATENATE($AC$1,A188)","v":"y78"},{"$f":"CONCATENATE(K188,$L$1)","v":"y78,T,SCOT"},{"$f":"VLOOKUP(L188,popEU,2,FALSE)","v":35493},{"$f":"C188/$M188","v":6.3449130814526813E-2},{"$f":"D188/$M188","v":6.1307863522384695E-2},{"$f":"E188/$M188","v":5.5954695292029413E-2},{"$f":"F188/$M188","v":5.4743188797791116E-2},null,{"$f":"G188/$M188","v":0.17409066576508025},{"$f":"H188/$M188","v":0.14783196686670605},{"$f":"I188/$M188","v":0.1670470233567182},{"$f":"J188/$M188","v":0.14414109824472437},null,{"$f":"G188/C188","v":2.743783303730015},{"$f":"H188/D188","v":2.4113051470588225},{"$f":"I188/E188","v":2.9853977844914397},{"$f":"J188/F188","v":2.6330416881111693}]
[78,"Female",1242,1199,1098,1074,3410.9999999999995,2904.0000000000027,3277.0000000000068,2837.9999999999991,null,null,null,null,null,null,null,null,2.7463768115942027,2.4220183486238556,2.9845173041894415,2.6424581005586583]
[78,"Male",1010,977,888,869,2767.9999999999977,2343.0000000000018,2652.0000000000018,2278.0000000000005,null,null,null,null,null,null,null,null,2.7405940594059381,2.3981576253838299,2.9864864864864886,2.6214039125431534]
[79,"All",2263,2195,2021,1977,6069,5239.9999999999864,5875.0000000000118,5128.9999999999955,{"$f":"CONCATENATE($AC$1,A191)","v":"y79"},{"$f":"CONCATENATE(K191,$L$1)","v":"y79,T,SCOT"},{"$f":"VLOOKUP(L191,popEU,2,FALSE)","v":33768},{"$f":"C191/$M191","v":6.7016109926557682E-2},{"$f":"D191/$M191","v":6.5002369106846716E-2},{"$f":"E191/$M191","v":5.9849561715233354E-2},{"$f":"F191/$M191","v":5.8546552949538026E-2},null,{"$f":"G191/$M191","v":0.17972636815920398},{"$f":"H191/$M191","v":0.15517649846008014},{"$f":"I191/$M191","v":0.17398128405591126},{"$f":"J191/$M191","v":0.1518893627102581},null,{"$f":"G191/C191","v":2.6818382677861248},{"$f":"H191/D191","v":2.3872437357630916},{"$f":"I191/E191","v":2.9069767441860526},{"$f":"J191/F191","v":2.5943348507840138}]
[79,"Female",1214,1176,1112,1088,3263.0000000000009,2919.9999999999968,3155.0000000000032,2862.9999999999973,null,null,null,null,null,null,null,null,2.6878088962108739,2.4829931972789088,2.8372302158273408,2.6314338235294095]
[79,"Male",1049,1019,909,889,2806.0000000000027,2319.9999999999977,2719.9999999999995,2265.9999999999991,null,null,null,null,null,null,null,null,2.6749285033365138,2.2767419038272796,2.9922992299229918,2.548931383577052]
[80,"All",2939,2836,2569,2505,7050.9999999999973,5980.9999999999918,6756.0000000000246,5810.0000000000118,{"$f":"CONCATENATE($AC$1,A194)","v":"y80"},{"$f":"CONCATENATE(K194,$L$1)","v":"y80,T,SCOT"},{"$f":"VLOOKUP(L194,popEU,2,FALSE)","v":31477},{"$f":"C194/$M194","v":9.336976204847984E-2},{"$f":"D194/$M194","v":9.0097531530959118E-2},{"$f":"E194/$M194","v":8.1615147568065566E-2},{"$f":"F194/$M194","v":7.9581916955237156E-2},null,{"$f":"G194/$M194","v":0.22400482892270537},{"$f":"H194/$M194","v":0.19001175461448017},{"$f":"I194/$M194","v":0.21463290656670028},{"$f":"J194/$M194","v":0.18457921657082987},null,{"$f":"G194/C194","v":2.399115345355562},{"$f":"H194/D194","v":2.1089562764456953},{"$f":"I194/E194","v":2.6298170494355877},{"$f":"J194/F194","v":2.3193612774451147}]
[80,"Female",1678,1623,1492,1455,4018.0000000000091,3495.9999999999959,3863.0000000000086,3395.9999999999905,null,null,null,null,null,null,null,null,{"$f":"G195/C195","v":2.3945172824791472},{"$f":"H195/D195","v":2.1540357362908171},{"$f":"I195/E195","v":2.5891420911528207},{"$f":"J195/F195","v":2.3340206185566945}]
[80,"Male",1261,1213,1077,1050,3033.0000000000005,2485.0000000000032,2893.0000000000032,2413.9999999999986,null,null,null,null,null,null,null,null,2.4052339413164159,2.048639736191264,2.6861652739090096,2.2990476190476179]
[81,"All",2977,2870,2612,2557,7097.9999999999991,6052.9999999999982,6789.9999999999909,5910.00000000001,{"$f":"CONCATENATE($AC$1,A197)","v":"y81"},{"$f":"CONCATENATE(K197,$L$1)","v":"y81,T,SCOT"},{"$f":"VLOOKUP(L197,popEU,2,FALSE)","v":28857},{"$f":"C197/$M197","v":0.10316387704889628},{"$f":"D197/$M197","v":9.9455937900682675E-2},{"$f":"E197/$M197","v":9.0515299580690989E-2},{"$f":"F197/$M197","v":8.8609349551235408E-2},null,{"$f":"G197/$M197","v":0.24597151471046882},{"$f":"H197/$M197","v":0.20975846415081256},{"$f":"I197/$M197","v":0.23529819454551723},{"$f":"J197/$M197","v":0.20480299407422844},null,{"$f":"G197/C197","v":2.3842794759825323},{"$f":"H197/D197","v":2.1090592334494769},{"$f":"I197/E197","v":2.5995405819295523},{"$f":"J197/F197","v":2.3113023073914785}]
[81,"Female",1765,1714,1570,1546,4116.0000000000009,3560.9999999999995,3973.0000000000009,3499,null,null,null,null,null,null,null,null,2.3320113314447597,2.0775962660443406,2.5305732484076437,2.2632600258732212]
[81,"Male",1212,1156,1042,1011,2982.0000000000014,2492.0000000000018,2816.9999999999968,2410.9999999999968,null,null,null,null,null,null,null,null,2.4603960396039617,2.1557093425605554,2.703454894433778,2.3847675568743787]
[82,"All",2808,2712,2485,2421,6771.9999999999891,5802.9999999999964,6523.0000000000045,5656.00000000001,{"$f":"CONCATENATE($AC$1,A200)","v":"y82"},{"$f":"CONCATENATE(K200,$L$1)","v":"y82,T,SCOT"},{"$f":"VLOOKUP(L200,popEU,2,FALSE)","v":26397},{"$f":"C200/$M200","v":0.10637572451414934},{"$f":"D200/$M200","v":0.10273894760768269},{"$f":"E200/$M200","v":9.4139485547600113E-2},{"$f":"F200/$M200","v":9.1714967609955678E-2},null,{"$f":"G200/$M200","v":0.25654430427700076},{"$f":"H200/$M200","v":0.21983558737735334},{"$f":"I200/$M200","v":0.2471114141758535},{"$f":"J200/$M200","v":0.21426677273932682},null,{"$f":"G200/C200","v":2.4116809116809077},{"$f":"H200/D200","v":2.1397492625368719},{"$f":"I200/E200","v":2.6249496981891367},{"$f":"J200/F200","v":2.3362247005369725}]
[82,"Female",1581,1533,1403,1375,3781.9999999999941,3249.0000000000014,3663.0000000000014,3184.9999999999982,null,null,null,null,null,null,null,null,2.3921568627450944,2.1193737769080245,2.6108339272986467,2.3163636363636351]
[82,"Male",1227,1179,1082,1046,2990.0000000000041,2553.9999999999932,2860.0000000000032,2471.0000000000005,null,null,null,null,null,null,null,null,2.4368378158109243,2.1662425784563131,2.6432532347504649,2.362332695984704]
[83,"All",2854,2765,2487,2436,7115.0000000000073,5928.9999999999827,6849.0000000000036,5785.0000000000073,{"$f":"CONCATENATE($AC$1,A203)","v":"y83"},{"$f":"CONCATENATE(K203,$L$1)","v":"y83,T,SCOT"},{"$f":"VLOOKUP(L203,popEU,2,FALSE)","v":25116},{"$f":"C203/$M203","v":0.11363274406752667},{"$f":"D203/$M203","v":0.1100891861761427},{"$f":"E203/$M203","v":9.9020544672718591E-2},{"$f":"F203/$M203","v":9.6989966555183951E-2},null,{"$f":"G203/$M203","v":0.28328555502468578},{"$f":"H203/$M203","v":0.23606465997770276},{"$f":"I203/$M203","v":0.27269469660774021},{"$f":"J203/$M203","v":0.23033126293995887},null,{"$f":"G203/C203","v":2.4929922915206753},{"$f":"H203/D203","v":2.1443037974683481},{"$f":"I203/E203","v":2.753920386007239},{"$f":"J203/F203","v":2.3747947454844036}]
[83,"Female",1716,1671,1518,1490,4307.0000000000073,3647.0000000000045,4171,3560.0000000000095,null,null,null,null,null,null,null,null,2.5099067599067642,2.1825254338719358,2.7476943346508564,2.3892617449664493]
[83,"Male",1138,1094,969,946,2808.0000000000009,2282.0000000000018,2678.0000000000027,2224.9999999999982,null,null,null,null,null,null,null,null,2.4674868189806687,2.0859232175502758,2.763673890608878,2.3520084566596173]
[84,"All",2665,2576,2286,2235,6798.0000000000082,5620.0000000000073,6543.99999999999,5480.99999999998,{"$f":"CONCATENATE($AC$1,A206)","v":"y84"},{"$f":"CONCATENATE(K206,$L$1)","v":"y84,T,SCOT"},{"$f":"VLOOKUP(L206,popEU,2,FALSE)","v":22494},{"$f":"C206/$M206","v":0.11847603805459234},{"$f":"D206/$M206","v":0.11451942740286299},{"$f":"E206/$M206","v":0.10162710056014937},{"$f":"F206/$M206","v":9.9359829287810078E-2},null,{"$f":"G206/$M206","v":0.3022139237129905},{"$f":"H206/$M206","v":0.24984440295189861},{"$f":"I206/$M206","v":0.29092202365075087},{"$f":"J206/$M206","v":0.2436649773272864},null,{"$f":"G206/C206","v":2.5508442776735492},{"$f":"H206/D206","v":2.1816770186335432},{"$f":"I206/E206","v":2.8626421697287796},{"$f":"J206/F206","v":2.4523489932885818}]
[84,"Female",1578,1526,1365,1337,4033.9999999999982,3372.0000000000009,3882.9999999999932,3294.9999999999991,null,null,null,null,null,null,null,null,2.556400506970848,2.2096985583224122,2.8446886446886399,2.4644727000747935]
[84,"Male",1087,1050,921,898,2763.9999999999959,2248.0000000000018,2661.0000000000014,2186.0000000000014,null,null,null,null,null,null,null,null,2.5427782888684414,2.1409523809523825,2.8892508143322488,2.4342984409799571]
[85,"All",3662,3524,3106,3036,8203.9999999999945,6653.99999999999,7812.9999999999882,6486.9999999999964,{"$f":"CONCATENATE($AC$1,A209)","v":"y85"},{"$f":"CONCATENATE(K209,$L$1)","v":"y85,T,SCOT"},{"$f":"VLOOKUP(L209,popEU,2,FALSE)","v":19821},{"$f":"C209/$M209","v":0.18475354422077594},{"$f":"D209/$M209","v":0.17779123152212301},{"$f":"E209/$M209","v":0.15670248726098582},{"$f":"F209/$M209","v":0.15317087937036478},null,{"$f":"G209/$M209","v":0.41390444478078775},{"$f":"H209/$M209","v":0.3357045557741784},{"$f":"I209/$M209","v":0.39417789213460414},{"$f":"J209/$M209","v":0.32727914837798278},null,{"$f":"G209/C209","v":2.2403058438012002},{"$f":"H209/D209","v":1.8881952326901221},{"$f":"I209/E209","v":2.5154539600772661},{"$f":"J209/F209","v":2.1366930171277985}]
[85,"Female",2301,2222,1964,1919,5094,4154.9999999999964,4870.0000000000018,4055.9999999999968,null,null,null,null,null,null,null,null,2.213820078226858,1.8699369936993684,2.4796334012219967,2.1136008337675856]
[85,"Male",1361,1302,1142,1117,3109.9999999999973,2499,2942.9999999999991,2431.0000000000014,null,null,null,null,null,null,null,null,2.2850844966936057,1.9193548387096775,2.5770577933450078,2.1763652641002698]
[86,"All",3392,3253,2867,2785,7630.9999999999982,6224.0000000000082,7278.9999999999918,6025.0000000000082,{"$f":"CONCATENATE($AC$1,A212)","v":"y86"},{"$f":"CONCATENATE(K212,$L$1)","v":"y86,T,SCOT"},{"$f":"VLOOKUP(L212,popEU,2,FALSE)","v":17425},{"$f":"C212/$M212","v":0.19466284074605453},{"$f":"D212/$M212","v":0.18668579626972739},{"$f":"E212/$M212","v":0.16453371592539454},{"$f":"F212/$M212","v":0.15982783357245336},null,{"$f":"G212/$M212","v":0.43793400286944034},{"$f":"H212/$M212","v":0.35718794835007223},{"$f":"I212/$M212","v":0.41773314203730227},{"$f":"J212/$M212","v":0.34576757532281255},null,{"$f":"G212/C212","v":2.2497051886792447},{"$f":"H212/D212","v":1.9133107900399657},{"$f":"I212/E212","v":2.5388908266480614},{"$f":"J212/F212","v":2.1633752244165199}]
[86,"Female",2187,2117,1861,1824,4889.0000000000018,4000.9999999999968,4702.0000000000064,3909.9999999999968,null,null,null,null,null,null,null,null,2.235482395976224,1.8899385923476604,2.5265986029016694,2.1436403508771913]
[86,"Male",1205,1136,1006,961,2741.9999999999936,2222.9999999999973,2577.0000000000032,2114.9999999999973,null,null,null,null,null,null,null,null,2.2755186721991647,1.9568661971830963,2.5616302186878759,2.2008324661810588]
[87,"All",3026,2874,2547,2464,6843.9999999999991,5551.9999999999791,6469.0000000000036,5360.0000000000073,{"$f":"CONCATENATE($AC$1,A215)","v":"y87"},{"$f":"CONCATENATE(K215,$L$1)","v":"y87,T,SCOT"},{"$f":"VLOOKUP(L215,popEU,2,FALSE)","v":14672},{"$f":"C215/$M215","v":0.20624318429661942},{"$f":"D215/$M215","v":0.19588331515812432},{"$f":"E215/$M215","v":0.1735959651035987},{"$f":"F215/$M215","v":0.16793893129770993},null,{"$f":"G215/$M215","v":0.46646673936750266},{"$f":"H215/$M215","v":0.37840785169029301},{"$f":"I215/$M215","v":0.44090785169029467},{"$f":"J215/$M215","v":0.36532170119956431},null,{"$f":"G215/C215","v":2.2617316589557168},{"$f":"H215/D215","v":1.9318023660403545},{"$f":"I215/E215","v":2.539850804868474},{"$f":"J215/F215","v":2.1753246753246782}]
[87,"Female",1934,1839,1628,1574,4426.0000000000082,3601.0000000000064,4183.0000000000009,3467.0000000000032,null,null,null,null,null,null,null,null,2.2885211995863539,1.9581294181620481,2.5694103194103199,2.2026683608640427]
[87,"Male",1092,1035,919,890,2417.9999999999968,1951.0000000000011,2285.9999999999977,1892.9999999999995,null,null,null,null,null,null,null,null,2.2142857142857113,1.8850241545893731,2.4874863982589748,2.1269662921348309]
[88,"All",2708,2571,2212,2151,6339.9999999999955,4984.0000000000146,5966.0000000000045,4809.0000000000027,{"$f":"CONCATENATE($AC$1,A218)","v":"y88"},{"$f":"CONCATENATE(K218,$L$1)","v":"y88,T,SCOT"},{"$f":"VLOOKUP(L218,popEU,2,FALSE)","v":12855},{"$f":"C218/$M218","v":0.21065733177751847},{"$f":"D218/$M218","v":0.2},{"$f":"E218/$M218","v":0.1720731232983275},{"$f":"F218/$M218","v":0.16732788798133022},null,{"$f":"G218/$M218","v":0.49319330999611011},{"$f":"H218/$M218","v":0.38770906262154919},{"$f":"I218/$M218","v":0.46409957215091441},{"$f":"J218/$M218","v":0.37409568261376919},null,{"$f":"G218/C218","v":2.3412112259970441},{"$f":"H218/D218","v":1.9385453131077459},{"$f":"I218/E218","v":2.6971066907775789},{"$f":"J218/F218","v":2.2357043235704337}]
[88,"Female",1789,1700,1469,1431,4146.0000000000045,3273.0000000000032,3904,3161.9999999999964,null,null,null,null,null,null,null,null,2.3174958077138093,1.9252941176470606,2.6575901974132061,2.2096436058700184]
[88,"Male",919,871,743,720,2193.9999999999991,1710.9999999999993,2061.9999999999986,1646.9999999999973,null,null,null,null,null,null,null,null,2.3873775843307934,1.9644087256027547,2.7752355316285313,2.2874999999999961]
[89,"All",2398,2282,1996,1933,5728.9999999999945,4588.0000000000146,5422.0000000000136,4432.0000000000036,{"$f":"CONCATENATE($AC$1,A221)","v":"y89"},{"$f":"CONCATENATE(K221,$L$1)","v":"y89,T,SCOT"},{"$f":"VLOOKUP(L221,popEU,2,FALSE)","v":11239},{"$f":"C221/$M221","v":0.21336417830767862},{"$f":"D221/$M221","v":0.20304297535367916},{"$f":"E221/$M221","v":0.17759587151881839},{"$f":"F221/$M221","v":0.17199039060414628},null,{"$f":"G221/$M221","v":0.50974285968502486},{"$f":"H221/$M221","v":0.40822137200818709},{"$f":"I221/$M221","v":0.48242726221194177},{"$f":"J221/$M221","v":0.39434113355280753},null,{"$f":"G221/C221","v":2.3890742285237674},{"$f":"H221/D221","v":2.0105170902716978},{"$f":"I221/E221","v":2.7164328657314698},{"$f":"J221/F221","v":2.2928091050181085}]
[89,"Female",1658,1580,1389,1352,4028.0000000000082,3268.9999999999973,3802.0000000000005,3166.0000000000009,null,null,null,null,null,null,null,null,2.4294330518697276,2.06898734177215,2.7372210223182147,2.3417159763313617]
[89,"Male",740,702,607,581,1700.9999999999977,1319.0000000000011,1619.9999999999995,1265.9999999999991,null,null,null,null,null,null,null,null,2.2986486486486455,1.8789173789173805,2.668863261943986,2.1790017211703945]
["Y_OPEN","All",{"$f":"SUMIF($B$225:$B$274,$B$224,C225:C274)","v":10942},{"$f":"SUMIF($B$225:$B$274,$B$224,D225:D274)","v":10264},8800,8431,5107.9999999999909,4010.0000000000018,4805.0000000000009,3866.9999999999986,"Y_OPEN",{"$f":"CONCATENATE(K224,$L$1)","v":"Y_OPEN,T,SCOT"},{"$f":"VLOOKUP(L224,popEU,2,FALSE)","v":39795},{"$f":"C224/$M224","v":0.27495916572433721},{"$f":"D224/$M224","v":0.25792184947857771},{"$f":"E224/$M224","v":0.22113330820454832},{"$f":"F224/$M224","v":0.21186078653097123},null,{"$f":"G224/$M224","v":0.12835783389873076},{"$f":"H224/$M224","v":0.10076642794320899},{"$f":"I224/$M224","v":0.12074381203668805},{"$f":"J224/$M224","v":9.7173011684885E-2},null,{"$f":"G224/C224","v":0.46682507768232417},{"$f":"H224/D224","v":0.3906858924395949},{"$f":"I224/E224","v":0.54602272727272738},{"$f":"J224/F224","v":0.45866445261534794}]
[90,"All",2467,2330,2020,1949,3522.0000000000073,2786.9999999999977,3309.9999999999995,2683.0000000000027,{"$f":"CONCATENATE($AC$1,A225)","v":"y90"},{"$f":"CONCATENATE(K225,$L$1)","v":"y90,T,SCOT"},{"$f":"VLOOKUP(L225,popEU,2,FALSE)","v":{"$error":"#N/A"}},{"$f":"C225/$M225","v":{"$error":"#N/A"}},{"$f":"D225/$M225","v":{"$error":"#N/A"}},{"$f":"E225/$M225","v":{"$error":"#N/A"}},{"$f":"F225/$M225","v":{"$error":"#N/A"}},null,{"$error":"#N/A"},{"$error":"#N/A"},{"$error":"#N/A"},{"$error":"#N/A"},null,1.4276449128496178,1.196137339055793,1.6386138613861383,1.3766033863519769]
[90,"Female",1704,1608,1402,1349,1585.999999999997,1223,1495.0000000000009,1184,null,null,null,null,null,null,null,null,0.93075117370891847,0.76057213930348255,1.0663338088445085,0.8776871756856931]
[90,"Male",763,722,618,600,4200.0000000000045,3249.9999999999968,3969.9999999999959,3121.0000000000009,null,null,null,null,null,null,null,null,5.5045871559633088,4.5013850415512424,6.4239482200647187,5.201666666666668]
[91,"All",2014,1906,1623,1559,3011.0000000000005,2317.0000000000005,2840.9999999999968,2228.9999999999973,{"$f":"CONCATENATE($AC$1,A228)","v":"y91"},{"$f":"CONCATENATE(K228,$L$1)","v":"y91,T,SCOT"},{"$f":"VLOOKUP(L228,popEU,2,FALSE)","v":{"$error":"#N/A"}},{"$f":"C228/$M228","v":{"$error":"#N/A"}},{"$f":"D228/$M228","v":{"$error":"#N/A"}},{"$f":"E228/$M228","v":{"$error":"#N/A"}},{"$f":"F228/$M228","v":{"$error":"#N/A"}},null,{"$f":"G228/$M228","v":{"$error":"#N/A"}},{"$f":"H228/$M228","v":{"$error":"#N/A"}},{"$f":"I228/$M228","v":{"$error":"#N/A"}},{"$f":"J228/$M228","v":{"$error":"#N/A"}},null,{"$f":"G228/C228","v":1.4950347567030786},{"$f":"H228/D228","v":1.2156348373557191},{"$f":"I228/E228","v":1.7504621072088704},{"$f":"J228/F228","v":1.4297626683771631}]
[91,"Female",1433,1355,1144,1100,1189.0000000000009,933,1129.0000000000002,892,null,null,null,null,null,null,null,null,0.82972784368457841,0.68856088560885609,0.9868881118881121,0.81090909090909091]
[91,"Male",581,551,479,459,3592.9999999999977,2732.9999999999973,3365.0000000000032,2611.0000000000055,null,null,null,null,null,null,null,null,6.1841652323579996,4.9600725952813018,7.0250521920668128,5.6884531590414058]
[92,"All",1637,1544,1299,1248,2608.9999999999982,2022.0000000000018,2453.0000000000014,1939.0000000000025,{"$f":"CONCATENATE($AC$1,A231)","v":"y92"},{"$f":"CONCATENATE(K231,$L$1)","v":"y92,T,SCOT"},{"$f":"VLOOKUP(L231,popEU,2,FALSE)","v":{"$error":"#N/A"}},{"$f":"C231/$M231","v":{"$error":"#N/A"}},{"$f":"D231/$M231","v":{"$error":"#N/A"}},{"$f":"E231/$M231","v":{"$error":"#N/A"}},{"$f":"F231/$M231","v":{"$error":"#N/A"}},null,{"$f":"G231/$M231","v":{"$error":"#N/A"}},{"$f":"H231/$M231","v":{"$error":"#N/A"}},{"$f":"I231/$M231","v":{"$error":"#N/A"}},{"$f":"J231/$M231","v":{"$error":"#N/A"}},null,{"$f":"G231/C231","v":1.5937690897984107},{"$f":"H231/D231","v":1.3095854922279804},{"$f":"I231/E231","v":1.8883756735950741},{"$f":"J231/F231","v":1.5536858974358994}]
[92,"Female",1194,1130,963,927,983.99999999999932,711.00000000000057,911.99999999999966,671.99999999999955,null,null,null,null,null,null,null,null,0.82412060301507484,0.62920353982300936,0.94704049844236726,0.72491909385113218]
[92,"Male",443,414,336,321,2878.999999999995,2232.9999999999986,2666.9999999999982,2128.0000000000023,null,null,null,null,null,null,null,null,6.4988713318284308,5.3937198067632819,7.9374999999999947,6.6292834890965802]
[93,"All",1341,1259,1085,1043,2106.9999999999977,1631.9999999999991,1948.9999999999977,1548.0000000000007,{"$f":"CONCATENATE($AC$1,A234)","v":"y93"},{"$f":"CONCATENATE(K234,$L$1)","v":"y93,T,SCOT"},{"$f":"VLOOKUP(L234,popEU,2,FALSE)","v":{"$error":"#N/A"}},{"$f":"C234/$M234","v":{"$error":"#N/A"}},{"$f":"D234/$M234","v":{"$error":"#N/A"}},{"$f":"E234/$M234","v":{"$error":"#N/A"}},{"$f":"F234/$M234","v":{"$error":"#N/A"}},null,{"$f":"G234/$M234","v":{"$error":"#N/A"}},{"$f":"H234/$M234","v":{"$error":"#N/A"}},{"$f":"I234/$M234","v":{"$error":"#N/A"}},{"$f":"J234/$M234","v":{"$error":"#N/A"}},null,{"$f":"G234/C234","v":1.5712155108128245},{"$f":"H234/D234","v":1.2962668784749793},{"$f":"I234/E234","v":1.7963133640552975},{"$f":"J234/F234","v":1.4841802492809211}]
[93,"Female",989,928,801,766,772.00000000000068,601,718,579.99999999999977,null,null,null,null,null,null,null,null,0.78058645096056689,0.64762931034482762,0.89637952559300871,0.75718015665796312]
[93,"Male",352,331,284,277,2401.0000000000027,1851.9999999999955,2237.9999999999982,1791.9999999999977,null,null,null,null,null,null,null,null,6.8210227272727346,5.5951661631419798,7.8802816901408388,6.4693140794223742]
[94,"All",1093,1035,874,847,1769.0000000000007,1339.0000000000014,1644.0000000000005,1301.0000000000005,{"$f":"CONCATENATE($AC$1,A237)","v":"y94"},{"$f":"CONCATENATE(K237,$L$1)","v":"y94,T,SCOT"},{"$f":"VLOOKUP(L237,popEU,2,FALSE)","v":{"$error":"#N/A"}},{"$f":"C237/$M237","v":{"$error":"#N/A"}},{"$f":"D237/$M237","v":{"$error":"#N/A"}},{"$f":"E237/$M237","v":{"$error":"#N/A"}},{"$f":"F237/$M237","v":{"$error":"#N/A"}},null,{"$f":"G237/$M237","v":{"$error":"#N/A"}},{"$f":"H237/$M237","v":{"$error":"#N/A"}},{"$f":"I237/$M237","v":{"$error":"#N/A"}},{"$f":"J237/$M237","v":{"$error":"#N/A"}},null,{"$f":"G237/C237","v":1.618481244281794},{"$f":"H237/D237","v":1.2937198067632862},{"$f":"I237/E237","v":1.881006864988559},{"$f":"J237/F237","v":1.5360094451003548}]
[94,"Female",802,757,628,610,632.00000000000011,512.99999999999943,594,490.99999999999972,null,null,null,null,null,null,null,null,0.78802992518703252,0.67767503302509835,0.94585987261146498,0.80491803278688479]
[94,"Male",291,278,246,237,1864.0000000000007,1447.9999999999998,1715.9999999999993,1361.9999999999989,null,null,null,null,null,null,null,null,6.4054982817869437,5.2086330935251794,6.9756097560975583,5.7468354430379698]
[95,"All",843,777,685,646,1440.0000000000002,1100.0000000000016,1321.0000000000011,1035.9999999999998,{"$f":"CONCATENATE($AC$1,A240)","v":"y95"},{"$f":"CONCATENATE(K240,$L$1)","v":"y95,T,SCOT"},{"$f":"VLOOKUP(L240,popEU,2,FALSE)","v":{"$error":"#N/A"}},{"$f":"C240/$M240","v":{"$error":"#N/A"}},{"$f":"D240/$M240","v":{"$error":"#N/A"}},{"$f":"E240/$M240","v":{"$error":"#N/A"}},{"$f":"F240/$M240","v":{"$error":"#N/A"}},null,{"$f":"G240/$M240","v":{"$error":"#N/A"}},{"$f":"H240/$M240","v":{"$error":"#N/A"}},{"$f":"I240/$M240","v":{"$error":"#N/A"}},{"$f":"J240/$M240","v":{"$error":"#N/A"}},null,{"$f":"G240/C240","v":1.7081850533807832},{"$f":"H240/D240","v":1.4157014157014178},{"$f":"I240/E240","v":1.9284671532846731},{"$f":"J240/F240","v":1.6037151702786374}]
[95,"Female",642,588,514,484,423.99999999999977,348,394.99999999999977,326.00000000000023,null,null,null,null,null,null,null,null,0.66043613707165072,0.59183673469387754,0.76848249027237314,0.67355371900826488]
[95,"Male",201,189,171,162,1479.0000000000007,1105.9999999999998,1336,1038,null,null,null,null,null,null,null,null,7.3582089552238843,5.8518518518518503,7.8128654970760234,6.4074074074074074]
[96,"All",667,606,531,497,1119,858.99999999999909,1018.0000000000005,810,{"$f":"CONCATENATE($AC$1,A243)","v":"y96"},{"$f":"CONCATENATE(K243,$L$1)","v":"y96,T,SCOT"},{"$f":"VLOOKUP(L243,popEU,2,FALSE)","v":{"$error":"#N/A"}},{"$f":"C243/$M243","v":{"$error":"#N/A"}},{"$f":"D243/$M243","v":{"$error":"#N/A"}},{"$f":"E243/$M243","v":{"$error":"#N/A"}},{"$f":"F243/$M243","v":{"$error":"#N/A"}},null,{"$f":"G243/$M243","v":{"$error":"#N/A"}},{"$f":"H243/$M243","v":{"$error":"#N/A"}},{"$f":"I243/$M243","v":{"$error":"#N/A"}},{"$f":"J243/$M243","v":{"$error":"#N/A"}},null,{"$f":"G243/C243","v":1.6776611694152923},{"$f":"H243/D243","v":1.4174917491749159},{"$f":"I243/E243","v":1.9171374764595113},{"$f":"J243/F243","v":1.6297786720321932}]
[96,"Female",505,458,405,378,360,247.00000000000006,318,228,null,null,null,null,null,null,null,null,0.71287128712871284,0.53930131004366821,0.78518518518518521,0.60317460317460314]
[96,"Male",162,148,126,119,703.00000000000011,526,639.00000000000011,491,null,null,null,null,null,null,null,null,4.3395061728395072,3.5540540540540539,5.0714285714285721,4.1260504201680677]
[97,"All",316,290,249,234,562,433.99999999999983,517,405.99999999999972,{"$f":"CONCATENATE($AC$1,A246)","v":"y97"},{"$f":"CONCATENATE(K246,$L$1)","v":"y97,T,SCOT"},{"$f":"VLOOKUP(L246,popEU,2,FALSE)","v":{"$error":"#N/A"}},{"$f":"C246/$M246","v":{"$error":"#N/A"}},{"$f":"D246/$M246","v":{"$error":"#N/A"}},{"$f":"E246/$M246","v":{"$error":"#N/A"}},{"$f":"F246/$M246","v":{"$error":"#N/A"}},null,{"$f":"G246/$M246","v":{"$error":"#N/A"}},{"$f":"H246/$M246","v":{"$error":"#N/A"}},{"$f":"I246/$M246","v":{"$error":"#N/A"}},{"$f":"J246/$M246","v":{"$error":"#N/A"}},null,{"$f":"G246/C246","v":1.7784810126582278},{"$f":"H246/D246","v":1.4965517241379305},{"$f":"I246/E246","v":2.0763052208835342},{"$f":"J246/F246","v":1.7350427350427338}]
[97,"Female",251,232,202,190,141,92,122.00000000000007,85,null,null,null,null,null,null,null,null,0.56175298804780871,0.39655172413793105,0.60396039603960427,0.44736842105263158]
[97,"Male",65,58,47,44,452.00000000000017,311,411.9999999999996,286.00000000000017,null,null,null,null,null,null,null,null,6.9538461538461567,5.3620689655172411,8.7659574468085015,6.5000000000000036]
[98,"All",199,184,151,142,372,253,339,235,{"$f":"CONCATENATE($AC$1,A249)","v":"y98"},{"$f":"CONCATENATE(K249,$L$1)","v":"y98,T,SCOT"},{"$f":"VLOOKUP(L249,popEU,2,FALSE)","v":{"$error":"#N/A"}},{"$f":"C249/$M249","v":{"$error":"#N/A"}},{"$f":"D249/$M249","v":{"$error":"#N/A"}},{"$f":"E249/$M249","v":{"$error":"#N/A"}},{"$f":"F249/$M249","v":{"$error":"#N/A"}},null,{"$f":"G249/$M249","v":{"$error":"#N/A"}},{"$f":"H249/$M249","v":{"$error":"#N/A"}},{"$f":"I249/$M249","v":{"$error":"#N/A"}},{"$f":"J249/$M249","v":{"$error":"#N/A"}},null,{"$f":"G249/C249","v":1.8693467336683418},{"$f":"H249/D249","v":1.375},{"$f":"I249/E249","v":2.2450331125827816},{"$f":"J249/F249","v":1.6549295774647887}]
[98,"Female",165,153,124,118,80.000000000000028,58,73,51,null,null,null,null,null,null,null,null,0.48484848484848503,0.37908496732026142,0.58870967741935487,0.43220338983050849]
[98,"Male",34,31,27,24,350,259.00000000000011,323.00000000000006,244.00000000000003,null,null,null,null,null,null,null,null,10.294117647058824,8.3548387096774235,11.962962962962965,10.166666666666668]
[99,"All",145,137,111,107,296.00000000000011,213.00000000000006,273,201.99999999999989,{"$f":"CONCATENATE($AC$1,A252)","v":"y99"},{"$f":"CONCATENATE(K252,$L$1)","v":"y99,T,SCOT"},{"$f":"VLOOKUP(L252,popEU,2,FALSE)","v":{"$error":"#N/A"}},{"$f":"C252/$M252","v":{"$error":"#N/A"}},{"$f":"D252/$M252","v":{"$error":"#N/A"}},{"$f":"E252/$M252","v":{"$error":"#N/A"}},{"$f":"F252/$M252","v":{"$error":"#N/A"}},null,{"$f":"G252/$M252","v":{"$error":"#N/A"}},{"$f":"H252/$M252","v":{"$error":"#N/A"}},{"$f":"I252/$M252","v":{"$error":"#N/A"}},{"$f":"J252/$M252","v":{"$error":"#N/A"}},null,{"$f":"G252/C252","v":2.0413793103448286},{"$f":"H252/D252","v":1.5547445255474457},{"$f":"I252/E252","v":2.4594594594594597},{"$f":"J252/F252","v":1.8878504672897185}]
[99,"Female",121,114,89,86,54,46,50,42,null,null,null,null,null,null,null,null,0.4462809917355372,0.40350877192982454,0.5617977528089888,0.48837209302325579]
[99,"Male",24,23,22,21,218,151,188.00000000000006,143,null,null,null,null,null,null,null,null,9.0833333333333339,6.5652173913043477,8.5454545454545485,6.8095238095238093]
[100,"All",92,80,68,64,184.00000000000006,123.00000000000001,158.00000000000003,116,{"$f":"CONCATENATE($AC$1,A255)","v":"y100"},{"$f":"CONCATENATE(K255,$L$1)","v":"y100,T,SCOT"},{"$f":"VLOOKUP(L255,popEU,2,FALSE)","v":{"$error":"#N/A"}},{"$f":"C255/$M255","v":{"$error":"#N/A"}},{"$f":"D255/$M255","v":{"$error":"#N/A"}},{"$f":"E255/$M255","v":{"$error":"#N/A"}},{"$f":"F255/$M255","v":{"$error":"#N/A"}},null,{"$f":"G255/$M255","v":{"$error":"#N/A"}},{"$f":"H255/$M255","v":{"$error":"#N/A"}},{"$f":"I255/$M255","v":{"$error":"#N/A"}},{"$f":"J255/$M255","v":{"$error":"#N/A"}},null,{"$f":"G255/C255","v":2.0000000000000004},{"$f":"H255/D255","v":1.5375000000000001},{"$f":"I255/E255","v":2.3235294117647065},{"$f":"J255/F255","v":1.8125}]
[100,"Female",74,64,53,50,34,28,30,27,null,null,null,null,null,null,null,null,0.45945945945945948,0.4375,0.56603773584905659,0.54]
[100,"Male",18,16,15,14,132,106,118,95,null,null,null,null,null,null,null,null,7.333333333333333,6.625,7.8666666666666663,6.7857142857142856]
[101,"All",58,51,47,42,98.000000000000014,79.000000000000014,85.000000000000014,69.000000000000014,{"$f":"CONCATENATE($AC$1,A258)","v":"y101"},{"$f":"CONCATENATE(K258,$L$1)","v":"y101,T,SCOT"},{"$f":"VLOOKUP(L258,popEU,2,FALSE)","v":{"$error":"#N/A"}},{"$f":"C258/$M258","v":{"$error":"#N/A"}},{"$f":"D258/$M258","v":{"$error":"#N/A"}},{"$f":"E258/$M258","v":{"$error":"#N/A"}},{"$f":"F258/$M258","v":{"$error":"#N/A"}},null,{"$f":"G258/$M258","v":{"$error":"#N/A"}},{"$f":"H258/$M258","v":{"$error":"#N/A"}},{"$f":"I258/$M258","v":{"$error":"#N/A"}},{"$f":"J258/$M258","v":{"$error":"#N/A"}},null,{"$f":"G258/C258","v":1.6896551724137934},{"$f":"H258/D258","v":1.5490196078431375},{"$f":"I258/E258","v":1.8085106382978726},{"$f":"J258/F258","v":1.6428571428571432}]
[101,"Female",41,35,33,29,34,27.000000000000004,33,26.000000000000007,null,null,null,null,null,null,null,null,{"$f":"G259/C259","v":0.82926829268292679},{"$f":"H259/D259","v":0.77142857142857157},{"$f":"I259/E259","v":1},{"$f":"J259/F259","v":0.89655172413793127}]
[101,"Male",17,16,14,13,97,78,87,68,null,null,null,null,null,null,null,null,5.7058823529411766,4.875,6.2142857142857144,5.2307692307692308]
[102,"All",36,33,30,27,69,52,66.000000000000014,49,{"$f":"CONCATENATE($AC$1,A261)","v":"y102"},{"$f":"CONCATENATE(K261,$L$1)","v":"y102,T,SCOT"},{"$f":"VLOOKUP(L261,popEU,2,FALSE)","v":{"$error":"#N/A"}},{"$f":"C261/$M261","v":{"$error":"#N/A"}},{"$f":"D261/$M261","v":{"$error":"#N/A"}},{"$f":"E261/$M261","v":{"$error":"#N/A"}},{"$f":"F261/$M261","v":{"$error":"#N/A"}},null,{"$f":"G261/$M261","v":{"$error":"#N/A"}},{"$f":"H261/$M261","v":{"$error":"#N/A"}},{"$f":"I261/$M261","v":{"$error":"#N/A"}},{"$f":"J261/$M261","v":{"$error":"#N/A"}},null,{"$f":"G261/C261","v":1.9166666666666667},{"$f":"H261/D261","v":1.5757575757575757},{"$f":"I261/E261","v":2.2000000000000006},{"$f":"J261/F261","v":1.8148148148148149}]
[102,"Female",27,26,22,21,28,26,21,19,null,null,null,null,null,null,null,null,1.037037037037037,1,0.95454545454545459,0.90476190476190477]
[102,"Male",9,7,8,6,42.000000000000007,30,34,26,null,null,null,null,null,null,null,null,4.6666666666666679,4.2857142857142856,4.25,4.333333333333333]
[103,"All",21,19,16,15,42,30,34,26,{"$f":"CONCATENATE($AC$1,A264)","v":"y103"},{"$f":"CONCATENATE(K264,$L$1)","v":"y103,T,SCOT"},{"$f":"VLOOKUP(L264,popEU,2,FALSE)","v":{"$error":"#N/A"}},{"$f":"C264/$M264","v":{"$error":"#N/A"}},{"$f":"D264/$M264","v":{"$error":"#N/A"}},{"$f":"E264/$M264","v":{"$error":"#N/A"}},{"$f":"F264/$M264","v":{"$error":"#N/A"}},null,{"$f":"G264/$M264","v":{"$error":"#N/A"}},{"$f":"H264/$M264","v":{"$error":"#N/A"}},{"$f":"I264/$M264","v":{"$error":"#N/A"}},{"$f":"J264/$M264","v":{"$error":"#N/A"}},null,{"$f":"G264/C264","v":2},{"$f":"H264/D264","v":1.5789473684210527},{"$f":"I264/E264","v":2.125},{"$f":"J264/F264","v":1.7333333333333334}]
[103,"Female",20,18,15,14,0,0,0,0,null,null,null,null,null,null,null,null,0,0,0,0]
[103,"Male",1,1,1,1,5,5,5,5,null,null,null,null,null,null,null,null,5,5,5,5]
[104,"All",2,2,2,2,5,5,5,5,{"$f":"CONCATENATE($AC$1,A267)","v":"y104"},{"$f":"CONCATENATE(K267,$L$1)","v":"y104,T,SCOT"},{"$f":"VLOOKUP(L267,popEU,2,FALSE)","v":{"$error":"#N/A"}},{"$f":"C267/$M267","v":{"$error":"#N/A"}},{"$f":"D267/$M267","v":{"$error":"#N/A"}},{"$f":"E267/$M267","v":{"$error":"#N/A"}},{"$f":"F267/$M267","v":{"$error":"#N/A"}},null,{"$f":"G267/$M267","v":{"$error":"#N/A"}},{"$f":"H267/$M267","v":{"$error":"#N/A"}},{"$f":"I267/$M267","v":{"$error":"#N/A"}},{"$f":"J267/$M267","v":{"$error":"#N/A"}},null,{"$f":"G267/C267","v":2.5},{"$f":"H267/D267","v":2.5},{"$f":"I267/E267","v":2.5},{"$f":"J267/F267","v":2.5}]
[104,"Female",2,2,2,2,15,11,15,11,null,null,null,null,null,null,null,null,7.5,5.5,7.5,5.5]
[105,"All",6,6,5,5,15,11,15,11,{"$f":"CONCATENATE($AC$1,A269)","v":"y105"},{"$f":"CONCATENATE(K269,$L$1)","v":"y105,T,SCOT"},{"$f":"VLOOKUP(L269,popEU,2,FALSE)","v":{"$error":"#N/A"}},{"$f":"C269/$M269","v":{"$error":"#N/A"}},{"$f":"D269/$M269","v":{"$error":"#N/A"}},{"$f":"E269/$M269","v":{"$error":"#N/A"}},{"$f":"F269/$M269","v":{"$error":"#N/A"}},null,{"$f":"G269/$M269","v":{"$error":"#N/A"}},{"$f":"H269/$M269","v":{"$error":"#N/A"}},{"$f":"I269/$M269","v":{"$error":"#N/A"}},{"$f":"J269/$M269","v":{"$error":"#N/A"}},null,{"$f":"G269/C269","v":2.5},{"$f":"H269/D269","v":1.8333333333333333},{"$f":"I269/E269","v":3},{"$f":"J269/F269","v":2.2000000000000002}]
[105,"Female",6,6,5,5,10,8,10,8,null,null,null,null,null,null,null,null,1.6666666666666667,1.3333333333333333,2,1.6]
[106,"All",4,4,3,3,8,6,8,6,{"$f":"CONCATENATE($AC$1,A271)","v":"y106"},{"$f":"CONCATENATE(K271,$L$1)","v":"y106,T,SCOT"},{"$f":"VLOOKUP(L271,popEU,2,FALSE)","v":{"$error":"#N/A"}},{"$f":"C271/$M271","v":{"$error":"#N/A"}},{"$f":"D271/$M271","v":{"$error":"#N/A"}},{"$f":"E271/$M271","v":{"$error":"#N/A"}},{"$f":"F271/$M271","v":{"$error":"#N/A"}},null,{"$f":"G271/$M271","v":{"$error":"#N/A"}},{"$f":"H271/$M271","v":{"$error":"#N/A"}},{"$f":"I271/$M271","v":{"$error":"#N/A"}},{"$f":"J271/$M271","v":{"$error":"#N/A"}},null,{"$f":"G271/C271","v":2},{"$f":"H271/D271","v":1.5},{"$f":"I271/E271","v":2.6666666666666665},{"$f":"J271/F271","v":2}]
[106,"Female",3,3,2,2,2,2,2,2,null,null,null,null,null,null,null,null,0.66666666666666663,0.66666666666666663,1,1]
[106,"Male",1,1,1,1,2,2,2,2,null,null,null,null,null,null,null,null,2,2,2,2]
[107,"All",1,1,1,1,2,2,2,2,{"$f":"CONCATENATE($AC$1,A274)","v":"y107"},{"$f":"CONCATENATE(K274,$L$1)","v":"y107,T,SCOT"},{"$f":"VLOOKUP(L274,popEU,2,FALSE)","v":{"$error":"#N/A"}},{"$f":"C274/$M274","v":{"$error":"#N/A"}},{"$f":"D274/$M274","v":{"$error":"#N/A"}},{"$f":"E274/$M274","v":{"$error":"#N/A"}},{"$f":"F274/$M274","v":{"$error":"#N/A"}},null,{"$f":"G274/$M274","v":{"$error":"#N/A"}},{"$f":"H274/$M274","v":{"$error":"#N/A"}},{"$f":"I274/$M274","v":{"$error":"#N/A"}},{"$f":"J274/$M274","v":{"$error":"#N/A"}},null,{"$f":"G274/C274","v":2},{"$f":"H274/D274","v":2},{"$f":"I274/E274","v":2},{"$f":"J274/F274","v":2}]
[107,"Male",1,1,1,1,null,null,null,null,null,null,null,null,null,null,null,null,0,0,0,0]
[null,null,null,null,null,null,null,null,null,null,null,null,null,null,null,null,null,null,{"$error":"#DIV/0!"},{"$error":"#DIV/0!"},{"$error":"#DIV/0!"},{"$error":"#DIV/0!"}]
["All Ages","All Sex",87163,82757,71736,69502,{"$f":"SUM(G2:G275)","v":478862},{"$f":"SUM(H2:H275)","v":372418},449724,359564,null,null,{"$f":"'Population EU inc Scot'!$B$16886","v":5373000},{"$f":"C277/$M277","v":1.6222408337986226E-2},{"$f":"D277/$M277","v":1.5402382281779268E-2},1.3351200446677834E-2,1.2935417829890192E-2,null,5.4938678108830583,4.5001389610546543,6.2691535630645703,5.1734338580184742]

{"sheet":"OECD consumption summary","index":28,"n_rows":76,"n_cols":30,"rows_kept":76,"cut":false,"hidden":true,"merged":[]}
["Pharmaceutical consumption, 2014, Defined daily dosage per 1 000 inhabitants per day","United Kingdom","Austria","Belgium","Bulgaria","Croatia","Republic of Cyprus","Czech Republic","Denmark","Estonia","Finland","France","Germany","Greece","Hungary","Ireland","Italy","Latvia","Lithuania","Luxembourg","Malta","Netherlands","Poland","Portugal","Romania","Slovakia","Slovenia","Spain","Sweden","Scotland"]
["  A-Alimentary tract and metabolism",225.9,148.30000000000001,170.7,{"$error":"#N/A"},{"$error":"#N/A"},{"$error":"#N/A"},258.2,170.2,154,297.8,{"$error":"#N/A"},227,175.1,247.8,{"$error":"#N/A"},320.60000000000002,{"$error":"#N/A"},{"$error":"#N/A"},416.6,{"$error":"#N/A"},270.60000000000002,{"$error":"#N/A"},203.2,{"$error":"#N/A"},{"$error":"#N/A"},188.9,230.8,253.1]
["  A02A-Antacids",0.6,0,{"$error":"#N/A"},{"$error":"#N/A"},{"$error":"#N/A"},{"$error":"#N/A"},0.9,7.5,1,2.2000000000000002,{"$error":"#N/A"},0.5,"..",0,{"$error":"#N/A"},5.0999999999999996,{"$error":"#N/A"},{"$error":"#N/A"},{"$error":"#N/A"},{"$error":"#N/A"},0,{"$error":"#N/A"},0.2,{"$error":"#N/A"},{"$error":"#N/A"},0.4,"..",2.1]
["  A02B-Drugs for peptic ulcer and gastro-oesophageal reflux diseases (GORD)",97.9,68.3,95.3,{"$error":"#N/A"},{"$error":"#N/A"},{"$error":"#N/A"},65.7,63.4,38.9,66.400000000000006,"..",90.8,57.6,62.3,{"$error":"#N/A"},96.2,{"$error":"#N/A"},{"$error":"#N/A"},85.8,{"$error":"#N/A"},109.9,{"$error":"#N/A"},92.4,{"$error":"#N/A"},{"$error":"#N/A"},58.6,125.2,73]
["  A10-Drugs used in diabetes",83.5,39.5,66.400000000000006,{"$error":"#N/A"},{"$error":"#N/A"},{"$error":"#N/A"},84.7,52.5,57.6,88.2,"..",83.6,83.3,76.2,{"$error":"#N/A"},65.8,{"$error":"#N/A"},{"$error":"#N/A"},64.599999999999994,{"$error":"#N/A"},74.3,{"$error":"#N/A"},64.5,{"$error":"#N/A"},{"$error":"#N/A"},74.3,71.099999999999994,56.8]
["  B-Blood and blood forming organs",192.8,81.900000000000006,104.6,{"$error":"#N/A"},{"$error":"#N/A"},{"$error":"#N/A"},192.9,119.6,101.3,143.69999999999999,{"$error":"#N/A"},72.599999999999994,176.6,82.8,{"$error":"#N/A"},257.39999999999998,{"$error":"#N/A"},{"$error":"#N/A"},126.9,{"$error":"#N/A"},133.5,{"$error":"#N/A"},90.5,{"$error":"#N/A"},{"$error":"#N/A"},103.6,133.19999999999999,266.7]
["  C-Cardiovascular system",535.70000000000005,269.39999999999998,487.7,{"$error":"#N/A"},{"$error":"#N/A"},{"$error":"#N/A"},600.79999999999995,545.1,410,552.1,{"$error":"#N/A"},683.4,411.1,718.6,{"$error":"#N/A"},520.79999999999995,{"$error":"#N/A"},{"$error":"#N/A"},348.4,{"$error":"#N/A"},432.5,{"$error":"#N/A"},392.6,{"$error":"#N/A"},{"$error":"#N/A"},549.79999999999995,417.4,479.8]
["  C01A-Cardiac glycosides",2.5,1.7,1.9,{"$error":"#N/A"},{"$error":"#N/A"},{"$error":"#N/A"},2.9,3.9,4.5999999999999996,3.2,{"$error":"#N/A"},4.4000000000000004,2.4,3.2,{"$error":"#N/A"},3,{"$error":"#N/A"},{"$error":"#N/A"},1.6,{"$error":"#N/A"},2.5,{"$error":"#N/A"},3.4,{"$error":"#N/A"},{"$error":"#N/A"},2.4,3.3,2.6]
["  C01B-Antiarrhythmics, Class I and III",1.4,2.6,8.1999999999999993,{"$error":"#N/A"},{"$error":"#N/A"},{"$error":"#N/A"},8,1.6,7,2.1,"..",3.1,6.3,6.6,{"$error":"#N/A"},8.1999999999999993,{"$error":"#N/A"},{"$error":"#N/A"},7.5,{"$error":"#N/A"},2.8,{"$error":"#N/A"},5.8,{"$error":"#N/A"},{"$error":"#N/A"},4.2,3.2,1.4]
["  C02-Antihypertensives",13.9,8.4,6.5,{"$error":"#N/A"},{"$error":"#N/A"},{"$error":"#N/A"},13.6,3.1,3.9,2.9,"..",13.7,5.0999999999999996,28.3,{"$error":"#N/A"},9.8000000000000007,{"$error":"#N/A"},{"$error":"#N/A"},5.0999999999999996,{"$error":"#N/A"},3.3,{"$error":"#N/A"},1.1000000000000001,{"$error":"#N/A"},{"$error":"#N/A"},14.9,8.9,2.8]
["  C03-Diuretics",58.3,18.2,41.2,{"$error":"#N/A"},{"$error":"#N/A"},{"$error":"#N/A"},47.3,94,24.6,56.1,{"$error":"#N/A"},74.099999999999994,22.9,41.9,{"$error":"#N/A"},44.3,{"$error":"#N/A"},{"$error":"#N/A"},31.4,{"$error":"#N/A"},50.7,{"$error":"#N/A"},50.2,{"$error":"#N/A"},{"$error":"#N/A"},35.700000000000003,43.6,70.900000000000006]
["  C07-Beta blocking agents",30,29.2,77.2,{"$error":"#N/A"},{"$error":"#N/A"},{"$error":"#N/A"},64.599999999999994,35.700000000000003,45.5,69.400000000000006,"..",88.9,43,66.5,{"$error":"#N/A"},51,{"$error":"#N/A"},{"$error":"#N/A"},39.700000000000003,{"$error":"#N/A"},49.8,{"$error":"#N/A"},33.299999999999997,{"$error":"#N/A"},{"$error":"#N/A"},43.2,23.1,51.1]
["  C08-Calcium channel blockers",82.2,39.6,49,{"$error":"#N/A"},{"$error":"#N/A"},{"$error":"#N/A"},75.099999999999994,89.1,61.4,78.099999999999994,"..",81.5,45.1,56.6,{"$error":"#N/A"},59.6,{"$error":"#N/A"},{"$error":"#N/A"},37.799999999999997,{"$error":"#N/A"},52.6,{"$error":"#N/A"},45.3,{"$error":"#N/A"},{"$error":"#N/A"},59.2,37.200000000000003,77.099999999999994]
["  C09-Agents acting on the Renin-Angiotensin system",197.1,88.7,151.19999999999999,{"$error":"#N/A"},{"$error":"#N/A"},{"$error":"#N/A"},248.3,175.7,191.9,224.8,"..",329.4,168.9,359,{"$error":"#N/A"},232.9,{"$error":"#N/A"},{"$error":"#N/A"},105.2,{"$error":"#N/A"},142.30000000000001,{"$error":"#N/A"},119.2,{"$error":"#N/A"},{"$error":"#N/A"},260.39999999999998,173.8,168.4]
["  C10-Lipid modifying agents",136.19999999999999,72.7,130.80000000000001,{"$error":"#N/A"},{"$error":"#N/A"},{"$error":"#N/A"},112.7,132.4,47.5,102.6,"..",76.400000000000006,99,104.3,{"$error":"#N/A"},84.3,{"$error":"#N/A"},{"$error":"#N/A"},116.6,{"$error":"#N/A"},114.9,{"$error":"#N/A"},105.4,{"$error":"#N/A"},{"$error":"#N/A"},112.5,105.4,92]
["  G-Genito urinary system and sex hormones",46.5,35.5,62.3,{"$error":"#N/A"},{"$error":"#N/A"},{"$error":"#N/A"},108.2,98.8,54.8,134,{"$error":"#N/A"},60.9,29.2,19.8,{"$error":"#N/A"},81.900000000000006,{"$error":"#N/A"},{"$error":"#N/A"},35.9,{"$error":"#N/A"},50.2,{"$error":"#N/A"},46,{"$error":"#N/A"},{"$error":"#N/A"},90.6,41.9,102.4]
["  G03-Sex hormones and modulators of the genital system",19.8,13.6,57.1,{"$error":"#N/A"},{"$error":"#N/A"},{"$error":"#N/A"},70.7,77.400000000000006,35.4,84.5,{"$error":"#N/A"},35.5,3.5,6.2,{"$error":"#N/A"},39.700000000000003,{"$error":"#N/A"},{"$error":"#N/A"},14.3,{"$error":"#N/A"},27.1,{"$error":"#N/A"},15.5,{"$error":"#N/A"},{"$error":"#N/A"},39.4,13.4,76.099999999999994]
["  H-Systemic hormonal preparations, excluding sex hormones and insulins",33.6,34.9,45.1,{"$error":"#N/A"},{"$error":"#N/A"},{"$error":"#N/A"},49.2,34.1,25.4,53.4,{"$error":"#N/A"},85.1,15.9,20.2,{"$error":"#N/A"},51,{"$error":"#N/A"},{"$error":"#N/A"},51.6,{"$error":"#N/A"},28.5,{"$error":"#N/A"},31.4,{"$error":"#N/A"},{"$error":"#N/A"},22.3,32.5,44.3]
["  J-Antiinfectives for systemic use",20.399999999999999,14,31.7,{"$error":"#N/A"},{"$error":"#N/A"},{"$error":"#N/A"},22.2,21.3,18.8,22.5,{"$error":"#N/A"},16.8,19.8,15.1,{"$error":"#N/A"},37.1,{"$error":"#N/A"},{"$error":"#N/A"},28.5,{"$error":"#N/A"},12.2,{"$error":"#N/A"},22.5,{"$error":"#N/A"},{"$error":"#N/A"},15.2,23.2,16.399999999999999]
["  J01-Antibacterials for systemic use",19.7,12.7,28,{"$error":"#N/A"},{"$error":"#N/A"},{"$error":"#N/A"},21,18.2,13.9,20.7,29,14.6,18.100000000000001,14.1,23.1,29.1,12.6,{"$error":"#N/A"},26.3,{"$error":"#N/A"},9.6999999999999993,22.8,21.6,{"$error":"#N/A"},{"$error":"#N/A"},14.2,22.2,14.1]
["  M-Musculo-skeletal system",49.2,52,63.5,{"$error":"#N/A"},{"$error":"#N/A"},{"$error":"#N/A"},81.599999999999994,62.3,76.5,99,{"$error":"#N/A"},71.2,38.1,61,{"$error":"#N/A"},88.2,{"$error":"#N/A"},{"$error":"#N/A"},77.5,{"$error":"#N/A"},41.8,{"$error":"#N/A"},99.1,{"$error":"#N/A"},{"$error":"#N/A"},57.9,70.099999999999994,65.599999999999994]
["  M01A-Antiinflammatory and antirheumatic products non-steroids",28,33.799999999999997,37.6,{"$error":"#N/A"},{"$error":"#N/A"},{"$error":"#N/A"},58.4,40.6,67.3,79,"..",40.1,10.3,26.2,{"$error":"#N/A"},47.5,{"$error":"#N/A"},{"$error":"#N/A"},49.7,{"$error":"#N/A"},20.5,{"$error":"#N/A"},73,{"$error":"#N/A"},{"$error":"#N/A"},41,49.7,52.3]
["  N-Nervous system",193.7,130.30000000000001,145.19999999999999,{"$error":"#N/A"},{"$error":"#N/A"},{"$error":"#N/A"},159.80000000000001,262.60000000000002,109.3,264.89999999999998,{"$error":"#N/A"},133.80000000000001,121.3,124.5,{"$error":"#N/A"},162.69999999999999,{"$error":"#N/A"},{"$error":"#N/A"},215.7,{"$error":"#N/A"},109,{"$error":"#N/A"},305.8,{"$error":"#N/A"},{"$error":"#N/A"},142.6,254.7,287.8]
["  N02-Analgesics",44.3,11.7,27.2,{"$error":"#N/A"},{"$error":"#N/A"},{"$error":"#N/A"},22.8,90,16.2,52.9,{"$error":"#N/A"},24.7,4.7,6.6,{"$error":"#N/A"},17.100000000000001,{"$error":"#N/A"},{"$error":"#N/A"},33.1,{"$error":"#N/A"},15.4,{"$error":"#N/A"},19.399999999999999,{"$error":"#N/A"},{"$error":"#N/A"},18.7,40.700000000000003,75]
["  N05B-Anxiolytics",5.7,8.6,{"$error":"#N/A"},{"$error":"#N/A"},{"$error":"#N/A"},{"$error":"#N/A"},12.5,9,14.7,23,"..",4,22.7,28.8,{"$error":"#N/A"},30.5,{"$error":"#N/A"},{"$error":"#N/A"},36.700000000000003,{"$error":"#N/A"},6.7,{"$error":"#N/A"},97.2,{"$error":"#N/A"},{"$error":"#N/A"},16.3,56.4,15]
["  N05C-Hypnotics and sedatives",10.8,5,{"$error":"#N/A"},{"$error":"#N/A"},{"$error":"#N/A"},{"$error":"#N/A"},19.5,20,19.7,39,{"$error":"#N/A"},5.2,5.0999999999999996,0,{"$error":"#N/A"},26.2,{"$error":"#N/A"},{"$error":"#N/A"},49.2,{"$error":"#N/A"},5.3,{"$error":"#N/A"},18,{"$error":"#N/A"},{"$error":"#N/A"},12.4,30.6,53.2]
["  N06A-Antidepressants",87.1,60.3,74.900000000000006,{"$error":"#N/A"},{"$error":"#N/A"},{"$error":"#N/A"},52.7,76.7,23.4,68.8,"..",55.1,44.6,27.7,{"$error":"#N/A"},42.7,{"$error":"#N/A"},{"$error":"#N/A"},56.1,{"$error":"#N/A"},43.8,{"$error":"#N/A"},92.1,{"$error":"#N/A"},{"$error":"#N/A"},55,71.3,87.8]
["  R-Respiratory system",156.19999999999999,33.799999999999997,109.8,{"$error":"#N/A"},{"$error":"#N/A"},{"$error":"#N/A"},135.69999999999999,131.5,80.400000000000006,165.3,{"$error":"#N/A"},70.8,69.8,63.2,{"$error":"#N/A"},91.2,{"$error":"#N/A"},{"$error":"#N/A"},73.900000000000006,{"$error":"#N/A"},106.8,{"$error":"#N/A"},83.4,{"$error":"#N/A"},{"$error":"#N/A"},69.3,79.599999999999994,169.3]
["  R03-Drugs for obstructive airway diseases",94.7,20.9,52.8,{"$error":"#N/A"},{"$error":"#N/A"},{"$error":"#N/A"},46.7,58.9,23.4,69.2,{"$error":"#N/A"},50.9,50.1,42,{"$error":"#N/A"},40.4,{"$error":"#N/A"},{"$error":"#N/A"},24.3,{"$error":"#N/A"},60,{"$error":"#N/A"},29.3,{"$error":"#N/A"},{"$error":"#N/A"},39.6,47.4,52.4]
["OECD"]
[]
[]
[]
[]
["National population, 2014","United Kingdom","Austria","Belgium","Bulgaria","Croatia","Republic of Cyprus","Czech Republic","Denmark","Estonia","Finland","France","Germany","Greece","Hungary","Ireland","Italy","Latvia","Lithuania","Luxembourg","Malta","Netherlands","Poland","Portugal","Romania","Slovakia","Slovenia","Spain","Sweden","Scotland"]
[null,"UK","AT","BE","BG","HR","CY","CZ","DK","EE","FI","FR","DE_TOT","EL","HU","MT","IT","LV","LT","LU","MT","NL","PL","PT","RO","SK","SI","ES","SE","SCOT"]
[null,64351155,8506889,11203992,7245677,4246809,858000,10512419,5627235,1315819,5451270,65889148,80767463,10926807,9877365,425384,60782668,2001468,2943472,549680,425384,16829289,38017856,10427301,19947311,5415949,2061085,46512199,9644864,5347600]
["EUROSTAT"]
[]
[]
[]
["Pharmaceutical consumption, 2014, total dosage for population","United Kingdom","Austria","Belgium","Bulgaria","Croatia","Republic of Cyprus","Czech Republic","Denmark","Estonia","Finland","France","Germany","Greece","Hungary","Ireland","Italy","Latvia","Lithuania","Luxembourg","Malta","Netherlands","Poland","Portugal","Romania","Slovakia","Slovenia","Spain","Sweden","Scotland"]
["  A-Alimentary tract and metabolism",{"$f":"IF(ISERROR(B2*B$37/1000),\"\",(B2*B$37/1000))","v":14536925.9145},{"$f":"IF(ISERROR(C2*C$37/1000),\"\",(C2*C$37/1000))","v":1261571.6387},1912521.4343999999,"","","",2714306.5857999995,957755.39699999988,202636.12599999999,1623388.206,"",18334214.101,1913283.9057,2447611.0469999998,"",19486923.360800002,"","",228996.68799999999,"",4554005.6034000004,"",2118827.5631999997,"","",389338.95649999997,10735015.529200001,2441115.0784]
["  A02A-Antacids",{"$f":"IF(ISERROR(B3*B$37/1000),\"\",(B3*B$37/1000))","v":38610.692999999999},0,"","","","",9461.177099999999,42204.262499999997,1315.819,11992.794000000002,"",40383.731500000002,"",0,"",309991.60679999995,"","","","",0,"",2085.4602,"","",824.43399999999997,"",20254.214400000001]
["  A02B-Drugs for peptic ulcer and gastro-oesophageal reflux diseases (GORD)",6299978.0745000001,581020.5186999999,1067740.4376000001,"","","",690665.92830000003,356766.69900000002,51185.359100000001,361964.32800000004,"",7333685.6403999999,629384.08319999999,615359.8395,"",5847292.6616000002,"","",47162.544000000002,"",1849538.8611000001,"",963482.6124000001,"","",120779.58100000001,5823327.3147999998,704075.07200000004]
["  A10-Drugs used in diabetes",5373321.4424999999,336022.11550000001,743945.06880000012,"","","",890401.88930000004,295429.83750000002,75791.174400000004,480802.01400000002,"",6752159.9067999991,910203.02309999999,752655.21299999999,"",3999499.5543999998,"","",35509.328000000001,"",1250416.1727,"",672560.91449999996,"","",153138.61550000001,3307017.3488999996,547828.27519999992]
["  B-Blood and blood forming organs",12406902.684,696714.20909999998,1171937.5632,"","","",2027845.6251000001,673017.30599999998,133292.46470000001,783347.49899999984,"",5863717.8137999997,1929674.1162,817845.82200000004,"",15645458.743199999,"","",69754.392000000007,"",2246710.0814999999,"",943670.74049999996,"","",213528.40599999999,6195424.9067999991,2572285.2287999997]
["  C-Cardiovascular system",34472913.733499996,2291755.8966000001,5464186.8983999994,"","","",6315861.3351999996,3067405.7985,539485.79,3009646.1669999999,"",55196484.214199997,4492010.3576999996,7097874.4890000001,"",31655613.494399998,"","",191508.51199999999,"",7278667.4924999997,"",4093758.3726000004,"","",1133184.5330000001,19414191.862599999,4627605.7472000001]
["  C01A-Cardiac glycosides",160877.88750000001,14461.711299999999,21287.584800000001,"","","",30486.015099999997,21946.216499999999,6052.7673999999997,17444.063999999998,"",355376.83720000007,26224.336800000001,31607.567999999999,"",182348.00399999999,"","",879.48800000000006,"",42073.222500000003,"",35452.823400000001,"","",4946.6040000000003,153490.2567,25076.646400000001]
["  C01B-Antiarrhythmics, Class I and III",90091.616999999998,22117.911400000001,91872.734399999987,"","","",84099.351999999999,9003.5759999999991,9210.7330000000002,11447.666999999999,"",250379.13530000002,68838.884099999996,65190.608999999997,"",498417.87759999995,"","",4122.6000000000004,"",47122.009199999993,"",60478.345799999996,"","",8656.5570000000007,148839.0368,13502.809600000001]
["  C02-Antihypertensives",894481.05449999997,71457.867600000012,72825.948000000004,"","","",142968.89840000001,17444.428500000002,5131.6940999999997,15808.683000000001,"",1106514.2430999998,55726.715699999993,279529.42950000003,"",595670.14640000009,"","",2803.3679999999999,"",55536.653699999995,"",11470.031100000002,"","",30710.166499999999,413958.5711,27005.619200000001]
["  C03-Diuretics",3751672.3365000002,154825.3798,461604.47040000005,"","","",497237.41869999998,528960.09,32369.147400000002,305816.24699999997,"",5984869.0082999989,250223.88029999999,413861.59350000002,"",2692672.1923999996,"","",17259.952000000001,"",853244.95230000012,"",523450.51020000002,"","",73580.734500000006,2027931.8764000002,683820.85759999999]
["  C07-Beta blocking agents",1930534.65,248401.15879999998,864948.18239999993,"","","",679102.26740000001,200892.28950000004,59869.764499999997,378318.13800000004,"",7180227.4607000006,469852.701,656844.77249999996,"",3099916.068,{"$f":"IF(ISERROR(R12*R$37/1000),\"\",(R12*R$37/1000))","v":""},"",21822.295999999998,"",838098.59219999996,"",347229.12329999998,"","",89038.872000000003,1074431.7969000002,492852.55040000001]
["  C08-Calcium channel blockers",5289664.9409999996,336872.80440000002,548995.60800000001,"","","",789482.66689999995,501386.63849999994,80791.286599999992,425744.18699999992,"",6582548.2345000003,492798.99569999997,559058.85900000005,"",3622647.0128000001,"","",20777.903999999999,"",885220.60139999993,"",472356.73529999994,"","",122016.232,1730253.8028000002,743619.01439999999]
["  C09-Agents acting on the Renin-Angiotensin system",12683612.6505,754561.05430000008,1694043.5903999999,"","","",2610233.6377000003,988705.18949999986,252505.6661,1225445.496,"",26604802.312199999,1845537.7023,3545974.0350000001,"",14156283.3772,"","",57826.336000000003,"",2394807.8247000002,"",1242934.2792,"","",536706.53399999999,8083820.1862000003,1624195.0976000002]
["  C10-Lipid modifying agents",8764627.3110000007,618450.83030000003,1465482.1536000001,"","","",1184749.6213,745045.91399999999,62501.402499999997,559300.30200000003,"",6170634.173200001,1081753.8929999999,1030209.1695,"",5123978.9123999998,"","",64092.688000000002,"",1933685.3061000002,"",1099037.5254000002,"","",231872.0625,4902385.7746000001,887327.48800000001]
["  G-Genito urinary system and sex hormones",2992328.7075,301994.55949999997,698008.70160000003,"","","",1137443.7357999999,555970.81799999997,72106.881200000003,730470.18,"",4918738.4967,319062.76439999999,195571.82699999999,"",4978100.5092000011,"","",19733.511999999999,"",844830.30780000007,"",479655.84600000002,"","",186734.30100000001,1948861.1380999999,987634.0736]
["  G03-Sex hormones and modulators of the genital system",1274152.8689999999,115693.69039999999,639747.9432000001,"","","",743228.02330000012,435547.98900000006,46579.992600000005,460632.315,"",2867244.9364999998,38243.824500000002,61239.663,"",2413071.9196000006,"","",7860.424,"",456073.73190000001,"",161623.1655,"","",81206.748999999996,623263.46660000004,733974.15039999993]
["  H-Systemic hormonal preparations, excluding sex hormones and insulins",2162198.8080000002,296890.42609999998,505300.0392,"","","",517211.0148,191888.71350000001,33421.802599999995,291097.81800000003,"",6873311.1012999993,173736.23130000001,199522.77299999999,"",3099916.068,"","",28363.488000000001,"",479634.7365,"",327417.25139999995,"","",45962.195500000002,1511646.4675,427267.47519999999]
["  J-Antiinfectives for systemic use",{"$f":"IF(ISERROR(B19*B$37/1000),\"\",(B19*B$37/1000))","v":1312763.5619999999},119096.446,355166.54639999999,"","","",233375.70179999998,119860.10550000001,24737.397199999999,122653.575,"",1356893.3784,216350.77859999999,149148.2115,"",2255036.9828000003,"","",15665.88,"",205317.32579999999,"",234614.27249999999,"","",31328.491999999998,1079083.0167999999,158175.7696]
["  J01-Antibacterials for systemic use",1267717.7535000001,108037.49029999999,313711.77600000001,"","","",220760.799,102415.677,18289.884100000003,112841.289,1910785.2919999999,1179204.9597999998,197775.20670000001,139270.84650000001,9826.3703999999998,1768775.6388000003,25218.496800000001,"",14456.584000000001,"",163244.10329999999,866807.11680000008,225229.70160000003,"","",29267.406999999999,1032570.8178,135992.58240000001]
["  M-Musculo-skeletal system",3166076.8259999999,442358.228,711453.49199999997,"","","",857813.39040000003,350576.74050000001,100660.1535,539675.73,"",5750643.3656000001,416311.34669999999,602519.26500000001,"",5361031.3176000006,"","",42600.2,"",703464.28019999992,"",1033345.5290999999,"","",119336.82150000001,3260505.1498999996,632703.0784]
["  M01A-Antiinflammatory and antirheumatic products non-steroids",1801832.34,287532.84820000001,421270.0992,"","","",613925.2696,228465.74100000001,88554.618700000006,430650.33,"",3238775.2663000003,112546.11210000001,258786.96299999999,"",2887176.73,{"$f":"IF(ISERROR(R22*R$37/1000),\"\",(R22*R$37/1000))","v":""},"",27319.096000000001,"",345000.42450000002,"",761192.973,"","",84504.485000000001,2311656.2903,504426.3872]
["  N-Nervous system",12464818.7235,1108447.6367000001,1626819.6383999998,"","","",1679884.5562,1477711.9110000003,143819.01669999998,1444041.4229999997,"",10806686.549400002,1325421.6890999998,1229731.9424999999,"",9889340.0835999977,"","",118565.976,"",1834392.5009999999,"",3188668.6458000001,"","",293910.72100000002,11846657.085299999,2775791.8592000003]
["  N02-Analgesics",2850756.1664999998,99530.601299999995,304748.58239999996,"","","",239683.15320000003,506451.15,21316.267800000001,288372.18300000002,"",1994956.3361,51355.992899999997,65190.608999999997,"",1039383.6228000001,"","",18194.407999999999,"",259171.05059999999,"",202289.63939999999,"","",38542.289499999999,1893046.4993000003,723364.8]
["  N05B-Anxiolytics",366801.58350000001,73159.245399999985,"","","","",131405.23749999999,50645.114999999998,19342.5393,125379.21,"",323069.85200000001,248038.5189,284468.11200000002,"",1853871.3740000001,"","",20173.256000000001,"",112756.2363,"",1013533.6572,"","",33595.6855,2623288.0236,144672.95999999999]
["  N05C-Hypnotics and sedatives",694992.47400000005,42534.445,"","","","",204992.17050000001,112544.7,25921.634300000002,212599.53,"",419990.8076,55726.715699999993,0,"",1592505.9016,"","",27044.256000000001,"",89195.231700000004,"",187691.41800000001,"","",25557.454000000002,1423273.2894000001,513106.7648]
["  N06A-Antidepressants",5604985.6004999997,512965.40669999999,839179.00080000004,"","","",554004.4813000001,431608.92450000002,30790.164599999996,375047.37599999999,"",4450287.2113000005,487335.59220000001,273603.01049999997,"",2595419.9236000003,"","",30837.047999999999,"",737122.8581999999,"",960354.42209999985,"","",113359.675,3316319.7886999999,846819.0591999999]
["  R-Respiratory system",10051650.411,287532.84820000001,1230198.3215999999,"","","",1426535.2582999999,739981.40249999997,105791.84760000001,901094.9310000001,"",5718336.3803999992,762691.12860000005,624249.46799999999,"",5543379.3216000004,"","",40621.351999999999,"",1797368.0652000001,"",869636.90340000007,"","",142833.1905,3702371.0403999998,1632875.4752]
["  R03-Drugs for obstructive airway diseases",6094054.3784999996,177793.98009999999,591570.77760000003,"","","",490929.96730000002,331444.14150000003,30790.164599999996,377227.88400000002,"",4111063.8666999997,547433.0307,414849.33,"",2455619.7871999997,"","",13357.224,"",1009757.34,"",305519.91930000001,"","",81618.966,2204678.2325999998,505390.87359999999]
[null,null,null,null,null,null,null,null,null,null,null,null,null,null,null,null,null,null,null,null,null,null,null,null,null,null,null,null,null,"note different order of magnitude"]
["Total consumption (doses)",{"$f":"SUM(B43:B71)","v":158799345.19350004},{"$f":"SUM(C43:C71)","v":11361800.948400002},{"$f":"SUM(D43:D71)","v":23818566.592799999},0,0,0,27718095.177300002,14041076.772,2274261.5595999998,15622249.566,1910785.2919999999,201765199.32029998,19117541.527199998,22811774.467499997,9826.3703999999998,154649342.19239998,25218.496800000001,0,1187308.7999999998,0,33266455.566299997,866807.11680000008,22537568.381400004,0,0,4416080.720999999,102787308.57009999,26132759.008000009,3499074206.0836396]
[]
[]
["Sales, value (National Currency Unit, millions)",15215.6,2787.4,5943.8,"","","",81076.600000000006,21408.5,249.7,2118.8000000000002,26800,33564.800000000003,"",442945.7,1913.8,26269.200000000001,"","",191.3,"",4340.6000000000004,"",2397.6,"","",432.3,11302.6,37786.300000000003,1039455336.4299999]
["Cost per sale (National Currency Unit)",{"$f":"1000000*B75/B72","v":95.816516003006811},{"$f":"1000000*C75/C72","v":245.33082498620334},249.54482365016554,{"$error":"#VALUE!"},{"$error":"#VALUE!"},{"$error":"#VALUE!"},2925.0422686476109,1524.7050028735503,109.79387966435908,135.62707413222489,14025.647000845765,166.35574476208981,{"$error":"#VALUE!"},19417.415362889285,194761.63853949573,169.86299215756355,{"$error":"#VALUE!"},{"$error":"#VALUE!"},161.12067896742619,{"$error":"#VALUE!"},130.47978590172286,{"$error":"#VALUE!"},106.38237273097801,{"$error":"#VALUE!"},{"$error":"#VALUE!"},97.892232346266496,109.96104633182151,1445.9361136890482,{"$f":"365*AD75/AD72","v":108.42902306481722}]

{"sheet":"OECD final table","index":29,"n_rows":39,"n_cols":18,"rows_kept":39,"cut":false,"hidden":true,"merged":[]}
["Country","Country code","Pharmaceutical Sales","Pharmaceutical Sales","Remuneration of health professionals","Remuneration of health professionals","Remuneration of health professionals","Remuneration of health professionals","Remuneration of health professionals","Remuneration of health professionals","Doctors consultations (in all settings)","Doctors consultations (in all settings)","Inpatient discharges (all hospitals)","Inpatient discharges (all hospitals)","Inpatient discharges (all hospitals)","Inpatient discharges (all hospitals)","inpatient average length of stay","inpatient average length of stay"]
["Country","Country code","Million of national currency units","Million of national currency units","Salaried annual income, NCU","Salaried annual income, NCU","Salaried annual income, NCU","Salaried annual income, NCU","Salaried annual income, NCU","Salaried annual income, NCU","number per capita","number per capita","total number","total number","per 100,000 population","per 100,000 population","days","days"]
["Country","Country code","total","total","General Practitioner","General Practitioner","Specialist","Specialist","hospital nurses","hospital nurses","total","total","total","total","total","total","total","total"]
["Country","Country code",2014,2014,2014,2014,2014,2014,2014,2014,2014,2014,2014,2014,2014,2014,2014,2014]
["Country","Country code","value","flags","value","flags","value","flags","value","flags","value","flags","value","flags","value","flags","value","flags"]
["United Kingdom","UK",15215.6,"",54600,"2013, (E)",113342.06,"(E)",34570.1,"(E)","","",8563122,"",13252.9,"",7.1,""]
["Austria","AT",2787.4,"",67532,"",89049,"","","",6.8,"",2244340,"",26275.5,"",8.1999999999999993,""]
["Belgium","BE",5943.8,"","","","","","","","","",1845806,"",16505.7,"",7.8,""]
["Bulgaria","BG","","","","","","","","","","","","","","","",""]
["Croatia","HR","","","","","","","","","","","","","","","",""]
["Republic of Cyprus","CY","","","","","","","","","","","","","","","",""]
["Czech Republic","CZ",81076.600000000006,"","","",769385,"(B)",326825,"",11.1,"",2204387,"",20943.599999999999,"",9.4,""]
["Denmark","DK",21408.5,"","","",1033395,"2013, (D)",433135,"2013, (D)",4.5,"",851976,"",15173.4,"",4.3,""]
["Estonia","EE",249.7,"",20366.810000000001,"",27481.61,"",12552.42,"",6.3,"",230439,"2013, (B)",17529.900000000001,"2013, (B)",7.6,"2013, (B)"]
["Finland","FI",2118.8000000000002,"",72332,"",105051,"",38482,"",4.2,"",921713,"",16876.5,"",10.6,""]
["France","FR",26800,"2013, (D)","","",77920.69,"2013, (D)",33703.65,"",6.3,"2013, (B)",12158431,"",18493.400000000001,"",10.1,""]
["Germany","DE_TOT",33564.800000000003,"(D)","","",131400,"","","",9.9,"(D)",20733405,"",25602.3,"",9,""]
["Greece","EL","","","","",43153.919999999998,"",22932,"","","","","","","","",""]
["Hungary","HU",442945.7,"",5070576,"",6206832,"",2624592,"",11.8,"",2007389,"",20345.599999999999,"",9.5,""]
["Ireland","MT",1913.8,"(D)","","",164896.1,"",51657,"(D)","","",655747,"",14202.2,"",6,""]
["Italy","IT",26269.200000000001,"","","",71715,"",30631,"",6.8,"",6910170,"",11367.4,"",8,""]
["Latvia","LV","","","","","","","","",5.9,"",369804,"",18547.900000000001,"",8.3000000000000007,""]
["Lithuania","LT","","","","","","","","","","","","","","","",""]
["Luxembourg","LU",191.3,"(ED)",287651,"(E)",244409,"(E)",82964.320000000007,"",5.9,"(E)",77375,"(E)",14932.4,"(E)",8.8000000000000007,"(E)"]
["Malta","MT","","","","","","","","","","","","","","","",""]
["Netherlands","NL",4340.6000000000004,"",97126.39,"",146729.63,"",52209.88,"",8,"(B)","","","","","",""]
["Poland","PL","","",93441.36,"",67383.28,"",45479.43,"",7.2,"",6513243,"",17134.8,"",6.9,""]
["Portugal","PT",2397.6,"","","","","","","","","",1128172,"(E)",10846.7,"(E)",8.9,"(E)"]
["Romania","RO","","","","","","","","","","","","","","","",""]
["Slovakia","SK","","","","","","","","","","","","","","","",""]
["Slovenia","SI",432.3,"",50641,"(E)",49687,"(E)",22239,"(E)",6.6,"",379517,"2013, (B)",18405.5,"2013, (B)",6.9,"2013, (B)"]
["Spain","ES",11302.6,"(B)",55619.199999999997,"(E)",64338.93,"(E)",34888.03,"(E)",7.6,"",5234240,"",11261.1,"",7.4,""]
["Sweden","SE",37786.300000000003,"","","",872400,"(D)","","",2.9,"",1421544,"",14661,"",5.7,""]
["EU28","EU28"]
[]
["Legend:"]
["B","Break"]
["D","Difference in methodology"]
["E","Estimated value"]